{"text_format":"3","workbook":"xlsx","n_sheets":5,"sheets":["Sheet1","第一档","第二档","第三档","消耗品客户报价表(2018.8.20更新)"],"not_rendered":{"external_links":1,"defined_names":8},"read":"whole","date_system":"1900"}

{"sheet":"Sheet1","index":0,"n_rows":359,"n_cols":6,"rows_kept":359,"hidden":true}
[]
["Row Labels","产品货号","PG DIS",{"v":2017,"d":"2,017"},{"v":2018,"d":"2,018"},"目录价"]
["GE蛋白纯化凝胶产品","19759501","O-RING, 27.1 X 1.60 NBR",4,10,{"v":234.234,"d":"¥234.23"}]
["GE蛋白纯化凝胶产品","19176701","SUPPORT SCREEN",null,9,{"v":360.36,"d":"¥360.36"}]
["Amersham 蛋白免疫印迹","3030-861","3MM CHR 20X20CM 100/PK",407,570,{"v":422.70228000000003,"d":"¥422.70"}]
["Amersham 蛋白免疫印迹","3030-6188","3MM CHR 15X20CM 100/PK",null,20,{"v":441.08064,"d":"¥441.08"}]
["GE蛋白纯化凝胶产品","29051325","HITRAP Q HP, 1 X 1 ML",13,13,{"v":459.459,"d":"¥459.46"}]
["GE蛋白纯化凝胶产品","29051324","HITRAP SP HP, 1 X 1 ML",7,9,{"v":459.459,"d":"¥459.46"}]
["GE蛋白纯化凝胶产品","19016301","O-RING",8,13,{"v":486.486,"d":"¥486.49"}]
["GE蛋白纯化凝胶产品","18321603","LABMATE PD-10 BUFFER RESERVOIR",24,18,{"v":495.495,"d":"¥495.50"}]
["双向电泳系列产品","17131901","UREA, 500 G",14,15,{"v":523.78326,"d":"¥523.78"}]
["GE蛋白纯化凝胶产品","18102712","UNION LUERLOCK FEMALE/M6 FEMALE",7,20,{"v":531.5310000000001,"d":"¥531.53"}]
["GE蛋白纯化凝胶产品","29051021","HISTRAP HP 1 X 1 ML",38,22,{"v":549.549,"d":"¥549.55"}]
["Biacore","BR100287","Plastic Vials 1.5 ml",48,25,{"v":603.6030000000001,"d":"¥603.60"}]
["GE蛋白纯化凝胶产品","19199350","TUBING CONNECTOR/M6 MALE",5,13,{"v":612.6120000000001,"d":"¥612.61"}]
["GE蛋白纯化凝胶产品","19500801","NET RING 10 MICROMETER",null,9,{"v":612.6120000000001,"d":"¥612.61"}]
["GE蛋白纯化凝胶产品","29048586","HisTrap excel 1x1ml",22,12,{"v":621.621,"d":"¥621.62"}]
["GE蛋白纯化凝胶产品","18876101","NET RING XK 16(10UM), PKG/5",8,13,{"v":630.63,"d":"¥630.63"}]
["GE蛋白纯化凝胶产品","18111368","PEEK TUBING, 2M/ID 0,5/OD 1/16",6,10,{"v":630.63,"d":"¥630.63"}]
["GE蛋白纯化凝胶产品","18111583","#N/A",17,22,{"v":639.6390000000001,"d":"¥639.64"}]
["双向电泳系列产品","17600088","IPG-BUFFER, PH 3-10NL",33,21,{"v":643.2426,"d":"¥643.24"}]
["双向电泳系列产品","17600086","IPG-BUFFER, PH 4-7L",22,16,{"v":643.2426,"d":"¥643.24"}]
["双向电泳系列产品","17600087","IPG-BUFFER, PH 3-10L",28,14,{"v":643.2426,"d":"¥643.24"}]
["Amersham 蛋白免疫印迹","10499001","MEMBRANE MARKING PEN 10/PK",1,12,{"v":680.2695900000001,"d":"¥680.27"}]
["GE蛋白纯化凝胶产品","18111974","ETFE TUBING,2M/ID0.75/OD1/17",5,16,{"v":684.684,"d":"¥684.68"}]
["GE蛋白纯化凝胶产品","17044003","CON-A SEPHAROSE 4B   5 ML",22,23,{"v":774.774,"d":"¥774.77"}]
["GE蛋白纯化凝胶产品","18111253","PEEK TUBING ID 0,75MM (1/16in)",24,19,{"v":774.774,"d":"¥774.77"}]
["双向电泳系列产品","17133501","DRYSTRIP COVER FLUID,  1000 ML",20,24,{"v":781.0803000000001,"d":"¥781.08"}]
["GE蛋白纯化凝胶产品","17070910","DEAE SEPHAROSE FAST FLOW,  25 ML",106,66,{"v":801.801,"d":"¥801.80"}]
["GE蛋白纯化凝胶产品","17051010","Q SEPHAROSE FAST FLOW,  25 ML",62,29,{"v":801.801,"d":"¥801.80"}]
["GE蛋白纯化凝胶产品","17072910","SP SEPHAROSE FAST FLOW,  25 ML",39,20,{"v":801.801,"d":"¥801.80"}]
["GE蛋白纯化凝胶产品","17071910","CM SEPHAROSE FAST FLOW,  25 ML",43,19,{"v":801.801,"d":"¥801.80"}]
["GE蛋白纯化凝胶产品","29048684","HITRAP DESALTING, 1X5ML",57,34,{"v":810.8100000000001,"d":"¥810.81"}]
["GE蛋白纯化凝胶产品","17531806","NI SEPHAROSE 6 FF 5 ML",172,90,{"v":837.837,"d":"¥837.84"}]
["GE蛋白纯化凝胶产品","11000464","STOP PLUG FEMALE, 1/16 IN",1,47,{"v":837.837,"d":"¥837.84"}]
["双向电泳系列产品","17131401","CHAPS 1 G",16,36,{"v":863.78292,"d":"¥863.78"}]
["GE蛋白纯化凝胶产品","28401081","HITRAP_HIPREP 1_16 CONNEC AKTA",12,26,{"v":873.873,"d":"¥873.87"}]
["Biacore","BR100188","HBS-EP Buffer,ready-to-use",39,70,{"v":936.936,"d":"¥936.94"}]
["电泳","17132101","TRIS,  500 G",18,9,{"v":937.29636,"d":"¥937.30"}]
["GE蛋白纯化凝胶产品","28932225","Vivaspin 500, 10 kDa MWCO PES",19,{"v":17.04,"d":"17"},{"v":954.9540000000001,"d":"¥954.95"}]
["GE蛋白纯化凝胶产品","28932237","Vivaspin 500, 100 kDa MWCO PES",12,10,{"v":954.9540000000001,"d":"¥954.95"}]
["GE蛋白纯化凝胶产品","18111257","#N/A",26,55,{"v":972.972,"d":"¥972.97"}]
["Biacore","BR100354","Glycine 1.5",90,41,{"v":972.972,"d":"¥972.97"}]
["Biacore","BR100357","Glycine 3.0",13,22,{"v":972.972,"d":"¥972.97"}]
["Biacore","28995043","NTA Reagent Kit",22,15,{"v":972.972,"d":"¥972.97"}]
["Biacore","BR100355","Glycine 2.0",16,13,{"v":972.972,"d":"¥972.97"}]
["Biacore","BR100356","Glycine 2.5",15,10,{"v":972.972,"d":"¥972.97"}]
["Amersham 蛋白免疫印迹","10426981","GB005 200x200MM 25/PK",92,49,{"v":990.99,"d":"¥990.99"}]
["GE蛋白纯化凝胶产品","18111255","FINGERTIGHT CONNECTOR 1/16in",10,34,{"v":1009.008,"d":"¥1,009.01"}]
["Biacore","BR100351","Acetate 5.0",29,32,{"v":1009.008,"d":"¥1,009.01"}]
["Biacore","BR100350","Acetate 4.5",15,19,{"v":1009.008,"d":"¥1,009.01"}]
["Biacore","BR100352","Acetate 5.5",13,18,{"v":1009.008,"d":"¥1,009.01"}]
["Biacore","BR100349","Acetate 4.0",15,17,{"v":1009.008,"d":"¥1,009.01"}]
["GE蛋白纯化凝胶产品","18111258","#N/A",14,13,{"v":1018.017,"d":"¥1,018.02"}]
["GE蛋白纯化凝胶产品","18112094","ON-LINE FILTER (10 ML/MIN)",41,16,{"v":1036.035,"d":"¥1,036.04"}]
["Biacore","BR100826","HBS-EP+ buffer 10X 4x50ml",204,97,{"v":1054.053,"d":"¥1,054.05"}]
["Biacore","BR100358","NaOH 50",19,26,{"v":1072.0710000000001,"d":"¥1,072.07"}]
["GE蛋白纯化凝胶产品","18115344","PACKING CONNECTOR XK 16",9,12,{"v":1090.089,"d":"¥1,090.09"}]
["电泳","80112946","IEF SAMPLE APPL PIECES (PKG/200)",7,11,{"v":1116.2151000000001,"d":"¥1,116.22"}]
["GE蛋白纯化凝胶产品","18102711","ONLINE FILTER KIT, PKG/10(100 ML/MIN AKTA SYSTEMS)",76,47,{"v":1162.161,"d":"¥1,162.16"}]
["双向电泳系列产品","17600111","IMMOBILINE DRYSTRIP PH3-10,7CM",127,35,{"v":1194.5934,"d":"¥1,194.59"}]
["双向电泳系列产品","17600110","IMMOBILINE DRYSTRIP PH 4-7,7CM",7,28,{"v":1194.5934,"d":"¥1,194.59"}]
["双向电泳系列产品","RPN6302","IODOACETAMIDE 25GM.",11,13,{"v":1203.78258,"d":"¥1,203.78"}]
["Biacore","BR100502","Rubber caps, type 3",28,18,{"v":1225.2240000000002,"d":"¥1,225.22"}]
["GE蛋白纯化凝胶产品","28932360","Vivaspin 20, 10 kDa MWCO PES",{"v":49.833333333333336,"d":"50"},{"v":22.666666666666664,"d":"23"},{"v":1234.233,"d":"¥1,234.23"}]
["GE蛋白纯化凝胶产品","28932363","Vivaspin 20, 100 kDa MWCO PES",{"v":52.125,"d":"52"},13,{"v":1234.233,"d":"¥1,234.23"}]
["GE蛋白纯化凝胶产品","28932361","Vivaspin 20, 30 kDa MWCO PES",{"v":17.416666666666668,"d":"17"},12,{"v":1234.233,"d":"¥1,234.23"}]
["电泳","17133201","REPEL-SILANE ES,  500 ML",34,35,{"v":1240.5393,"d":"¥1,240.54"}]
["Amersham 蛋白免疫印迹","RPN2109","ECL BLOTTING REAGENTS",17,10,{"v":1286.4852,"d":"¥1,286.49"}]
["GE蛋白纯化凝胶产品","28932296","Vivaspin 6, 10 kDa MWCO PES",{"v":35.24,"d":"35"},12,{"v":1315.314,"d":"¥1,315.31"}]
["GE核酸分子生物学产品","17085301","NAP-5   20 ST",{"v":81.33333333333333,"d":"81"},48,{"v":1335.04371,"d":"¥1,335.04"}]
["磁珠","28967388","His Mag Sepharose Ni 2x1 ml",null,9,{"v":1341.6202799999999,"d":"¥1,341.62"}]
["GE蛋白纯化凝胶产品","11000407","INLET FILTER HOLDER KIT (AKTA)",32,25,{"v":1351.3500000000001,"d":"¥1,351.35"}]
["Biacore","BR100503","Microplate, 96 well",21,10,{"v":1360.3590000000002,"d":"¥1,360.36"}]
["电泳","17133001","BIND-SILANE,  25 ML",7,12,{"v":1424.3229,"d":"¥1,424.32"}]
["电泳","17054301","PHASTGEL IEF 3-9",50,21,{"v":1447.2958500000002,"d":"¥1,447.30"}]
["Biacore","BR100666","BIAmaintenance Kit",13,15,{"v":1450.449,"d":"¥1,450.45"}]
["GE核酸分子生物学产品","17085401","NAP-10 20 ST",8,13,{"v":1463.0616,"d":"¥1,463.06"}]
["双向电泳系列产品","17123501","IMMOBILINE DRYSTRIP PH 3-10 NL,18CM",40,69,{"v":1497.83634,"d":"¥1,497.84"}]
["双向电泳系列产品","17123301","IMMOBILINE DRYSTRIP PH 4-7, 18CM",27,21,{"v":1497.83634,"d":"¥1,497.84"}]
["双向电泳系列产品","17600115","IMMOBILINE DRYSTRIP PH3-10NL, 13CM",50,19,{"v":1497.83634,"d":"¥1,497.84"}]
["双向电泳系列产品","17600114","IMMOBILINE DRYSTRIPPH3-10,13CM",21,11,{"v":1497.83634,"d":"¥1,497.84"}]
["双向电泳系列产品","17123401","IMMOBILINE DRYSTRIP PH 3-10 L, 18CM",6,10,{"v":1497.83634,"d":"¥1,497.84"}]
["GE蛋白纯化凝胶产品","29053612","TRICORN 10 Filter Kit",51,30,{"v":1594.593,"d":"¥1,594.59"}]
["GE蛋白纯化凝胶产品","29048576","HITRAP PROTEIN A HP, 1 X 1 ML",11,9,{"v":1621.6200000000001,"d":"¥1,621.62"}]
["Biacore","BR100672","PBS 10 x",3,21,{"v":1630.6290000000001,"d":"¥1,630.63"}]
["GE蛋白纯化凝胶产品","17547015","HiScreen Capto Q ImpRes",1,10,{"v":1639.6380000000001,"d":"¥1,639.64"}]
["Biacore","28995084","PBS-P+ 10X",19,32,{"v":1648.6470000000002,"d":"¥1,648.65"}]
["GE蛋白纯化凝胶产品","18111401","SAMPLE LOOP 1.0 ML, INV-907",20,16,{"v":1648.6470000000002,"d":"¥1,648.65"}]
["GE蛋白纯化凝胶产品","17505501","HITRAP DEAE FF 5 X 1 ML",20,21,{"v":1666.665,"d":"¥1,666.67"}]
["GE蛋白纯化凝胶产品","17505301","HITRAP Q FF, 5 X 1 ML",26,11,{"v":1666.665,"d":"¥1,666.67"}]
["GE蛋白纯化凝胶产品","28406407","TRICORN 10 COLUMN ADAPTOR UNIT",8,13,{"v":1675.674,"d":"¥1,675.67"}]
["GE蛋白纯化凝胶产品","17524801","HISTRAP HP 1 X 5 ML",163,106,{"v":1738.737,"d":"¥1,738.74"}]
["GE蛋白纯化凝胶产品","17115301","HITRAP Q HP, 5 X 1 ML",81,50,{"v":1738.737,"d":"¥1,738.74"}]
["GE蛋白纯化凝胶产品","17115101","HITRAP SP HP, 5 X 1 ML",32,30,{"v":1738.737,"d":"¥1,738.74"}]
["双向电泳系列产品","17600246","IMM. DRYSTRIP PH 4-7, 24 CM",81,85,{"v":1755.13338,"d":"¥1,755.13"}]
["双向电泳系列产品","17600245","IMM. DRYSTRIP PH 3-10 NL, 24CM",22,16,{"v":1755.13338,"d":"¥1,755.13"}]
["GE核酸分子生物学产品","25660030","GENOMIPHI V2 DNA AMP KIT 25RXN",8,9,{"v":1777.4757000000002,"d":"¥1,777.48"}]
["GE蛋白纯化凝胶产品","17531901","HISTRAP FF 5 X 1 ML",{"v":115.8,"d":"116"},72,{"v":1792.7910000000002,"d":"¥1,792.79"}]
["Biacore","BR100209","Glass vials 16mm",10,12,{"v":1801.8000000000002,"d":"¥1,801.80"}]
["Biacore","BR100212","Plastic vials 7mm",20,23,{"v":1837.836,"d":"¥1,837.84"}]
["GE蛋白纯化凝胶产品","29048581","HITRAP PROTEIN G HP, 1 X 1 ML",15,18,{"v":1846.845,"d":"¥1,846.85"}]
["细胞密度梯度分离介质","17144002","FICOLL PAQUE PLUS 6X100 ML",{"v":1095.3333333333335,"d":"1,095"},{"v":1295.8333333333335,"d":"1,296"},{"v":1864.863,"d":"¥1,864.86"}]
["磁珠","28944006","Protein A Mag Sepharose 1x500ul",4,9,{"v":1909.9080000000001,"d":"¥1,909.91"}]
["细胞密度梯度分离介质","17544202","FICOLL PAQUE PREMIUM 6X100ML",{"v":385.3333333333333,"d":"385"},{"v":238.20000000000002,"d":"238"},{"v":1954.953,"d":"¥1,954.95"}]
["GE蛋白纯化凝胶产品","11000458","HISTRAP FF CRUDE 5X1 ML",30,24,{"v":1963.962,"d":"¥1,963.96"}]
["GE核酸分子生物学产品","27532501","MICROSPIN G-25 COLUMNS",39,50,{"v":1981.98,"d":"¥1,981.98"}]
["GE核酸分子生物学产品","27533001","MICROSPIN G-50 COLUMNS, 50 COLUMNS",33,31,{"v":1981.98,"d":"¥1,981.98"}]
["GE核酸分子生物学产品","28903408","ProbeQuantTM G-50 Micro Col,50",19,15,{"v":1981.98,"d":"¥1,981.98"}]
["GE蛋白纯化凝胶产品","17548115","HiScreen Capto Core 700",10,19,{"v":1990.989,"d":"¥1,990.99"}]
["GE蛋白纯化凝胶产品","17071601","HITRAP NHS-ACTIV HP, 5 X 1ML",19,13,{"v":1999.998,"d":"¥2,000.00"}]
["细胞密度梯度分离介质","17089102","PERCOLL 250ML",223,154,{"v":2045.0430000000001,"d":"¥2,045.04"}]
["GE蛋白纯化凝胶产品","17524701","HISTRAP HP 5 X 1 ML",201,{"v":122.8,"d":"123"},{"v":2045.0430000000001,"d":"¥2,045.04"}]
["GE蛋白纯化凝胶产品","17040701","HITRAP HEPARIN HP,1 X 5 ML",66,62,{"v":2054.052,"d":"¥2,054.05"}]
["Biacore","BR100054","Surfactant P20",46,52,{"v":2054.052,"d":"¥2,054.05"}]
["磁珠","30152105011150","Sera-Mag Streptavidin, 1mL",2,34,{"v":2054.052,"d":"¥2,054.05"}]
["GE蛋白纯化凝胶产品","17058410","SEPHACRYL S-200 HR, 150 ML",35,21,{"v":2117.1150000000002,"d":"¥2,117.12"}]
["GE蛋白纯化凝胶产品","17059910","SEPHACRYL S-300 HR, 150 ML",29,17,{"v":2117.1150000000002,"d":"¥2,117.12"}]
["GE蛋白纯化凝胶产品","17061210","SEPHACRYL S-100 HR, 150 ML",32,15,{"v":2117.1150000000002,"d":"¥2,117.12"}]
["GE蛋白纯化凝胶产品","17060910","SEPHACRYL S-400 HR, 150 ML",28,11,{"v":2117.1150000000002,"d":"¥2,117.12"}]
["GE核酸分子生物学产品","10404092","ELUTRAP BT2 19X26MM 100/PK",10,11,{"v":2117.1150000000002,"d":"¥2,117.12"}]
["Biacore","BR100399","Sensor Chip CM5",23,13,{"v":2126.1240000000003,"d":"¥2,126.12"}]
["电泳","18100226","IEF/SDS SAMPLE APPL STRIP 52S(P/5",25,23,{"v":2135.1330000000003,"d":"¥2,135.13"}]
["GE核酸分子生物学产品","27411001","POLY (A) 100 MG",123,55,{"v":2153.1510000000003,"d":"¥2,153.15"}]
["GE蛋白纯化凝胶产品","17043501","COLUMN PD-10,EMPTY",{"v":45.20000000000001,"d":"45"},48,{"v":2162.16,"d":"¥2,162.16"}]
["Amersham 蛋白免疫印迹","10600002","PT 0.45UM 300MMx4M 1/PK",824,{"v":1202,"d":"1,202"},{"v":2171.169,"d":"¥2,171.17"}]
["GE核酸分子生物学产品","17085201","NAP-25 20 ST",33,33,{"v":2171.169,"d":"¥2,171.17"}]
["GE核酸分子生物学产品","27514001","MICROSPIN S-400 HR, 50 COLUMNS",34,17,{"v":2171.169,"d":"¥2,171.17"}]
["GE蛋白纯化凝胶产品","19500201","COLUMN C 10/20",35,14,{"v":2189.187,"d":"¥2,189.19"}]
["Biacore","BR100411","Rubber Cap type 2",41,54,{"v":2252.25,"d":"¥2,252.25"}]
["GE蛋白纯化凝胶产品","17040601","HITRAP HEPARIN HP, 5 X 1 ML",280,188,{"v":2270.268,"d":"¥2,270.27"}]
["Biacore","29104988","Series S Sensor Chip CM5-1-pack",14,32,{"v":2315.313,"d":"¥2,315.31"}]
["GE蛋白纯化凝胶产品","17371205","HisTrap excel 5x1ml",38,24,{"v":2387.385,"d":"¥2,387.39"}]
["GE核酸分子生物学产品","25640010","TEMPLIPHI 100AMPLIFICATION KIT",24,19,{"v":2432.33991,"d":"¥2,432.34"}]
["Amersham 蛋白免疫印迹","10600003","PTP 0.45UM 300MMx4M 1/PK",195,204,{"v":2450.4480000000003,"d":"¥2,450.45"}]
["细胞密度梯度分离介质","17544602","Ficoll-Paque PREMIUM 1,084 6X100ML",88,{"v":60.833333333333336,"d":"61"},{"v":2477.475,"d":"¥2,477.48"}]
["细胞密度梯度分离介质","17544652","Ficoll-Paque PREMIUM 1,073 6X100ML",11,18,{"v":2477.475,"d":"¥2,477.48"}]
["GE蛋白纯化凝胶产品","17090601","NHS ACT SEPHAROSE 4 FF 25 ML",52,42,{"v":2513.511,"d":"¥2,513.51"}]
["电泳","17044601","CALIBRATION KIT LMW FOR ELECTROPH.",52,24,{"v":2513.511,"d":"¥2,513.51"}]
["电泳","17044501","CALIBRATION KIT HMW FOR ELECTROPH.",24,16,{"v":2513.511,"d":"¥2,513.51"}]
["GE蛋白纯化凝胶产品","18111402","SAMPLE LOOP 2.0 ML, INV-907",17,11,{"v":2522.52,"d":"¥2,522.52"}]
["GE蛋白纯化凝胶产品","17548101","Capto Core 700, 25 mL",7,9,{"v":2522.52,"d":"¥2,522.52"}]
["GE蛋白纯化凝胶产品","28903134","Protein G HP SpinTrap",20,13,{"v":2531.529,"d":"¥2,531.53"}]
["Amersham 蛋白免疫印迹","RPN2232","ECL Prime Western Blotting Detection Reagent",367,295,{"v":2576.574,"d":"¥2,576.57"}]
["细胞密度梯度分离介质","17544502","Percoll PLUS 250 ML",5,9,{"v":2612.61,"d":"¥2,612.61"}]
["Amersham 蛋白免疫印迹","10600023","PVDF 0.45UM 300MMx4M 1/PK",{"v":734.35,"d":"734"},297,{"v":2639.637,"d":"¥2,639.64"}]
["Amersham 蛋白免疫印迹","3030-704","3MM CHR 27CMX100M 1RL/PK",41,76,{"v":2648.646,"d":"¥2,648.65"}]
["Amersham 蛋白免疫印迹","NA934-1ML","RABBIT IGG HRP LINKED WHOLE AB",28,31,{"v":2711.7090000000003,"d":"¥2,711.71"}]
["GE蛋白纯化凝胶产品","29049104","HITRAP MABSELECT SURE, 1X1ML",9,10,{"v":2720.7180000000003,"d":"¥2,720.72"}]
["Amersham 蛋白免疫印迹","RPN2106","ECL WESTERN BLOTTING REAGENTS",34,43,{"v":2792.79,"d":"¥2,792.79"}]
["GE蛋白纯化凝胶产品","11003399","HIS GRAVITRAP",17,15,{"v":2792.79,"d":"¥2,792.79"}]
["GE蛋白纯化凝胶产品","19510101","COLUMN C 16/20",null,11,{"v":2819.817,"d":"¥2,819.82"}]
["电泳","80112932","GEL BOND FILM 124X258 MM (PKG/50)",1,10,{"v":2936.934,"d":"¥2,936.93"}]
["GE核酸分子生物学产品","10404090","ELUTRAP BT1 28X19X26MM 100/PK",14,32,{"v":2945.943,"d":"¥2,945.94"}]
["GE蛋白纯化凝胶产品","17101401","Q SEPHAROSE HIGH PERF. 75 ML",47,14,{"v":2954.952,"d":"¥2,954.95"}]
["GE蛋白纯化凝胶产品","17108701","SP SEPHAROSE HIGH PERF. 75 ML",19,13,{"v":2954.952,"d":"¥2,954.95"}]
["Biacore","BR100651","Maintenance Kit, type 2",47,33,{"v":2981.9790000000003,"d":"¥2,981.98"}]
["GE蛋白纯化凝胶产品","17075601","GLUTATHIONE SEPHAROSE 4B  10 ML",547,370,{"v":3036.033,"d":"¥3,036.03"}]
["Amersham 蛋白免疫印迹","10600001","PT 0.2UM 300MMx4M 1/PK",{"v":554.1,"d":"554"},504,{"v":3063.06,"d":"¥3,063.06"}]
["电泳","80112936","GELBOND PAG FILM 124X258MM (PKG/50)",18,11,{"v":3072.069,"d":"¥3,072.07"}]
["GE核酸分子生物学产品","17085302","NAP-5   50 ST",73,41,{"v":3108.105,"d":"¥3,108.11"}]
["GE蛋白纯化凝胶产品","17140801","HITRAP DESALTING, 5X5ML",{"v":151.83333333333331,"d":"152"},92,{"v":3117.114,"d":"¥3,117.11"}]
["GE蛋白纯化凝胶产品","28918779","MBPTrap 1 x 5 mL",27,20,{"v":3126.123,"d":"¥3,126.12"}]
["电泳","17047201","LOW PI CALIBRATION KIT PH 2.5-6.5",24,41,{"v":3135.132,"d":"¥3,135.13"}]
["电泳","17047301","HIGH PI CALIBRATION KIT PH 5-10.5",15,16,{"v":3135.132,"d":"¥3,135.13"}]
["GE蛋白纯化凝胶产品","28989876","Adapter XK 16",22,10,{"v":3135.132,"d":"¥3,135.13"}]
["GE蛋白纯化凝胶产品","17001001","SEPHADEX G-10   100 G",100,57,{"v":3144.141,"d":"¥3,144.14"}]
["GE蛋白纯化凝胶产品","17600233","HITRAP IEX SELECTION KIT",30,26,{"v":3153.15,"d":"¥3,153.15"}]
["GE蛋白纯化凝胶产品","28411007","HiTrap HIC Selection Kit,  7x1ml",18,25,{"v":3153.15,"d":"¥3,153.15"}]
["GE蛋白纯化凝胶产品","17003301","SEPHADEX G-25 MEDIUM   100 G",107,44,{"v":3162.159,"d":"¥3,162.16"}]
["Amersham 蛋白免疫印迹","RPN2235","ECL Select WB detection reagent",90,82,{"v":3198.195,"d":"¥3,198.20"}]
["GE蛋白纯化凝胶产品","17085101","COLUMN PD 10",{"v":470.3333333333333,"d":"470"},{"v":324.99666666666667,"d":"325"},{"v":3216.213,"d":"¥3,216.21"}]
["GE核酸分子生物学产品","RPN303B","HYBOND-N+, 30CMX3M",138,163,{"v":3216.213,"d":"¥3,216.21"}]
["GE核酸分子生物学产品","RPN303T","HYBOND-NX NYLON MEMBRANE  30CMX3M ROLL",7,9,{"v":3216.213,"d":"¥3,216.21"}]
["GE蛋白纯化凝胶产品","17036001","BLUE DEXTRAN 2000   10 G",85,55,{"v":3225.222,"d":"¥3,225.22"}]
["Amersham 蛋白免疫印迹","10600021","PVDF 0.2UM 260MMx4M 1/PK",{"v":103.45,"d":"103"},57,{"v":3243.2400000000002,"d":"¥3,243.24"}]
["GE蛋白纯化凝胶产品","28934388","HiTrap Capto IEX Selection Kit",14,18,{"v":3243.2400000000002,"d":"¥3,243.24"}]
["GE蛋白纯化凝胶产品","17003201","SEPHADEX G-25 FINE 100 G",23,13,{"v":3243.2400000000002,"d":"¥3,243.24"}]
["Biacore","29179315","Series S Sensor Chip Protein G 1-p",2,11,{"v":3270.2670000000003,"d":"¥3,270.27"}]
["GE蛋白纯化凝胶产品","17040403","HITRAP PROTEIN G HP, 2 X 1 ML",96,79,{"v":3378.375,"d":"¥3,378.38"}]
["电泳","17047101","BROAD PI CALIBRATION KIT PH 3-10",51,61,{"v":3396.393,"d":"¥3,396.39"}]
["GE蛋白纯化凝胶产品","17513101","GSTRAP FF, 1X5ML",19,23,{"v":3441.438,"d":"¥3,441.44"}]
["Biacore","BR100050","Amine Coupling Kit",71,92,{"v":3450.447,"d":"¥3,450.45"}]
["GE蛋白纯化凝胶产品","17531801","NI SEPHAROSE 6FF, 25 ML",249,164,{"v":3459.456,"d":"¥3,459.46"}]
["Amersham 蛋白免疫印迹","NA931-1ML","MOUSE IGG HRP LINKED WHOLE AB",18,18,{"v":3459.456,"d":"¥3,459.46"}]
["GE蛋白纯化凝胶产品","17548151","HiTrap Capto Core 700, 5 x 1 ml",5,17,{"v":3468.465,"d":"¥3,468.47"}]
["GE蛋白纯化凝胶产品","80648451","2-D CLEAN-UP KIT",50,25,{"v":3477.474,"d":"¥3,477.47"}]
["电泳","18103532","CLEAN GEL IEF (PK/5)",15,45,{"v":3486.483,"d":"¥3,486.48"}]
["GE蛋白纯化凝胶产品","17004201","SEPHADEX G-50 FINE 100 G",10,9,{"v":3486.483,"d":"¥3,486.48"}]
["Biacore","BR100838","Mouse Antibody Capture Kit",11,12,{"v":3531.5280000000002,"d":"¥3,531.53"}]
["GE蛋白纯化凝胶产品","17098101","CNBr Activated Sepharose 4FF,10G",57,35,{"v":3567.5640000000003,"d":"¥3,567.56"}]
["GE蛋白纯化凝胶产品","17513001","GSTRAP FF, 5X1ML",13,9,{"v":3567.5640000000003,"d":"¥3,567.56"}]
["GE蛋白纯化凝胶产品","28918004","PD SpinTrap G-25",37,61,{"v":3612.609,"d":"¥3,612.61"}]
["GE蛋白纯化凝胶产品","17515401","HITRAP DEAE FF 5 X 5 ML",35,27,{"v":3621.618,"d":"¥3,621.62"}]
["GE蛋白纯化凝胶产品","17515601","HITRAP Q  FF, 5 X 5 ML",36,25,{"v":3621.618,"d":"¥3,621.62"}]
["GE蛋白纯化凝胶产品","17515701","HITRAP SP FF, 5 X 5 ML",20,19,{"v":3621.618,"d":"¥3,621.62"}]
["电泳","17045601","PHARMALYTE 3 - 10",{"v":121.33333333333333,"d":"121"},109,{"v":3657.654,"d":"¥3,657.65"}]
["电泳","17045501","PHARMALYTE 8 - 10.5",37,29,{"v":3657.654,"d":"¥3,657.65"}]
["电泳","17045101","PHARMALYTE 2.5 - 5",18,13,{"v":3657.654,"d":"¥3,657.65"}]
["电泳","17045201","PHARMALYTE 4 - 6.5",6,10,{"v":3657.654,"d":"¥3,657.65"}]
["GE蛋白纯化凝胶产品","80648356","2-D QUANT KIT",52,27,{"v":3738.735,"d":"¥3,738.74"}]
["GE蛋白纯化凝胶产品","17002001","SEPHADEX G-15   100 G",24,12,{"v":3738.735,"d":"¥3,738.74"}]
["GE蛋白纯化凝胶产品","17094801","BLUE SEPHAROSE 6 FAST FLOW, 50ML",15,9,{"v":3756.753,"d":"¥3,756.75"}]
["GE核酸分子生物学产品","17084702","CSTFA",10,21,{"v":3765.762,"d":"¥3,765.76"}]
["GE蛋白纯化凝胶产品","17528201","GSTRAP HP 1 X 5 ML",15,12,{"v":3846.8430000000003,"d":"¥3,846.84"}]
["GE蛋白纯化凝胶产品","17004301","SEPHADEX G-50 MEDIUM   100 G",50,50,{"v":3873.8700000000003,"d":"¥3,873.87"}]
["GE蛋白纯化凝胶产品","17526801","NI SEPHAROSE HP 25 ML",59,41,{"v":3891.888,"d":"¥3,891.89"}]
["GE蛋白纯化凝胶产品","11001303","HITRAP CAPTO Q, 5X5ML",13,14,{"v":3983.7798000000003,"d":"¥3,983.78"}]
["GE蛋白纯化凝胶产品","17005001","SEPHADEX G-75   100 G",56,21,{"v":4018.014,"d":"¥4,018.01"}]
["Amersham 蛋白免疫印迹","10426994","GB005 580x580MM 25/PK",5,10,{"v":4027.023,"d":"¥4,027.02"}]
["GE蛋白纯化凝胶产品","27084301","PRESCISSION PROTEASE",37,30,{"v":4036.032,"d":"¥4,036.03"}]
["电泳","17045301","PHARMALYTE 5 - 8",15,17,{"v":4054.05,"d":"¥4,054.05"}]
["GE蛋白纯化凝胶产品","17371201","Ni Sepharose excel 25 ml",72,42,{"v":4063.059,"d":"¥4,063.06"}]
["GE蛋白纯化凝胶产品","17057501","CHELATING SEPHAROSE FAST FLOW",24,17,{"v":4207.203,"d":"¥4,207.20"}]
["GE蛋白纯化凝胶产品","17115401","HITRAP Q HP 5X5 ML",119,67,{"v":4216.212,"d":"¥4,216.21"}]
["GE蛋白纯化凝胶产品","17115201","HITRAP SP HP,  5X5 ML",57,47,{"v":4216.212,"d":"¥4,216.21"}]
["GE蛋白纯化凝胶产品","17003101","SEPHADEX G-25 SUPERFINE   100 G",13,12,{"v":4225.2210000000005,"d":"¥4,225.22"}]
["细胞密度梯度分离介质","17089101","PERCOLL   1 L",266,115,{"v":4279.275000000001,"d":"¥4,279.28"}]
["GE核酸分子生物学产品","27926401","RTG YOU-PRIME FIRST-STRAND BEADS",20,18,{"v":4279.275000000001,"d":"¥4,279.28"}]
["Biacore","28953828","Series S Sensor chip CM7",26,10,{"v":4387.383,"d":"¥4,387.38"}]
["GE蛋白纯化凝胶产品","28918008","PD MidiTrap G-25",31,20,{"v":4414.41,"d":"¥4,414.41"}]
["Biacore","29104992","Series S Sensor Chip SA-1-pack",3,11,{"v":4432.428,"d":"¥4,432.43"}]
["GE蛋白纯化凝胶产品","28918007","PD MiniTrap G-25",54,40,{"v":4441.437,"d":"¥4,441.44"}]
["GE蛋白纯化凝胶产品","28989858","Packing Reservoir RK 16/26",22,24,{"v":4477.473,"d":"¥4,477.47"}]
["GE蛋白纯化凝胶产品","17018001","DEAE-SEPHADEX A-50 100 G",13,26,{"v":4531.527,"d":"¥4,531.53"}]
["GE蛋白纯化凝胶产品","17043001","CNBR ACTIVATED SEPHAROSE 4B  15 G",144,105,{"v":4585.581,"d":"¥4,585.58"}]
["Biacore","BR100669","HBS-EP+ 10 x",99,167,{"v":4603.599,"d":"¥4,603.60"}]
["Biacore","BR100671","HBS-P+ 10 x",16,12,{"v":4603.599,"d":"¥4,603.60"}]
["Biacore","BR100670","HBS-N 10 x",10,9,{"v":4603.599,"d":"¥4,603.60"}]
["GE蛋白纯化凝胶产品","17096901","IGG SEPHAROSE 6 FAST FLOW  10 ML",38,38,{"v":4621.617,"d":"¥4,621.62"}]
["GE核酸分子生物学产品","17085202","NAP-25   50 ST",27,21,{"v":4630.626,"d":"¥4,630.63"}]
["GE蛋白纯化凝胶产品","18111244","ONLINE FILTER HOLDER,100ML/MIN",2,9,{"v":4648.644,"d":"¥4,648.64"}]
["GE蛋白纯化凝胶产品","17004101","SEPHADEX G-50 SUPERFINE   100 G",75,31,{"v":4666.662,"d":"¥4,666.66"}]
["Xuri细胞培养袋","29108443","#N/A",null,9,{"v":4897.8072,"d":"¥4,897.81"}]
["GE核酸分子生物学产品","25660031","GENOMIPHI V2 DNA AMP KIT 100RX",18,14,{"v":4913.32842,"d":"¥4,913.33"}]
["GE蛋白纯化凝胶产品","17511301","STREPTAVIDIN SEPHAROSE HP,5 ML",175,123,{"v":4945.941,"d":"¥4,945.94"}]
["GE蛋白纯化凝胶产品","17051001","Q SEPHAROSE FAST FLOW  300  ML",128,71,{"v":4990.986,"d":"¥4,990.99"}]
["GE蛋白纯化凝胶产品","17072901","SP SEPHAROSE FAST FLOW, 300 ML",63,71,{"v":4990.986,"d":"¥4,990.99"}]
["Biacore","28975816","Microplate Foils (96 well)",16,18,{"v":5045.04,"d":"¥5,045.04"}]
["GE蛋白纯化凝胶产品","17519501","HITRAP PHENYL HP, 5 X 5 ML",8,16,{"v":5072.067,"d":"¥5,072.07"}]
["GE蛋白纯化凝胶产品","17078001","PROTEIN A-SEPHAROSE CL-4B 1.5G",108,41,{"v":5243.238,"d":"¥5,243.24"}]
["GE蛋白纯化凝胶产品","28907547","StrepTrap HP 1 x 5mL",22,21,{"v":5270.265,"d":"¥5,270.27"}]
["GE蛋白纯化凝胶产品","17009001","SEPHADEX LH-20   100 G",40,30,{"v":5378.3730000000005,"d":"¥5,378.37"}]
["Amersham 蛋白免疫印迹","RPN2236","ECL Prime Western blot detection reagent",29,20,{"v":5396.3910000000005,"d":"¥5,396.39"}]
["GE蛋白纯化凝胶产品","17528001","NPROTEIN A SEPHAROSE 4 FF 5ML",25,20,{"v":5513.508,"d":"¥5,513.51"}]
["Biacore","BR100012","Sensor Chip CM5",77,74,{"v":5639.634,"d":"¥5,639.63"}]
["GE蛋白纯化凝胶产品","17006001","SEPHADEX G-100   100 G",29,49,{"v":5684.679,"d":"¥5,684.68"}]
["磁珠","65152105050250","SpeedBead carboxylate, 15mL",34,43,{"v":5789.183400000001,"d":"¥5,789.18"}]
["GE蛋白纯化凝胶产品","17127901","RPROTEIN A SEPHAROSE FF 5 ML",56,39,{"v":5819.814,"d":"¥5,819.81"}]
["GE蛋白纯化凝胶产品","17040301","HITRAP PROTEIN A HP,1 X 5 ML",29,28,{"v":5873.868,"d":"¥5,873.87"}]
["GE蛋白纯化凝胶产品","17061801","PROTEIN G SEPHAROSE 4 FF, 5 ML",{"v":176.08,"d":"176"},71,{"v":5990.985000000001,"d":"¥5,990.99"}]
["GE蛋白纯化凝胶产品","17081001","PHENYL-SEPHAROSE CL-4B   200 ML",8,13,{"v":6045.039000000001,"d":"¥6,045.04"}]
["GE蛋白纯化凝胶产品","17600235","IMMUNOPRECIP STARTER PACK",7,14,{"v":6072.066,"d":"¥6,072.07"}]
["GE蛋白纯化凝胶产品","17070901","DEAE SEPHAROSE FAST FLOW  500 ML",178,150,{"v":6108.102,"d":"¥6,108.10"}]
["GE蛋白纯化凝胶产品","17525501","HISTRAP FF 5 X 5 ML",{"v":83.08,"d":"83"},45,{"v":6144.138,"d":"¥6,144.14"}]
["GE蛋白纯化凝胶产品","17040501","HITRAP PROTEIN G HP,1 X 5 ML",62,45,{"v":6171.165,"d":"¥6,171.17"}]
["GE蛋白纯化凝胶产品","17071901","CM SEPHAROSE FAST FLOW    500 ML",142,91,{"v":6252.246,"d":"¥6,252.25"}]
["Biacore","28994951","Series S Sensor Chip NTA, 1-pack",26,23,{"v":6270.264,"d":"¥6,270.26"}]
["GE蛋白纯化凝胶产品","17040201","HITRAP PROTEIN A HP, 5 X 1 ML",20,10,{"v":6270.264,"d":"¥6,270.26"}]
["GE蛋白纯化凝胶产品","17513201","GLUTATHIONE SEPHAROSE 4FF,25ML",71,69,{"v":6279.273,"d":"¥6,279.27"}]
["Biacore","BR100530","Series S Sensor Chip CM5",283,177,{"v":6306.3,"d":"¥6,306.30"}]
["GE蛋白纯化凝胶产品","28406409","TRICORN 5/50 COLUMN",13,10,{"v":6324.318,"d":"¥6,324.32"}]
["细胞密度梯度分离介质","17144003","FICOLL PAQUE PLUS 6X500 ML",{"v":456.67999999999995,"d":"457"},{"v":385.2733333333334,"d":"385"},{"v":6378.372,"d":"¥6,378.37"}]
["Biacore","BR100839","Human Antibody Capture Kit",31,25,{"v":6477.4710000000005,"d":"¥6,477.47"}]
["GE蛋白纯化凝胶产品","17099801","HEPARIN SEPHAROSE 6 FF,50 ML",31,14,{"v":6540.534000000001,"d":"¥6,540.53"}]
["GE蛋白纯化凝胶产品","28988937","XK 16/20 column",206,112,{"v":6585.579000000001,"d":"¥6,585.58"}]
["GE蛋白纯化凝胶产品","17548102","Capto Core 700, 100 mL",15,25,{"v":6648.642,"d":"¥6,648.64"}]
["细胞密度梯度分离介质","17544203","FICOLL PAQUE PREMIUM 6X500ML",{"v":158.33333333333331,"d":"158"},{"v":129.83333333333331,"d":"130"},{"v":6774.768,"d":"¥6,774.77"}]
["GE蛋白纯化凝胶产品","17524802","HISTRAP HP 5 X 5 ML",{"v":143.8,"d":"144"},125,{"v":6783.777,"d":"¥6,783.78"}]
["GE蛋白纯化凝胶产品","28403842","GEL FILTRATION CAL KIT HMW",27,20,{"v":6891.885,"d":"¥6,891.89"}]
["GE蛋白纯化凝胶产品","28403841","GEL FILTRATION CAL KIT LMW",26,14,{"v":6891.885,"d":"¥6,891.89"}]
["Biacore","BR100556","Regeneration Scouting Kit",6,12,{"v":7036.029,"d":"¥7,036.03"}]
["GE蛋白纯化凝胶产品","17528601","HISTRAP FF CRUDE 5X5 ML",33,10,{"v":7072.0650000000005,"d":"¥7,072.07"}]
["GE蛋白纯化凝胶产品","17040401","HITRAP PROTEIN G HP, 5 X 1 ML",80,54,{"v":7144.137000000001,"d":"¥7,144.14"}]
["GE蛋白纯化凝胶产品","28406410","TRICORN 5/100 COLUMN",30,21,{"v":7315.308,"d":"¥7,315.31"}]
["GE蛋白纯化凝胶产品","28406413","TRICORN 10/20 COLUMN",5,10,{"v":7315.308,"d":"¥7,315.31"}]
["GE蛋白纯化凝胶产品","28406411","TRICORN 5/150 COLUMN",18,9,{"v":7414.407,"d":"¥7,414.41"}]
["GE蛋白纯化凝胶产品","28988938","XK 16/40 column",59,28,{"v":7441.434,"d":"¥7,441.43"}]
["GE蛋白纯化凝胶产品","28406414","TRICORN 10/50 COLUMN",5,15,{"v":7477.47,"d":"¥7,477.47"}]
["GE蛋白纯化凝胶产品","17044401","LENTIL LECTIN-SEPHAROSE 4 B 25 ML",2,9,{"v":7567.56,"d":"¥7,567.56"}]
["GE蛋白纯化凝胶产品","17507901","HITRAP RPROTEIN A FF, 5X1ML",28,13,{"v":7612.6050000000005,"d":"¥7,612.61"}]
["GE蛋白纯化凝胶产品","28406415","TRICORN 10/100 COLUMN",14,12,{"v":7648.6410000000005,"d":"¥7,648.64"}]
["GE蛋白纯化凝胶产品","28406416","TRICORN 10/150 COLUMN",5,11,{"v":7648.6410000000005,"d":"¥7,648.64"}]
["GE蛋白纯化凝胶产品","17527901","GLUTATHIONE SEPHAROSE HP 25 ML",11,12,{"v":7693.686000000001,"d":"¥7,693.69"}]
["Biacore","28995056","His Capture Kit",17,25,{"v":7801.794,"d":"¥7,801.79"}]
["GE蛋白纯化凝胶产品","28988948","XK 26/20 column",73,57,{"v":7873.866,"d":"¥7,873.87"}]
["GE蛋白纯化凝胶产品","17044001","CON-A SEPHAROSE 4B   100 ML",6,9,{"v":7882.875,"d":"¥7,882.88"}]
["GE蛋白纯化凝胶产品","28988946","XK 16/70 column",20,16,{"v":7963.956,"d":"¥7,963.96"}]
["GE蛋白纯化凝胶产品","17061201","SEPHACRYL S-100 HR        750 ML",45,40,{"v":8144.136,"d":"¥8,144.14"}]
["GE蛋白纯化凝胶产品","17058401","SEPHACRYL  S-200  HR  750 ML",42,21,{"v":8144.136,"d":"¥8,144.14"}]
["GE蛋白纯化凝胶产品","17060901","SEPHACRYL S-400 HR, 750ML",18,14,{"v":8144.136,"d":"¥8,144.14"}]
["GE蛋白纯化凝胶产品","17059901","SEPHACRYL S-300 HR, 750 ML",29,12,{"v":8144.136,"d":"¥8,144.14"}]
["GE蛋白纯化凝胶产品","17371206","HisTrap excel 5x5 ml",24,29,{"v":8207.199,"d":"¥8,207.20"}]
["GE蛋白纯化凝胶产品","17508701","HIPREP 26/10 DESALTING",51,48,{"v":8225.217,"d":"¥8,225.22"}]
["GE蛋白纯化凝胶产品","28402402","PLASMIDSELECT XTRA 200ML",4,10,{"v":8252.244,"d":"¥8,252.24"}]
["GE蛋白纯化凝胶产品","28988949","XK 26/40 column",48,33,{"v":8297.289,"d":"¥8,297.29"}]
["GE蛋白纯化凝胶产品","17104401","SUPERDEX 75 PREP GRADE 150 ML",26,19,{"v":8396.388,"d":"¥8,396.39"}]
["GE蛋白纯化凝胶产品","17104301","SUPERDEX 200 PREP GRADE 150 ML",40,18,{"v":8396.388,"d":"¥8,396.39"}]
["GE蛋白纯化凝胶产品","17090501","SUPERDEX 30 PREP GRADE  150 ML",6,9,{"v":8396.388,"d":"¥8,396.39"}]
["GE蛋白纯化凝胶产品","28406417","TRICORN 10/200 COLUMN",6,16,{"v":8432.424,"d":"¥8,432.42"}]
["GE蛋白纯化凝胶产品","28406412","TRICORN 5/200 COLUMN",17,14,{"v":8459.451000000001,"d":"¥8,459.45"}]
["GE蛋白纯化凝胶产品","28957502","TALON Superflow 50 ml",15,11,{"v":8558.550000000001,"d":"¥8,558.55"}]
["GE蛋白纯化凝胶产品","28988947","XK 16/100 column",32,13,{"v":8585.577000000001,"d":"¥8,585.58"}]
["GE蛋白纯化凝胶产品","28935599","StrepTactin Sepharose High Performance 10ml",19,25,{"v":8612.604000000001,"d":"¥8,612.60"}]
["GE蛋白纯化凝胶产品","28907546","StrepTrap HP 5 x 1mL",13,9,{"v":8783.775,"d":"¥8,783.78"}]
["GE蛋白纯化凝胶产品","17116601","HIPREP 16/60 SEPHACRYL S-200 HR",10,17,{"v":8801.793,"d":"¥8,801.79"}]
["GE蛋白纯化凝胶产品","17116501","HIPREP 16/60 SEPHACRYL S-100 HR",22,12,{"v":8801.793,"d":"¥8,801.79"}]
["GE蛋白纯化凝胶产品","17012001","SEPHAROSE 4B   1 L",39,11,{"v":9198.189,"d":"¥9,198.19"}]
["GE蛋白纯化凝胶产品","17040703","HiTrap Heparin HP 5x5ml",30,17,{"v":9252.243,"d":"¥9,252.24"}]
["CyDye荧光标记检测产品","PA15100","CY5 MONO NHS ESTER(5MG)",14,13,{"v":9273.414149999999,"d":"¥9,273.41"}]
["GE核酸分子生物学产品","27411002","POLY (A)  500 MG",8,9,{"v":9423.414,"d":"¥9,423.41"}]
["GE蛋白纯化凝胶产品","28964441","HiScale 16 20BH",6,9,{"v":9513.504,"d":"¥9,513.50"}]
["GE蛋白纯化凝胶产品","11003494","HITRAP MABSELECT SURE, 1X5ML",15,11,{"v":9729.720000000001,"d":"¥9,729.72"}]
["Biacore","28920234","Biotin CAPture Kit, Series S",25,12,{"v":9990.981,"d":"¥9,990.98"}]
["GE蛋白纯化凝胶产品","17015001","SEPHAROSE CL-4B   1 L",65,31,{"v":10099.089,"d":"¥10,099.09"}]
["GE蛋白纯化凝胶产品","11003493","HITRAP MABSELECT SURE, 5X1ML",19,27,{"v":10414.404,"d":"¥10,414.40"}]
["GE蛋白纯化凝胶产品","28988951","XK 26/100 column",10,14,{"v":10423.413,"d":"¥10,423.41"}]
["GE蛋白纯化凝胶产品","28988952","XK 50/20 column",31,31,{"v":10486.476,"d":"¥10,486.48"}]
["GE蛋白纯化凝胶产品","28935597","Dextrin Sepharose High Performance 25 ml",11,9,{"v":10549.539,"d":"¥10,549.54"}]
["GE蛋白纯化凝胶产品","17117701","RESOURCE Q, 1 ML",17,16,{"v":10792.782000000001,"d":"¥10,792.78"}]
["Biotrak免疫标记研究产品","RPN4401","AMDEX STREPTAVIDIN HORSERADISH PEROXIDASE CONJUGATE",8,22,{"v":10909.899000000001,"d":"¥10,909.90"}]
["GE蛋白纯化凝胶产品","17531802","NI SEPHAROSE 6FF, 100 ML",96,64,{"v":11810.799,"d":"¥11,810.80"}]
["Biacore","BR100531","Series S Sensor Chip SA",44,34,{"v":12081.069000000001,"d":"¥12,081.07"}]
["Biacore","29147020","Series S Sensor chip CM7, 3-pack",5,12,{"v":12135.123,"d":"¥12,135.12"}]
["GE蛋白纯化凝胶产品","17518101","SOURCE 15Q 4.6/100 PE",5,13,{"v":12297.285,"d":"¥12,297.29"}]
["GE蛋白纯化凝胶产品","28988953","XK 50/30 column",46,51,{"v":12981.969000000001,"d":"¥12,981.97"}]
["GE蛋白纯化凝胶产品","17526802","NI SEPHAROSE HP 100 ML",16,26,{"v":13792.779,"d":"¥13,792.78"}]
["GE蛋白纯化凝胶产品","17001002","SEPHADEX G-10   500 G",33,21,{"v":14018.004,"d":"¥14,018.00"}]
["GE蛋白纯化凝胶产品","17003302","SEPHADEX G-25 MEDIUM   500 G",20,17,{"v":14441.427,"d":"¥14,441.43"}]
["GE蛋白纯化凝胶产品","28988965","XK 50/100 column",11,14,{"v":15162.147,"d":"¥15,162.15"}]
["GE蛋白纯化凝胶产品","17528202","GSTRAP HP 5 X 5 ML",9,9,{"v":15477.462000000001,"d":"¥15,477.46"}]
["GE蛋白纯化凝胶产品","17009002","SEPHADEX LH-20   500 G",324,526,{"v":18171.153000000002,"d":"¥18,171.15"}]
["GE蛋白纯化凝胶产品","17075605","GLUTATHIONE SEPHAROSE 4B, 100ML",49,36,{"v":18369.351000000002,"d":"¥18,369.35"}]
["Biacore","29149603","Series S Sensor Chip CM5, 10-pack",8,38,{"v":18855.837,"d":"¥18,855.84"}]
["GE蛋白纯化凝胶产品","17018002","DEAE-SEPHADEX A-50 500 G",89,43,{"v":19017.999,"d":"¥19,018.00"}]
["Biacore","BR100532","Series S Sensor Chip NTA",34,12,{"v":19180.161,"d":"¥19,180.16"}]
["GE蛋白纯化凝胶产品","17513202","GLUTATHIONE SEPH 4 FF, 100 ML",25,20,{"v":19882.863,"d":"¥19,882.86"}]
["GE蛋白纯化凝胶产品","17127902","RPROTEIN A SEPHAROSE FF 25 ML",17,12,{"v":20054.034,"d":"¥20,054.03"}]
["GE蛋白纯化凝胶产品","17516601","MONO Q 5/50 GL",51,26,{"v":20333.313000000002,"d":"¥20,333.31"}]
["GE蛋白纯化凝胶产品","17516801","MONO S 5/50 GL",14,17,{"v":20333.313000000002,"d":"¥20,333.31"}]
["GE蛋白纯化凝胶产品","17061802","PROTEIN G SEPHAROSE 4 FF, 25 ML",20,10,{"v":20909.889,"d":"¥20,909.89"}]
["细胞密度梯度分离介质","17089109","PERCOLL 6X1 L",{"v":128.50666666666666,"d":"129"},{"v":43.43333333333333,"d":"43"},{"v":22999.977000000003,"d":"¥22,999.98"}]
["磁珠","65152105050350","SpeedBead carboxylate, 100mL,",13,12,{"v":23036.9139,"d":"¥23,036.91"}]
["GE蛋白纯化凝胶产品","17517301","SUPEROSE 12 10/300 GL",6,12,{"v":25225.2,"d":"¥25,225.20"}]
["GE蛋白纯化凝胶产品","17517401","SUPERDEX 75 10/300 GL",43,22,{"v":25306.281000000003,"d":"¥25,306.28"}]
["GE蛋白纯化凝胶产品","17040303","HITRAP PROTEIN A HP, 5 X 5 ML",7,10,{"v":26432.406000000003,"d":"¥26,432.41"}]
["GE蛋白纯化凝胶产品","28990944","Superdex 200 Increase 10/300 GL",211,130,{"v":26792.766,"d":"¥26,792.77"}]
["GE蛋白纯化凝胶产品","29091596","Superose 6 Increase 10/300 GL",89,87,{"v":26792.766,"d":"¥26,792.77"}]
["GE蛋白纯化凝胶产品","29148721","Superdex 75 Increase 10/300 GL",49,33,{"v":26792.766,"d":"¥26,792.77"}]
["GE蛋白纯化凝胶产品","29091597","Superose 6 Increase 5/150 GL",20,16,{"v":26792.766,"d":"¥26,792.77"}]
["GE蛋白纯化凝胶产品","29219757","Superdex 30 Increase 10/300 GL",null,13,{"v":26792.766,"d":"¥26,792.77"}]
["GE蛋白纯化凝胶产品","28990945","Superdex 200 Increase 5/150 GL",9,11,{"v":26792.766,"d":"¥26,792.77"}]
["GE蛋白纯化凝胶产品","17543801","MABSELECT SURE 25 ML",8,9,{"v":27729.702,"d":"¥27,729.70"}]
["GE蛋白纯化凝胶产品","17040503","HITRAP PROTEIN G HP, 5 X 5 ML",14,15,{"v":28162.134000000002,"d":"¥28,162.13"}]
["GE蛋白纯化凝胶产品","28989335","HiLoad 16/600 Superdex 200 pg",83,64,{"v":33630.597,"d":"¥33,630.60"}]
["GE蛋白纯化凝胶产品","28989333","HiLoad 16/600 Superdex 75 pg",60,32,{"v":33630.597,"d":"¥33,630.60"}]
["GE蛋白纯化凝胶产品","17117901","RESOURCE Q, 6 ML",8,9,{"v":34864.83,"d":"¥34,864.83"}]
["GE蛋白纯化凝胶产品","17531803","NI SEPHAROSE 6FF, 500 ML",14,13,{"v":51702.651000000005,"d":"¥51,702.65"}]
["磁珠","30152105010350","Sera-Mag Streptavidin, 100mL",5,11,{"v":54423.369,"d":"¥54,423.37"}]

{"sheet":"第一档","index":1,"n_rows":181,"n_cols":5,"rows_kept":181,"merged":[[1,0,1,4]]}
["单位/课题组",null,"销售代理商","GEHC销售确认"]
["第一档赠品清单"]
["Row Labels","产品货号","PG DIS","人民币含税目录价","客户勾选"]
["GE蛋白纯化凝胶产品","19759501","O-RING, 27.1 X 1.60 NBR",{"v":234.234,"d":"¥234.23"},"□"]
["GE蛋白纯化凝胶产品","19176701","SUPPORT SCREEN",{"v":360.36,"d":"¥360.36"},"□"]
["Amersham 蛋白免疫印迹","3030-861","3MM CHR 20X20CM 100/PK",{"v":422.70228000000003,"d":"¥422.70"},"□"]
["Amersham 蛋白免疫印迹","3030-6188","3MM CHR 15X20CM 100/PK",{"v":441.08064,"d":"¥441.08"},"□"]
["GE蛋白纯化凝胶产品","29051325","HITRAP Q HP, 1 X 1 ML",{"v":459.459,"d":"¥459.46"},"□"]
["GE蛋白纯化凝胶产品","29051324","HITRAP SP HP, 1 X 1 ML",{"v":459.459,"d":"¥459.46"},"□"]
["GE蛋白纯化凝胶产品","19016301","O-RING",{"v":486.486,"d":"¥486.49"},"□"]
["GE蛋白纯化凝胶产品","18321603","LABMATE PD-10 BUFFER RESERVOIR",{"v":495.495,"d":"¥495.50"},"□"]
["双向电泳系列产品","17131901","UREA, 500 G",{"v":523.78326,"d":"¥523.78"},"□"]
["GE蛋白纯化凝胶产品","18102712","UNION LUERLOCK FEMALE/M6 FEMALE",{"v":531.5310000000001,"d":"¥531.53"},"□"]
["GE蛋白纯化凝胶产品","29051021","HISTRAP HP 1 X 1 ML",{"v":549.549,"d":"¥549.55"},"□"]
["Biacore","BR100287","Plastic Vials 1.5 ml",{"v":603.6030000000001,"d":"¥603.60"},"□"]
["GE蛋白纯化凝胶产品","19199350","TUBING CONNECTOR/M6 MALE",{"v":612.6120000000001,"d":"¥612.61"},"□"]
["GE蛋白纯化凝胶产品","19500801","NET RING 10 MICROMETER",{"v":612.6120000000001,"d":"¥612.61"},"□"]
["GE蛋白纯化凝胶产品","29048586","HisTrap excel 1x1ml",{"v":621.621,"d":"¥621.62"},"□"]
["GE蛋白纯化凝胶产品","18876101","NET RING XK 16(10UM), PKG/5",{"v":630.63,"d":"¥630.63"},"□"]
["GE蛋白纯化凝胶产品","18111368","PEEK TUBING, 2M/ID 0,5/OD 1/16",{"v":630.63,"d":"¥630.63"},"□"]
["GE蛋白纯化凝胶产品","18111583","#N/A",{"v":639.6390000000001,"d":"¥639.64"},"□"]
["双向电泳系列产品","17600088","IPG-BUFFER, PH 3-10NL",{"v":643.2426,"d":"¥643.24"},"□"]
["双向电泳系列产品","17600086","IPG-BUFFER, PH 4-7L",{"v":643.2426,"d":"¥643.24"},"□"]
["双向电泳系列产品","17600087","IPG-BUFFER, PH 3-10L",{"v":643.2426,"d":"¥643.24"},"□"]
["Amersham 蛋白免疫印迹","10499001","MEMBRANE MARKING PEN 10/PK",{"v":680.2695900000001,"d":"¥680.27"},"□"]
["GE蛋白纯化凝胶产品","18111974","ETFE TUBING,2M/ID0.75/OD1/17",{"v":684.684,"d":"¥684.68"},"□"]
["GE蛋白纯化凝胶产品","17044003","CON-A SEPHAROSE 4B   5 ML",{"v":774.774,"d":"¥774.77"},"□"]
["GE蛋白纯化凝胶产品","18111253","PEEK TUBING ID 0,75MM (1/16in)",{"v":774.774,"d":"¥774.77"},"□"]
["双向电泳系列产品","17133501","DRYSTRIP COVER FLUID,  1000 ML",{"v":781.0803000000001,"d":"¥781.08"},"□"]
["GE蛋白纯化凝胶产品","17070910","DEAE SEPHAROSE FAST FLOW,  25 ML",{"v":801.801,"d":"¥801.80"},"□"]
["GE蛋白纯化凝胶产品","17051010","Q SEPHAROSE FAST FLOW,  25 ML",{"v":801.801,"d":"¥801.80"},"□"]
["GE蛋白纯化凝胶产品","17072910","SP SEPHAROSE FAST FLOW,  25 ML",{"v":801.801,"d":"¥801.80"},"□"]
["GE蛋白纯化凝胶产品","17071910","CM SEPHAROSE FAST FLOW,  25 ML",{"v":801.801,"d":"¥801.80"},"□"]
["GE蛋白纯化凝胶产品","29048684","HITRAP DESALTING, 1X5ML",{"v":810.8100000000001,"d":"¥810.81"},"□"]
["GE蛋白纯化凝胶产品","17531806","NI SEPHAROSE 6 FF 5 ML",{"v":837.837,"d":"¥837.84"},"□"]
["GE蛋白纯化凝胶产品","11000464","STOP PLUG FEMALE, 1/16 IN",{"v":837.837,"d":"¥837.84"},"□"]
["双向电泳系列产品","17131401","CHAPS 1 G",{"v":863.78292,"d":"¥863.78"},"□"]
["GE蛋白纯化凝胶产品","28401081","HITRAP_HIPREP 1_16 CONNEC AKTA",{"v":873.873,"d":"¥873.87"},"□"]
["Biacore","BR100188","HBS-EP Buffer,ready-to-use",{"v":936.936,"d":"¥936.94"},"□"]
["电泳","17132101","TRIS,  500 G",{"v":937.29636,"d":"¥937.30"},"□"]
["GE蛋白纯化凝胶产品","28932225","Vivaspin 500, 10 kDa MWCO PES",{"v":954.9540000000001,"d":"¥954.95"},"□"]
["GE蛋白纯化凝胶产品","28932237","Vivaspin 500, 100 kDa MWCO PES",{"v":954.9540000000001,"d":"¥954.95"},"□"]
["GE蛋白纯化凝胶产品","18111257","#N/A",{"v":972.972,"d":"¥972.97"},"□"]
["Biacore","BR100354","Glycine 1.5",{"v":972.972,"d":"¥972.97"},"□"]
["Biacore","BR100357","Glycine 3.0",{"v":972.972,"d":"¥972.97"},"□"]
["Biacore","28995043","NTA Reagent Kit",{"v":972.972,"d":"¥972.97"},"□"]
["Biacore","BR100355","Glycine 2.0",{"v":972.972,"d":"¥972.97"},"□"]
["Biacore","BR100356","Glycine 2.5",{"v":972.972,"d":"¥972.97"},"□"]
["Amersham 蛋白免疫印迹","10426981","GB005 200x200MM 25/PK",{"v":990.99,"d":"¥990.99"},"□"]
["GE蛋白纯化凝胶产品","18111255","FINGERTIGHT CONNECTOR 1/16in",{"v":1009.008,"d":"¥1,009.01"},"□"]
["Biacore","BR100351","Acetate 5.0",{"v":1009.008,"d":"¥1,009.01"},"□"]
["Biacore","BR100350","Acetate 4.5",{"v":1009.008,"d":"¥1,009.01"},"□"]
["Biacore","BR100352","Acetate 5.5",{"v":1009.008,"d":"¥1,009.01"},"□"]
["Biacore","BR100349","Acetate 4.0",{"v":1009.008,"d":"¥1,009.01"},"□"]
["GE蛋白纯化凝胶产品","18111258","#N/A",{"v":1018.017,"d":"¥1,018.02"},"□"]
["GE蛋白纯化凝胶产品","18112094","ON-LINE FILTER (10 ML/MIN)",{"v":1036.035,"d":"¥1,036.04"},"□"]
["Biacore","BR100826","HBS-EP+ buffer 10X 4x50ml",{"v":1054.053,"d":"¥1,054.05"},"□"]
["Biacore","BR100358","NaOH 50",{"v":1072.0710000000001,"d":"¥1,072.07"},"□"]
["GE蛋白纯化凝胶产品","18115344","PACKING CONNECTOR XK 16",{"v":1090.089,"d":"¥1,090.09"},"□"]
["电泳","80112946","IEF SAMPLE APPL PIECES (PKG/200)",{"v":1116.2151000000001,"d":"¥1,116.22"},"□"]
["GE蛋白纯化凝胶产品","18102711","ONLINE FILTER KIT, PKG/10(100 ML/MIN AKTA SYSTEMS)",{"v":1162.161,"d":"¥1,162.16"},"□"]
["双向电泳系列产品","17600111","IMMOBILINE DRYSTRIP PH3-10,7CM",{"v":1194.5934,"d":"¥1,194.59"},"□"]
["双向电泳系列产品","17600110","IMMOBILINE DRYSTRIP PH 4-7,7CM",{"v":1194.5934,"d":"¥1,194.59"},"□"]
["双向电泳系列产品","RPN6302","IODOACETAMIDE 25GM.",{"v":1203.78258,"d":"¥1,203.78"},"□"]
["Biacore","BR100502","Rubber caps, type 3",{"v":1225.2240000000002,"d":"¥1,225.22"},"□"]
["GE蛋白纯化凝胶产品","28932360","Vivaspin 20, 10 kDa MWCO PES",{"v":1234.233,"d":"¥1,234.23"},"□"]
["GE蛋白纯化凝胶产品","28932363","Vivaspin 20, 100 kDa MWCO PES",{"v":1234.233,"d":"¥1,234.23"},"□"]
["GE蛋白纯化凝胶产品","28932361","Vivaspin 20, 30 kDa MWCO PES",{"v":1234.233,"d":"¥1,234.23"},"□"]
["电泳","17133201","REPEL-SILANE ES,  500 ML",{"v":1240.5393,"d":"¥1,240.54"},"□"]
["Amersham 蛋白免疫印迹","RPN2109","ECL BLOTTING REAGENTS",{"v":1286.4852,"d":"¥1,286.49"},"□"]
["GE蛋白纯化凝胶产品","28932296","Vivaspin 6, 10 kDa MWCO PES",{"v":1315.314,"d":"¥1,315.31"},"□"]
["GE核酸分子生物学产品","17085301","NAP-5   20 ST",{"v":1335.04371,"d":"¥1,335.04"},"□"]
["磁珠","28967388","His Mag Sepharose Ni 2x1 ml",{"v":1341.6202799999999,"d":"¥1,341.62"},"□"]
["GE蛋白纯化凝胶产品","11000407","INLET FILTER HOLDER KIT (AKTA)",{"v":1351.3500000000001,"d":"¥1,351.35"},"□"]
["Biacore","BR100503","Microplate, 96 well",{"v":1360.3590000000002,"d":"¥1,360.36"},"□"]
["电泳","17133001","BIND-SILANE,  25 ML",{"v":1424.3229,"d":"¥1,424.32"},"□"]
["电泳","17054301","PHASTGEL IEF 3-9",{"v":1447.2958500000002,"d":"¥1,447.30"},"□"]
["Biacore","BR100666","BIAmaintenance Kit",{"v":1450.449,"d":"¥1,450.45"},"□"]
["GE核酸分子生物学产品","17085401","NAP-10 20 ST",{"v":1463.0616,"d":"¥1,463.06"},"□"]
["双向电泳系列产品","17123501","IMMOBILINE DRYSTRIP PH 3-10 NL,18CM",{"v":1497.83634,"d":"¥1,497.84"},"□"]
["双向电泳系列产品","17123301","IMMOBILINE DRYSTRIP PH 4-7, 18CM",{"v":1497.83634,"d":"¥1,497.84"},"□"]
["双向电泳系列产品","17600115","IMMOBILINE DRYSTRIP PH3-10NL, 13CM",{"v":1497.83634,"d":"¥1,497.84"},"□"]
["双向电泳系列产品","17600114","IMMOBILINE DRYSTRIPPH3-10,13CM",{"v":1497.83634,"d":"¥1,497.84"},"□"]
["双向电泳系列产品","17123401","IMMOBILINE DRYSTRIP PH 3-10 L, 18CM",{"v":1497.83634,"d":"¥1,497.84"},"□"]
["GE蛋白纯化凝胶产品","29053612","TRICORN 10 Filter Kit",{"v":1594.593,"d":"¥1,594.59"},"□"]
["GE蛋白纯化凝胶产品","29048576","HITRAP PROTEIN A HP, 1 X 1 ML",{"v":1621.6200000000001,"d":"¥1,621.62"},"□"]
["Biacore","BR100672","PBS 10 x",{"v":1630.6290000000001,"d":"¥1,630.63"},"□"]
["GE蛋白纯化凝胶产品","17547015","HiScreen Capto Q ImpRes",{"v":1639.6380000000001,"d":"¥1,639.64"},"□"]
["Biacore","28995084","PBS-P+ 10X",{"v":1648.6470000000002,"d":"¥1,648.65"},"□"]
["GE蛋白纯化凝胶产品","18111401","SAMPLE LOOP 1.0 ML, INV-907",{"v":1648.6470000000002,"d":"¥1,648.65"},"□"]
["GE蛋白纯化凝胶产品","17505501","HITRAP DEAE FF 5 X 1 ML",{"v":1666.665,"d":"¥1,666.67"},"□"]
["GE蛋白纯化凝胶产品","17505301","HITRAP Q FF, 5 X 1 ML",{"v":1666.665,"d":"¥1,666.67"},"□"]
["GE蛋白纯化凝胶产品","28406407","TRICORN 10 COLUMN ADAPTOR UNIT",{"v":1675.674,"d":"¥1,675.67"},"□"]
["GE蛋白纯化凝胶产品","17524801","HISTRAP HP 1 X 5 ML",{"v":1738.737,"d":"¥1,738.74"},"□"]
["GE蛋白纯化凝胶产品","17115301","HITRAP Q HP, 5 X 1 ML",{"v":1738.737,"d":"¥1,738.74"},"□"]
["GE蛋白纯化凝胶产品","17115101","HITRAP SP HP, 5 X 1 ML",{"v":1738.737,"d":"¥1,738.74"},"□"]
["双向电泳系列产品","17600246","IMM. DRYSTRIP PH 4-7, 24 CM",{"v":1755.13338,"d":"¥1,755.13"},"□"]
["双向电泳系列产品","17600245","IMM. DRYSTRIP PH 3-10 NL, 24CM",{"v":1755.13338,"d":"¥1,755.13"},"□"]
["GE核酸分子生物学产品","25660030","GENOMIPHI V2 DNA AMP KIT 25RXN",{"v":1777.4757000000002,"d":"¥1,777.48"},"□"]
["GE蛋白纯化凝胶产品","17531901","HISTRAP FF 5 X 1 ML",{"v":1792.7910000000002,"d":"¥1,792.79"},"□"]
["Biacore","BR100209","Glass vials 16mm",{"v":1801.8000000000002,"d":"¥1,801.80"},"□"]
["Biacore","BR100212","Plastic vials 7mm",{"v":1837.836,"d":"¥1,837.84"},"□"]
["GE蛋白纯化凝胶产品","29048581","HITRAP PROTEIN G HP, 1 X 1 ML",{"v":1846.845,"d":"¥1,846.85"},"□"]
["细胞密度梯度分离介质","17144002","FICOLL PAQUE PLUS 6X100 ML",{"v":1864.863,"d":"¥1,864.86"},"□"]
["磁珠","28944006","Protein A Mag Sepharose 1x500ul",{"v":1909.9080000000001,"d":"¥1,909.91"},"□"]
["细胞密度梯度分离介质","17544202","FICOLL PAQUE PREMIUM 6X100ML",{"v":1954.953,"d":"¥1,954.95"},"□"]
["GE蛋白纯化凝胶产品","11000458","HISTRAP FF CRUDE 5X1 ML",{"v":1963.962,"d":"¥1,963.96"},"□"]
["GE核酸分子生物学产品","27532501","MICROSPIN G-25 COLUMNS",{"v":1981.98,"d":"¥1,981.98"},"□"]
["GE核酸分子生物学产品","27533001","MICROSPIN G-50 COLUMNS, 50 COLUMNS",{"v":1981.98,"d":"¥1,981.98"},"□"]
["GE核酸分子生物学产品","28903408","ProbeQuantTM G-50 Micro Col,50",{"v":1981.98,"d":"¥1,981.98"},"□"]
["GE蛋白纯化凝胶产品","17548115","HiScreen Capto Core 700",{"v":1990.989,"d":"¥1,990.99"},"□"]
["GE蛋白纯化凝胶产品","17071601","HITRAP NHS-ACTIV HP, 5 X 1ML",{"v":1999.998,"d":"¥2,000.00"},"□"]
["细胞密度梯度分离介质","17089102","PERCOLL 250ML",{"v":2045.0430000000001,"d":"¥2,045.04"},"□"]
["GE蛋白纯化凝胶产品","17524701","HISTRAP HP 5 X 1 ML",{"v":2045.0430000000001,"d":"¥2,045.04"},"□"]
["GE蛋白纯化凝胶产品","17040701","HITRAP HEPARIN HP,1 X 5 ML",{"v":2054.052,"d":"¥2,054.05"},"□"]
["Biacore","BR100054","Surfactant P20",{"v":2054.052,"d":"¥2,054.05"},"□"]
["磁珠","30152105011150","Sera-Mag Streptavidin, 1mL",{"v":2054.052,"d":"¥2,054.05"},"□"]
["GE蛋白纯化凝胶产品","17058410","SEPHACRYL S-200 HR, 150 ML",{"v":2117.1150000000002,"d":"¥2,117.12"},"□"]
["GE蛋白纯化凝胶产品","17059910","SEPHACRYL S-300 HR, 150 ML",{"v":2117.1150000000002,"d":"¥2,117.12"},"□"]
["GE蛋白纯化凝胶产品","17061210","SEPHACRYL S-100 HR, 150 ML",{"v":2117.1150000000002,"d":"¥2,117.12"},"□"]
["GE蛋白纯化凝胶产品","17060910","SEPHACRYL S-400 HR, 150 ML",{"v":2117.1150000000002,"d":"¥2,117.12"},"□"]
["GE核酸分子生物学产品","10404092","ELUTRAP BT2 19X26MM 100/PK",{"v":2117.1150000000002,"d":"¥2,117.12"},"□"]
["Biacore","BR100399","Sensor Chip CM5",{"v":2126.1240000000003,"d":"¥2,126.12"},"□"]
["电泳","18100226","IEF/SDS SAMPLE APPL STRIP 52S(P/5",{"v":2135.1330000000003,"d":"¥2,135.13"},"□"]
["GE核酸分子生物学产品","27411001","POLY (A) 100 MG",{"v":2153.1510000000003,"d":"¥2,153.15"},"□"]
["GE蛋白纯化凝胶产品","17043501","COLUMN PD-10,EMPTY",{"v":2162.16,"d":"¥2,162.16"},"□"]
["Amersham 蛋白免疫印迹","10600002","PT 0.45UM 300MMx4M 1/PK",{"v":2171.169,"d":"¥2,171.17"},"□"]
["GE核酸分子生物学产品","17085201","NAP-25 20 ST",{"v":2171.169,"d":"¥2,171.17"},"□"]
["GE核酸分子生物学产品","27514001","MICROSPIN S-400 HR, 50 COLUMNS",{"v":2171.169,"d":"¥2,171.17"},"□"]
["GE蛋白纯化凝胶产品","19500201","COLUMN C 10/20",{"v":2189.187,"d":"¥2,189.19"},"□"]
["Biacore","BR100411","Rubber Cap type 2",{"v":2252.25,"d":"¥2,252.25"},"□"]
["GE蛋白纯化凝胶产品","17040601","HITRAP HEPARIN HP, 5 X 1 ML",{"v":2270.268,"d":"¥2,270.27"},"□"]
["Biacore","29104988","Series S Sensor Chip CM5-1-pack",{"v":2315.313,"d":"¥2,315.31"},"□"]
["GE蛋白纯化凝胶产品","17371205","HisTrap excel 5x1ml",{"v":2387.385,"d":"¥2,387.39"},"□"]
["GE核酸分子生物学产品","25640010","TEMPLIPHI 100AMPLIFICATION KIT",{"v":2432.33991,"d":"¥2,432.34"},"□"]
["Amersham 蛋白免疫印迹","10600003","PTP 0.45UM 300MMx4M 1/PK",{"v":2450.4480000000003,"d":"¥2,450.45"},"□"]
["细胞密度梯度分离介质","17544602","Ficoll-Paque PREMIUM 1,084 6X100ML",{"v":2477.475,"d":"¥2,477.48"},"□"]
["细胞密度梯度分离介质","17544652","Ficoll-Paque PREMIUM 1,073 6X100ML",{"v":2477.475,"d":"¥2,477.48"},"□"]
["GE蛋白纯化凝胶产品","17090601","NHS ACT SEPHAROSE 4 FF 25 ML",{"v":2513.511,"d":"¥2,513.51"},"□"]
["电泳","17044601","CALIBRATION KIT LMW FOR ELECTROPH.",{"v":2513.511,"d":"¥2,513.51"},"□"]
["电泳","17044501","CALIBRATION KIT HMW FOR ELECTROPH.",{"v":2513.511,"d":"¥2,513.51"},"□"]
["GE蛋白纯化凝胶产品","18111402","SAMPLE LOOP 2.0 ML, INV-907",{"v":2522.52,"d":"¥2,522.52"},"□"]
["GE蛋白纯化凝胶产品","17548101","Capto Core 700, 25 mL",{"v":2522.52,"d":"¥2,522.52"},"□"]
["GE蛋白纯化凝胶产品","28903134","Protein G HP SpinTrap",{"v":2531.529,"d":"¥2,531.53"},"□"]
["Amersham 蛋白免疫印迹","RPN2232","ECL Prime Western Blotting Detection Reagent",{"v":2576.574,"d":"¥2,576.57"},"□"]
["细胞密度梯度分离介质","17544502","Percoll PLUS 250 ML",{"v":2612.61,"d":"¥2,612.61"},"□"]
["Amersham 蛋白免疫印迹","10600023","PVDF 0.45UM 300MMx4M 1/PK",{"v":2639.637,"d":"¥2,639.64"},"□"]
["Amersham 蛋白免疫印迹","3030-704","3MM CHR 27CMX100M 1RL/PK",{"v":2648.646,"d":"¥2,648.65"},"□"]
["Amersham 蛋白免疫印迹","NA934-1ML","RABBIT IGG HRP LINKED WHOLE AB",{"v":2711.7090000000003,"d":"¥2,711.71"},"□"]
["GE蛋白纯化凝胶产品","29049104","HITRAP MABSELECT SURE, 1X1ML",{"v":2720.7180000000003,"d":"¥2,720.72"},"□"]
["Amersham 蛋白免疫印迹","RPN2106","ECL WESTERN BLOTTING REAGENTS",{"v":2792.79,"d":"¥2,792.79"},"□"]
["GE蛋白纯化凝胶产品","11003399","HIS GRAVITRAP",{"v":2792.79,"d":"¥2,792.79"},"□"]
["GE蛋白纯化凝胶产品","19510101","COLUMN C 16/20",{"v":2819.817,"d":"¥2,819.82"},"□"]
["电泳","80112932","GEL BOND FILM 124X258 MM (PKG/50)",{"v":2936.934,"d":"¥2,936.93"},"□"]
["GE核酸分子生物学产品","10404090","ELUTRAP BT1 28X19X26MM 100/PK",{"v":2945.943,"d":"¥2,945.94"},"□"]
["GE蛋白纯化凝胶产品","17101401","Q SEPHAROSE HIGH PERF. 75 ML",{"v":2954.952,"d":"¥2,954.95"},"□"]
["GE蛋白纯化凝胶产品","17108701","SP SEPHAROSE HIGH PERF. 75 ML",{"v":2954.952,"d":"¥2,954.95"},"□"]
["Biacore","BR100651","Maintenance Kit, type 2",{"v":2981.9790000000003,"d":"¥2,981.98"},"□"]
["GE蛋白纯化凝胶产品","17075601","GLUTATHIONE SEPHAROSE 4B  10 ML",{"v":3036.033,"d":"¥3,036.03"},"□"]
["Amersham 蛋白免疫印迹","10600001","PT 0.2UM 300MMx4M 1/PK",{"v":3063.06,"d":"¥3,063.06"},"□"]
["电泳","80112936","GELBOND PAG FILM 124X258MM (PKG/50)",{"v":3072.069,"d":"¥3,072.07"},"□"]
["GE核酸分子生物学产品","17085302","NAP-5   50 ST",{"v":3108.105,"d":"¥3,108.11"},"□"]
["GE蛋白纯化凝胶产品","17140801","HITRAP DESALTING, 5X5ML",{"v":3117.114,"d":"¥3,117.11"},"□"]
["GE蛋白纯化凝胶产品","28918779","MBPTrap 1 x 5 mL",{"v":3126.123,"d":"¥3,126.12"},"□"]
["电泳","17047201","LOW PI CALIBRATION KIT PH 2.5-6.5",{"v":3135.132,"d":"¥3,135.13"},"□"]
["电泳","17047301","HIGH PI CALIBRATION KIT PH 5-10.5",{"v":3135.132,"d":"¥3,135.13"},"□"]
["GE蛋白纯化凝胶产品","28989876","Adapter XK 16",{"v":3135.132,"d":"¥3,135.13"},"□"]
["GE蛋白纯化凝胶产品","17001001","SEPHADEX G-10   100 G",{"v":3144.141,"d":"¥3,144.14"},"□"]
["GE蛋白纯化凝胶产品","17600233","HITRAP IEX SELECTION KIT",{"v":3153.15,"d":"¥3,153.15"},"□"]
["GE蛋白纯化凝胶产品","28411007","HiTrap HIC Selection Kit,  7x1ml",{"v":3153.15,"d":"¥3,153.15"},"□"]
["GE蛋白纯化凝胶产品","17003301","SEPHADEX G-25 MEDIUM   100 G",{"v":3162.159,"d":"¥3,162.16"},"□"]
["Amersham 蛋白免疫印迹","RPN2235","ECL Select WB detection reagent",{"v":3198.195,"d":"¥3,198.20"},"□"]
[]
[null,null,"总计赠品金额"]
[null,null,"总计采购金额"]
[]
[null,"请您确认以下信息："]
[null,"□","以上赠品一经送出，如无质量问题，将不能调换或退货。"]
[]
[null,null,"课题组负责人签字"]
[null,null,"日期"]

{"sheet":"第二档","index":2,"n_rows":81,"n_cols":5,"rows_kept":81,"merged":[[1,0,1,4]]}
["单位/课题组",null,"销售代理商","GEHC销售确认"]
["第二档赠品清单"]
["Row Labels","产品货号","PG DIS","人民币含税目录价","客户勾选"]
["GE蛋白纯化凝胶产品","17085101","COLUMN PD 10",{"v":3216.213,"d":"¥3,216.21"},"□"]
["GE核酸分子生物学产品","RPN303B","HYBOND-N+, 30CMX3M",{"v":3216.213,"d":"¥3,216.21"},"□"]
["GE核酸分子生物学产品","RPN303T","HYBOND-NX NYLON MEMBRANE  30CMX3M ROLL",{"v":3216.213,"d":"¥3,216.21"},"□"]
["GE蛋白纯化凝胶产品","17036001","BLUE DEXTRAN 2000   10 G",{"v":3225.222,"d":"¥3,225.22"},"□"]
["Amersham 蛋白免疫印迹","10600021","PVDF 0.2UM 260MMx4M 1/PK",{"v":3243.2400000000002,"d":"¥3,243.24"},"□"]
["GE蛋白纯化凝胶产品","28934388","HiTrap Capto IEX Selection Kit",{"v":3243.2400000000002,"d":"¥3,243.24"},"□"]
["GE蛋白纯化凝胶产品","17003201","SEPHADEX G-25 FINE 100 G",{"v":3243.2400000000002,"d":"¥3,243.24"},"□"]
["Biacore","29179315","Series S Sensor Chip Protein G 1-p",{"v":3270.2670000000003,"d":"¥3,270.27"},"□"]
["GE蛋白纯化凝胶产品","17040403","HITRAP PROTEIN G HP, 2 X 1 ML",{"v":3378.375,"d":"¥3,378.38"},"□"]
["电泳","17047101","BROAD PI CALIBRATION KIT PH 3-10",{"v":3396.393,"d":"¥3,396.39"},"□"]
["GE蛋白纯化凝胶产品","17513101","GSTRAP FF, 1X5ML",{"v":3441.438,"d":"¥3,441.44"},"□"]
["Biacore","BR100050","Amine Coupling Kit",{"v":3450.447,"d":"¥3,450.45"},"□"]
["GE蛋白纯化凝胶产品","17531801","NI SEPHAROSE 6FF, 25 ML",{"v":3459.456,"d":"¥3,459.46"},"□"]
["Amersham 蛋白免疫印迹","NA931-1ML","MOUSE IGG HRP LINKED WHOLE AB",{"v":3459.456,"d":"¥3,459.46"},"□"]
["GE蛋白纯化凝胶产品","17548151","HiTrap Capto Core 700, 5 x 1 ml",{"v":3468.465,"d":"¥3,468.47"},"□"]
["GE蛋白纯化凝胶产品","80648451","2-D CLEAN-UP KIT",{"v":3477.474,"d":"¥3,477.47"},"□"]
["电泳","18103532","CLEAN GEL IEF (PK/5)",{"v":3486.483,"d":"¥3,486.48"},"□"]
["GE蛋白纯化凝胶产品","17004201","SEPHADEX G-50 FINE 100 G",{"v":3486.483,"d":"¥3,486.48"},"□"]
["Biacore","BR100838","Mouse Antibody Capture Kit",{"v":3531.5280000000002,"d":"¥3,531.53"},"□"]
["GE蛋白纯化凝胶产品","17098101","CNBr Activated Sepharose 4FF,10G",{"v":3567.5640000000003,"d":"¥3,567.56"},"□"]
["GE蛋白纯化凝胶产品","17513001","GSTRAP FF, 5X1ML",{"v":3567.5640000000003,"d":"¥3,567.56"},"□"]
["GE蛋白纯化凝胶产品","28918004","PD SpinTrap G-25",{"v":3612.609,"d":"¥3,612.61"},"□"]
["GE蛋白纯化凝胶产品","17515401","HITRAP DEAE FF 5 X 5 ML",{"v":3621.618,"d":"¥3,621.62"},"□"]
["GE蛋白纯化凝胶产品","17515601","HITRAP Q  FF, 5 X 5 ML",{"v":3621.618,"d":"¥3,621.62"},"□"]
["GE蛋白纯化凝胶产品","17515701","HITRAP SP FF, 5 X 5 ML",{"v":3621.618,"d":"¥3,621.62"},"□"]
["电泳","17045601","PHARMALYTE 3 - 10",{"v":3657.654,"d":"¥3,657.65"},"□"]
["电泳","17045501","PHARMALYTE 8 - 10.5",{"v":3657.654,"d":"¥3,657.65"},"□"]
["电泳","17045101","PHARMALYTE 2.5 - 5",{"v":3657.654,"d":"¥3,657.65"},"□"]
["电泳","17045201","PHARMALYTE 4 - 6.5",{"v":3657.654,"d":"¥3,657.65"},"□"]
["GE蛋白纯化凝胶产品","80648356","2-D QUANT KIT",{"v":3738.735,"d":"¥3,738.74"},"□"]
["GE蛋白纯化凝胶产品","17002001","SEPHADEX G-15   100 G",{"v":3738.735,"d":"¥3,738.74"},"□"]
["GE蛋白纯化凝胶产品","17094801","BLUE SEPHAROSE 6 FAST FLOW, 50ML",{"v":3756.753,"d":"¥3,756.75"},"□"]
["GE核酸分子生物学产品","17084702","CSTFA",{"v":3765.762,"d":"¥3,765.76"},"□"]
["GE蛋白纯化凝胶产品","17528201","GSTRAP HP 1 X 5 ML",{"v":3846.8430000000003,"d":"¥3,846.84"},"□"]
["GE蛋白纯化凝胶产品","17004301","SEPHADEX G-50 MEDIUM   100 G",{"v":3873.8700000000003,"d":"¥3,873.87"},"□"]
["GE蛋白纯化凝胶产品","17526801","NI SEPHAROSE HP 25 ML",{"v":3891.888,"d":"¥3,891.89"},"□"]
["GE蛋白纯化凝胶产品","11001303","HITRAP CAPTO Q, 5X5ML",{"v":3983.7798000000003,"d":"¥3,983.78"},"□"]
["GE蛋白纯化凝胶产品","17005001","SEPHADEX G-75   100 G",{"v":4018.014,"d":"¥4,018.01"},"□"]
["Amersham 蛋白免疫印迹","10426994","GB005 580x580MM 25/PK",{"v":4027.023,"d":"¥4,027.02"},"□"]
["GE蛋白纯化凝胶产品","27084301","PRESCISSION PROTEASE",{"v":4036.032,"d":"¥4,036.03"},"□"]
["电泳","17045301","PHARMALYTE 5 - 8",{"v":4054.05,"d":"¥4,054.05"},"□"]
["GE蛋白纯化凝胶产品","17371201","Ni Sepharose excel 25 ml",{"v":4063.059,"d":"¥4,063.06"},"□"]
["GE蛋白纯化凝胶产品","17057501","CHELATING SEPHAROSE FAST FLOW",{"v":4207.203,"d":"¥4,207.20"},"□"]
["GE蛋白纯化凝胶产品","17115401","HITRAP Q HP 5X5 ML",{"v":4216.212,"d":"¥4,216.21"},"□"]
["GE蛋白纯化凝胶产品","17115201","HITRAP SP HP,  5X5 ML",{"v":4216.212,"d":"¥4,216.21"},"□"]
["GE蛋白纯化凝胶产品","17003101","SEPHADEX G-25 SUPERFINE   100 G",{"v":4225.2210000000005,"d":"¥4,225.22"},"□"]
["细胞密度梯度分离介质","17089101","PERCOLL   1 L",{"v":4279.275000000001,"d":"¥4,279.28"},"□"]
["GE核酸分子生物学产品","27926401","RTG YOU-PRIME FIRST-STRAND BEADS",{"v":4279.275000000001,"d":"¥4,279.28"},"□"]
["Biacore","28953828","Series S Sensor chip CM7",{"v":4387.383,"d":"¥4,387.38"},"□"]
["GE蛋白纯化凝胶产品","28918008","PD MidiTrap G-25",{"v":4414.41,"d":"¥4,414.41"},"□"]
["Biacore","29104992","Series S Sensor Chip SA-1-pack",{"v":4432.428,"d":"¥4,432.43"},"□"]
["GE蛋白纯化凝胶产品","28918007","PD MiniTrap G-25",{"v":4441.437,"d":"¥4,441.44"},"□"]
["GE蛋白纯化凝胶产品","28989858","Packing Reservoir RK 16/26",{"v":4477.473,"d":"¥4,477.47"},"□"]
["GE蛋白纯化凝胶产品","17018001","DEAE-SEPHADEX A-50 100 G",{"v":4531.527,"d":"¥4,531.53"},"□"]
["GE蛋白纯化凝胶产品","17043001","CNBR ACTIVATED SEPHAROSE 4B  15 G",{"v":4585.581,"d":"¥4,585.58"},"□"]
["Biacore","BR100669","HBS-EP+ 10 x",{"v":4603.599,"d":"¥4,603.60"},"□"]
["Biacore","BR100671","HBS-P+ 10 x",{"v":4603.599,"d":"¥4,603.60"},"□"]
["Biacore","BR100670","HBS-N 10 x",{"v":4603.599,"d":"¥4,603.60"},"□"]
["GE蛋白纯化凝胶产品","17096901","IGG SEPHAROSE 6 FAST FLOW  10 ML",{"v":4621.617,"d":"¥4,621.62"},"□"]
["GE核酸分子生物学产品","17085202","NAP-25   50 ST",{"v":4630.626,"d":"¥4,630.63"},"□"]
["GE蛋白纯化凝胶产品","18111244","ONLINE FILTER HOLDER,100ML/MIN",{"v":4648.644,"d":"¥4,648.64"},"□"]
["GE蛋白纯化凝胶产品","17004101","SEPHADEX G-50 SUPERFINE   100 G",{"v":4666.662,"d":"¥4,666.66"},"□"]
["Xuri细胞培养袋","29108443","#N/A",{"v":4897.8072,"d":"¥4,897.81"},"□"]
["GE核酸分子生物学产品","25660031","GENOMIPHI V2 DNA AMP KIT 100RX",{"v":4913.32842,"d":"¥4,913.33"},"□"]
["GE蛋白纯化凝胶产品","17511301","STREPTAVIDIN SEPHAROSE HP,5 ML",{"v":4945.941,"d":"¥4,945.94"},"□"]
["GE蛋白纯化凝胶产品","17051001","Q SEPHAROSE FAST FLOW  300  ML",{"v":4990.986,"d":"¥4,990.99"},"□"]
["GE蛋白纯化凝胶产品","17072901","SP SEPHAROSE FAST FLOW, 300 ML",{"v":4990.986,"d":"¥4,990.99"},"□"]
["Biacore","28975816","Microplate Foils (96 well)",{"v":5045.04,"d":"¥5,045.04"},"□"]
["GE蛋白纯化凝胶产品","17519501","HITRAP PHENYL HP, 5 X 5 ML",{"v":5072.067,"d":"¥5,072.07"},"□"]
[]
[null,null,"总计赠品金额"]
[null,null,"总计采购金额"]
[]
[null,"请您确认以下信息："]
[null,"□","以上赠品一经送出，如无质量问题，将不能调换或退货。"]
[]
[null,null,"课题组负责人签字"]
[null,null,"日期"]

{"sheet":"第三档","index":3,"n_rows":46,"n_cols":5,"rows_kept":46,"merged":[[1,0,1,4]]}
["单位/课题组",null,"销售代理商","GEHC销售确认"]
["第三档赠品清单"]
["Row Labels","产品货号","PG DIS","人民币含税目录价","客户勾选"]
["GE蛋白纯化凝胶产品","17078001","PROTEIN A-SEPHAROSE CL-4B 1.5G",{"v":5243.238,"d":"¥5,243.24"},"□"]
["GE蛋白纯化凝胶产品","28907547","StrepTrap HP 1 x 5mL",{"v":5270.265,"d":"¥5,270.27"},"□"]
["GE蛋白纯化凝胶产品","17009001","SEPHADEX LH-20   100 G",{"v":5378.3730000000005,"d":"¥5,378.37"},"□"]
["Amersham 蛋白免疫印迹","RPN2236","ECL Prime Western blot detection reagent",{"v":5396.3910000000005,"d":"¥5,396.39"},"□"]
["GE蛋白纯化凝胶产品","17528001","NPROTEIN A SEPHAROSE 4 FF 5ML",{"v":5513.508,"d":"¥5,513.51"},"□"]
["Biacore","BR100012","Sensor Chip CM5",{"v":5639.634,"d":"¥5,639.63"},"□"]
["GE蛋白纯化凝胶产品","17006001","SEPHADEX G-100   100 G",{"v":5684.679,"d":"¥5,684.68"},"□"]
["磁珠","65152105050250","SpeedBead carboxylate, 15mL",{"v":5789.183400000001,"d":"¥5,789.18"},"□"]
["GE蛋白纯化凝胶产品","17127901","RPROTEIN A SEPHAROSE FF 5 ML",{"v":5819.814,"d":"¥5,819.81"},"□"]
["GE蛋白纯化凝胶产品","17040301","HITRAP PROTEIN A HP,1 X 5 ML",{"v":5873.868,"d":"¥5,873.87"},"□"]
["GE蛋白纯化凝胶产品","17061801","PROTEIN G SEPHAROSE 4 FF, 5 ML",{"v":5990.985000000001,"d":"¥5,990.99"},"□"]
["GE蛋白纯化凝胶产品","17081001","PHENYL-SEPHAROSE CL-4B   200 ML",{"v":6045.039000000001,"d":"¥6,045.04"},"□"]
["GE蛋白纯化凝胶产品","17600235","IMMUNOPRECIP STARTER PACK",{"v":6072.066,"d":"¥6,072.07"},"□"]
["GE蛋白纯化凝胶产品","17070901","DEAE SEPHAROSE FAST FLOW  500 ML",{"v":6108.102,"d":"¥6,108.10"},"□"]
["GE蛋白纯化凝胶产品","17525501","HISTRAP FF 5 X 5 ML",{"v":6144.138,"d":"¥6,144.14"},"□"]
["GE蛋白纯化凝胶产品","17040501","HITRAP PROTEIN G HP,1 X 5 ML",{"v":6171.165,"d":"¥6,171.17"},"□"]
["GE蛋白纯化凝胶产品","17071901","CM SEPHAROSE FAST FLOW    500 ML",{"v":6252.246,"d":"¥6,252.25"},"□"]
["Biacore","28994951","Series S Sensor Chip NTA, 1-pack",{"v":6270.264,"d":"¥6,270.26"},"□"]
["GE蛋白纯化凝胶产品","17040201","HITRAP PROTEIN A HP, 5 X 1 ML",{"v":6270.264,"d":"¥6,270.26"},"□"]
["GE蛋白纯化凝胶产品","17513201","GLUTATHIONE SEPHAROSE 4FF,25ML",{"v":6279.273,"d":"¥6,279.27"},"□"]
["Biacore","BR100530","Series S Sensor Chip CM5",{"v":6306.3,"d":"¥6,306.30"},"□"]
["GE蛋白纯化凝胶产品","28406409","TRICORN 5/50 COLUMN",{"v":6324.318,"d":"¥6,324.32"},"□"]
["细胞密度梯度分离介质","17144003","FICOLL PAQUE PLUS 6X500 ML",{"v":6378.372,"d":"¥6,378.37"},"□"]
["Biacore","BR100839","Human Antibody Capture Kit",{"v":6477.4710000000005,"d":"¥6,477.47"},"□"]
["GE蛋白纯化凝胶产品","17099801","HEPARIN SEPHAROSE 6 FF,50 ML",{"v":6540.534000000001,"d":"¥6,540.53"},"□"]
["GE蛋白纯化凝胶产品","28988937","XK 16/20 column",{"v":6585.579000000001,"d":"¥6,585.58"},"□"]
["GE蛋白纯化凝胶产品","17548102","Capto Core 700, 100 mL",{"v":6648.642,"d":"¥6,648.64"},"□"]
["细胞密度梯度分离介质","17544203","FICOLL PAQUE PREMIUM 6X500ML",{"v":6774.768,"d":"¥6,774.77"},"□"]
["GE蛋白纯化凝胶产品","17524802","HISTRAP HP 5 X 5 ML",{"v":6783.777,"d":"¥6,783.78"},"□"]
["GE蛋白纯化凝胶产品","28403842","GEL FILTRATION CAL KIT HMW",{"v":6891.885,"d":"¥6,891.89"},"□"]
["GE蛋白纯化凝胶产品","28403841","GEL FILTRATION CAL KIT LMW",{"v":6891.885,"d":"¥6,891.89"},"□"]
["Biacore","BR100556","Regeneration Scouting Kit",{"v":7036.029,"d":"¥7,036.03"},"□"]
["GE蛋白纯化凝胶产品","17528601","HISTRAP FF CRUDE 5X5 ML",{"v":7072.0650000000005,"d":"¥7,072.07"},"□"]
["GE蛋白纯化凝胶产品","17040401","HITRAP PROTEIN G HP, 5 X 1 ML",{"v":7144.137000000001,"d":"¥7,144.14"},"□"]
[]
[null,null,"总计赠品金额"]
[null,null,"总计采购金额"]
[]
[null,"请您确认以下信息："]
[null,"□","以上赠品一经送出，如无质量问题，将不能调换或退货。"]
[]
[null,null,"课题组负责人签字"]
[null,null,"日期"]

{"sheet":"消耗品客户报价表(2018.8.20更新)","index":4,"n_rows":8786,"n_cols":15,"rows_kept":4500,"cut":true,"hidden":true,"bounds":{"rows_first":2000,"rows_last":500,"rows_between":2000,"halvings":0}}
["No.","Product No.","Part","Description","2018 Modality","2018 PC","2018 PC Disc","2018 PG","2018 PG Disc","2018 China LLP (USD)","2018 China LLP (RMB)","Remark","Status","Shipping Conditions","Dangerous Goods"]
[1,"17044801","17044801","CYTODEX 1    25 G","021","12","MICROCARRIERS","274","Microcarriers",{"$f":"K2/9.009","v":502},{"v":4522.518,"d":"4,523"},null,{"$f":"VLOOKUP(B2,'[1]2018.7 '!A:C,3,)","v":"Active"},{"$f":"VLOOKUP(B2,'[1]2018.7 '!A:M,13,)","v":"Ambient"},{"$f":"VLOOKUP(B2,'[1]2018.7 '!A:N,14,)","v":"No"}]
[2,"17044802","17044802","CYTODEX 1   100 G","021","12","MICROCARRIERS","274","Microcarriers",{"$f":"K3/9.009","v":{"v":1167,"d":"1,167"}},{"v":10513.503,"d":"10,514"},null,{"$f":"VLOOKUP(B3,'[1]2018.7 '!A:C,3,)","v":"Active"},{"$f":"VLOOKUP(B3,'[1]2018.7 '!A:M,13,)","v":"Ambient"},{"$f":"VLOOKUP(B3,'[1]2018.7 '!A:N,14,)","v":"No"}]
[3,"17044803","17044803","CYTODEX 1   500 G","021","12","MICROCARRIERS","274","Microcarriers",{"v":4228,"d":"4,228"},{"v":38090.052,"d":"38,090"},null,{"$f":"VLOOKUP(B4,'[1]2018.7 '!A:C,3,)","v":"Active"},{"$f":"VLOOKUP(B4,'[1]2018.7 '!A:M,13,)","v":"Ambient"},{"$f":"VLOOKUP(B4,'[1]2018.7 '!A:N,14,)","v":"No"}]
[4,"17048501","17048501","CYTODEX 3    10 G","021","12","MICROCARRIERS","274","Microcarriers",{"v":241.99999999999997,"d":"242"},{"v":2180.178,"d":"2,180"},null,{"$f":"VLOOKUP(B5,'[1]2018.7 '!A:C,3,)","v":"Active"},{"$f":"VLOOKUP(B5,'[1]2018.7 '!A:M,13,)","v":"Ambient"},{"$f":"VLOOKUP(B5,'[1]2018.7 '!A:N,14,)","v":"No"}]
[5,"17048502","17048502","CYTODEX 3   100 G","021","12","MICROCARRIERS","274","Microcarriers",{"v":1259,"d":"1,259"},{"v":11342.331,"d":"11,342"},null,{"$f":"VLOOKUP(B6,'[1]2018.7 '!A:C,3,)","v":"Active"},{"$f":"VLOOKUP(B6,'[1]2018.7 '!A:M,13,)","v":"Ambient"},{"$f":"VLOOKUP(B6,'[1]2018.7 '!A:N,14,)","v":"No"}]
[6,"17048503","17048503","CYTODEX 3   500 G","021","12","MICROCARRIERS","274","Microcarriers",{"v":4753,"d":"4,753"},{"v":42819.777,"d":"42,820"},null,{"$f":"VLOOKUP(B7,'[1]2018.7 '!A:C,3,)","v":"Active"},{"$f":"VLOOKUP(B7,'[1]2018.7 '!A:M,13,)","v":"Ambient"},{"$f":"VLOOKUP(B7,'[1]2018.7 '!A:N,14,)","v":"No"}]
[7,"17091101","17091101","CYTOPORE 1 20 G CYTOCELL","021","12","MICROCARRIERS","274","Microcarriers",{"v":1165,"d":"1,165"},{"v":10495.485,"d":"10,495"},null,{"$f":"VLOOKUP(B8,'[1]2018.7 '!A:C,3,)","v":"Active"},{"$f":"VLOOKUP(B8,'[1]2018.7 '!A:M,13,)","v":"Ambient"},{"$f":"VLOOKUP(B8,'[1]2018.7 '!A:N,14,)","v":"No"}]
[8,"17091102","17091102","CYTOPORE 1 100 G (CYTOCELL)","021","12","MICROCARRIERS","274","Microcarriers",{"v":5794,"d":"5,794"},{"v":52198.146,"d":"52,198"},null,{"$f":"VLOOKUP(B9,'[1]2018.7 '!A:C,3,)","v":"Active"},{"$f":"VLOOKUP(B9,'[1]2018.7 '!A:M,13,)","v":"Ambient"},{"$f":"VLOOKUP(B9,'[1]2018.7 '!A:N,14,)","v":"Reviewing"}]
[9,"17127101","17127101","CYTOPORE 2 20 G","021","12","MICROCARRIERS","274","Microcarriers",{"v":1200,"d":"1,200"},{"v":10810.800000000001,"d":"10,811"},null,{"$f":"VLOOKUP(B10,'[1]2018.7 '!A:C,3,)","v":"Active"},{"$f":"VLOOKUP(B10,'[1]2018.7 '!A:M,13,)","v":"Ambient"},{"$f":"VLOOKUP(B10,'[1]2018.7 '!A:N,14,)","v":"No"}]
[10,"17127102","17127102","CYTOPORE 2 100 G","021","12","MICROCARRIERS","274","Microcarriers",{"v":5794,"d":"5,794"},{"v":52198.146,"d":"52,198"},null,{"$f":"VLOOKUP(B11,'[1]2018.7 '!A:C,3,)","v":"Active"},{"$f":"VLOOKUP(B11,'[1]2018.7 '!A:M,13,)","v":"Ambient"},{"$f":"VLOOKUP(B11,'[1]2018.7 '!A:N,14,)","v":"No"}]
[11,"18100062","18100062","QUARTZ GLASS ASSEMBLY, 2 MM PATH LE","021","13","STD BIOPROCESS CHROM HW","250","Std AKTApilot",778,{"v":7009.002,"d":"7,009"},null,{"$f":"VLOOKUP(B12,'[1]2018.7 '!A:C,3,)","v":"Active"},{"$f":"VLOOKUP(B12,'[1]2018.7 '!A:M,13,)","v":"Ambient"},{"$f":"VLOOKUP(B12,'[1]2018.7 '!A:N,14,)","v":"Reviewing"}]
[12,"18100063","18100063","QUARTZ GLASS ASSEMBLY, 10 MM PATH L","021","13","STD BIOPROCESS CHROM HW","250","Std AKTApilot",778,{"v":7009.002,"d":"7,009"},null,{"$f":"VLOOKUP(B13,'[1]2018.7 '!A:C,3,)","v":"Active"},{"$f":"VLOOKUP(B13,'[1]2018.7 '!A:M,13,)","v":"Ambient"},{"$f":"VLOOKUP(B13,'[1]2018.7 '!A:N,14,)","v":"Reviewing"}]
[13,"18100064","18100064","QUARTZ GLASS ASSEMBLY, 5 MM PATH LE","021","13","STD BIOPROCESS CHROM HW","250","Std AKTApilot",778,{"v":7009.002,"d":"7,009"},null,{"$f":"VLOOKUP(B14,'[1]2018.7 '!A:C,3,)","v":"Active"},{"$f":"VLOOKUP(B14,'[1]2018.7 '!A:M,13,)","v":"Ambient"},{"$f":"VLOOKUP(B14,'[1]2018.7 '!A:N,14,)","v":"No"}]
[14,"18100065","18100065","UV FLOW CELL INDUSTR 10MM SS","021","13","STD BIOPROCESS CHROM HW","250","Std AKTApilot",{"v":4248,"d":"4,248"},{"v":38270.232,"d":"38,270"},null,{"$f":"VLOOKUP(B15,'[1]2018.7 '!A:C,3,)","v":"Active"},{"$f":"VLOOKUP(B15,'[1]2018.7 '!A:M,13,)","v":"Ambient"},{"$f":"VLOOKUP(B15,'[1]2018.7 '!A:N,14,)","v":"No"}]
[15,"18100066","18100066","UV FLOW CELL INDUSTR. 6MM SS","021","13","STD BIOPROCESS CHROM HW","250","Std AKTApilot",{"v":4028.9999999999995,"d":"4,029"},{"v":36297.261,"d":"36,297"},null,{"$f":"VLOOKUP(B16,'[1]2018.7 '!A:C,3,)","v":"Active"},{"$f":"VLOOKUP(B16,'[1]2018.7 '!A:M,13,)","v":"Ambient"},{"$f":"VLOOKUP(B16,'[1]2018.7 '!A:N,14,)","v":"No"}]
[16,"18102958","18102958","MOVABLE SEAL W. VALVE SUPERLOOP 150","021","46","PURIFICATION SYSTEMS","099","AKTA Accessories pure and avant",418,{"v":3765.762,"d":"3,766"},null,{"$f":"VLOOKUP(B17,'[1]2018.7 '!A:C,3,)","v":"Active"},{"$f":"VLOOKUP(B17,'[1]2018.7 '!A:M,13,)","v":"Ambient"},{"$f":"VLOOKUP(B17,'[1]2018.7 '!A:N,14,)","v":"No"}]
[17,"18102960","18102960","O-RING INNER END PIECE SUPERLOOP 150","021","46","PURIFICATION SYSTEMS","099","AKTA Accessories pure and avant",39,{"v":351.351,"d":"351"},null,{"$f":"VLOOKUP(B18,'[1]2018.7 '!A:C,3,)","v":"Active"},{"$f":"VLOOKUP(B18,'[1]2018.7 '!A:M,13,)","v":"Ambient"},{"$f":"VLOOKUP(B18,'[1]2018.7 '!A:N,14,)","v":"No"}]
[18,"18103220","18103220","GLASS TUBE SUPERLOOP 150 ML","021","46","PURIFICATION SYSTEMS","099","AKTA Accessories pure and avant",617,{"v":5558.553,"d":"5,559"},null,{"$f":"VLOOKUP(B19,'[1]2018.7 '!A:C,3,)","v":"Active"},{"$f":"VLOOKUP(B19,'[1]2018.7 '!A:M,13,)","v":"Ambient"},{"$f":"VLOOKUP(B19,'[1]2018.7 '!A:N,14,)","v":"No"}]
[19,"18110497","18110497","O-RING 11.3 X 2.4 FFPM/FFKM","021","13","STD BIOPROCESS CHROM HW","250","Std AKTApilot",181,{"v":1630.6290000000001,"d":"1,631"},null,{"$f":"VLOOKUP(B20,'[1]2018.7 '!A:C,3,)","v":"Active"},{"$f":"VLOOKUP(B20,'[1]2018.7 '!A:M,13,)","v":"Ambient"},{"$f":"VLOOKUP(B20,'[1]2018.7 '!A:N,14,)","v":"No"}]
[20,"18113695","18113695","SOLVENT RESERVOIR INLET FILTER","021","13","STD BIOPROCESS CHROM HW","250","Std AKTApilot",156,{"v":1405.404,"d":"1,405"},null,{"$f":"VLOOKUP(B21,'[1]2018.7 '!A:C,3,)","v":"Active"},{"$f":"VLOOKUP(B21,'[1]2018.7 '!A:M,13,)","v":"Ambient"},{"$f":"VLOOKUP(B21,'[1]2018.7 '!A:N,14,)","v":"Reviewing"}]
[21,"18115954","18115954","AKTAPILOT AIRSENSOR CELL940","021","13","STD BIOPROCESS CHROM HW","250","Std AKTApilot",{"v":1232,"d":"1,232"},{"v":11099.088,"d":"11,099"},null,{"$f":"VLOOKUP(B22,'[1]2018.7 '!A:C,3,)","v":"Active"},{"$f":"VLOOKUP(B22,'[1]2018.7 '!A:M,13,)","v":"Ambient"},{"$f":"VLOOKUP(B22,'[1]2018.7 '!A:N,14,)","v":"No"}]
[22,"18116295","18116295","AKTApilot Instrument Handbook.","021","13","STD BIOPROCESS CHROM HW","250","Std AKTApilot",48,{"v":432.432,"d":"432"},null,{"$f":"VLOOKUP(B23,'[1]2018.7 '!A:C,3,)","v":"Active"},{"$f":"VLOOKUP(B23,'[1]2018.7 '!A:M,13,)","v":"Ambient"},{"$f":"VLOOKUP(B23,'[1]2018.7 '!A:N,14,)","v":"Reviewing"}]
[23,"18116768","18116768","AKTAPILOT TUBING KIT COLUMN","021","13","STD BIOPROCESS CHROM HW","250","Std AKTApilot",{"v":1097,"d":"1,097"},{"v":9882.873,"d":"9,883"},null,{"$f":"VLOOKUP(B24,'[1]2018.7 '!A:C,3,)","v":"Active"},{"$f":"VLOOKUP(B24,'[1]2018.7 '!A:M,13,)","v":"Ambient"},{"$f":"VLOOKUP(B24,'[1]2018.7 '!A:N,14,)","v":"No"}]
[24,"18116770","18116770","AKTAPILOT AIRSENSOR CELL925","021","13","STD BIOPROCESS CHROM HW","250","Std AKTApilot",879,{"v":7918.911,"d":"7,919"},null,{"$f":"VLOOKUP(B25,'[1]2018.7 '!A:C,3,)","v":"Active"},{"$f":"VLOOKUP(B25,'[1]2018.7 '!A:M,13,)","v":"Ambient"},{"$f":"VLOOKUP(B25,'[1]2018.7 '!A:N,14,)","v":"No"}]
[25,"18116877","18116877","PH ELECTRODE AKTAPILOT","021","13","STD BIOPROCESS CHROM HW","250","Std AKTApilot",787,{"v":7090.0830000000005,"d":"7,090"},null,{"$f":"VLOOKUP(B26,'[1]2018.7 '!A:C,3,)","v":"Active"},{"$f":"VLOOKUP(B26,'[1]2018.7 '!A:M,13,)","v":"Ambient"},{"$f":"VLOOKUP(B26,'[1]2018.7 '!A:N,14,)","v":"No"}]
[26,"18116883","18116883","UV CELL 1/2/5 MM AKTAPILOT","021","13","STD BIOPROCESS CHROM HW","250","Std AKTApilot",{"v":1879,"d":"1,879"},{"v":16927.911,"d":"16,928"},null,{"$f":"VLOOKUP(B27,'[1]2018.7 '!A:C,3,)","v":"Active"},{"$f":"VLOOKUP(B27,'[1]2018.7 '!A:M,13,)","v":"Ambient"},{"$f":"VLOOKUP(B27,'[1]2018.7 '!A:N,14,)","v":"No"}]
[27,"18116884","18116884","SHIM PLATE 2 MM AKTAPILOT","021","13","STD BIOPROCESS CHROM HW","250","Std AKTApilot",129,{"v":1162.161,"d":"1,162"},null,{"$f":"VLOOKUP(B28,'[1]2018.7 '!A:C,3,)","v":"Active"},{"$f":"VLOOKUP(B28,'[1]2018.7 '!A:M,13,)","v":"Ambient"},{"$f":"VLOOKUP(B28,'[1]2018.7 '!A:N,14,)","v":"No"}]
[28,"18116898","18116898","MIXER CHAMB 5ML 5/16in APILOT","021","13","STD BIOPROCESS CHROM HW","250","Std AKTApilot",568,{"v":5117.112,"d":"5,117"},null,{"$f":"VLOOKUP(B29,'[1]2018.7 '!A:C,3,)","v":"Active"},{"$f":"VLOOKUP(B29,'[1]2018.7 '!A:M,13,)","v":"Ambient"},{"$f":"VLOOKUP(B29,'[1]2018.7 '!A:N,14,)","v":"No"}]
[29,"18116900","18116900","COND CELL I.D.2,5MM AKTAPILOT","021","13","STD BIOPROCESS CHROM HW","250","Std AKTApilot",{"v":943.0000000000001,"d":"943"},{"v":8495.487000000001,"d":"8,495"},null,{"$f":"VLOOKUP(B30,'[1]2018.7 '!A:C,3,)","v":"Active"},{"$f":"VLOOKUP(B30,'[1]2018.7 '!A:M,13,)","v":"Ambient"},{"$f":"VLOOKUP(B30,'[1]2018.7 '!A:N,14,)","v":"No"}]
[30,"18116901","18116901","AKTAPILOT CONNECTBLOCK V1","021","13","STD BIOPROCESS CHROM HW","250","Std AKTApilot",{"v":941.0000000000001,"d":"941"},{"v":8477.469000000001,"d":"8,477"},null,{"$f":"VLOOKUP(B31,'[1]2018.7 '!A:C,3,)","v":"Active"},{"$f":"VLOOKUP(B31,'[1]2018.7 '!A:M,13,)","v":"Ambient"},{"$f":"VLOOKUP(B31,'[1]2018.7 '!A:N,14,)","v":"No"}]
[31,"18116902","18116902","AKTAPILOT CONNECTBLOCK V2","021","13","STD BIOPROCESS CHROM HW","250","Std AKTApilot",911,{"v":8207.199,"d":"8,207"},null,{"$f":"VLOOKUP(B32,'[1]2018.7 '!A:C,3,)","v":"Active"},{"$f":"VLOOKUP(B32,'[1]2018.7 '!A:M,13,)","v":"Ambient"},{"$f":"VLOOKUP(B32,'[1]2018.7 '!A:N,14,)","v":"No"}]
[32,"18116903","18116903","AKTAPILOT CONNECTBLOCK V3","021","13","STD BIOPROCESS CHROM HW","250","Std AKTApilot",911,{"v":8207.199,"d":"8,207"},null,{"$f":"VLOOKUP(B33,'[1]2018.7 '!A:C,3,)","v":"Active"},{"$f":"VLOOKUP(B33,'[1]2018.7 '!A:M,13,)","v":"Ambient"},{"$f":"VLOOKUP(B33,'[1]2018.7 '!A:N,14,)","v":"No"}]
[33,"18116904","18116904","AKTAPILOT CONNECTBLOCK V4","021","13","STD BIOPROCESS CHROM HW","250","Std AKTApilot",{"v":941.0000000000001,"d":"941"},{"v":8477.469000000001,"d":"8,477"},null,{"$f":"VLOOKUP(B34,'[1]2018.7 '!A:C,3,)","v":"Active"},{"$f":"VLOOKUP(B34,'[1]2018.7 '!A:M,13,)","v":"Ambient"},{"$f":"VLOOKUP(B34,'[1]2018.7 '!A:N,14,)","v":"No"}]
[34,"18116905","18116905","AKTAPILOT CONNECTBLOCK V5","021","13","STD BIOPROCESS CHROM HW","250","Std AKTApilot",911,{"v":8207.199,"d":"8,207"},null,{"$f":"VLOOKUP(B35,'[1]2018.7 '!A:C,3,)","v":"Active"},{"$f":"VLOOKUP(B35,'[1]2018.7 '!A:M,13,)","v":"Ambient"},{"$f":"VLOOKUP(B35,'[1]2018.7 '!A:N,14,)","v":"No"}]
[35,"18116906","18116906","AKTAPILOT CONNECTBLOCK V6","021","13","STD BIOPROCESS CHROM HW","250","Std AKTApilot",911,{"v":8207.199,"d":"8,207"},null,{"$f":"VLOOKUP(B36,'[1]2018.7 '!A:C,3,)","v":"Active"},{"$f":"VLOOKUP(B36,'[1]2018.7 '!A:M,13,)","v":"Ambient"},{"$f":"VLOOKUP(B36,'[1]2018.7 '!A:N,14,)","v":"No"}]
[36,"18116907","18116907","AKTAPILOT CONNECTBLOCK V7","021","13","STD BIOPROCESS CHROM HW","250","Std AKTApilot",911,{"v":8207.199,"d":"8,207"},null,{"$f":"VLOOKUP(B37,'[1]2018.7 '!A:C,3,)","v":"Active"},{"$f":"VLOOKUP(B37,'[1]2018.7 '!A:M,13,)","v":"Ambient"},{"$f":"VLOOKUP(B37,'[1]2018.7 '!A:N,14,)","v":"No"}]
[37,"18116908","18116908","AKTAPILOT CONNECTBLOCK V8","021","13","STD BIOPROCESS CHROM HW","250","Std AKTApilot",911,{"v":8207.199,"d":"8,207"},null,{"$f":"VLOOKUP(B38,'[1]2018.7 '!A:C,3,)","v":"Active"},{"$f":"VLOOKUP(B38,'[1]2018.7 '!A:M,13,)","v":"Ambient"},{"$f":"VLOOKUP(B38,'[1]2018.7 '!A:N,14,)","v":"No"}]
[38,"18116909","18116909","AKTAPILOT CONNECTBLOCK V9","021","13","STD BIOPROCESS CHROM HW","250","Std AKTApilot",911,{"v":8207.199,"d":"8,207"},null,{"$f":"VLOOKUP(B39,'[1]2018.7 '!A:C,3,)","v":"Active"},{"$f":"VLOOKUP(B39,'[1]2018.7 '!A:M,13,)","v":"Ambient"},{"$f":"VLOOKUP(B39,'[1]2018.7 '!A:N,14,)","v":"No"}]
[39,"18116910","18116910","AKTAPILOT VALVE MEMBRANE CPL","021","13","STD BIOPROCESS CHROM HW","250","Std AKTApilot",280,{"v":2522.52,"d":"2,523"},null,{"$f":"VLOOKUP(B40,'[1]2018.7 '!A:C,3,)","v":"Active"},{"$f":"VLOOKUP(B40,'[1]2018.7 '!A:M,13,)","v":"Ambient"},{"$f":"VLOOKUP(B40,'[1]2018.7 '!A:N,14,)","v":"No"}]
[40,"18116911","18116911","DUMMY PH ELECTRODE AKTAPILOT","021","13","STD BIOPROCESS CHROM HW","250","Std AKTApilot",142,{"v":1279.278,"d":"1,279"},null,{"$f":"VLOOKUP(B41,'[1]2018.7 '!A:C,3,)","v":"Active"},{"$f":"VLOOKUP(B41,'[1]2018.7 '!A:M,13,)","v":"Ambient"},{"$f":"VLOOKUP(B41,'[1]2018.7 '!A:N,14,)","v":"No"}]
[41,"18116912","18116912","AKTAPILOT O-RING 3X1","021","13","STD BIOPROCESS CHROM HW","250","Std AKTApilot",786,{"v":7081.0740000000005,"d":"7,081"},null,{"$f":"VLOOKUP(B42,'[1]2018.7 '!A:C,3,)","v":"Active"},{"$f":"VLOOKUP(B42,'[1]2018.7 '!A:M,13,)","v":"Ambient"},{"$f":"VLOOKUP(B42,'[1]2018.7 '!A:N,14,)","v":"No"}]
[42,"18116918","18116918","CLAMP TC 25 AKTAPILOT","021","13","STD BIOPROCESS CHROM HW","250","Std AKTApilot",337,{"v":3036.033,"d":"3,036"},null,{"$f":"VLOOKUP(B43,'[1]2018.7 '!A:C,3,)","v":"Active"},{"$f":"VLOOKUP(B43,'[1]2018.7 '!A:M,13,)","v":"Ambient"},{"$f":"VLOOKUP(B43,'[1]2018.7 '!A:N,14,)","v":"No"}]
[43,"18116919","18116919","AKTAPILOT ELBOW 90 TC25 SHORT","021","13","STD BIOPROCESS CHROM HW","250","Std AKTApilot",181,{"v":1630.6290000000001,"d":"1,631"},null,{"$f":"VLOOKUP(B44,'[1]2018.7 '!A:C,3,)","v":"Active"},{"$f":"VLOOKUP(B44,'[1]2018.7 '!A:M,13,)","v":"Ambient"},{"$f":"VLOOKUP(B44,'[1]2018.7 '!A:N,14,)","v":"No"}]
[44,"18116920","18116920","AKTAPILOT ELBOW90 TC25OPE LONG","021","13","STD BIOPROCESS CHROM HW","250","Std AKTApilot",639,{"v":5756.751,"d":"5,757"},null,{"$f":"VLOOKUP(B45,'[1]2018.7 '!A:C,3,)","v":"Active"},{"$f":"VLOOKUP(B45,'[1]2018.7 '!A:M,13,)","v":"Ambient"},{"$f":"VLOOKUP(B45,'[1]2018.7 '!A:N,14,)","v":"No"}]
[45,"18116921","18116921","INLET TC CONNECT KIT AKTAPILOT","021","13","STD BIOPROCESS CHROM HW","250","Std AKTApilot",305,{"v":2747.745,"d":"2,748"},null,{"$f":"VLOOKUP(B46,'[1]2018.7 '!A:C,3,)","v":"Active"},{"$f":"VLOOKUP(B46,'[1]2018.7 '!A:M,13,)","v":"Ambient"},{"$f":"VLOOKUP(B46,'[1]2018.7 '!A:N,14,)","v":"No"}]
[46,"18116924","18116924","TC GASKET 25/4 AKTAPILOT","021","13","STD BIOPROCESS CHROM HW","250","Std AKTApilot",301,{"v":2711.7090000000003,"d":"2,712"},null,{"$f":"VLOOKUP(B47,'[1]2018.7 '!A:C,3,)","v":"Active"},{"$f":"VLOOKUP(B47,'[1]2018.7 '!A:M,13,)","v":"Ambient"},{"$f":"VLOOKUP(B47,'[1]2018.7 '!A:N,14,)","v":"No"}]
[47,"18116925","18116925","TC GASKET 25/6,5 AKTAPILOT","021","13","STD BIOPROCESS CHROM HW","250","Std AKTApilot",541,{"v":4873.869000000001,"d":"4,874"},null,{"$f":"VLOOKUP(B48,'[1]2018.7 '!A:C,3,)","v":"Active"},{"$f":"VLOOKUP(B48,'[1]2018.7 '!A:M,13,)","v":"Ambient"},{"$f":"VLOOKUP(B48,'[1]2018.7 '!A:N,14,)","v":"No"}]
[48,"18116958","18116958","AKTAPILOT AIR INLET FILTER","021","13","STD BIOPROCESS CHROM HW","250","Std AKTApilot",156,{"v":1405.404,"d":"1,405"},null,{"$f":"VLOOKUP(B49,'[1]2018.7 '!A:C,3,)","v":"Active"},{"$f":"VLOOKUP(B49,'[1]2018.7 '!A:M,13,)","v":"Ambient"},{"$f":"VLOOKUP(B49,'[1]2018.7 '!A:N,14,)","v":"No"}]
[49,"18116959","18116959","AKTAPILOT TUBE S1 CPL","021","13","STD BIOPROCESS CHROM HW","250","Std AKTApilot",196,{"v":1765.7640000000001,"d":"1,766"},null,{"$f":"VLOOKUP(B50,'[1]2018.7 '!A:C,3,)","v":"Active"},{"$f":"VLOOKUP(B50,'[1]2018.7 '!A:M,13,)","v":"Ambient"},{"$f":"VLOOKUP(B50,'[1]2018.7 '!A:N,14,)","v":"No"}]
[50,"18116966","18116966","AKTAPILOT TUBE S2 CPL","021","13","STD BIOPROCESS CHROM HW","250","Std AKTApilot",202,{"v":1819.818,"d":"1,820"},null,{"$f":"VLOOKUP(B51,'[1]2018.7 '!A:C,3,)","v":"Active"},{"$f":"VLOOKUP(B51,'[1]2018.7 '!A:M,13,)","v":"Ambient"},{"$f":"VLOOKUP(B51,'[1]2018.7 '!A:N,14,)","v":"No"}]
[51,"18116967","18116967","AKTAPILOT TUBE S3 CPL","021","13","STD BIOPROCESS CHROM HW","250","Std AKTApilot",207,{"v":1864.863,"d":"1,865"},null,{"$f":"VLOOKUP(B52,'[1]2018.7 '!A:C,3,)","v":"Active"},{"$f":"VLOOKUP(B52,'[1]2018.7 '!A:M,13,)","v":"Ambient"},{"$f":"VLOOKUP(B52,'[1]2018.7 '!A:N,14,)","v":"No"}]
[52,"18116968","18116968","AKTAPILOT TUBE S4 CPL","021","13","STD BIOPROCESS CHROM HW","250","Std AKTApilot",207,{"v":1864.863,"d":"1,865"},null,{"$f":"VLOOKUP(B53,'[1]2018.7 '!A:C,3,)","v":"Active"},{"$f":"VLOOKUP(B53,'[1]2018.7 '!A:M,13,)","v":"Ambient"},{"$f":"VLOOKUP(B53,'[1]2018.7 '!A:N,14,)","v":"No"}]
[53,"18116969","18116969","AKTAPILOT TUBE S5 CPL","021","13","STD BIOPROCESS CHROM HW","250","Std AKTApilot",207,{"v":1864.863,"d":"1,865"},null,{"$f":"VLOOKUP(B54,'[1]2018.7 '!A:C,3,)","v":"Active"},{"$f":"VLOOKUP(B54,'[1]2018.7 '!A:M,13,)","v":"Ambient"},{"$f":"VLOOKUP(B54,'[1]2018.7 '!A:N,14,)","v":"No"}]
[54,"18116970","18116970","AKTAPILOT TUBE S6 CPL","021","13","STD BIOPROCESS CHROM HW","250","Std AKTApilot",207,{"v":1864.863,"d":"1,865"},null,{"$f":"VLOOKUP(B55,'[1]2018.7 '!A:C,3,)","v":"Active"},{"$f":"VLOOKUP(B55,'[1]2018.7 '!A:M,13,)","v":"Ambient"},{"$f":"VLOOKUP(B55,'[1]2018.7 '!A:N,14,)","v":"No"}]
[55,"18116971","18116971","AKTAPILOT TUBE S7 CPL","021","13","STD BIOPROCESS CHROM HW","250","Std AKTApilot",{"v":240.99999999999997,"d":"241"},{"v":2171.169,"d":"2,171"},null,{"$f":"VLOOKUP(B56,'[1]2018.7 '!A:C,3,)","v":"Active"},{"$f":"VLOOKUP(B56,'[1]2018.7 '!A:M,13,)","v":"Ambient"},{"$f":"VLOOKUP(B56,'[1]2018.7 '!A:N,14,)","v":"No"}]
[56,"18116972","18116972","AKTAPILOT TUBE S10 CPL","021","13","STD BIOPROCESS CHROM HW","250","Std AKTApilot",202,{"v":1819.818,"d":"1,820"},null,{"$f":"VLOOKUP(B57,'[1]2018.7 '!A:C,3,)","v":"Active"},{"$f":"VLOOKUP(B57,'[1]2018.7 '!A:M,13,)","v":"Ambient"},{"$f":"VLOOKUP(B57,'[1]2018.7 '!A:N,14,)","v":"No"}]
[57,"18116973","18116973","AKTAPILOT TUBE S12 CPL","021","13","STD BIOPROCESS CHROM HW","250","Std AKTApilot",202,{"v":1819.818,"d":"1,820"},null,{"$f":"VLOOKUP(B58,'[1]2018.7 '!A:C,3,)","v":"Active"},{"$f":"VLOOKUP(B58,'[1]2018.7 '!A:M,13,)","v":"Ambient"},{"$f":"VLOOKUP(B58,'[1]2018.7 '!A:N,14,)","v":"No"}]
[58,"18116974","18116974","AKTAPILOT TUBE S13 CPL","021","13","STD BIOPROCESS CHROM HW","250","Std AKTApilot",214,{"v":1927.9260000000002,"d":"1,928"},null,{"$f":"VLOOKUP(B59,'[1]2018.7 '!A:C,3,)","v":"Active"},{"$f":"VLOOKUP(B59,'[1]2018.7 '!A:M,13,)","v":"Ambient"},{"$f":"VLOOKUP(B59,'[1]2018.7 '!A:N,14,)","v":"No"}]
[59,"18116975","18116975","AKTAPILOT TUBE S8 CPL","021","13","STD BIOPROCESS CHROM HW","250","Std AKTApilot",{"v":240.99999999999997,"d":"241"},{"v":2171.169,"d":"2,171"},null,{"$f":"VLOOKUP(B60,'[1]2018.7 '!A:C,3,)","v":"Active"},{"$f":"VLOOKUP(B60,'[1]2018.7 '!A:M,13,)","v":"Ambient"},{"$f":"VLOOKUP(B60,'[1]2018.7 '!A:N,14,)","v":"No"}]
[60,"18117008","18117008","CONNECTOR TC - 5/16 , SHORT","021","13","STD BIOPROCESS CHROM HW","250","Std AKTApilot",203,{"v":1828.827,"d":"1,829"},null,{"$f":"VLOOKUP(B61,'[1]2018.7 '!A:C,3,)","v":"Active"},{"$f":"VLOOKUP(B61,'[1]2018.7 '!A:M,13,)","v":"Ambient"},{"$f":"VLOOKUP(B61,'[1]2018.7 '!A:N,14,)","v":"No"}]
[61,"18117059","18117059","T CONNECTOR 5/16-24 AKTAPILOT","021","13","STD BIOPROCESS CHROM HW","250","Std AKTApilot",510,{"v":4594.59,"d":"4,595"},null,{"$f":"VLOOKUP(B62,'[1]2018.7 '!A:C,3,)","v":"Active"},{"$f":"VLOOKUP(B62,'[1]2018.7 '!A:M,13,)","v":"Ambient"},{"$f":"VLOOKUP(B62,'[1]2018.7 '!A:N,14,)","v":"No"}]
[62,"18117060","18117060","AKTAPILOT ELBOW 90 KIT","021","13","STD BIOPROCESS CHROM HW","250","Std AKTApilot",387,{"v":3486.483,"d":"3,486"},null,{"$f":"VLOOKUP(B63,'[1]2018.7 '!A:C,3,)","v":"Active"},{"$f":"VLOOKUP(B63,'[1]2018.7 '!A:M,13,)","v":"Ambient"},{"$f":"VLOOKUP(B63,'[1]2018.7 '!A:N,14,)","v":"No"}]
[63,"18117097","18117097","AIR TRAP CPL","021","13","STD BIOPROCESS CHROM HW","250","Std AKTApilot",{"v":2711,"d":"2,711"},{"v":24423.399,"d":"24,423"},null,{"$f":"VLOOKUP(B64,'[1]2018.7 '!A:C,3,)","v":"Active"},{"$f":"VLOOKUP(B64,'[1]2018.7 '!A:M,13,)","v":"Ambient"},{"$f":"VLOOKUP(B64,'[1]2018.7 '!A:N,14,)","v":"No"}]
[64,"18117101","18117101","AIR TRAP VENT TUBING","021","13","STD BIOPROCESS CHROM HW","250","Std AKTApilot",67,{"v":603.6030000000001,"d":"604"},null,{"$f":"VLOOKUP(B65,'[1]2018.7 '!A:C,3,)","v":"Active"},{"$f":"VLOOKUP(B65,'[1]2018.7 '!A:M,13,)","v":"Ambient"},{"$f":"VLOOKUP(B65,'[1]2018.7 '!A:N,14,)","v":"No"}]
[65,"18117102","18117102","CONNECTOR TC-G1/8","021","13","STD BIOPROCESS CHROM HW","250","Std AKTApilot",203,{"v":1828.827,"d":"1,829"},null,{"$f":"VLOOKUP(B66,'[1]2018.7 '!A:C,3,)","v":"Active"},{"$f":"VLOOKUP(B66,'[1]2018.7 '!A:M,13,)","v":"Ambient"},{"$f":"VLOOKUP(B66,'[1]2018.7 '!A:N,14,)","v":"No"}]
[66,"18117106","18117106","AKTAPILOT FILTERKIT SARTORIUS","021","13","STD BIOPROCESS CHROM HW","250","Std AKTApilot",{"$f":"K67/9.009","v":{"v":2769,"d":"2,769"}},{"v":24945.921000000002,"d":"24,946"},null,{"$f":"VLOOKUP(B67,'[1]2018.7 '!A:C,3,)","v":"Active"},{"$f":"VLOOKUP(B67,'[1]2018.7 '!A:M,13,)","v":"Ambient"},{"$f":"VLOOKUP(B67,'[1]2018.7 '!A:N,14,)","v":"No"}]
[67,"18460392","18460392","TUBING CUTTER","021","13","STD BIOPROCESS CHROM HW","250","Std AKTApilot",88,{"v":792.792,"d":"793"},null,{"$f":"VLOOKUP(B68,'[1]2018.7 '!A:C,3,)","v":"Obsolete"},{"$f":"VLOOKUP(B68,'[1]2018.7 '!A:M,13,)","v":{"$error":"#N/A"}},{"$f":"VLOOKUP(B68,'[1]2018.7 '!A:N,14,)","v":{"$error":"#N/A"}}]
[68,"18465201","18465201","TUBING CONNECTORS 2.7","021","13","STD BIOPROCESS CHROM HW","250","Std AKTApilot",126,{"v":1135.134,"d":"1,135"},null,{"$f":"VLOOKUP(B69,'[1]2018.7 '!A:C,3,)","v":"Active"},{"$f":"VLOOKUP(B69,'[1]2018.7 '!A:M,13,)","v":"Ambient"},{"$f":"VLOOKUP(B69,'[1]2018.7 '!A:N,14,)","v":"No"}]
[69,"18469901","18469901","GLASS CYLINDER","021","13","STD BIOPROCESS CHROM HW","250","Std AKTApilot",230,{"v":2072.07,"d":"2,072"},null,{"$f":"VLOOKUP(B70,'[1]2018.7 '!A:C,3,)","v":"Active"},{"$f":"VLOOKUP(B70,'[1]2018.7 '!A:M,13,)","v":"Ambient"},{"$f":"VLOOKUP(B70,'[1]2018.7 '!A:N,14,)","v":"No"}]
[70,"18580801","18580801","O-RING 11.3X2.4, KALREZ","021","13","STD BIOPROCESS CHROM HW","250","Std AKTApilot",{"v":244.99999999999997,"d":"245"},{"v":2207.205,"d":"2,207"},null,{"$f":"VLOOKUP(B71,'[1]2018.7 '!A:C,3,)","v":"Active"},{"$f":"VLOOKUP(B71,'[1]2018.7 '!A:M,13,)","v":"Ambient"},{"$f":"VLOOKUP(B71,'[1]2018.7 '!A:N,14,)","v":"Reviewing"}]
[71,"18820702","18820702","TUBING 1.9/2.7, PTFE 7X4 M","021","13","STD BIOPROCESS CHROM HW","250","Std AKTApilot",315,{"v":2837.835,"d":"2,838"},null,{"$f":"VLOOKUP(B72,'[1]2018.7 '!A:C,3,)","v":"Active"},{"$f":"VLOOKUP(B72,'[1]2018.7 '!A:M,13,)","v":"Ambient"},{"$f":"VLOOKUP(B72,'[1]2018.7 '!A:N,14,)","v":"No"}]
[72,"18820703","18820703","TUBING S-FLANGED I.D 1.9 MM X 1 M","021","13","STD BIOPROCESS CHROM HW","250","Std AKTApilot",56,{"v":504.504,"d":"505"},null,{"$f":"VLOOKUP(B73,'[1]2018.7 '!A:C,3,)","v":"Active"},{"$f":"VLOOKUP(B73,'[1]2018.7 '!A:M,13,)","v":"Ambient"},{"$f":"VLOOKUP(B73,'[1]2018.7 '!A:N,14,)","v":"Reviewing"}]
[73,"19437002","19437002","TUBING 1,2 1,8, ETFE, 10X5M","021","13","STD BIOPROCESS CHROM HW","250","Std AKTApilot",606,{"v":5459.454000000001,"d":"5,459"},null,{"$f":"VLOOKUP(B74,'[1]2018.7 '!A:C,3,)","v":"Active"},{"$f":"VLOOKUP(B74,'[1]2018.7 '!A:M,13,)","v":"Ambient"},{"$f":"VLOOKUP(B74,'[1]2018.7 '!A:N,14,)","v":"No"}]
[74,"19451002","19451002","INDUSTRIAL FLOW CELL 1/4in","021","13","STD BIOPROCESS CHROM HW","250","Std AKTApilot",{"v":1534,"d":"1,534"},{"v":13819.806,"d":"13,820"},null,{"$f":"VLOOKUP(B75,'[1]2018.7 '!A:C,3,)","v":"Sales Stop"},{"$f":"VLOOKUP(B75,'[1]2018.7 '!A:M,13,)","v":"Ambient"},{"$f":"VLOOKUP(B75,'[1]2018.7 '!A:N,14,)","v":"reviewing"}]
[75,"19938601","19938601","FUSE 3.15 A SB 5X20","021","13","STD BIOPROCESS CHROM HW","250","Std AKTApilot",35,{"v":315.315,"d":"315"},null,{"$f":"VLOOKUP(B76,'[1]2018.7 '!A:C,3,)","v":"Active"},{"$f":"VLOOKUP(B76,'[1]2018.7 '!A:M,13,)","v":"Ambient"},{"$f":"VLOOKUP(B76,'[1]2018.7 '!A:N,14,)","v":"Reviewing"}]
[76,"28400903","28400903","CIP MANIFOLD CPL","021","13","STD BIOPROCESS CHROM HW","250","Std AKTApilot",{"v":5426,"d":"5,426"},{"v":48882.834,"d":"48,883"},null,{"$f":"VLOOKUP(B77,'[1]2018.7 '!A:C,3,)","v":"Active"},{"$f":"VLOOKUP(B77,'[1]2018.7 '!A:M,13,)","v":"Ambient"},{"$f":"VLOOKUP(B77,'[1]2018.7 '!A:N,14,)","v":"No"}]
[77,"28407972","28407972","EVB RACK CPL","021","13","STD BIOPROCESS CHROM HW","250","Std AKTApilot",{"v":3633,"d":"3,633"},{"v":32729.697,"d":"32,730"},null,{"$f":"VLOOKUP(B78,'[1]2018.7 '!A:C,3,)","v":"Active"},{"$f":"VLOOKUP(B78,'[1]2018.7 '!A:M,13,)","v":"Ambient"},{"$f":"VLOOKUP(B78,'[1]2018.7 '!A:N,14,)","v":"No"}]
[78,"28407975","28407975","EVB 981","021","13","STD BIOPROCESS CHROM HW","250","Std AKTApilot",{"v":6531,"d":"6,531"},{"v":58837.779,"d":"58,838"},null,{"$f":"VLOOKUP(B79,'[1]2018.7 '!A:C,3,)","v":"Active"},{"$f":"VLOOKUP(B79,'[1]2018.7 '!A:M,13,)","v":"Ambient"},{"$f":"VLOOKUP(B79,'[1]2018.7 '!A:N,14,)","v":"No"}]
[79,"28407978","28407978","EVB 988","021","13","STD BIOPROCESS CHROM HW","250","Std AKTApilot",{"v":5314,"d":"5,314"},{"v":47873.826,"d":"47,874"},null,{"$f":"VLOOKUP(B80,'[1]2018.7 '!A:C,3,)","v":"Active"},{"$f":"VLOOKUP(B80,'[1]2018.7 '!A:M,13,)","v":"Ambient"},{"$f":"VLOOKUP(B80,'[1]2018.7 '!A:N,14,)","v":"No"}]
[80,"28903222","28903222","AKTAPILOT TUBE S14 CPL","021","13","STD BIOPROCESS CHROM HW","250","Std AKTApilot",310,{"v":2792.79,"d":"2,793"},null,{"$f":"VLOOKUP(B81,'[1]2018.7 '!A:C,3,)","v":"Active"},{"$f":"VLOOKUP(B81,'[1]2018.7 '!A:M,13,)","v":"Ambient"},{"$f":"VLOOKUP(B81,'[1]2018.7 '!A:N,14,)","v":"No"}]
[81,"28907058","28907058","Elektrodhus pH","021","13","STD BIOPROCESS CHROM HW","250","Std AKTApilot",{"v":488.99999999999994,"d":"489"},{"v":4405.401,"d":"4,405"},null,{"$f":"VLOOKUP(B82,'[1]2018.7 '!A:C,3,)","v":"Active"},{"$f":"VLOOKUP(B82,'[1]2018.7 '!A:M,13,)","v":"Ambient"},{"$f":"VLOOKUP(B82,'[1]2018.7 '!A:N,14,)","v":"Reviewing"}]
[82,"28989522","28989522","AKTApilot","021","13","STD BIOPROCESS CHROM HW","250","Std AKTApilot","询价","询价",null,{"$f":"VLOOKUP(B83,'[1]2018.7 '!A:C,3,)","v":"Active"},{"$f":"VLOOKUP(B83,'[1]2018.7 '!A:M,13,)","v":"Ambient"},{"$f":"VLOOKUP(B83,'[1]2018.7 '!A:N,14,)","v":"Reviewing"}]
[83,"28998515","28998515","AKTAPILOT W/CONTROL","021","13","STD BIOPROCESS CHROM HW","250","Std AKTApilot","询价","询价",null,{"$f":"VLOOKUP(B84,'[1]2018.7 '!A:C,3,)","v":"Active"},{"$f":"VLOOKUP(B84,'[1]2018.7 '!A:M,13,)","v":"Ambient"},{"$f":"VLOOKUP(B84,'[1]2018.7 '!A:N,14,)","v":"Reviewing"}]
[84,"28998554","28998554","AKTAPILOT ACCESSORY START KIT","021","13","STD BIOPROCESS CHROM HW","250","Std AKTApilot","询价","询价",null,{"$f":"VLOOKUP(B85,'[1]2018.7 '!A:C,3,)","v":"Active"},{"$f":"VLOOKUP(B85,'[1]2018.7 '!A:M,13,)","v":"Ambient"},{"$f":"VLOOKUP(B85,'[1]2018.7 '!A:N,14,)","v":"No"}]
[85,"28998916","28998916","NA-AKTApilot","021","13","STD BIOPROCESS CHROM HW","250","Std AKTApilot","询价","询价",null,{"$f":"VLOOKUP(B86,'[1]2018.7 '!A:C,3,)","v":"Active"},{"$f":"VLOOKUP(B86,'[1]2018.7 '!A:M,13,)","v":"Reviewing"},{"$f":"VLOOKUP(B86,'[1]2018.7 '!A:N,14,)","v":"Reviewing"}]
[86,"29013905","29013905","Rupture Disc Hanger AKTA Pilot","021","13","STD BIOPROCESS CHROM HW","250","Std AKTApilot",416,{"v":3747.744,"d":"3,748"},null,{"$f":"VLOOKUP(B87,'[1]2018.7 '!A:C,3,)","v":"Active"},{"$f":"VLOOKUP(B87,'[1]2018.7 '!A:M,13,)","v":"Ambient"},{"$f":"VLOOKUP(B87,'[1]2018.7 '!A:N,14,)","v":"Reviewing"}]
[87,"29031217","29031217","AKTAPILOT WETTED PARTS KIT","021","13","STD BIOPROCESS CHROM HW","250","Std AKTApilot",{"v":43891,"d":"43,891"},{"v":395414.01900000003,"d":"395,414"},null,{"$f":"VLOOKUP(B88,'[1]2018.7 '!A:C,3,)","v":"Active"},{"$f":"VLOOKUP(B88,'[1]2018.7 '!A:M,13,)","v":"Ambient"},{"$f":"VLOOKUP(B88,'[1]2018.7 '!A:N,14,)","v":"No"}]
[88,"29031719","29031719","Rent Akta Pilot w.Col Axich100","021","13","STD BIOPROCESS CHROM HW","250","Std AKTApilot","询价","询价",null,{"$f":"VLOOKUP(B89,'[1]2018.7 '!A:C,3,)","v":"Active"},{"$f":"VLOOKUP(B89,'[1]2018.7 '!A:M,13,)","v":"Ambient"},{"$f":"VLOOKUP(B89,'[1]2018.7 '!A:N,14,)","v":"Reviewing"}]
[89,"72XX0336","29109360","PC RACK","021","13","STD BIOPROCESS CHROM HW","250","Std AKTApilot","询价","询价",null,{"$f":"VLOOKUP(B90,'[1]2018.7 '!A:C,3,)","v":"Active"},{"$f":"VLOOKUP(B90,'[1]2018.7 '!A:M,13,)","v":"Ambient"},{"$f":"VLOOKUP(B90,'[1]2018.7 '!A:N,14,)","v":"Reviewing"}]
[90,"80590250","80590250","Domestic Std ChrSys Apilot","021","13","STD BIOPROCESS CHROM HW","250","Std AKTApilot","询价","询价",null,{"$f":"VLOOKUP(B91,'[1]2018.7 '!A:C,3,)","v":"Active"},{"$f":"VLOOKUP(B91,'[1]2018.7 '!A:M,13,)","v":"Dry Ice"},{"$f":"VLOOKUP(B91,'[1]2018.7 '!A:N,14,)","v":"Reviewing"}]
[91,"18000542","18000542","Tubing L=300mm, TC25mm, ID 1/4\"","021","13","STD BIOPROCESS CHROM HW","254","Std BPG",323,{"v":2909.907,"d":"2,910"},null,{"$f":"VLOOKUP(B92,'[1]2018.7 '!A:C,3,)","v":"Active"},{"$f":"VLOOKUP(B92,'[1]2018.7 '!A:M,13,)","v":"Ambient"},{"$f":"VLOOKUP(B92,'[1]2018.7 '!A:N,14,)","v":"No"}]
[92,"18000543","18000543","Tubing L=750mm, TC25mm, ID 1/4\"","021","13","STD BIOPROCESS CHROM HW","254","Std BPG",342,{"v":3081.078,"d":"3,081"},null,{"$f":"VLOOKUP(B93,'[1]2018.7 '!A:C,3,)","v":"Active"},{"$f":"VLOOKUP(B93,'[1]2018.7 '!A:M,13,)","v":"Ambient"},{"$f":"VLOOKUP(B93,'[1]2018.7 '!A:N,14,)","v":"No"}]
[93,"18000544","18000544","Tubing L=1250mm, TC25mm, ID 1/4\"","021","13","STD BIOPROCESS CHROM HW","254","Std BPG",349,{"v":3144.141,"d":"3,144"},null,{"$f":"VLOOKUP(B94,'[1]2018.7 '!A:C,3,)","v":"Active"},{"$f":"VLOOKUP(B94,'[1]2018.7 '!A:M,13,)","v":"Ambient"},{"$f":"VLOOKUP(B94,'[1]2018.7 '!A:N,14,)","v":"No"}]
[94,"18000545","18000545","Tubing L=1500mm, TC25mm, ID 1/4\"","021","13","STD BIOPROCESS CHROM HW","254","Std BPG",359,{"v":3234.231,"d":"3,234"},null,{"$f":"VLOOKUP(B95,'[1]2018.7 '!A:C,3,)","v":"Active"},{"$f":"VLOOKUP(B95,'[1]2018.7 '!A:M,13,)","v":"Ambient"},{"$f":"VLOOKUP(B95,'[1]2018.7 '!A:N,14,)","v":"No"}]
[95,"18000547","18000547","Tubing L=2000mm, TC25mm, ID 1/4\"","021","13","STD BIOPROCESS CHROM HW","254","Std BPG",406,{"v":3657.654,"d":"3,658"},null,{"$f":"VLOOKUP(B96,'[1]2018.7 '!A:C,3,)","v":"Active"},{"$f":"VLOOKUP(B96,'[1]2018.7 '!A:M,13,)","v":"Ambient"},{"$f":"VLOOKUP(B96,'[1]2018.7 '!A:N,14,)","v":"No"}]
[96,"18001959","18001959","Air Trap BPG 100/200","021","13","STD BIOPROCESS CHROM HW","254","Std BPG",{"v":3323,"d":"3,323"},{"v":29936.907000000003,"d":"29,937"},null,{"$f":"VLOOKUP(B97,'[1]2018.7 '!A:C,3,)","v":"Active"},{"$f":"VLOOKUP(B97,'[1]2018.7 '!A:M,13,)","v":"Ambient"},{"$f":"VLOOKUP(B97,'[1]2018.7 '!A:N,14,)","v":"No"}]
[97,"18020000","18020000","TC-Gasket 25mm ID 12mm EPDM","021","13","STD BIOPROCESS CHROM HW","254","Std BPG",29,{"v":261.261,"d":"261"},null,{"$f":"VLOOKUP(B98,'[1]2018.7 '!A:C,3,)","v":"Active"},{"$f":"VLOOKUP(B98,'[1]2018.7 '!A:M,13,)","v":"Ambient"},{"$f":"VLOOKUP(B98,'[1]2018.7 '!A:N,14,)","v":"No"}]
[98,"18025137","18025137","TORQUE WRENCH BPG COL. 2-20Nm","021","13","STD BIOPROCESS CHROM HW","254","Std BPG",362,{"v":3261.2580000000003,"d":"3,261"},null,{"$f":"VLOOKUP(B99,'[1]2018.7 '!A:C,3,)","v":"Active"},{"$f":"VLOOKUP(B99,'[1]2018.7 '!A:M,13,)","v":"Ambient"},{"$f":"VLOOKUP(B99,'[1]2018.7 '!A:N,14,)","v":"No"}]
[99,"18025198","18025198","Connector TC25mm Clamp-1/4in Threaded","021","13","STD BIOPROCESS CHROM HW","254","Std BPG",192,{"v":1729.728,"d":"1,730"},null,{"$f":"VLOOKUP(B100,'[1]2018.7 '!A:C,3,)","v":"Active"},{"$f":"VLOOKUP(B100,'[1]2018.7 '!A:M,13,)","v":"Ambient"},{"$f":"VLOOKUP(B100,'[1]2018.7 '!A:N,14,)","v":"No"}]
[100,"18100002","18100002","INNER ADJUSTING TUBE","021","13","STD BIOPROCESS CHROM HW","254","Std BPG",82,{"v":738.738,"d":"739"},null,{"$f":"VLOOKUP(B101,'[1]2018.7 '!A:C,3,)","v":"Active"},{"$f":"VLOOKUP(B101,'[1]2018.7 '!A:M,13,)","v":"Ambient"},{"$f":"VLOOKUP(B101,'[1]2018.7 '!A:N,14,)","v":"No"}]
[101,"18100004","18100004","ADJUSTING INNER ROD","021","13","STD BIOPROCESS CHROM HW","254","Std BPG",85,{"v":765.765,"d":"766"},null,{"$f":"VLOOKUP(B102,'[1]2018.7 '!A:C,3,)","v":"Active"},{"$f":"VLOOKUP(B102,'[1]2018.7 '!A:M,13,)","v":"Ambient"},{"$f":"VLOOKUP(B102,'[1]2018.7 '!A:N,14,)","v":"No"}]
[102,"18100069","18100069","NET RING","021","13","STD BIOPROCESS CHROM HW","254","Std BPG",94,{"v":846.846,"d":"847"},null,{"$f":"VLOOKUP(B103,'[1]2018.7 '!A:C,3,)","v":"Active"},{"$f":"VLOOKUP(B103,'[1]2018.7 '!A:M,13,)","v":"Ambient"},{"$f":"VLOOKUP(B103,'[1]2018.7 '!A:N,14,)","v":"No"}]
[103,"18100125","18100125","Blind Flange Incl. TC-Gasket 25mm","021","13","STD BIOPROCESS CHROM HW","254","Std BPG",74,{"v":666.666,"d":"667"},null,{"$f":"VLOOKUP(B104,'[1]2018.7 '!A:C,3,)","v":"Active"},{"$f":"VLOOKUP(B104,'[1]2018.7 '!A:M,13,)","v":"Ambient"},{"$f":"VLOOKUP(B104,'[1]2018.7 '!A:N,14,)","v":"No"}]
[104,"18100363","18100363","T-Junction TC25/TC50mm ID 10mm","021","13","STD BIOPROCESS CHROM HW","254","Std BPG",456,{"v":4108.104,"d":"4,108"},null,{"$f":"VLOOKUP(B105,'[1]2018.7 '!A:C,3,)","v":"Active"},{"$f":"VLOOKUP(B105,'[1]2018.7 '!A:M,13,)","v":"Ambient"},{"$f":"VLOOKUP(B105,'[1]2018.7 '!A:N,14,)","v":"No"}]
[105,"18101257","18101257","VALVE 4-PORT,4-WAY,ID 10MM","021","13","STD BIOPROCESS CHROM HW","254","Std BPG",{"v":2016,"d":"2,016"},{"v":18162.144,"d":"18,162"},null,{"$f":"VLOOKUP(B106,'[1]2018.7 '!A:C,3,)","v":"Active"},{"$f":"VLOOKUP(B106,'[1]2018.7 '!A:M,13,)","v":"Ambient"},{"$f":"VLOOKUP(B106,'[1]2018.7 '!A:N,14,)","v":"No"}]
[106,"18101262","18101262","Tubing L=900 MM, TC25mm, ID 3/8\"","021","13","STD BIOPROCESS CHROM HW","254","Std BPG",339,{"v":3054.051,"d":"3,054"},null,{"$f":"VLOOKUP(B107,'[1]2018.7 '!A:C,3,)","v":"Active"},{"$f":"VLOOKUP(B107,'[1]2018.7 '!A:M,13,)","v":"Ambient"},{"$f":"VLOOKUP(B107,'[1]2018.7 '!A:N,14,)","v":"No"}]
[107,"18101263","18101263","Tubing L=1400mm, TC25mm, ID 3/8\"","021","13","STD BIOPROCESS CHROM HW","254","Std BPG",353,{"v":3180.177,"d":"3,180"},null,{"$f":"VLOOKUP(B108,'[1]2018.7 '!A:C,3,)","v":"Active"},{"$f":"VLOOKUP(B108,'[1]2018.7 '!A:M,13,)","v":"Ambient"},{"$f":"VLOOKUP(B108,'[1]2018.7 '!A:N,14,)","v":"No"}]
[108,"18101264","18101264","Tubing L=1700mm, TC25mm, ID 3/8\"","021","13","STD BIOPROCESS CHROM HW","254","Std BPG",382,{"v":3441.438,"d":"3,441"},null,{"$f":"VLOOKUP(B109,'[1]2018.7 '!A:C,3,)","v":"Active"},{"$f":"VLOOKUP(B109,'[1]2018.7 '!A:M,13,)","v":"Ambient"},{"$f":"VLOOKUP(B109,'[1]2018.7 '!A:N,14,)","v":"No"}]
[109,"18101267","18101267","Connector TC25mm Clamp-6mm 1/2in Th","021","13","STD BIOPROCESS CHROM HW","254","Std BPG",165,{"v":1486.4850000000001,"d":"1,486"},null,{"$f":"VLOOKUP(B110,'[1]2018.7 '!A:C,3,)","v":"Active"},{"$f":"VLOOKUP(B110,'[1]2018.7 '!A:M,13,)","v":"Ambient"},{"$f":"VLOOKUP(B110,'[1]2018.7 '!A:N,14,)","v":"No"}]
[110,"18101268","18101268","Connector TC25mm Clamp-10mm 1/2in Th","021","13","STD BIOPROCESS CHROM HW","254","Std BPG",354,{"v":3189.186,"d":"3,189"},null,{"$f":"VLOOKUP(B111,'[1]2018.7 '!A:C,3,)","v":"Active"},{"$f":"VLOOKUP(B111,'[1]2018.7 '!A:M,13,)","v":"Ambient"},{"$f":"VLOOKUP(B111,'[1]2018.7 '!A:N,14,)","v":"No"}]
[111,"18101269","18101269","Connector TC25mm Clamp/ TC51mm","021","13","STD BIOPROCESS CHROM HW","254","Std BPG",302,{"v":2720.7180000000003,"d":"2,721"},null,{"$f":"VLOOKUP(B112,'[1]2018.7 '!A:C,3,)","v":"Active"},{"$f":"VLOOKUP(B112,'[1]2018.7 '!A:M,13,)","v":"Ambient"},{"$f":"VLOOKUP(B112,'[1]2018.7 '!A:N,14,)","v":"No"}]
[112,"18101285","18101285","Tubing L=300mm, TC25mm, ID 3/8\"","021","13","STD BIOPROCESS CHROM HW","254","Std BPG",320,{"v":2882.88,"d":"2,883"},null,{"$f":"VLOOKUP(B113,'[1]2018.7 '!A:C,3,)","v":"Active"},{"$f":"VLOOKUP(B113,'[1]2018.7 '!A:M,13,)","v":"Ambient"},{"$f":"VLOOKUP(B113,'[1]2018.7 '!A:N,14,)","v":"No"}]
[113,"18101286","18101286","Tubing L=400mm, TC25mm,  ID 3/8\"","021","13","STD BIOPROCESS CHROM HW","254","Std BPG",329,{"v":2963.9610000000002,"d":"2,964"},null,{"$f":"VLOOKUP(B114,'[1]2018.7 '!A:C,3,)","v":"Active"},{"$f":"VLOOKUP(B114,'[1]2018.7 '!A:M,13,)","v":"Ambient"},{"$f":"VLOOKUP(B114,'[1]2018.7 '!A:N,14,)","v":"No"}]
[114,"18101287","18101287","Tubing L=2000mm, TC25mm, ID 3/8\"","021","13","STD BIOPROCESS CHROM HW","254","Std BPG",436,{"v":3927.924,"d":"3,928"},null,{"$f":"VLOOKUP(B115,'[1]2018.7 '!A:C,3,)","v":"Active"},{"$f":"VLOOKUP(B115,'[1]2018.7 '!A:M,13,)","v":"Ambient"},{"$f":"VLOOKUP(B115,'[1]2018.7 '!A:N,14,)","v":"No"}]
[115,"18101288","18101288","TC-Gasket 50mm ID 35mm EPDM","021","13","STD BIOPROCESS CHROM HW","254","Std BPG",151,{"v":1360.3590000000002,"d":"1,360"},null,{"$f":"VLOOKUP(B116,'[1]2018.7 '!A:C,3,)","v":"Active"},{"$f":"VLOOKUP(B116,'[1]2018.7 '!A:M,13,)","v":"Ambient"},{"$f":"VLOOKUP(B116,'[1]2018.7 '!A:N,14,)","v":"No"}]
[116,"18102725","18102725","Connector TC25 ID10/TC51 ID14","021","13","STD BIOPROCESS CHROM HW","254","Std BPG",330,{"v":2972.9700000000003,"d":"2,973"},null,{"$f":"VLOOKUP(B117,'[1]2018.7 '!A:C,3,)","v":"Active"},{"$f":"VLOOKUP(B117,'[1]2018.7 '!A:M,13,)","v":"Ambient"},{"$f":"VLOOKUP(B117,'[1]2018.7 '!A:N,14,)","v":"No"}]
[117,"18102726","18102726","Connector TC50 ID14 / TC50 ID22","021","13","STD BIOPROCESS CHROM HW","254","Std BPG",359,{"v":3234.231,"d":"3,234"},null,{"$f":"VLOOKUP(B118,'[1]2018.7 '!A:C,3,)","v":"Active"},{"$f":"VLOOKUP(B118,'[1]2018.7 '!A:M,13,)","v":"Ambient"},{"$f":"VLOOKUP(B118,'[1]2018.7 '!A:N,14,)","v":"Reviewing"}]
[118,"18102728","18102728","Tubing L=750mm, TC25mm, ID 1/2\"","021","13","STD BIOPROCESS CHROM HW","254","Std BPG",356,{"v":3207.204,"d":"3,207"},null,{"$f":"VLOOKUP(B119,'[1]2018.7 '!A:C,3,)","v":"Active"},{"$f":"VLOOKUP(B119,'[1]2018.7 '!A:M,13,)","v":"Ambient"},{"$f":"VLOOKUP(B119,'[1]2018.7 '!A:N,14,)","v":"No"}]
[119,"18102729","18102729","Tubing L=1800mm, TC25mm, ID 1/2\"","021","13","STD BIOPROCESS CHROM HW","254","Std BPG",443,{"v":3990.987,"d":"3,991"},null,{"$f":"VLOOKUP(B120,'[1]2018.7 '!A:C,3,)","v":"Active"},{"$f":"VLOOKUP(B120,'[1]2018.7 '!A:M,13,)","v":"Ambient"},{"$f":"VLOOKUP(B120,'[1]2018.7 '!A:N,14,)","v":"No"}]
[120,"18103098","18103098","ALLEN KEY BPG","021","13","STD BIOPROCESS CHROM HW","254","Std BPG",{"v":29.999999999999996,"d":"30"},{"v":270.27,"d":"270"},null,{"$f":"VLOOKUP(B121,'[1]2018.7 '!A:C,3,)","v":"Active"},{"$f":"VLOOKUP(B121,'[1]2018.7 '!A:M,13,)","v":"Ambient"},{"$f":"VLOOKUP(B121,'[1]2018.7 '!A:N,14,)","v":"No"}]
[121,"18103103","18103103","12-POINT OPENING SOCKET BPG 100","021","13","STD BIOPROCESS CHROM HW","254","Std BPG",68,{"v":612.6120000000001,"d":"613"},null,{"$f":"VLOOKUP(B122,'[1]2018.7 '!A:C,3,)","v":"Active"},{"$f":"VLOOKUP(B122,'[1]2018.7 '!A:M,13,)","v":"Ambient"},{"$f":"VLOOKUP(B122,'[1]2018.7 '!A:N,14,)","v":"No"}]
[122,"18103104","18103104","12-POINT OPENING SOCKET BPG","021","13","STD BIOPROCESS CHROM HW","254","Std BPG",{"v":60.99999999999999,"d":"61"},{"v":549.549,"d":"550"},null,{"$f":"VLOOKUP(B123,'[1]2018.7 '!A:C,3,)","v":"Active"},{"$f":"VLOOKUP(B123,'[1]2018.7 '!A:M,13,)","v":"Ambient"},{"$f":"VLOOKUP(B123,'[1]2018.7 '!A:N,14,)","v":"No"}]
[123,"18103105","18103105","12-POINT OPENING SOCKET BPG 300","021","13","STD BIOPROCESS CHROM HW","254","Std BPG",68,{"v":612.6120000000001,"d":"613"},null,{"$f":"VLOOKUP(B124,'[1]2018.7 '!A:C,3,)","v":"Active"},{"$f":"VLOOKUP(B124,'[1]2018.7 '!A:M,13,)","v":"Ambient"},{"$f":"VLOOKUP(B124,'[1]2018.7 '!A:N,14,)","v":"No"}]
[124,"18103107","18103107","Manometer Kit 0-10 Bar","021","13","STD BIOPROCESS CHROM HW","254","Std BPG",{"v":2904,"d":"2,904"},{"v":26162.136000000002,"d":"26,162"},null,{"$f":"VLOOKUP(B125,'[1]2018.7 '!A:C,3,)","v":"Active"},{"$f":"VLOOKUP(B125,'[1]2018.7 '!A:M,13,)","v":"Ambient"},{"$f":"VLOOKUP(B125,'[1]2018.7 '!A:N,14,)","v":"No"}]
[125,"18103109","18103109","Connector TC25mm Clamp-M6","021","13","STD BIOPROCESS CHROM HW","254","Std BPG",111,{"v":999.999,"d":"1,000"},null,{"$f":"VLOOKUP(B126,'[1]2018.7 '!A:C,3,)","v":"Active"},{"$f":"VLOOKUP(B126,'[1]2018.7 '!A:M,13,)","v":"Ambient"},{"$f":"VLOOKUP(B126,'[1]2018.7 '!A:N,14,)","v":"No"}]
[126,"18103110","18103110","Column Stand 100 Columns","021","13","STD BIOPROCESS CHROM HW","254","Std BPG",{"v":1071,"d":"1,071"},{"v":9648.639000000001,"d":"9,649"},null,{"$f":"VLOOKUP(B127,'[1]2018.7 '!A:C,3,)","v":"Active"},{"$f":"VLOOKUP(B127,'[1]2018.7 '!A:M,13,)","v":"Ambient"},{"$f":"VLOOKUP(B127,'[1]2018.7 '!A:N,14,)","v":"No"}]
[127,"18103120","18103120","Column Stand 140/200 Columns","021","13","STD BIOPROCESS CHROM HW","254","Std BPG",{"v":2109,"d":"2,109"},{"v":18999.981,"d":"19,000"},null,{"$f":"VLOOKUP(B128,'[1]2018.7 '!A:C,3,)","v":"Active"},{"$f":"VLOOKUP(B128,'[1]2018.7 '!A:M,13,)","v":"Ambient"},{"$f":"VLOOKUP(B128,'[1]2018.7 '!A:N,14,)","v":"No"}]
[128,"18103579","18103579","TC-Gasket 25mm ID 10.5mm EPDM","021","13","STD BIOPROCESS CHROM HW","254","Std BPG",{"v":29.999999999999996,"d":"30"},{"v":270.27,"d":"270"},null,{"$f":"VLOOKUP(B129,'[1]2018.7 '!A:C,3,)","v":"Active"},{"$f":"VLOOKUP(B129,'[1]2018.7 '!A:M,13,)","v":"Ambient"},{"$f":"VLOOKUP(B129,'[1]2018.7 '!A:N,14,)","v":"No"}]
[129,"18103580","18103580","Safety Valve 8.0 Bar","021","13","STD BIOPROCESS CHROM HW","254","Std BPG",{"v":3099,"d":"3,099"},{"v":27918.891,"d":"27,919"},null,{"$f":"VLOOKUP(B130,'[1]2018.7 '!A:C,3,)","v":"Active"},{"$f":"VLOOKUP(B130,'[1]2018.7 '!A:M,13,)","v":"Ambient"},{"$f":"VLOOKUP(B130,'[1]2018.7 '!A:N,14,)","v":"No"}]
[130,"18103581","18103581","Safety Valve 6.0 Bar","021","13","STD BIOPROCESS CHROM HW","254","Std BPG",{"$f":"K131/9.009","v":{"v":3099,"d":"3,099"}},{"v":27918.891,"d":"27,919"},null,{"$f":"VLOOKUP(B131,'[1]2018.7 '!A:C,3,)","v":"Active"},{"$f":"VLOOKUP(B131,'[1]2018.7 '!A:M,13,)","v":"Ambient"},{"$f":"VLOOKUP(B131,'[1]2018.7 '!A:N,14,)","v":"No"}]
[131,"18103582","18103582","Safety Valve 4.0 Bar","021","13","STD BIOPROCESS CHROM HW","254","Std BPG",{"v":2946,"d":"2,946"},{"v":26540.514,"d":"26,541"},null,{"$f":"VLOOKUP(B132,'[1]2018.7 '!A:C,3,)","v":"Active"},{"$f":"VLOOKUP(B132,'[1]2018.7 '!A:M,13,)","v":"Ambient"},{"$f":"VLOOKUP(B132,'[1]2018.7 '!A:N,14,)","v":"No"}]
[132,"18106031","18106031","COLUMN AIR TRAP USER MANUAL","021","13","STD BIOPROCESS CHROM HW","254","Std BPG",54,{"v":486.486,"d":"486"},null,{"$f":"VLOOKUP(B133,'[1]2018.7 '!A:C,3,)","v":"Active"},{"$f":"VLOOKUP(B133,'[1]2018.7 '!A:M,13,)","v":"Ambient"},{"$f":"VLOOKUP(B133,'[1]2018.7 '!A:N,14,)","v":"Reviewing"}]
[133,"18110296","18110296","Air Trap Complete BPG & INdEX 100","021","13","STD BIOPROCESS CHROM HW","254","Std BPG",{"v":7793,"d":"7,793"},{"v":70207.137,"d":"70,207"},null,{"$f":"VLOOKUP(B134,'[1]2018.7 '!A:C,3,)","v":"Active"},{"$f":"VLOOKUP(B134,'[1]2018.7 '!A:M,13,)","v":"Ambient"},{"$f":"VLOOKUP(B134,'[1]2018.7 '!A:N,14,)","v":"No"}]
[134,"18110297","18110297","Air Trap Complete BPG & INdEX 200","021","13","STD BIOPROCESS CHROM HW","254","Std BPG",{"v":8331,"d":"8,331"},{"v":75053.979,"d":"75,054"},null,{"$f":"VLOOKUP(B135,'[1]2018.7 '!A:C,3,)","v":"Active"},{"$f":"VLOOKUP(B135,'[1]2018.7 '!A:M,13,)","v":"Ambient"},{"$f":"VLOOKUP(B135,'[1]2018.7 '!A:N,14,)","v":"No"}]
[135,"18110298","18110298","Air Trap Complete BPG 300","021","13","STD BIOPROCESS CHROM HW","254","Std BPG",{"v":9186,"d":"9,186"},{"v":82756.674,"d":"82,757"},null,{"$f":"VLOOKUP(B136,'[1]2018.7 '!A:C,3,)","v":"Active"},{"$f":"VLOOKUP(B136,'[1]2018.7 '!A:M,13,)","v":"Ambient"},{"$f":"VLOOKUP(B136,'[1]2018.7 '!A:N,14,)","v":"No"}]
[136,"18110300","18110300","Air Trap Complete BPG 450","021","13","STD BIOPROCESS CHROM HW","254","Std BPG",{"v":10052,"d":"10,052"},{"v":90558.46800000001,"d":"90,558"},null,{"$f":"VLOOKUP(B137,'[1]2018.7 '!A:C,3,)","v":"Active"},{"$f":"VLOOKUP(B137,'[1]2018.7 '!A:M,13,)","v":"Ambient"},{"$f":"VLOOKUP(B137,'[1]2018.7 '!A:N,14,)","v":"No"}]
[137,"18110301","18110301","BPG 100/500","021","13","STD BIOPROCESS CHROM HW","254","Std BPG",{"v":6524,"d":"6,524"},{"v":58774.716,"d":"58,775"},null,{"$f":"VLOOKUP(B138,'[1]2018.7 '!A:C,3,)","v":"Active"},{"$f":"VLOOKUP(B138,'[1]2018.7 '!A:M,13,)","v":"Ambient"},{"$f":"VLOOKUP(B138,'[1]2018.7 '!A:N,14,)","v":"No"}]
[138,"18110302","18110302","BPG 100/750","021","13","STD BIOPROCESS CHROM HW","254","Std BPG",{"v":7320,"d":"7,320"},{"v":65945.88,"d":"65,946"},null,{"$f":"VLOOKUP(B139,'[1]2018.7 '!A:C,3,)","v":"Active"},{"$f":"VLOOKUP(B139,'[1]2018.7 '!A:M,13,)","v":"Ambient"},{"$f":"VLOOKUP(B139,'[1]2018.7 '!A:N,14,)","v":"No"}]
[139,"18110303","18110303","BPG 100/950","021","13","STD BIOPROCESS CHROM HW","254","Std BPG",{"v":7797.000000000001,"d":"7,797"},{"v":70243.17300000001,"d":"70,243"},null,{"$f":"VLOOKUP(B140,'[1]2018.7 '!A:C,3,)","v":"Active"},{"$f":"VLOOKUP(B140,'[1]2018.7 '!A:M,13,)","v":"Ambient"},{"$f":"VLOOKUP(B140,'[1]2018.7 '!A:N,14,)","v":"No"}]
[140,"18110311","18110311","BPG 200/500","021","13","STD BIOPROCESS CHROM HW","254","Std BPG",{"v":10555,"d":"10,555"},{"v":95089.99500000001,"d":"95,090"},null,{"$f":"VLOOKUP(B141,'[1]2018.7 '!A:C,3,)","v":"Active"},{"$f":"VLOOKUP(B141,'[1]2018.7 '!A:M,13,)","v":"Ambient"},{"$f":"VLOOKUP(B141,'[1]2018.7 '!A:N,14,)","v":"No"}]
[141,"18110312","18110312","BPG 200/750","021","13","STD BIOPROCESS CHROM HW","254","Std BPG",{"v":12730,"d":"12,730"},{"v":114684.57,"d":"114,685"},null,{"$f":"VLOOKUP(B142,'[1]2018.7 '!A:C,3,)","v":"Active"},{"$f":"VLOOKUP(B142,'[1]2018.7 '!A:M,13,)","v":"Ambient"},{"$f":"VLOOKUP(B142,'[1]2018.7 '!A:N,14,)","v":"No"}]
[142,"18110313","18110313","BPG 200/950","021","13","STD BIOPROCESS CHROM HW","254","Std BPG",{"v":13684,"d":"13,684"},{"v":123279.156,"d":"123,279"},null,{"$f":"VLOOKUP(B143,'[1]2018.7 '!A:C,3,)","v":"Active"},{"$f":"VLOOKUP(B143,'[1]2018.7 '!A:M,13,)","v":"Ambient"},{"$f":"VLOOKUP(B143,'[1]2018.7 '!A:N,14,)","v":"No"}]
[143,"18110321","18110321","BPG 300/500","021","13","STD BIOPROCESS CHROM HW","254","Std BPG",{"v":22277,"d":"22,277"},{"v":200693.49300000002,"d":"200,693"},null,{"$f":"VLOOKUP(B144,'[1]2018.7 '!A:C,3,)","v":"Active"},{"$f":"VLOOKUP(B144,'[1]2018.7 '!A:M,13,)","v":"Ambient"},{"$f":"VLOOKUP(B144,'[1]2018.7 '!A:N,14,)","v":"No"}]
[144,"18110322","18110322","BPG 300/750","021","13","STD BIOPROCESS CHROM HW","254","Std BPG",{"v":25459,"d":"25,459"},{"v":229360.13100000002,"d":"229,360"},null,{"$f":"VLOOKUP(B145,'[1]2018.7 '!A:C,3,)","v":"Active"},{"$f":"VLOOKUP(B145,'[1]2018.7 '!A:M,13,)","v":"Ambient"},{"$f":"VLOOKUP(B145,'[1]2018.7 '!A:N,14,)","v":"No"}]
[145,"18110323","18110323","BPG 300/950","021","13","STD BIOPROCESS CHROM HW","254","Std BPG",{"v":27369,"d":"27,369"},{"v":246567.321,"d":"246,567"},null,{"$f":"VLOOKUP(B146,'[1]2018.7 '!A:C,3,)","v":"Active"},{"$f":"VLOOKUP(B146,'[1]2018.7 '!A:M,13,)","v":"Ambient"},{"$f":"VLOOKUP(B146,'[1]2018.7 '!A:N,14,)","v":"No"}]
[146,"18110361","18110361","STAND INDEX 140, 200","021","13","STD BIOPROCESS CHROM HW","234","Std Other",{"v":1030,"d":"1,030"},{"v":9279.27,"d":"9,279"},null,{"$f":"VLOOKUP(B147,'[1]2018.7 '!A:C,3,)","v":"Active"},{"$f":"VLOOKUP(B147,'[1]2018.7 '!A:M,13,)","v":"Ambient"},{"$f":"VLOOKUP(B147,'[1]2018.7 '!A:N,14,)","v":"No"}]
[147,"18110365","18110365","Safety Valve 2.5 Bar","021","13","STD BIOPROCESS CHROM HW","254","Std BPG",{"v":2722,"d":"2,722"},{"v":24522.498,"d":"24,522"},null,{"$f":"VLOOKUP(B148,'[1]2018.7 '!A:C,3,)","v":"Active"},{"$f":"VLOOKUP(B148,'[1]2018.7 '!A:M,13,)","v":"Ambient"},{"$f":"VLOOKUP(B148,'[1]2018.7 '!A:N,14,)","v":"No"}]
[148,"18110371","18110371","BPG 450/500","021","13","STD BIOPROCESS CHROM HW","254","Std BPG",{"v":54101,"d":"54,101"},{"v":487395.90900000004,"d":"487,396"},null,{"$f":"VLOOKUP(B149,'[1]2018.7 '!A:C,3,)","v":"Active"},{"$f":"VLOOKUP(B149,'[1]2018.7 '!A:M,13,)","v":"Ambient"},{"$f":"VLOOKUP(B149,'[1]2018.7 '!A:N,14,)","v":"No"}]
[149,"18110372","18110372","BPG 450/750","021","13","STD BIOPROCESS CHROM HW","254","Std BPG",{"v":62587,"d":"62,587"},{"v":563846.283,"d":"563,846"},null,{"$f":"VLOOKUP(B150,'[1]2018.7 '!A:C,3,)","v":"Active"},{"$f":"VLOOKUP(B150,'[1]2018.7 '!A:M,13,)","v":"Ambient"},{"$f":"VLOOKUP(B150,'[1]2018.7 '!A:N,14,)","v":"No"}]
[150,"18110373","18110373","BPG 450/1000","021","13","STD BIOPROCESS CHROM HW","254","Std BPG",{"v":64921,"d":"64,921"},{"v":584873.289,"d":"584,873"},null,{"$f":"VLOOKUP(B151,'[1]2018.7 '!A:C,3,)","v":"Active"},{"$f":"VLOOKUP(B151,'[1]2018.7 '!A:M,13,)","v":"Ambient"},{"$f":"VLOOKUP(B151,'[1]2018.7 '!A:N,14,)","v":"No"}]
[151,"18110402","18110402","LID INDEX","021","13","STD BIOPROCESS CHROM HW","254","Std BPG",376,{"v":3387.384,"d":"3,387"},null,{"$f":"VLOOKUP(B152,'[1]2018.7 '!A:C,3,)","v":"Active"},{"$f":"VLOOKUP(B152,'[1]2018.7 '!A:M,13,)","v":"Ambient"},{"$f":"VLOOKUP(B152,'[1]2018.7 '!A:N,14,)","v":"Reviewing"}]
[152,"18110415","18110415","INDEX COLUMN 100/500","021","13","STD BIOPROCESS CHROM HW","234","Std Other",{"v":4760,"d":"4,760"},{"v":42882.840000000004,"d":"42,883"},null,{"$f":"VLOOKUP(B153,'[1]2018.7 '!A:C,3,)","v":"Active"},{"$f":"VLOOKUP(B153,'[1]2018.7 '!A:M,13,)","v":"Ambient"},{"$f":"VLOOKUP(B153,'[1]2018.7 '!A:N,14,)","v":"No"}]
[153,"18110416","18110416","INDEX COLUMN 100/950","021","13","STD BIOPROCESS CHROM HW","234","Std Other",{"v":5401,"d":"5,401"},{"v":48657.609000000004,"d":"48,658"},null,{"$f":"VLOOKUP(B154,'[1]2018.7 '!A:C,3,)","v":"Active"},{"$f":"VLOOKUP(B154,'[1]2018.7 '!A:M,13,)","v":"Ambient"},{"$f":"VLOOKUP(B154,'[1]2018.7 '!A:N,14,)","v":"No"}]
[154,"18110417","18110417","INDEX COLUMN 200/500","021","13","STD BIOPROCESS CHROM HW","234","Std Other",{"v":7072,"d":"7,072"},{"v":63711.648,"d":"63,712"},null,{"$f":"VLOOKUP(B155,'[1]2018.7 '!A:C,3,)","v":"Active"},{"$f":"VLOOKUP(B155,'[1]2018.7 '!A:M,13,)","v":"Ambient"},{"$f":"VLOOKUP(B155,'[1]2018.7 '!A:N,14,)","v":"No"}]
[155,"18110418","18110418","INDEX COLUMN 200/950","021","13","STD BIOPROCESS CHROM HW","234","Std Other",{"v":10152,"d":"10,152"},{"v":91459.368,"d":"91,459"},null,{"$f":"VLOOKUP(B156,'[1]2018.7 '!A:C,3,)","v":"Active"},{"$f":"VLOOKUP(B156,'[1]2018.7 '!A:M,13,)","v":"Ambient"},{"$f":"VLOOKUP(B156,'[1]2018.7 '!A:N,14,)","v":"Reviewing"}]
[156,"18110422","18110422","PACKING DEVICE INDEX 100 GLASS","021","13","STD BIOPROCESS CHROM HW","234","Std Other",{"v":3273,"d":"3,273"},{"v":29486.457000000002,"d":"29,486"},null,{"$f":"VLOOKUP(B157,'[1]2018.7 '!A:C,3,)","v":"Active"},{"$f":"VLOOKUP(B157,'[1]2018.7 '!A:M,13,)","v":"Ambient"},{"$f":"VLOOKUP(B157,'[1]2018.7 '!A:N,14,)","v":"Reviewing"}]
[157,"18110423","18110423","PACKING DEVICE INDEX 200 GLASS","021","13","STD BIOPROCESS CHROM HW","234","Std Other",{"v":5307,"d":"5,307"},{"v":47810.763,"d":"47,811"},null,{"$f":"VLOOKUP(B158,'[1]2018.7 '!A:C,3,)","v":"Active"},{"$f":"VLOOKUP(B158,'[1]2018.7 '!A:M,13,)","v":"Ambient"},{"$f":"VLOOKUP(B158,'[1]2018.7 '!A:N,14,)","v":"No"}]
[158,"18110429","18110429","T-Junction TC25/TC50mm ID 6 mm","021","13","STD BIOPROCESS CHROM HW","254","Std BPG",{"v":467.00000000000006,"d":"467"},{"v":4207.203,"d":"4,207"},null,{"$f":"VLOOKUP(B159,'[1]2018.7 '!A:C,3,)","v":"Active"},{"$f":"VLOOKUP(B159,'[1]2018.7 '!A:M,13,)","v":"Ambient"},{"$f":"VLOOKUP(B159,'[1]2018.7 '!A:N,14,)","v":"No"}]
[159,"18110475","18110475","Packing Device BPG 100 Glass","021","13","STD BIOPROCESS CHROM HW","254","Std BPG",{"v":3180,"d":"3,180"},{"v":28648.620000000003,"d":"28,649"},null,{"$f":"VLOOKUP(B160,'[1]2018.7 '!A:C,3,)","v":"Active"},{"$f":"VLOOKUP(B160,'[1]2018.7 '!A:M,13,)","v":"Ambient"},{"$f":"VLOOKUP(B160,'[1]2018.7 '!A:N,14,)","v":"No"}]
[160,"18110477","18110477","Packing Device BPG 200 Glass","021","13","STD BIOPROCESS CHROM HW","254","Std BPG",{"v":4400,"d":"4,400"},{"v":39639.6,"d":"39,640"},null,{"$f":"VLOOKUP(B161,'[1]2018.7 '!A:C,3,)","v":"Active"},{"$f":"VLOOKUP(B161,'[1]2018.7 '!A:M,13,)","v":"Ambient"},{"$f":"VLOOKUP(B161,'[1]2018.7 '!A:N,14,)","v":"No"}]
[161,"18110531","18110531","12-POINT OPENING SOCKET BPG 450","021","13","STD BIOPROCESS CHROM HW","254","Std BPG",75,{"v":675.6750000000001,"d":"676"},null,{"$f":"VLOOKUP(B162,'[1]2018.7 '!A:C,3,)","v":"Active"},{"$f":"VLOOKUP(B162,'[1]2018.7 '!A:M,13,)","v":"Ambient"},{"$f":"VLOOKUP(B162,'[1]2018.7 '!A:N,14,)","v":"No"}]
[162,"18110532","18110532","Packing Device BPG 450","021","13","STD BIOPROCESS CHROM HW","254","Std BPG",{"v":9483,"d":"9,483"},{"v":85432.34700000001,"d":"85,432"},null,{"$f":"VLOOKUP(B163,'[1]2018.7 '!A:C,3,)","v":"Active"},{"$f":"VLOOKUP(B163,'[1]2018.7 '!A:M,13,)","v":"Ambient"},{"$f":"VLOOKUP(B163,'[1]2018.7 '!A:N,14,)","v":"No"}]
[163,"18110816","18110816","Packing Device BPG 300 Glass","021","13","STD BIOPROCESS CHROM HW","254","Std BPG",{"v":9128,"d":"9,128"},{"v":82234.152,"d":"82,234"},null,{"$f":"VLOOKUP(B164,'[1]2018.7 '!A:C,3,)","v":"Active"},{"$f":"VLOOKUP(B164,'[1]2018.7 '!A:M,13,)","v":"Ambient"},{"$f":"VLOOKUP(B164,'[1]2018.7 '!A:N,14,)","v":"No"}]
[164,"18110863","18110863","LID KIT PACKING DEVICE INDEX 100","021","13","STD BIOPROCESS CHROM HW","234","Std Other",580,{"v":5225.22,"d":"5,225"},null,{"$f":"VLOOKUP(B165,'[1]2018.7 '!A:C,3,)","v":"Active"},{"$f":"VLOOKUP(B165,'[1]2018.7 '!A:M,13,)","v":"Ambient"},{"$f":"VLOOKUP(B165,'[1]2018.7 '!A:N,14,)","v":"Reviewing"}]
[165,"18110864","18110864","LID KIT PACKING DEVICE INDEX 200","021","13","STD BIOPROCESS CHROM HW","234","Std Other",735,{"v":6621.615000000001,"d":"6,622"},null,{"$f":"VLOOKUP(B166,'[1]2018.7 '!A:C,3,)","v":"Active"},{"$f":"VLOOKUP(B166,'[1]2018.7 '!A:M,13,)","v":"Ambient"},{"$f":"VLOOKUP(B166,'[1]2018.7 '!A:N,14,)","v":"Reviewing"}]
[166,"18111308","18111308","BPG 140/500","021","13","STD BIOPROCESS CHROM HW","254","Std BPG",{"v":9441,"d":"9,441"},{"v":85053.969,"d":"85,054"},null,{"$f":"VLOOKUP(B167,'[1]2018.7 '!A:C,3,)","v":"Active"},{"$f":"VLOOKUP(B167,'[1]2018.7 '!A:M,13,)","v":"Ambient"},{"$f":"VLOOKUP(B167,'[1]2018.7 '!A:N,14,)","v":"No"}]
[167,"18111309","18111309","BPG 140/950","021","13","STD BIOPROCESS CHROM HW","254","Std BPG",{"v":12199,"d":"12,199"},{"v":109900.791,"d":"109,901"},null,{"$f":"VLOOKUP(B168,'[1]2018.7 '!A:C,3,)","v":"Active"},{"$f":"VLOOKUP(B168,'[1]2018.7 '!A:M,13,)","v":"Ambient"},{"$f":"VLOOKUP(B168,'[1]2018.7 '!A:N,14,)","v":"No"}]
[168,"18111333","18111333","Packing Device BPG 140 Glass","021","13","STD BIOPROCESS CHROM HW","254","Std BPG",{"v":3709,"d":"3,709"},{"v":33414.381,"d":"33,414"},null,{"$f":"VLOOKUP(B169,'[1]2018.7 '!A:C,3,)","v":"Active"},{"$f":"VLOOKUP(B169,'[1]2018.7 '!A:M,13,)","v":"Ambient"},{"$f":"VLOOKUP(B169,'[1]2018.7 '!A:N,14,)","v":"No"}]
[169,"18111435","18111435","PACKING DEVICE INDEX 70","021","13","STD BIOPROCESS CHROM HW","234","Std Other",{"v":2823,"d":"2,823"},{"v":25432.407,"d":"25,432"},null,{"$f":"VLOOKUP(B170,'[1]2018.7 '!A:C,3,)","v":"Active"},{"$f":"VLOOKUP(B170,'[1]2018.7 '!A:M,13,)","v":"Ambient"},{"$f":"VLOOKUP(B170,'[1]2018.7 '!A:N,14,)","v":"No"}]
[170,"18111436","18111436","PACKING DEVICE INDEX 140","021","13","STD BIOPROCESS CHROM HW","234","Std Other",{"v":4828,"d":"4,828"},{"v":43495.452000000005,"d":"43,495"},null,{"$f":"VLOOKUP(B171,'[1]2018.7 '!A:C,3,)","v":"Active"},{"$f":"VLOOKUP(B171,'[1]2018.7 '!A:M,13,)","v":"Ambient"},{"$f":"VLOOKUP(B171,'[1]2018.7 '!A:N,14,)","v":"No"}]
[171,"18111506","18111506","INDEX COLUMN 70 500","021","13","STD BIOPROCESS CHROM HW","234","Std Other",{"v":4248,"d":"4,248"},{"v":38270.232,"d":"38,270"},null,{"$f":"VLOOKUP(B172,'[1]2018.7 '!A:C,3,)","v":"Active"},{"$f":"VLOOKUP(B172,'[1]2018.7 '!A:M,13,)","v":"Ambient"},{"$f":"VLOOKUP(B172,'[1]2018.7 '!A:N,14,)","v":"No"}]
[172,"18111507","18111507","INDEX COLUMN 70/950","021","13","STD BIOPROCESS CHROM HW","234","Std Other",{"v":4899,"d":"4,899"},{"v":44135.091,"d":"44,135"},null,{"$f":"VLOOKUP(B173,'[1]2018.7 '!A:C,3,)","v":"Active"},{"$f":"VLOOKUP(B173,'[1]2018.7 '!A:M,13,)","v":"Ambient"},{"$f":"VLOOKUP(B173,'[1]2018.7 '!A:N,14,)","v":"No"}]
[173,"18111508","18111508","INDEX COLUMN 140/500","021","13","STD BIOPROCESS CHROM HW","234","Std Other",{"v":6624,"d":"6,624"},{"v":59675.616,"d":"59,676"},null,{"$f":"VLOOKUP(B174,'[1]2018.7 '!A:C,3,)","v":"Active"},{"$f":"VLOOKUP(B174,'[1]2018.7 '!A:M,13,)","v":"Ambient"},{"$f":"VLOOKUP(B174,'[1]2018.7 '!A:N,14,)","v":"No"}]
[174,"18111509","18111509","INDEX COLUMN 140/950","021","13","STD BIOPROCESS CHROM HW","234","Std Other",{"v":8895,"d":"8,895"},{"v":80135.05500000001,"d":"80,135"},null,{"$f":"VLOOKUP(B175,'[1]2018.7 '!A:C,3,)","v":"Active"},{"$f":"VLOOKUP(B175,'[1]2018.7 '!A:M,13,)","v":"Ambient"},{"$f":"VLOOKUP(B175,'[1]2018.7 '!A:N,14,)","v":"No"}]
[175,"18111928","18111928","Manometer Kit 0-6 Bar","021","13","STD BIOPROCESS CHROM HW","254","Std BPG",{"v":1998,"d":"1,998"},{"v":17999.982,"d":"18,000"},null,{"$f":"VLOOKUP(B176,'[1]2018.7 '!A:C,3,)","v":"Active"},{"$f":"VLOOKUP(B176,'[1]2018.7 '!A:M,13,)","v":"Ambient"},{"$f":"VLOOKUP(B176,'[1]2018.7 '!A:N,14,)","v":"No"}]
[176,"18112144","18112144","Top Valve for Air Traps","021","13","STD BIOPROCESS CHROM HW","254","Std BPG",{"v":1410,"d":"1,410"},{"v":12702.69,"d":"12,703"},null,{"$f":"VLOOKUP(B177,'[1]2018.7 '!A:C,3,)","v":"Active"},{"$f":"VLOOKUP(B177,'[1]2018.7 '!A:M,13,)","v":"Ambient"},{"$f":"VLOOKUP(B177,'[1]2018.7 '!A:N,14,)","v":"No"}]
[177,"18112288","18112288","UM FINELINE 100/100L, 200/200L","021","13","STD BIOPROCESS CHROM HW","258","Std FineLINE",20,{"v":180.18,"d":"180"},null,{"$f":"VLOOKUP(B178,'[1]2018.7 '!A:C,3,)","v":"Active"},{"$f":"VLOOKUP(B178,'[1]2018.7 '!A:M,13,)","v":"Ambient"},{"$f":"VLOOKUP(B178,'[1]2018.7 '!A:N,14,)","v":"Reviewing"}]
[178,"18112694","18112694","ELUTRATING SEAL. RING STRL 100","021","13","STD BIOPROCESS CHROM HW","254","Std BPG",130,{"v":1171.17,"d":"1,171"},null,{"$f":"VLOOKUP(B179,'[1]2018.7 '!A:C,3,)","v":"Active"},{"$f":"VLOOKUP(B179,'[1]2018.7 '!A:M,13,)","v":"Ambient"},{"$f":"VLOOKUP(B179,'[1]2018.7 '!A:N,14,)","v":"Reviewing"}]
[179,"18112799","18112799","END PIECE NET FINELINE 100 10M","021","49","CBS","259","CBS Columns",{"v":1762,"d":"1,762"},{"v":15873.858,"d":"15,874"},null,{"$f":"VLOOKUP(B180,'[1]2018.7 '!A:C,3,)","v":"Active"},{"$f":"VLOOKUP(B180,'[1]2018.7 '!A:M,13,)","v":"Ambient"},{"$f":"VLOOKUP(B180,'[1]2018.7 '!A:N,14,)","v":"Reviewing"}]
[180,"18112800","18112800","ADAPTOR NET FINELINE 100 10 MY","021","49","CBS","259","CBS Columns",{"v":1562,"d":"1,562"},{"v":14072.058,"d":"14,072"},null,{"$f":"VLOOKUP(B181,'[1]2018.7 '!A:C,3,)","v":"Active"},{"$f":"VLOOKUP(B181,'[1]2018.7 '!A:M,13,)","v":"Ambient"},{"$f":"VLOOKUP(B181,'[1]2018.7 '!A:N,14,)","v":"Reviewing"}]
[181,"18114748","18114748","Sealing Unit BPG 200","021","13","STD BIOPROCESS CHROM HW","254","Std BPG",998,{"v":8990.982,"d":"8,991"},null,{"$f":"VLOOKUP(B182,'[1]2018.7 '!A:C,3,)","v":"Active"},{"$f":"VLOOKUP(B182,'[1]2018.7 '!A:M,13,)","v":"Ambient"},{"$f":"VLOOKUP(B182,'[1]2018.7 '!A:N,14,)","v":"No"}]
[182,"18114749","18114749","Sealing Unit BPG 300","021","13","STD BIOPROCESS CHROM HW","254","Std BPG",{"v":1210,"d":"1,210"},{"v":10900.890000000001,"d":"10,901"},null,{"$f":"VLOOKUP(B183,'[1]2018.7 '!A:C,3,)","v":"Active"},{"$f":"VLOOKUP(B183,'[1]2018.7 '!A:M,13,)","v":"Ambient"},{"$f":"VLOOKUP(B183,'[1]2018.7 '!A:N,14,)","v":"Reviewing"}]
[183,"18117070","18117070","BPG Columns INSTRUCTIONS FOR USE","021","13","STD BIOPROCESS CHROM HW","254","Std BPG",18,{"v":162.162,"d":"162"},null,{"$f":"VLOOKUP(B184,'[1]2018.7 '!A:C,3,)","v":"Active"},{"$f":"VLOOKUP(B184,'[1]2018.7 '!A:M,13,)","v":"Ambient"},{"$f":"VLOOKUP(B184,'[1]2018.7 '!A:N,14,)","v":"Reviewing"}]
[184,"18117193","18117193","CHROM PIPING NOZZLE 800 3/4","021","13","STD BIOPROCESS CHROM HW","257","Std Chromaflow",{"v":2850,"d":"2,850"},{"v":25675.65,"d":"25,676"},null,{"$f":"VLOOKUP(B185,'[1]2018.7 '!A:C,3,)","v":"Active"},{"$f":"VLOOKUP(B185,'[1]2018.7 '!A:M,13,)","v":"Ambient"},{"$f":"VLOOKUP(B185,'[1]2018.7 '!A:N,14,)","v":"Reviewing"}]
[185,"18117200","18117200","CHROMAFLOW NOZZLE PIP.400,3/4in","021","13","STD BIOPROCESS CHROM HW","257","Std Chromaflow",{"v":2850,"d":"2,850"},{"v":25675.65,"d":"25,676"},null,{"$f":"VLOOKUP(B186,'[1]2018.7 '!A:C,3,)","v":"Active"},{"$f":"VLOOKUP(B186,'[1]2018.7 '!A:M,13,)","v":"Ambient"},{"$f":"VLOOKUP(B186,'[1]2018.7 '!A:N,14,)","v":"Reviewing"}]
[186,"18117201","18117201","CHROMAFLOW NOZZLE PIP.400 1/2in","021","13","STD BIOPROCESS CHROM HW","257","Std Chromaflow",{"v":2850,"d":"2,850"},{"v":25675.65,"d":"25,676"},null,{"$f":"VLOOKUP(B187,'[1]2018.7 '!A:C,3,)","v":"Active"},{"$f":"VLOOKUP(B187,'[1]2018.7 '!A:M,13,)","v":"Ambient"},{"$f":"VLOOKUP(B187,'[1]2018.7 '!A:N,14,)","v":"Reviewing"}]
[187,"18117204","18117204","CHROM.NOZZLE PIPING 600 1in","021","13","STD BIOPROCESS CHROM HW","257","Std Chromaflow",{"v":2850,"d":"2,850"},{"v":25675.65,"d":"25,676"},null,{"$f":"VLOOKUP(B188,'[1]2018.7 '!A:C,3,)","v":"Active"},{"$f":"VLOOKUP(B188,'[1]2018.7 '!A:M,13,)","v":"Ambient"},{"$f":"VLOOKUP(B188,'[1]2018.7 '!A:N,14,)","v":"No"}]
[188,"18117205","18117205","CHROM NOZZLE PIPING 600 3/4","021","13","STD BIOPROCESS CHROM HW","257","Std Chromaflow",{"v":2850,"d":"2,850"},{"v":25675.65,"d":"25,676"},null,{"$f":"VLOOKUP(B189,'[1]2018.7 '!A:C,3,)","v":"Active"},{"$f":"VLOOKUP(B189,'[1]2018.7 '!A:M,13,)","v":"Ambient"},{"$f":"VLOOKUP(B189,'[1]2018.7 '!A:N,14,)","v":"Reviewing"}]
[189,"18117206","18117206","CHROM NOZZLE PIPING 600 1/2","021","13","STD BIOPROCESS CHROM HW","257","Std Chromaflow",{"v":2850,"d":"2,850"},{"v":25675.65,"d":"25,676"},null,{"$f":"VLOOKUP(B190,'[1]2018.7 '!A:C,3,)","v":"Active"},{"$f":"VLOOKUP(B190,'[1]2018.7 '!A:M,13,)","v":"Ambient"},{"$f":"VLOOKUP(B190,'[1]2018.7 '!A:N,14,)","v":"Reviewing"}]
[190,"18117411","18117411","CONNECTORTC50.5/ID22-TC25/ID10","021","13","STD BIOPROCESS CHROM HW","254","Std BPG",549,{"v":4945.941,"d":"4,946"},null,{"$f":"VLOOKUP(B191,'[1]2018.7 '!A:C,3,)","v":"Active"},{"$f":"VLOOKUP(B191,'[1]2018.7 '!A:M,13,)","v":"Ambient"},{"$f":"VLOOKUP(B191,'[1]2018.7 '!A:N,14,)","v":"No"}]
[191,"18117412","18117412","CONNECTORTC50.5/ID22-TC25/ID14","021","13","STD BIOPROCESS CHROM HW","254","Std BPG",549,{"v":4945.941,"d":"4,946"},null,{"$f":"VLOOKUP(B192,'[1]2018.7 '!A:C,3,)","v":"Active"},{"$f":"VLOOKUP(B192,'[1]2018.7 '!A:M,13,)","v":"Ambient"},{"$f":"VLOOKUP(B192,'[1]2018.7 '!A:N,14,)","v":"No"}]
[192,"18575801","18575801","VALVE 4-PORT 4-WAY  ID 6 MM","021","13","STD BIOPROCESS CHROM HW","254","Std BPG",{"v":1808,"d":"1,808"},{"v":16288.272,"d":"16,288"},null,{"$f":"VLOOKUP(B193,'[1]2018.7 '!A:C,3,)","v":"Active"},{"$f":"VLOOKUP(B193,'[1]2018.7 '!A:M,13,)","v":"Ambient"},{"$f":"VLOOKUP(B193,'[1]2018.7 '!A:N,14,)","v":"No"}]
[193,"18687901","18687901","TUBING CONNECTOR (40-8-6)","021","13","STD BIOPROCESS CHROM HW","254","Std BPG",103,{"v":927.927,"d":"928"},null,{"$f":"VLOOKUP(B194,'[1]2018.7 '!A:C,3,)","v":"Active"},{"$f":"VLOOKUP(B194,'[1]2018.7 '!A:M,13,)","v":"Ambient"},{"$f":"VLOOKUP(B194,'[1]2018.7 '!A:N,14,)","v":"Reviewing"}]
[194,"19027101","19027101","ANGLED CONNECTOR (40-4-2)","021","13","STD BIOPROCESS CHROM HW","254","Std BPG",{"$f":"K195/9.009","v":83},{"v":747.7470000000001,"d":"748"},null,{"$f":"VLOOKUP(B195,'[1]2018.7 '!A:C,3,)","v":"Active"},{"$f":"VLOOKUP(B195,'[1]2018.7 '!A:M,13,)","v":"Ambient"},{"$f":"VLOOKUP(B195,'[1]2018.7 '!A:N,14,)","v":"Reviewing"}]
[195,"19027201","19027201","ANGLED CONNECTOR (40-4-6)","021","13","STD BIOPROCESS CHROM HW","254","Std BPG",89,{"v":801.801,"d":"802"},null,{"$f":"VLOOKUP(B196,'[1]2018.7 '!A:C,3,)","v":"Active"},{"$f":"VLOOKUP(B196,'[1]2018.7 '!A:M,13,)","v":"Ambient"},{"$f":"VLOOKUP(B196,'[1]2018.7 '!A:N,14,)","v":"No"}]
[196,"19027301","19027301","STRAIGHT CONNECTOR (10-4-2)","021","13","STD BIOPROCESS CHROM HW","254","Std BPG",111,{"v":999.999,"d":"1,000"},null,{"$f":"VLOOKUP(B197,'[1]2018.7 '!A:C,3,)","v":"Active"},{"$f":"VLOOKUP(B197,'[1]2018.7 '!A:M,13,)","v":"Ambient"},{"$f":"VLOOKUP(B197,'[1]2018.7 '!A:N,14,)","v":"Reviewing"}]
[197,"19029101","19029101","O-RING","021","13","STD BIOPROCESS CHROM HW","254","Std BPG",156,{"v":1405.404,"d":"1,405"},null,{"$f":"VLOOKUP(B198,'[1]2018.7 '!A:C,3,)","v":"Active"},{"$f":"VLOOKUP(B198,'[1]2018.7 '!A:M,13,)","v":"Ambient"},{"$f":"VLOOKUP(B198,'[1]2018.7 '!A:N,14,)","v":"No"}]
[198,"19029901","19029901","POSITION PIN","021","13","STD BIOPROCESS CHROM HW","254","Std BPG",95,{"v":855.855,"d":"856"},null,{"$f":"VLOOKUP(B199,'[1]2018.7 '!A:C,3,)","v":"Active"},{"$f":"VLOOKUP(B199,'[1]2018.7 '!A:M,13,)","v":"Ambient"},{"$f":"VLOOKUP(B199,'[1]2018.7 '!A:N,14,)","v":"Reviewing"}]
[199,"19033601","19033601","NUT SEGMENT","021","13","STD BIOPROCESS CHROM HW","254","Std BPG",228,{"v":2054.052,"d":"2,054"},null,{"$f":"VLOOKUP(B200,'[1]2018.7 '!A:C,3,)","v":"Active"},{"$f":"VLOOKUP(B200,'[1]2018.7 '!A:M,13,)","v":"Ambient"},{"$f":"VLOOKUP(B200,'[1]2018.7 '!A:N,14,)","v":"Reviewing"}]
[200,"19036401","19036401","O-RING","021","13","STD BIOPROCESS CHROM HW","254","Std BPG",62,{"v":558.558,"d":"559"},null,{"$f":"VLOOKUP(B201,'[1]2018.7 '!A:C,3,)","v":"Active"},{"$f":"VLOOKUP(B201,'[1]2018.7 '!A:M,13,)","v":"Ambient"},{"$f":"VLOOKUP(B201,'[1]2018.7 '!A:N,14,)","v":"Reviewing"}]
[201,"19036501","19036501","GLASS TO AIR TRAP I (6MM)L=150","021","13","STD BIOPROCESS CHROM HW","254","Std BPG",518,{"v":4666.662,"d":"4,667"},null,{"$f":"VLOOKUP(B202,'[1]2018.7 '!A:C,3,)","v":"Active"},{"$f":"VLOOKUP(B202,'[1]2018.7 '!A:M,13,)","v":"Ambient"},{"$f":"VLOOKUP(B202,'[1]2018.7 '!A:N,14,)","v":"No"}]
[202,"19039501","19039501","O-RING","021","13","STD BIOPROCESS CHROM HW","234","Std Other",{"v":59.99999999999999,"d":"60"},{"v":540.54,"d":"541"},null,{"$f":"VLOOKUP(B203,'[1]2018.7 '!A:C,3,)","v":"Active"},{"$f":"VLOOKUP(B203,'[1]2018.7 '!A:M,13,)","v":"Ambient"},{"$f":"VLOOKUP(B203,'[1]2018.7 '!A:N,14,)","v":"Reviewing"}]
[203,"19062001","19062001","NUT","021","13","STD BIOPROCESS CHROM HW","234","Std Other",81,{"v":729.729,"d":"730"},null,{"$f":"VLOOKUP(B204,'[1]2018.7 '!A:C,3,)","v":"Active"},{"$f":"VLOOKUP(B204,'[1]2018.7 '!A:M,13,)","v":"Ambient"},{"$f":"VLOOKUP(B204,'[1]2018.7 '!A:N,14,)","v":"Reviewing"}]
[204,"19070901","19070901","DISTRIBUTOR OUTLET O-RING","021","13","STD BIOPROCESS CHROM HW","254","Std BPG",65,{"v":585.585,"d":"586"},null,{"$f":"VLOOKUP(B205,'[1]2018.7 '!A:C,3,)","v":"Active"},{"$f":"VLOOKUP(B205,'[1]2018.7 '!A:M,13,)","v":"Ambient"},{"$f":"VLOOKUP(B205,'[1]2018.7 '!A:N,14,)","v":"Reviewing"}]
[205,"19072501","19072501","MANOMETER","021","13","STD BIOPROCESS CHROM HW","254","Std BPG",163,{"v":1468.467,"d":"1,468"},null,{"$f":"VLOOKUP(B206,'[1]2018.7 '!A:C,3,)","v":"Active"},{"$f":"VLOOKUP(B206,'[1]2018.7 '!A:M,13,)","v":"Ambient"},{"$f":"VLOOKUP(B206,'[1]2018.7 '!A:N,14,)","v":"Reviewing"}]
[206,"19078101","19078101","WASHER","021","13","STD BIOPROCESS CHROM HW","234","Std Other",63,{"v":567.567,"d":"568"},null,{"$f":"VLOOKUP(B207,'[1]2018.7 '!A:C,3,)","v":"Active"},{"$f":"VLOOKUP(B207,'[1]2018.7 '!A:M,13,)","v":"Ambient"},{"$f":"VLOOKUP(B207,'[1]2018.7 '!A:N,14,)","v":"Reviewing"}]
[207,"28404233","28404233","TUBE PVC L=4M ID=19.0MM TC 1in","021","13","STD BIOPROCESS CHROM HW","257","Std Chromaflow",{"v":1302,"d":"1,302"},{"v":11729.718,"d":"11,730"},null,{"$f":"VLOOKUP(B208,'[1]2018.7 '!A:C,3,)","v":"Active"},{"$f":"VLOOKUP(B208,'[1]2018.7 '!A:M,13,)","v":"Ambient"},{"$f":"VLOOKUP(B208,'[1]2018.7 '!A:N,14,)","v":"No"}]
[208,"28989508","28989508","BPG100/500 Column","021","13","STD BIOPROCESS CHROM HW","254","Std BPG","询价","询价",null,{"$f":"VLOOKUP(B209,'[1]2018.7 '!A:C,3,)","v":"Active"},{"$f":"VLOOKUP(B209,'[1]2018.7 '!A:M,13,)","v":"Ambient"},{"$f":"VLOOKUP(B209,'[1]2018.7 '!A:N,14,)","v":"Reviewing"}]
[209,"28989509","28989509","BPG100/750 Column","021","13","STD BIOPROCESS CHROM HW","254","Std BPG","询价","询价",null,{"$f":"VLOOKUP(B210,'[1]2018.7 '!A:C,3,)","v":"Active"},{"$f":"VLOOKUP(B210,'[1]2018.7 '!A:M,13,)","v":"Ambient"},{"$f":"VLOOKUP(B210,'[1]2018.7 '!A:N,14,)","v":"Reviewing"}]
[210,"28989510","28989510","BPG100/950 Column","021","13","STD BIOPROCESS CHROM HW","254","Std BPG","询价","询价",null,{"$f":"VLOOKUP(B211,'[1]2018.7 '!A:C,3,)","v":"Active"},{"$f":"VLOOKUP(B211,'[1]2018.7 '!A:M,13,)","v":"Ambient"},{"$f":"VLOOKUP(B211,'[1]2018.7 '!A:N,14,)","v":"Reviewing"}]
[211,"28989511","28989511","BPG140/500 Column","021","13","STD BIOPROCESS CHROM HW","254","Std BPG","询价","询价",null,{"$f":"VLOOKUP(B212,'[1]2018.7 '!A:C,3,)","v":"Active"},{"$f":"VLOOKUP(B212,'[1]2018.7 '!A:M,13,)","v":"Ambient"},{"$f":"VLOOKUP(B212,'[1]2018.7 '!A:N,14,)","v":"Reviewing"}]
[212,"28989512","28989512","BPG140/950 Column","021","13","STD BIOPROCESS CHROM HW","254","Std BPG","询价","询价",null,{"$f":"VLOOKUP(B213,'[1]2018.7 '!A:C,3,)","v":"Active"},{"$f":"VLOOKUP(B213,'[1]2018.7 '!A:M,13,)","v":"Ambient"},{"$f":"VLOOKUP(B213,'[1]2018.7 '!A:N,14,)","v":"Reviewing"}]
[213,"28989513","28989513","BPG200/500 Column","021","13","STD BIOPROCESS CHROM HW","254","Std BPG","询价","询价",null,{"$f":"VLOOKUP(B214,'[1]2018.7 '!A:C,3,)","v":"Active"},{"$f":"VLOOKUP(B214,'[1]2018.7 '!A:M,13,)","v":"Ambient"},{"$f":"VLOOKUP(B214,'[1]2018.7 '!A:N,14,)","v":"Reviewing"}]
[214,"28989514","28989514","BPG200/750 Column","021","13","STD BIOPROCESS CHROM HW","254","Std BPG","询价","询价",null,{"$f":"VLOOKUP(B215,'[1]2018.7 '!A:C,3,)","v":"Active"},{"$f":"VLOOKUP(B215,'[1]2018.7 '!A:M,13,)","v":"Ambient"},{"$f":"VLOOKUP(B215,'[1]2018.7 '!A:N,14,)","v":"Reviewing"}]
[215,"28989515","28989515","BPG200/950 Column","021","13","STD BIOPROCESS CHROM HW","254","Std BPG","询价","询价",null,{"$f":"VLOOKUP(B216,'[1]2018.7 '!A:C,3,)","v":"Active"},{"$f":"VLOOKUP(B216,'[1]2018.7 '!A:M,13,)","v":"Ambient"},{"$f":"VLOOKUP(B216,'[1]2018.7 '!A:N,14,)","v":"Reviewing"}]
[216,"28989516","28989516","BPG300/500 Column","021","13","STD BIOPROCESS CHROM HW","254","Std BPG","询价","询价",null,{"$f":"VLOOKUP(B217,'[1]2018.7 '!A:C,3,)","v":"Active"},{"$f":"VLOOKUP(B217,'[1]2018.7 '!A:M,13,)","v":"Ambient"},{"$f":"VLOOKUP(B217,'[1]2018.7 '!A:N,14,)","v":"Reviewing"}]
[217,"28989517","28989517","BPG300/750 Column","021","13","STD BIOPROCESS CHROM HW","254","Std BPG","询价","询价",null,{"$f":"VLOOKUP(B218,'[1]2018.7 '!A:C,3,)","v":"Active"},{"$f":"VLOOKUP(B218,'[1]2018.7 '!A:M,13,)","v":"Ambient"},{"$f":"VLOOKUP(B218,'[1]2018.7 '!A:N,14,)","v":"Reviewing"}]
[218,"28989518","28989518","BPG300/950 Column","021","13","STD BIOPROCESS CHROM HW","254","Std BPG","询价","询价",null,{"$f":"VLOOKUP(B219,'[1]2018.7 '!A:C,3,)","v":"Active"},{"$f":"VLOOKUP(B219,'[1]2018.7 '!A:M,13,)","v":"Ambient"},{"$f":"VLOOKUP(B219,'[1]2018.7 '!A:N,14,)","v":"Reviewing"}]
[219,"28989550","28989550","INdEX 70/500","021","13","STD BIOPROCESS CHROM HW","234","Std Other","询价","询价",null,{"$f":"VLOOKUP(B220,'[1]2018.7 '!A:C,3,)","v":"Active"},{"$f":"VLOOKUP(B220,'[1]2018.7 '!A:M,13,)","v":"Ambient"},{"$f":"VLOOKUP(B220,'[1]2018.7 '!A:N,14,)","v":"Reviewing"}]
[220,"28989551","28989551","INdEX 70/950","021","13","STD BIOPROCESS CHROM HW","234","Std Other","询价","询价",null,{"$f":"VLOOKUP(B221,'[1]2018.7 '!A:C,3,)","v":"Active"},{"$f":"VLOOKUP(B221,'[1]2018.7 '!A:M,13,)","v":"Ambient"},{"$f":"VLOOKUP(B221,'[1]2018.7 '!A:N,14,)","v":"Reviewing"}]
[221,"28989552","28989552","INdEX 100/500","021","13","STD BIOPROCESS CHROM HW","234","Std Other","询价","询价",null,{"$f":"VLOOKUP(B222,'[1]2018.7 '!A:C,3,)","v":"Active"},{"$f":"VLOOKUP(B222,'[1]2018.7 '!A:M,13,)","v":"Ambient"},{"$f":"VLOOKUP(B222,'[1]2018.7 '!A:N,14,)","v":"Reviewing"}]
[222,"28989553","28989553","INdEX 100/950","021","13","STD BIOPROCESS CHROM HW","234","Std Other","询价","询价",null,{"$f":"VLOOKUP(B223,'[1]2018.7 '!A:C,3,)","v":"Active"},{"$f":"VLOOKUP(B223,'[1]2018.7 '!A:M,13,)","v":"Ambient"},{"$f":"VLOOKUP(B223,'[1]2018.7 '!A:N,14,)","v":"Reviewing"}]
[223,"28989554","28989554","INdEX 140/500","021","13","STD BIOPROCESS CHROM HW","234","Std Other","询价","询价",null,{"$f":"VLOOKUP(B224,'[1]2018.7 '!A:C,3,)","v":"Active"},{"$f":"VLOOKUP(B224,'[1]2018.7 '!A:M,13,)","v":"Ambient"},{"$f":"VLOOKUP(B224,'[1]2018.7 '!A:N,14,)","v":"Reviewing"}]
[224,"28989555","28989555","INdEX 140/950","021","13","STD BIOPROCESS CHROM HW","234","Std Other","询价","询价",null,{"$f":"VLOOKUP(B225,'[1]2018.7 '!A:C,3,)","v":"Active"},{"$f":"VLOOKUP(B225,'[1]2018.7 '!A:M,13,)","v":"Ambient"},{"$f":"VLOOKUP(B225,'[1]2018.7 '!A:N,14,)","v":"Reviewing"}]
[225,"28989556","28989556","INdEX 200/500","021","13","STD BIOPROCESS CHROM HW","234","Std Other","询价","询价",null,{"$f":"VLOOKUP(B226,'[1]2018.7 '!A:C,3,)","v":"Active"},{"$f":"VLOOKUP(B226,'[1]2018.7 '!A:M,13,)","v":"Ambient"},{"$f":"VLOOKUP(B226,'[1]2018.7 '!A:N,14,)","v":"Reviewing"}]
[226,"28989557","28989557","INdEX 200/950","021","13","STD BIOPROCESS CHROM HW","234","Std Other","询价","询价",null,{"$f":"VLOOKUP(B227,'[1]2018.7 '!A:C,3,)","v":"Active"},{"$f":"VLOOKUP(B227,'[1]2018.7 '!A:M,13,)","v":"Ambient"},{"$f":"VLOOKUP(B227,'[1]2018.7 '!A:N,14,)","v":"Reviewing"}]
[227,"28990766","28990766","Column connection and Isolation kit BPG100-BPG140-BPG200 and INdEX columns","021","13","STD BIOPROCESS CHROM HW","254","Std BPG","询价","询价",null,{"$f":"VLOOKUP(B228,'[1]2018.7 '!A:C,3,)","v":"Active"},{"$f":"VLOOKUP(B228,'[1]2018.7 '!A:M,13,)","v":"Ambient"},{"$f":"VLOOKUP(B228,'[1]2018.7 '!A:N,14,)","v":"Reviewing"}]
[228,"28990767","28990767","Column connection and Isolation kit BPG300 and BPG450 columns","021","13","STD BIOPROCESS CHROM HW","254","Std BPG","询价","询价",null,{"$f":"VLOOKUP(B229,'[1]2018.7 '!A:C,3,)","v":"Active"},{"$f":"VLOOKUP(B229,'[1]2018.7 '!A:M,13,)","v":"Ambient"},{"$f":"VLOOKUP(B229,'[1]2018.7 '!A:N,14,)","v":"Reviewing"}]
[229,"28990768","28990768","Column isolation kit BPG100-BPG140-BPG200 and INdEX columns","021","13","STD BIOPROCESS CHROM HW","254","Std BPG","询价","询价",null,{"$f":"VLOOKUP(B230,'[1]2018.7 '!A:C,3,)","v":"Active"},{"$f":"VLOOKUP(B230,'[1]2018.7 '!A:M,13,)","v":"Ambient"},{"$f":"VLOOKUP(B230,'[1]2018.7 '!A:N,14,)","v":"Reviewing"}]
[230,"28990769","28990769","Column packing kit BPG100-BPG140-BPG200","021","13","STD BIOPROCESS CHROM HW","254","Std BPG","询价","询价",null,{"$f":"VLOOKUP(B231,'[1]2018.7 '!A:C,3,)","v":"Active"},{"$f":"VLOOKUP(B231,'[1]2018.7 '!A:M,13,)","v":"Ambient"},{"$f":"VLOOKUP(B231,'[1]2018.7 '!A:N,14,)","v":"Reviewing"}]
[231,"28990770","28990770","Column isolation kit BPG300-BPG450","021","13","STD BIOPROCESS CHROM HW","254","Std BPG","询价","询价",null,{"$f":"VLOOKUP(B232,'[1]2018.7 '!A:C,3,)","v":"Active"},{"$f":"VLOOKUP(B232,'[1]2018.7 '!A:M,13,)","v":"Ambient"},{"$f":"VLOOKUP(B232,'[1]2018.7 '!A:N,14,)","v":"Reviewing"}]
[232,"28990771","28990771","Column packing kit BPG300-BPG450","021","13","STD BIOPROCESS CHROM HW","254","Std BPG","询价","询价",null,{"$f":"VLOOKUP(B233,'[1]2018.7 '!A:C,3,)","v":"Active"},{"$f":"VLOOKUP(B233,'[1]2018.7 '!A:M,13,)","v":"Ambient"},{"$f":"VLOOKUP(B233,'[1]2018.7 '!A:N,14,)","v":"Reviewing"}]
[233,"28990772","28990772","Inlet Tubing kit","021","13","STD BIOPROCESS CHROM HW","254","Std BPG","询价","询价",null,{"$f":"VLOOKUP(B234,'[1]2018.7 '!A:C,3,)","v":"Active"},{"$f":"VLOOKUP(B234,'[1]2018.7 '!A:M,13,)","v":"Ambient"},{"$f":"VLOOKUP(B234,'[1]2018.7 '!A:N,14,)","v":"Reviewing"}]
[234,"28990773","28990773","Outlet Tubing Kit","021","13","STD BIOPROCESS CHROM HW","254","Std BPG","询价","询价",null,{"$f":"VLOOKUP(B235,'[1]2018.7 '!A:C,3,)","v":"Active"},{"$f":"VLOOKUP(B235,'[1]2018.7 '!A:M,13,)","v":"Ambient"},{"$f":"VLOOKUP(B235,'[1]2018.7 '!A:N,14,)","v":"Reviewing"}]
[235,"28990774","28990774","Column connection to AeKTAsystem (and isolation)","021","13","STD BIOPROCESS CHROM HW","254","Std BPG","询价","询价",null,{"$f":"VLOOKUP(B236,'[1]2018.7 '!A:C,3,)","v":"Active"},{"$f":"VLOOKUP(B236,'[1]2018.7 '!A:M,13,)","v":"Ambient"},{"$f":"VLOOKUP(B236,'[1]2018.7 '!A:N,14,)","v":"Reviewing"}]
[236,"28990776","28990776","Column Isolation FineLINE","021","13","STD BIOPROCESS CHROM HW","258","Std FineLINE","询价","询价",null,{"$f":"VLOOKUP(B237,'[1]2018.7 '!A:C,3,)","v":"Active"},{"$f":"VLOOKUP(B237,'[1]2018.7 '!A:M,13,)","v":"Ambient"},{"$f":"VLOOKUP(B237,'[1]2018.7 '!A:N,14,)","v":"Reviewing"}]
[237,"28990778","28990778","Column packing kit FineLINE","021","13","STD BIOPROCESS CHROM HW","258","Std FineLINE","询价","询价",null,{"$f":"VLOOKUP(B238,'[1]2018.7 '!A:C,3,)","v":"Active"},{"$f":"VLOOKUP(B238,'[1]2018.7 '!A:M,13,)","v":"Ambient"},{"$f":"VLOOKUP(B238,'[1]2018.7 '!A:N,14,)","v":"Reviewing"}]
[238,"28994472","28994472","Manometer Kit 0-6 Bar","021","13","STD BIOPROCESS CHROM HW","254","Std BPG","询价","询价",null,{"$f":"VLOOKUP(B239,'[1]2018.7 '!A:C,3,)","v":"Active"},{"$f":"VLOOKUP(B239,'[1]2018.7 '!A:M,13,)","v":"Ambient"},{"$f":"VLOOKUP(B239,'[1]2018.7 '!A:N,14,)","v":"No"}]
[239,"28998919","28998919","NA-BPG100/500 Column","021","13","STD BIOPROCESS CHROM HW","254","Std BPG","询价","询价",null,{"$f":"VLOOKUP(B240,'[1]2018.7 '!A:C,3,)","v":"Active"},{"$f":"VLOOKUP(B240,'[1]2018.7 '!A:M,13,)","v":"Ambient"},{"$f":"VLOOKUP(B240,'[1]2018.7 '!A:N,14,)","v":"Reviewing"}]
[240,"28998920","28998920","NA-BPG100/750 Column","021","13","STD BIOPROCESS CHROM HW","254","Std BPG","询价","询价",null,{"$f":"VLOOKUP(B241,'[1]2018.7 '!A:C,3,)","v":"Active"},{"$f":"VLOOKUP(B241,'[1]2018.7 '!A:M,13,)","v":"Ambient"},{"$f":"VLOOKUP(B241,'[1]2018.7 '!A:N,14,)","v":"Reviewing"}]
[241,"28998921","28998921","NA-BPG100/950 Column","021","13","STD BIOPROCESS CHROM HW","254","Std BPG","询价","询价",null,{"$f":"VLOOKUP(B242,'[1]2018.7 '!A:C,3,)","v":"Active"},{"$f":"VLOOKUP(B242,'[1]2018.7 '!A:M,13,)","v":"Ambient"},{"$f":"VLOOKUP(B242,'[1]2018.7 '!A:N,14,)","v":"Reviewing"}]
[242,"28998922","28998922","NA-BPG140/500 Column","021","13","STD BIOPROCESS CHROM HW","254","Std BPG","询价","询价",null,{"$f":"VLOOKUP(B243,'[1]2018.7 '!A:C,3,)","v":"Active"},{"$f":"VLOOKUP(B243,'[1]2018.7 '!A:M,13,)","v":"Ambient"},{"$f":"VLOOKUP(B243,'[1]2018.7 '!A:N,14,)","v":"Reviewing"}]
[243,"28998924","28998924","NA-BPG140/950 Column","021","13","STD BIOPROCESS CHROM HW","254","Std BPG","询价","询价",null,{"$f":"VLOOKUP(B244,'[1]2018.7 '!A:C,3,)","v":"Active"},{"$f":"VLOOKUP(B244,'[1]2018.7 '!A:M,13,)","v":"Ambient"},{"$f":"VLOOKUP(B244,'[1]2018.7 '!A:N,14,)","v":"Reviewing"}]
[244,"28998926","28998926","NA-BPG200/750 Column","021","13","STD BIOPROCESS CHROM HW","254","Std BPG","询价","询价",null,{"$f":"VLOOKUP(B245,'[1]2018.7 '!A:C,3,)","v":"Active"},{"$f":"VLOOKUP(B245,'[1]2018.7 '!A:M,13,)","v":"Ambient"},{"$f":"VLOOKUP(B245,'[1]2018.7 '!A:N,14,)","v":"Reviewing"}]
[245,"28998927","28998927","NA-BPG200/950 Column","021","13","STD BIOPROCESS CHROM HW","254","Std BPG","询价","询价",null,{"$f":"VLOOKUP(B246,'[1]2018.7 '!A:C,3,)","v":"Active"},{"$f":"VLOOKUP(B246,'[1]2018.7 '!A:M,13,)","v":"Ambient"},{"$f":"VLOOKUP(B246,'[1]2018.7 '!A:N,14,)","v":"Reviewing"}]
[246,"28999211","28999211","NA-BPG300/750 Column","021","13","STD BIOPROCESS CHROM HW","254","Std BPG","询价","询价",null,{"$f":"VLOOKUP(B247,'[1]2018.7 '!A:C,3,)","v":"Active"},{"$f":"VLOOKUP(B247,'[1]2018.7 '!A:M,13,)","v":"Ambient"},{"$f":"VLOOKUP(B247,'[1]2018.7 '!A:N,14,)","v":"Reviewing"}]
[247,"28999213","28999213","NA-BPG300/950 Column","021","13","STD BIOPROCESS CHROM HW","254","Std BPG","询价","询价",null,{"$f":"VLOOKUP(B248,'[1]2018.7 '!A:C,3,)","v":"Active"},{"$f":"VLOOKUP(B248,'[1]2018.7 '!A:M,13,)","v":"Ambient"},{"$f":"VLOOKUP(B248,'[1]2018.7 '!A:N,14,)","v":"Reviewing"}]
[248,"28999216","28999216","NA-INdEX 70/500","021","13","STD BIOPROCESS CHROM HW","234","Std Other","询价","询价",null,{"$f":"VLOOKUP(B249,'[1]2018.7 '!A:C,3,)","v":"Active"},{"$f":"VLOOKUP(B249,'[1]2018.7 '!A:M,13,)","v":"Ambient"},{"$f":"VLOOKUP(B249,'[1]2018.7 '!A:N,14,)","v":"Reviewing"}]
[249,"28999218","28999218","NA-INdEX 70/950","021","13","STD BIOPROCESS CHROM HW","234","Std Other","询价","询价",null,{"$f":"VLOOKUP(B250,'[1]2018.7 '!A:C,3,)","v":"Active"},{"$f":"VLOOKUP(B250,'[1]2018.7 '!A:M,13,)","v":"Ambient"},{"$f":"VLOOKUP(B250,'[1]2018.7 '!A:N,14,)","v":"Reviewing"}]
[250,"28999355","28999355","NA-INdEX 100/500","021","13","STD BIOPROCESS CHROM HW","234","Std Other","询价","询价",null,{"$f":"VLOOKUP(B251,'[1]2018.7 '!A:C,3,)","v":"Active"},{"$f":"VLOOKUP(B251,'[1]2018.7 '!A:M,13,)","v":"Ambient"},{"$f":"VLOOKUP(B251,'[1]2018.7 '!A:N,14,)","v":"Reviewing"}]
[251,"44550989","44550989","T-JUNCTION 51MM TC I.D. 22MM","021","13","STD BIOPROCESS CHROM HW","254","Std BPG",405,{"v":3648.645,"d":"3,649"},null,{"$f":"VLOOKUP(B252,'[1]2018.7 '!A:C,3,)","v":"Active"},{"$f":"VLOOKUP(B252,'[1]2018.7 '!A:M,13,)","v":"Ambient"},{"$f":"VLOOKUP(B252,'[1]2018.7 '!A:N,14,)","v":"No"}]
[252,"44732047","44732047","BPG 140/750","021","13","STD BIOPROCESS CHROM HW","254","Std BPG",{"v":10820,"d":"10,820"},{"v":97477.38,"d":"97,477"},null,{"$f":"VLOOKUP(B253,'[1]2018.7 '!A:C,3,)","v":"Active"},{"$f":"VLOOKUP(B253,'[1]2018.7 '!A:M,13,)","v":"Ambient"},{"$f":"VLOOKUP(B253,'[1]2018.7 '!A:N,14,)","v":"No"}]
[253,"80590254","80590254","Domestic  Std Col 50-450","021","13","STD BIOPROCESS CHROM HW","254","Std BPG","询价","询价",null,{"$f":"VLOOKUP(B254,'[1]2018.7 '!A:C,3,)","v":"Active"},{"$f":"VLOOKUP(B254,'[1]2018.7 '!A:M,13,)","v":"Dry Ice"},{"$f":"VLOOKUP(B254,'[1]2018.7 '!A:N,14,)","v":"Reviewing"}]
[254,"11002784","11002784","FINELINE 350PL EPDM 2UM","021","13","STD BIOPROCESS CHROM HW","258","Std FineLINE",{"v":102216,"d":"102,216"},{"v":920863.944,"d":"920,864"},null,{"$f":"VLOOKUP(B255,'[1]2018.7 '!A:C,3,)","v":"Active"},{"$f":"VLOOKUP(B255,'[1]2018.7 '!A:M,13,)","v":"Ambient"},{"$f":"VLOOKUP(B255,'[1]2018.7 '!A:N,14,)","v":"No"}]
[255,"11002785","11002785","FINELINE 350PL EPDM 10UM","021","13","STD BIOPROCESS CHROM HW","258","Std FineLINE",{"v":102216,"d":"102,216"},{"v":920863.944,"d":"920,864"},null,{"$f":"VLOOKUP(B256,'[1]2018.7 '!A:C,3,)","v":"Active"},{"$f":"VLOOKUP(B256,'[1]2018.7 '!A:M,13,)","v":"Ambient"},{"$f":"VLOOKUP(B256,'[1]2018.7 '!A:N,14,)","v":"Reviewing"}]
[256,"11002786","11002786","FINELINE 350PL PFR 2UM","021","13","STD BIOPROCESS CHROM HW","258","Std FineLINE",{"v":106246,"d":"106,246"},{"v":957170.214,"d":"957,170"},null,{"$f":"VLOOKUP(B257,'[1]2018.7 '!A:C,3,)","v":"Active"},{"$f":"VLOOKUP(B257,'[1]2018.7 '!A:M,13,)","v":"Ambient"},{"$f":"VLOOKUP(B257,'[1]2018.7 '!A:N,14,)","v":"No"}]
[257,"11002787","11002787","FINELINE 350PL PFR 10UM","021","13","STD BIOPROCESS CHROM HW","258","Std FineLINE",{"v":106246,"d":"106,246"},{"v":957170.214,"d":"957,170"},null,{"$f":"VLOOKUP(B258,'[1]2018.7 '!A:C,3,)","v":"Active"},{"$f":"VLOOKUP(B258,'[1]2018.7 '!A:M,13,)","v":"Ambient"},{"$f":"VLOOKUP(B258,'[1]2018.7 '!A:N,14,)","v":"Reviewing"}]
[258,"11002790","11002790","FINELINE 350P EPDM 2UM","021","13","STD BIOPROCESS CHROM HW","258","Std FineLINE",{"$f":"K259/9.009","v":{"v":91902,"d":"91,902"}},{"v":827945.118,"d":"827,945"},null,{"$f":"VLOOKUP(B259,'[1]2018.7 '!A:C,3,)","v":"Active"},{"$f":"VLOOKUP(B259,'[1]2018.7 '!A:M,13,)","v":"Ambient"},{"$f":"VLOOKUP(B259,'[1]2018.7 '!A:N,14,)","v":"No"}]
[259,"11002791","11002791","FINELINE 350P EPDM 10UM","021","13","STD BIOPROCESS CHROM HW","258","Std FineLINE",{"v":91902,"d":"91,902"},{"v":827945.118,"d":"827,945"},null,{"$f":"VLOOKUP(B260,'[1]2018.7 '!A:C,3,)","v":"Active"},{"$f":"VLOOKUP(B260,'[1]2018.7 '!A:M,13,)","v":"Ambient"},{"$f":"VLOOKUP(B260,'[1]2018.7 '!A:N,14,)","v":"No"}]
[260,"11002792","11002792","FINELINE 350P PFR 2UM","021","13","STD BIOPROCESS CHROM HW","258","Std FineLINE",{"v":95526,"d":"95,526"},{"v":860593.734,"d":"860,594"},null,{"$f":"VLOOKUP(B261,'[1]2018.7 '!A:C,3,)","v":"Active"},{"$f":"VLOOKUP(B261,'[1]2018.7 '!A:M,13,)","v":"Ambient"},{"$f":"VLOOKUP(B261,'[1]2018.7 '!A:N,14,)","v":"No"}]
[261,"11002793","11002793","FINELINE 350P PFR 10UM","021","13","STD BIOPROCESS CHROM HW","258","Std FineLINE",{"v":95526,"d":"95,526"},{"v":860593.734,"d":"860,594"},null,{"$f":"VLOOKUP(B262,'[1]2018.7 '!A:C,3,)","v":"Active"},{"$f":"VLOOKUP(B262,'[1]2018.7 '!A:M,13,)","v":"Ambient"},{"$f":"VLOOKUP(B262,'[1]2018.7 '!A:N,14,)","v":"Reviewing"}]
[262,"11002798","11002798","FINELINE 100P","021","13","STD BIOPROCESS CHROM HW","258","Std FineLINE",{"v":14270,"d":"14,270"},{"v":128558.43000000001,"d":"128,558"},null,{"$f":"VLOOKUP(B263,'[1]2018.7 '!A:C,3,)","v":"Active"},{"$f":"VLOOKUP(B263,'[1]2018.7 '!A:M,13,)","v":"Ambient"},{"$f":"VLOOKUP(B263,'[1]2018.7 '!A:N,14,)","v":"No"}]
[263,"11002799","11002799","FINELINE 100PL","021","13","STD BIOPROCESS CHROM HW","258","Std FineLINE",{"v":19649,"d":"19,649"},{"v":177017.84100000001,"d":"177,018"},null,{"$f":"VLOOKUP(B264,'[1]2018.7 '!A:C,3,)","v":"Active"},{"$f":"VLOOKUP(B264,'[1]2018.7 '!A:M,13,)","v":"Ambient"},{"$f":"VLOOKUP(B264,'[1]2018.7 '!A:N,14,)","v":"No"}]
[264,"11003114","11003114","FINELINE 200P","021","13","STD BIOPROCESS CHROM HW","258","Std FineLINE",{"v":23717,"d":"23,717"},{"v":213666.453,"d":"213,666"},null,{"$f":"VLOOKUP(B265,'[1]2018.7 '!A:C,3,)","v":"Active"},{"$f":"VLOOKUP(B265,'[1]2018.7 '!A:M,13,)","v":"Ambient"},{"$f":"VLOOKUP(B265,'[1]2018.7 '!A:N,14,)","v":"No"}]
[265,"11003115","11003115","FINELINE 200PL","021","13","STD BIOPROCESS CHROM HW","258","Std FineLINE",{"v":32609.000000000004,"d":"32,609"},{"v":293774.481,"d":"293,774"},null,{"$f":"VLOOKUP(B266,'[1]2018.7 '!A:C,3,)","v":"Active"},{"$f":"VLOOKUP(B266,'[1]2018.7 '!A:M,13,)","v":"Ambient"},{"$f":"VLOOKUP(B266,'[1]2018.7 '!A:N,14,)","v":"No"}]
[266,"18110202","18110202","FINELINE PILOT 35","021","13","STD BIOPROCESS CHROM HW","258","Std FineLINE",{"v":4044,"d":"4,044"},{"v":36432.396,"d":"36,432"},null,{"$f":"VLOOKUP(B267,'[1]2018.7 '!A:C,3,)","v":"Active"},{"$f":"VLOOKUP(B267,'[1]2018.7 '!A:M,13,)","v":"Ambient"},{"$f":"VLOOKUP(B267,'[1]2018.7 '!A:N,14,)","v":"No"}]
[267,"18110215","18110215","O-Ring FFPM/FFKM FineLINE Pilot","021","13","STD BIOPROCESS CHROM HW","258","Std FineLINE",646,{"v":5819.814,"d":"5,820"},null,{"$f":"VLOOKUP(B268,'[1]2018.7 '!A:C,3,)","v":"Active"},{"$f":"VLOOKUP(B268,'[1]2018.7 '!A:M,13,)","v":"Ambient"},{"$f":"VLOOKUP(B268,'[1]2018.7 '!A:N,14,)","v":"No"}]
[268,"18110221","18110221","STOP PLUG FINELINE PILOT","021","13","STD BIOPROCESS CHROM HW","258","Std FineLINE",159,{"v":1432.431,"d":"1,432"},null,{"$f":"VLOOKUP(B269,'[1]2018.7 '!A:C,3,)","v":"Active"},{"$f":"VLOOKUP(B269,'[1]2018.7 '!A:M,13,)","v":"Ambient"},{"$f":"VLOOKUP(B269,'[1]2018.7 '!A:N,14,)","v":"No"}]
[269,"18110536","18110536","PRESSURE RELIEF VALVE RL3 6MM","021","13","STD BIOPROCESS CHROM HW","258","Std FineLINE",{"v":1547,"d":"1,547"},{"v":13936.923,"d":"13,937"},null,{"$f":"VLOOKUP(B270,'[1]2018.7 '!A:C,3,)","v":"Active"},{"$f":"VLOOKUP(B270,'[1]2018.7 '!A:M,13,)","v":"Ambient"},{"$f":"VLOOKUP(B270,'[1]2018.7 '!A:N,14,)","v":"No"}]
[270,"18110537","18110537","BALL VALVE 12MM","021","13","STD BIOPROCESS CHROM HW","258","Std FineLINE",434,{"v":3909.906,"d":"3,910"},null,{"$f":"VLOOKUP(B271,'[1]2018.7 '!A:C,3,)","v":"Active"},{"$f":"VLOOKUP(B271,'[1]2018.7 '!A:M,13,)","v":"Ambient"},{"$f":"VLOOKUP(B271,'[1]2018.7 '!A:N,14,)","v":"No"}]
[271,"18110623","18110623","0-Ring Kit RPC FineLINE 200","021","13","STD BIOPROCESS CHROM HW","258","Std FineLINE",{"v":3829,"d":"3,829"},{"v":34495.461,"d":"34,495"},null,{"$f":"VLOOKUP(B272,'[1]2018.7 '!A:C,3,)","v":"Active"},{"$f":"VLOOKUP(B272,'[1]2018.7 '!A:M,13,)","v":"Ambient"},{"$f":"VLOOKUP(B272,'[1]2018.7 '!A:N,14,)","v":"No"}]
[272,"18111090","18111090","PRESSURE RELIEF VALVE FINELINE 35","021","13","STD BIOPROCESS CHROM HW","258","Std FineLINE",664,{"v":5981.976000000001,"d":"5,982"},null,{"$f":"VLOOKUP(B273,'[1]2018.7 '!A:C,3,)","v":"Active"},{"$f":"VLOOKUP(B273,'[1]2018.7 '!A:M,13,)","v":"Ambient"},{"$f":"VLOOKUP(B273,'[1]2018.7 '!A:N,14,)","v":"No"}]
[273,"18112416","18112416","TUBING CONNECTOR OD 3.2MM-M6","021","13","STD BIOPROCESS CHROM HW","258","Std FineLINE",48,{"v":432.432,"d":"432"},null,{"$f":"VLOOKUP(B274,'[1]2018.7 '!A:C,3,)","v":"Active"},{"$f":"VLOOKUP(B274,'[1]2018.7 '!A:M,13,)","v":"Ambient"},{"$f":"VLOOKUP(B274,'[1]2018.7 '!A:N,14,)","v":"No"}]
[274,"18112421","18112421","ADAPTORE NET FINELINE 200 10MY","021","13","STD BIOPROCESS CHROM HW","258","Std FineLINE",{"v":2455,"d":"2,455"},{"v":22117.095,"d":"22,117"},null,{"$f":"VLOOKUP(B275,'[1]2018.7 '!A:C,3,)","v":"Active"},{"$f":"VLOOKUP(B275,'[1]2018.7 '!A:M,13,)","v":"Ambient"},{"$f":"VLOOKUP(B275,'[1]2018.7 '!A:N,14,)","v":"Reviewing"}]
[275,"18112422","18112422","END PIECE NET FINELINE 200 10MY","021","13","STD BIOPROCESS CHROM HW","258","Std FineLINE",{"v":2455,"d":"2,455"},{"v":22117.095,"d":"22,117"},null,{"$f":"VLOOKUP(B276,'[1]2018.7 '!A:C,3,)","v":"Active"},{"$f":"VLOOKUP(B276,'[1]2018.7 '!A:M,13,)","v":"Ambient"},{"$f":"VLOOKUP(B276,'[1]2018.7 '!A:N,14,)","v":"No"}]
[276,"18112600","18112600","NET END PIECE FINELINE 350 10M","021","13","STD BIOPROCESS CHROM HW","258","Std FineLINE",{"v":5102,"d":"5,102"},{"v":45963.918000000005,"d":"45,964"},null,{"$f":"VLOOKUP(B277,'[1]2018.7 '!A:C,3,)","v":"Active"},{"$f":"VLOOKUP(B277,'[1]2018.7 '!A:M,13,)","v":"Ambient"},{"$f":"VLOOKUP(B277,'[1]2018.7 '!A:N,14,)","v":"No"}]
[277,"18112601","18112601","NET ADAPTOR FINELINE 350 10MY","021","13","STD BIOPROCESS CHROM HW","258","Std FineLINE",{"v":5193,"d":"5,193"},{"v":46783.737,"d":"46,784"},null,{"$f":"VLOOKUP(B278,'[1]2018.7 '!A:C,3,)","v":"Active"},{"$f":"VLOOKUP(B278,'[1]2018.7 '!A:M,13,)","v":"Ambient"},{"$f":"VLOOKUP(B278,'[1]2018.7 '!A:N,14,)","v":"No"}]
[278,"18113698","18113698","O-RING KIT FINELINE 350,PFR-91","021","13","STD BIOPROCESS CHROM HW","258","Std FineLINE",{"v":5184,"d":"5,184"},{"v":46702.656,"d":"46,703"},null,{"$f":"VLOOKUP(B279,'[1]2018.7 '!A:C,3,)","v":"Active"},{"$f":"VLOOKUP(B279,'[1]2018.7 '!A:M,13,)","v":"Ambient"},{"$f":"VLOOKUP(B279,'[1]2018.7 '!A:N,14,)","v":"No"}]
[279,"18115298","18115298","FINELINE 70","021","13","STD BIOPROCESS CHROM HW","258","Std FineLINE",{"v":10596,"d":"10,596"},{"v":95459.364,"d":"95,459"},null,{"$f":"VLOOKUP(B280,'[1]2018.7 '!A:C,3,)","v":"Active"},{"$f":"VLOOKUP(B280,'[1]2018.7 '!A:M,13,)","v":"Ambient"},{"$f":"VLOOKUP(B280,'[1]2018.7 '!A:N,14,)","v":"No"}]
[280,"18115299","18115299","FINELINE 70L","021","13","STD BIOPROCESS CHROM HW","258","Std FineLINE",{"v":12855,"d":"12,855"},{"v":115810.695,"d":"115,811"},null,{"$f":"VLOOKUP(B281,'[1]2018.7 '!A:C,3,)","v":"Active"},{"$f":"VLOOKUP(B281,'[1]2018.7 '!A:M,13,)","v":"Ambient"},{"$f":"VLOOKUP(B281,'[1]2018.7 '!A:N,14,)","v":"No"}]
[281,"28917295","28917295","Mechanical locking for FineLINE 35 pilot","021","13","STD BIOPROCESS CHROM HW","258","Std FineLINE",{"v":469.00000000000006,"d":"469"},{"v":4225.2210000000005,"d":"4,225"},null,{"$f":"VLOOKUP(B282,'[1]2018.7 '!A:C,3,)","v":"Active"},{"$f":"VLOOKUP(B282,'[1]2018.7 '!A:M,13,)","v":"Ambient"},{"$f":"VLOOKUP(B282,'[1]2018.7 '!A:N,14,)","v":"Reviewing"}]
[282,"28989558","28989558","FineLINE Pilot 35","021","13","STD BIOPROCESS CHROM HW","258","Std FineLINE","询价","询价",null,{"$f":"VLOOKUP(B283,'[1]2018.7 '!A:C,3,)","v":"Active"},{"$f":"VLOOKUP(B283,'[1]2018.7 '!A:M,13,)","v":"Ambient"},{"$f":"VLOOKUP(B283,'[1]2018.7 '!A:N,14,)","v":"Reviewing"}]
[283,"28989559","28989559","FineLINE 70","021","13","STD BIOPROCESS CHROM HW","258","Std FineLINE","询价","询价",null,{"$f":"VLOOKUP(B284,'[1]2018.7 '!A:C,3,)","v":"Active"},{"$f":"VLOOKUP(B284,'[1]2018.7 '!A:M,13,)","v":"Ambient"},{"$f":"VLOOKUP(B284,'[1]2018.7 '!A:N,14,)","v":"Reviewing"}]
[284,"28989560","28989560","FineLINE 70L","021","13","STD BIOPROCESS CHROM HW","258","Std FineLINE","询价","询价",null,{"$f":"VLOOKUP(B285,'[1]2018.7 '!A:C,3,)","v":"Active"},{"$f":"VLOOKUP(B285,'[1]2018.7 '!A:M,13,)","v":"Ambient"},{"$f":"VLOOKUP(B285,'[1]2018.7 '!A:N,14,)","v":"Reviewing"}]
[285,"28989561","28989561","FineLINE 100P","021","13","STD BIOPROCESS CHROM HW","258","Std FineLINE","询价","询价",null,{"$f":"VLOOKUP(B286,'[1]2018.7 '!A:C,3,)","v":"Active"},{"$f":"VLOOKUP(B286,'[1]2018.7 '!A:M,13,)","v":"Ambient"},{"$f":"VLOOKUP(B286,'[1]2018.7 '!A:N,14,)","v":"Reviewing"}]
[286,"28989562","28989562","FineLINE 100LP","021","13","STD BIOPROCESS CHROM HW","258","Std FineLINE","询价","询价",null,{"$f":"VLOOKUP(B287,'[1]2018.7 '!A:C,3,)","v":"Active"},{"$f":"VLOOKUP(B287,'[1]2018.7 '!A:M,13,)","v":"Ambient"},{"$f":"VLOOKUP(B287,'[1]2018.7 '!A:N,14,)","v":"Reviewing"}]
[287,"28989563","28989563","FineLINE 200P","021","13","STD BIOPROCESS CHROM HW","258","Std FineLINE","询价","询价",null,{"$f":"VLOOKUP(B288,'[1]2018.7 '!A:C,3,)","v":"Active"},{"$f":"VLOOKUP(B288,'[1]2018.7 '!A:M,13,)","v":"Ambient"},{"$f":"VLOOKUP(B288,'[1]2018.7 '!A:N,14,)","v":"Reviewing"}]
[288,"28989564","28989564","FineLINE 200LP","021","13","STD BIOPROCESS CHROM HW","258","Std FineLINE","询价","询价",null,{"$f":"VLOOKUP(B289,'[1]2018.7 '!A:C,3,)","v":"Active"},{"$f":"VLOOKUP(B289,'[1]2018.7 '!A:M,13,)","v":"Ambient"},{"$f":"VLOOKUP(B289,'[1]2018.7 '!A:N,14,)","v":"Reviewing"}]
[289,"29000361","29000361","NA-FineLINE 100LP","021","13","STD BIOPROCESS CHROM HW","258","Std FineLINE","询价","询价",null,{"$f":"VLOOKUP(B290,'[1]2018.7 '!A:C,3,)","v":"Active"},{"$f":"VLOOKUP(B290,'[1]2018.7 '!A:M,13,)","v":"Ambient"},{"$f":"VLOOKUP(B290,'[1]2018.7 '!A:N,14,)","v":"Reviewing"}]
[290,"29025600","29025600","FL 100 LONG, ROCHE CUSTOM","021","13","STD BIOPROCESS CHROM HW","258","Std FineLINE",{"v":42978,"d":"42,978"},{"v":387188.802,"d":"387,189"},null,{"$f":"VLOOKUP(B291,'[1]2018.7 '!A:C,3,)","v":"Active"},{"$f":"VLOOKUP(B291,'[1]2018.7 '!A:M,13,)","v":"Ambient"},{"$f":"VLOOKUP(B291,'[1]2018.7 '!A:N,14,)","v":"Reviewing"}]
[291,"80590258","80590258","Domestic Std MPLC Columns","021","13","STD BIOPROCESS CHROM HW","258","Std FineLINE","询价","询价",null,{"$f":"VLOOKUP(B292,'[1]2018.7 '!A:C,3,)","v":"Active"},{"$f":"VLOOKUP(B292,'[1]2018.7 '!A:M,13,)","v":"Dry Ice"},{"$f":"VLOOKUP(B292,'[1]2018.7 '!A:N,14,)","v":"Reviewing"}]
[292,"18111250","18111250","STOP PLUG, 5/16, PKG/5","021","13","STD BIOPROCESS CHROM HW","260","Std AxiChrom 50-200",32,{"v":288.288,"d":"288"},null,{"$f":"VLOOKUP(B293,'[1]2018.7 '!A:C,3,)","v":"Active"},{"$f":"VLOOKUP(B293,'[1]2018.7 '!A:M,13,)","v":"Ambient"},{"$f":"VLOOKUP(B293,'[1]2018.7 '!A:N,14,)","v":"No"}]
[293,"18112776","18112776","CONNECTOR 5/16in/FEMALE/M6/MALE","021","13","STD BIOPROCESS CHROM HW","260","Std AxiChrom 50-200",76,{"v":684.684,"d":"685"},null,{"$f":"VLOOKUP(B294,'[1]2018.7 '!A:C,3,)","v":"Active"},{"$f":"VLOOKUP(B294,'[1]2018.7 '!A:M,13,)","v":"Ambient"},{"$f":"VLOOKUP(B294,'[1]2018.7 '!A:N,14,)","v":"No"}]
[294,"18114208","18114208","UNION 5/16 IN FEMALE/1/16 IN MALE","021","13","STD BIOPROCESS CHROM HW","260","Std AxiChrom 50-200",58,{"v":522.522,"d":"523"},null,{"$f":"VLOOKUP(B295,'[1]2018.7 '!A:C,3,)","v":"Active"},{"$f":"VLOOKUP(B295,'[1]2018.7 '!A:M,13,)","v":"Ambient"},{"$f":"VLOOKUP(B295,'[1]2018.7 '!A:N,14,)","v":"No"}]
[295,"18116916","18116916","CONNECTOR M6FE-5/16MA APILOT","021","13","STD BIOPROCESS CHROM HW","260","Std AxiChrom 50-200",126,{"v":1135.134,"d":"1,135"},null,{"$f":"VLOOKUP(B296,'[1]2018.7 '!A:C,3,)","v":"Active"},{"$f":"VLOOKUP(B296,'[1]2018.7 '!A:M,13,)","v":"Ambient"},{"$f":"VLOOKUP(B296,'[1]2018.7 '!A:N,14,)","v":"No"}]
[296,"18116917","18116917","CONNECTOR M6FE-5/16FE APILOT","021","13","STD BIOPROCESS CHROM HW","260","Std AxiChrom 50-200",104,{"v":936.936,"d":"937"},null,{"$f":"VLOOKUP(B297,'[1]2018.7 '!A:C,3,)","v":"Active"},{"$f":"VLOOKUP(B297,'[1]2018.7 '!A:M,13,)","v":"Ambient"},{"$f":"VLOOKUP(B297,'[1]2018.7 '!A:N,14,)","v":"No"}]
[297,"18116922","18116922","CONNECTOR TC-5/16FE AKTAPILOT","021","13","STD BIOPROCESS CHROM HW","260","Std AxiChrom 50-200",193,{"v":1738.737,"d":"1,739"},null,{"$f":"VLOOKUP(B298,'[1]2018.7 '!A:C,3,)","v":"Active"},{"$f":"VLOOKUP(B298,'[1]2018.7 '!A:M,13,)","v":"Ambient"},{"$f":"VLOOKUP(B298,'[1]2018.7 '!A:N,14,)","v":"No"}]
[298,"18116923","18116923","CONNECTOR TC-5/16MA AKTAPILOT","021","13","STD BIOPROCESS CHROM HW","260","Std AxiChrom 50-200",199,{"v":1792.7910000000002,"d":"1,793"},null,{"$f":"VLOOKUP(B299,'[1]2018.7 '!A:C,3,)","v":"Active"},{"$f":"VLOOKUP(B299,'[1]2018.7 '!A:M,13,)","v":"Ambient"},{"$f":"VLOOKUP(B299,'[1]2018.7 '!A:N,14,)","v":"No"}]
[299,"18245001","18245001","DOMED NUT, M6","021","13","STD BIOPROCESS CHROM HW","260","Std AxiChrom 50-200",66,{"v":594.594,"d":"595"},null,{"$f":"VLOOKUP(B300,'[1]2018.7 '!A:C,3,)","v":"Active"},{"$f":"VLOOKUP(B300,'[1]2018.7 '!A:M,13,)","v":"Ambient"},{"$f":"VLOOKUP(B300,'[1]2018.7 '!A:N,14,)","v":"No"}]
[300,"19214501","19214501","VALVE SRV-1","021","13","STD BIOPROCESS CHROM HW","260","Std AxiChrom 50-200",276,{"v":2486.484,"d":"2,486"},null,{"$f":"VLOOKUP(B301,'[1]2018.7 '!A:C,3,)","v":"Active"},{"$f":"VLOOKUP(B301,'[1]2018.7 '!A:M,13,)","v":"Ambient"},{"$f":"VLOOKUP(B301,'[1]2018.7 '!A:N,14,)","v":"No"}]
[301,"28401709","28401709","Pivot stand 50/70/100-300","021","13","STD BIOPROCESS CHROM HW","260","Std AxiChrom 50-200",{"v":1931.9999999999998,"d":"1,932"},{"v":17405.388,"d":"17,405"},null,{"$f":"VLOOKUP(B302,'[1]2018.7 '!A:C,3,)","v":"Active"},{"$f":"VLOOKUP(B302,'[1]2018.7 '!A:M,13,)","v":"Ambient"},{"$f":"VLOOKUP(B302,'[1]2018.7 '!A:N,14,)","v":"No"}]
[302,"28401710","28401710","Pivot stand 50/70/100-500","021","13","STD BIOPROCESS CHROM HW","260","Std AxiChrom 50-200",{"v":1992,"d":"1,992"},{"v":17945.928,"d":"17,946"},null,{"$f":"VLOOKUP(B303,'[1]2018.7 '!A:C,3,)","v":"Active"},{"$f":"VLOOKUP(B303,'[1]2018.7 '!A:M,13,)","v":"Ambient"},{"$f":"VLOOKUP(B303,'[1]2018.7 '!A:N,14,)","v":"No"}]
[303,"28401839","28401839","Mechanical locking 50","021","13","STD BIOPROCESS CHROM HW","260","Std AxiChrom 50-200",582,{"v":5243.238,"d":"5,243"},null,{"$f":"VLOOKUP(B304,'[1]2018.7 '!A:C,3,)","v":"Active"},{"$f":"VLOOKUP(B304,'[1]2018.7 '!A:M,13,)","v":"Ambient"},{"$f":"VLOOKUP(B304,'[1]2018.7 '!A:N,14,)","v":"No"}]
[304,"28401840","28401840","Mechanical locking 70","021","13","STD BIOPROCESS CHROM HW","260","Std AxiChrom 50-200",784,{"v":7063.0560000000005,"d":"7,063"},null,{"$f":"VLOOKUP(B305,'[1]2018.7 '!A:C,3,)","v":"Active"},{"$f":"VLOOKUP(B305,'[1]2018.7 '!A:M,13,)","v":"Ambient"},{"$f":"VLOOKUP(B305,'[1]2018.7 '!A:N,14,)","v":"No"}]
[305,"28401841","28401841","Mechanical locking 100","021","13","STD BIOPROCESS CHROM HW","260","Std AxiChrom 50-200",{"v":1062,"d":"1,062"},{"v":9567.558,"d":"9,568"},null,{"$f":"VLOOKUP(B306,'[1]2018.7 '!A:C,3,)","v":"Active"},{"$f":"VLOOKUP(B306,'[1]2018.7 '!A:M,13,)","v":"Ambient"},{"$f":"VLOOKUP(B306,'[1]2018.7 '!A:N,14,)","v":"No"}]
[306,"28404777","28404777","Tool kit AxiChrom 50","021","13","STD BIOPROCESS CHROM HW","260","Std AxiChrom 50-200",596,{"v":5369.3640000000005,"d":"5,369"},null,{"$f":"VLOOKUP(B307,'[1]2018.7 '!A:C,3,)","v":"Active"},{"$f":"VLOOKUP(B307,'[1]2018.7 '!A:M,13,)","v":"Ambient"},{"$f":"VLOOKUP(B307,'[1]2018.7 '!A:N,14,)","v":"No"}]
[307,"28404778","28404778","Tool kit AxiChrom 70","021","13","STD BIOPROCESS CHROM HW","260","Std AxiChrom 50-200",557,{"v":5018.013,"d":"5,018"},null,{"$f":"VLOOKUP(B308,'[1]2018.7 '!A:C,3,)","v":"Active"},{"$f":"VLOOKUP(B308,'[1]2018.7 '!A:M,13,)","v":"Ambient"},{"$f":"VLOOKUP(B308,'[1]2018.7 '!A:N,14,)","v":"No"}]
[308,"28901831","28901831","AxiChrom 50/300/Glass/20SS","021","13","STD BIOPROCESS CHROM HW","260","Std AxiChrom 50-200",{"v":9147,"d":"9,147"},{"v":82405.323,"d":"82,405"},null,{"$f":"VLOOKUP(B309,'[1]2018.7 '!A:C,3,)","v":"Active"},{"$f":"VLOOKUP(B309,'[1]2018.7 '!A:M,13,)","v":"Ambient"},{"$f":"VLOOKUP(B309,'[1]2018.7 '!A:N,14,)","v":"No"}]
[309,"28901840","28901840","AxiChrom 70/300/Glass/20SS","021","13","STD BIOPROCESS CHROM HW","260","Std AxiChrom 50-200",{"v":11978,"d":"11,978"},{"v":107909.80200000001,"d":"107,910"},null,{"$f":"VLOOKUP(B310,'[1]2018.7 '!A:C,3,)","v":"Active"},{"$f":"VLOOKUP(B310,'[1]2018.7 '!A:M,13,)","v":"Ambient"},{"$f":"VLOOKUP(B310,'[1]2018.7 '!A:N,14,)","v":"No"}]
[310,"28901841","28901841","AxiChrom 50/500/Glass/20SS","021","13","STD BIOPROCESS CHROM HW","260","Std AxiChrom 50-200",{"v":9569,"d":"9,569"},{"v":86207.121,"d":"86,207"},null,{"$f":"VLOOKUP(B311,'[1]2018.7 '!A:C,3,)","v":"Active"},{"$f":"VLOOKUP(B311,'[1]2018.7 '!A:M,13,)","v":"Ambient"},{"$f":"VLOOKUP(B311,'[1]2018.7 '!A:N,14,)","v":"No"}]
[311,"28901847","28901847","AxiChrom 70/500/Glass/20SS","021","13","STD BIOPROCESS CHROM HW","260","Std AxiChrom 50-200",{"v":12399,"d":"12,399"},{"v":111702.591,"d":"111,703"},null,{"$f":"VLOOKUP(B312,'[1]2018.7 '!A:C,3,)","v":"Active"},{"$f":"VLOOKUP(B312,'[1]2018.7 '!A:M,13,)","v":"Ambient"},{"$f":"VLOOKUP(B312,'[1]2018.7 '!A:N,14,)","v":"No"}]
[312,"28903274","28903274","AxiChrom 100/300/Glass/20SS","021","13","STD BIOPROCESS CHROM HW","260","Std AxiChrom 50-200",{"v":14811,"d":"14,811"},{"v":133432.299,"d":"133,432"},null,{"$f":"VLOOKUP(B313,'[1]2018.7 '!A:C,3,)","v":"Active"},{"$f":"VLOOKUP(B313,'[1]2018.7 '!A:M,13,)","v":"Ambient"},{"$f":"VLOOKUP(B313,'[1]2018.7 '!A:N,14,)","v":"No"}]
[313,"28903276","28903276","AxiChrom 100/500/Glass/20SS","021","13","STD BIOPROCESS CHROM HW","260","Std AxiChrom 50-200",{"v":15450.000000000002,"d":"15,450"},{"v":139189.05000000002,"d":"139,189"},null,{"$f":"VLOOKUP(B314,'[1]2018.7 '!A:C,3,)","v":"Active"},{"$f":"VLOOKUP(B314,'[1]2018.7 '!A:M,13,)","v":"Ambient"},{"$f":"VLOOKUP(B314,'[1]2018.7 '!A:N,14,)","v":"No"}]
[314,"28905541","28905541","Tubing kit AxiChrom 50, AKTAexplorer, desk","021","13","STD BIOPROCESS CHROM HW","260","Std AxiChrom 50-200",332,{"v":2990.9880000000003,"d":"2,991"},null,{"$f":"VLOOKUP(B315,'[1]2018.7 '!A:C,3,)","v":"Active"},{"$f":"VLOOKUP(B315,'[1]2018.7 '!A:M,13,)","v":"Ambient"},{"$f":"VLOOKUP(B315,'[1]2018.7 '!A:N,14,)","v":"No"}]
[315,"28905603","28905603","Tubing kit AxiChrom 50  AKTAexplorer, floor","021","13","STD BIOPROCESS CHROM HW","260","Std AxiChrom 50-200",330,{"v":2972.9700000000003,"d":"2,973"},null,{"$f":"VLOOKUP(B316,'[1]2018.7 '!A:C,3,)","v":"Active"},{"$f":"VLOOKUP(B316,'[1]2018.7 '!A:M,13,)","v":"Ambient"},{"$f":"VLOOKUP(B316,'[1]2018.7 '!A:N,14,)","v":"No"}]
[316,"28905676","28905676","Tubing kit AxiChrom 50 AKTApilot, desk","021","13","STD BIOPROCESS CHROM HW","260","Std AxiChrom 50-200",368,{"v":3315.312,"d":"3,315"},null,{"$f":"VLOOKUP(B317,'[1]2018.7 '!A:C,3,)","v":"Active"},{"$f":"VLOOKUP(B317,'[1]2018.7 '!A:M,13,)","v":"Ambient"},{"$f":"VLOOKUP(B317,'[1]2018.7 '!A:N,14,)","v":"No"}]
[317,"28907674","28907674","Valve straight 5/16","021","13","STD BIOPROCESS CHROM HW","260","Std AxiChrom 50-200",{"v":1160,"d":"1,160"},{"v":10450.44,"d":"10,450"},null,{"$f":"VLOOKUP(B318,'[1]2018.7 '!A:C,3,)","v":"Active"},{"$f":"VLOOKUP(B318,'[1]2018.7 '!A:M,13,)","v":"Ambient"},{"$f":"VLOOKUP(B318,'[1]2018.7 '!A:N,14,)","v":"No"}]
[318,"28907702","28907702","AxiChrom 140/300/Glass/20SS","021","13","STD BIOPROCESS CHROM HW","260","Std AxiChrom 50-200",{"v":21872,"d":"21,872"},{"v":197044.848,"d":"197,045"},null,{"$f":"VLOOKUP(B319,'[1]2018.7 '!A:C,3,)","v":"Active"},{"$f":"VLOOKUP(B319,'[1]2018.7 '!A:M,13,)","v":"Ambient"},{"$f":"VLOOKUP(B319,'[1]2018.7 '!A:N,14,)","v":"No"}]
[319,"28907703","28907703","AxiChrom 200/300/Glass/20SS","021","13","STD BIOPROCESS CHROM HW","260","Std AxiChrom 50-200",{"v":28758,"d":"28,758"},{"v":259080.82200000001,"d":"259,081"},null,{"$f":"VLOOKUP(B320,'[1]2018.7 '!A:C,3,)","v":"Active"},{"$f":"VLOOKUP(B320,'[1]2018.7 '!A:M,13,)","v":"Ambient"},{"$f":"VLOOKUP(B320,'[1]2018.7 '!A:N,14,)","v":"No"}]
[320,"28913613","28913613","Tubing kit AxiChrom 50-70, i.d. 1.7 mm, AKTApilot, floor","021","13","STD BIOPROCESS CHROM HW","260","Std AxiChrom 50-200",381,{"v":3432.429,"d":"3,432"},null,{"$f":"VLOOKUP(B321,'[1]2018.7 '!A:C,3,)","v":"Active"},{"$f":"VLOOKUP(B321,'[1]2018.7 '!A:M,13,)","v":"Ambient"},{"$f":"VLOOKUP(B321,'[1]2018.7 '!A:N,14,)","v":"No"}]
[321,"28913614","28913614","Tubing kit AxiChrom 70-100, i.d. 2.9 mm, AKTApilot, floor","021","13","STD BIOPROCESS CHROM HW","260","Std AxiChrom 50-200",445,{"v":4009.005,"d":"4,009"},null,{"$f":"VLOOKUP(B322,'[1]2018.7 '!A:C,3,)","v":"Active"},{"$f":"VLOOKUP(B322,'[1]2018.7 '!A:M,13,)","v":"Ambient"},{"$f":"VLOOKUP(B322,'[1]2018.7 '!A:N,14,)","v":"No"}]
[322,"28919103","28919103","Media Stirrer Dia. 80mm","021","13","STD BIOPROCESS CHROM HW","260","Std AxiChrom 50-200",{"$f":"K323/9.009","v":255},{"v":2297.295,"d":"2,297"},null,{"$f":"VLOOKUP(B323,'[1]2018.7 '!A:C,3,)","v":"Active"},{"$f":"VLOOKUP(B323,'[1]2018.7 '!A:M,13,)","v":"Ambient"},{"$f":"VLOOKUP(B323,'[1]2018.7 '!A:N,14,)","v":"No"}]
[323,"28919104","28919104","Media Stirrer Dia. 150mm","021","13","STD BIOPROCESS CHROM HW","260","Std AxiChrom 50-200",301,{"v":2711.7090000000003,"d":"2,712"},null,{"$f":"VLOOKUP(B324,'[1]2018.7 '!A:C,3,)","v":"Active"},{"$f":"VLOOKUP(B324,'[1]2018.7 '!A:M,13,)","v":"Ambient"},{"$f":"VLOOKUP(B324,'[1]2018.7 '!A:N,14,)","v":"No"}]
[324,"28923180","28923180","MEDIA STIRRER 40mm","021","13","STD BIOPROCESS CHROM HW","260","Std AxiChrom 50-200",454,{"v":4090.0860000000002,"d":"4,090"},null,{"$f":"VLOOKUP(B325,'[1]2018.7 '!A:C,3,)","v":"Active"},{"$f":"VLOOKUP(B325,'[1]2018.7 '!A:M,13,)","v":"Ambient"},{"$f":"VLOOKUP(B325,'[1]2018.7 '!A:N,14,)","v":"No"}]
[325,"28936136","28936136","Tool kit small AxiChrom 50-70-100-140-200","021","13","STD BIOPROCESS CHROM HW","260","Std AxiChrom 50-200",581,{"v":5234.229,"d":"5,234"},null,{"$f":"VLOOKUP(B326,'[1]2018.7 '!A:C,3,)","v":"Active"},{"$f":"VLOOKUP(B326,'[1]2018.7 '!A:M,13,)","v":"Ambient"},{"$f":"VLOOKUP(B326,'[1]2018.7 '!A:N,14,)","v":"No"}]
[326,"28936137","28936137","Torque wrench kit AxiChrom","021","13","STD BIOPROCESS CHROM HW","260","Std AxiChrom 50-200",{"v":479.99999999999994,"d":"480"},{"v":4324.32,"d":"4,324"},null,{"$f":"VLOOKUP(B327,'[1]2018.7 '!A:C,3,)","v":"Active"},{"$f":"VLOOKUP(B327,'[1]2018.7 '!A:M,13,)","v":"Ambient"},{"$f":"VLOOKUP(B327,'[1]2018.7 '!A:N,14,)","v":"No"}]
[327,"28936139","28936139","Torque driver kit AxiChrom","021","13","STD BIOPROCESS CHROM HW","260","Std AxiChrom 50-200",{"v":1253,"d":"1,253"},{"v":11288.277,"d":"11,288"},null,{"$f":"VLOOKUP(B328,'[1]2018.7 '!A:C,3,)","v":"Active"},{"$f":"VLOOKUP(B328,'[1]2018.7 '!A:M,13,)","v":"Ambient"},{"$f":"VLOOKUP(B328,'[1]2018.7 '!A:N,14,)","v":"No"}]
[328,"28942986","28942986","Silicone tubing kit AxiChrom 140, id3.2  -AKTAprocess","021","13","STD BIOPROCESS CHROM HW","260","Std AxiChrom 50-200",{"v":2471,"d":"2,471"},{"v":22261.239,"d":"22,261"},null,{"$f":"VLOOKUP(B329,'[1]2018.7 '!A:C,3,)","v":"Active"},{"$f":"VLOOKUP(B329,'[1]2018.7 '!A:M,13,)","v":"Ambient"},{"$f":"VLOOKUP(B329,'[1]2018.7 '!A:N,14,)","v":"No"}]
[329,"28942993","28942993","Silicone tubing kit AxiChrom 140, id4.8 -AKTAprocess","021","13","STD BIOPROCESS CHROM HW","260","Std AxiChrom 50-200",{"v":2628,"d":"2,628"},{"v":23675.652000000002,"d":"23,676"},null,{"$f":"VLOOKUP(B330,'[1]2018.7 '!A:C,3,)","v":"Active"},{"$f":"VLOOKUP(B330,'[1]2018.7 '!A:M,13,)","v":"Ambient"},{"$f":"VLOOKUP(B330,'[1]2018.7 '!A:N,14,)","v":"No"}]
[330,"28943020","28943020","Silicone tubing kit AxiChrom 200, id6.4 -AKTAprocess","021","13","STD BIOPROCESS CHROM HW","260","Std AxiChrom 50-200",{"v":2703,"d":"2,703"},{"v":24351.327,"d":"24,351"},null,{"$f":"VLOOKUP(B331,'[1]2018.7 '!A:C,3,)","v":"Active"},{"$f":"VLOOKUP(B331,'[1]2018.7 '!A:M,13,)","v":"Ambient"},{"$f":"VLOOKUP(B331,'[1]2018.7 '!A:N,14,)","v":"No"}]
[331,"28943041","28943041","Outlet tubing kit","021","13","STD BIOPROCESS CHROM HW","260","Std AxiChrom 50-200",830,{"v":7477.47,"d":"7,477"},null,{"$f":"VLOOKUP(B332,'[1]2018.7 '!A:C,3,)","v":"Active"},{"$f":"VLOOKUP(B332,'[1]2018.7 '!A:M,13,)","v":"Ambient"},{"$f":"VLOOKUP(B332,'[1]2018.7 '!A:N,14,)","v":"No"}]
[332,"28943353","28943353","Mechanical locking - AxiChrom 200","021","13","STD BIOPROCESS CHROM HW","260","Std AxiChrom 50-200",{"v":1384,"d":"1,384"},{"v":12468.456,"d":"12,468"},null,{"$f":"VLOOKUP(B333,'[1]2018.7 '!A:C,3,)","v":"Active"},{"$f":"VLOOKUP(B333,'[1]2018.7 '!A:M,13,)","v":"Ambient"},{"$f":"VLOOKUP(B333,'[1]2018.7 '!A:N,14,)","v":"No"}]
[333,"28943388","28943388","Mechanical locking - AxiChrom 140","021","13","STD BIOPROCESS CHROM HW","260","Std AxiChrom 50-200",{"v":1141,"d":"1,141"},{"v":10279.269,"d":"10,279"},null,{"$f":"VLOOKUP(B334,'[1]2018.7 '!A:C,3,)","v":"Active"},{"$f":"VLOOKUP(B334,'[1]2018.7 '!A:M,13,)","v":"Ambient"},{"$f":"VLOOKUP(B334,'[1]2018.7 '!A:N,14,)","v":"No"}]
[334,"28943927","28943927","AxiChrom 140/500/Glass/20SS","021","13","STD BIOPROCESS CHROM HW","260","Std AxiChrom 50-200",{"v":23661,"d":"23,661"},{"v":213161.94900000002,"d":"213,162"},null,{"$f":"VLOOKUP(B335,'[1]2018.7 '!A:C,3,)","v":"Active"},{"$f":"VLOOKUP(B335,'[1]2018.7 '!A:M,13,)","v":"Ambient"},{"$f":"VLOOKUP(B335,'[1]2018.7 '!A:N,14,)","v":"No"}]
[335,"28943928","28943928","AxiChrom 200/500/Glass/20SS","021","13","STD BIOPROCESS CHROM HW","260","Std AxiChrom 50-200",{"v":31114,"d":"31,114"},{"v":280306.026,"d":"280,306"},null,{"$f":"VLOOKUP(B336,'[1]2018.7 '!A:C,3,)","v":"Active"},{"$f":"VLOOKUP(B336,'[1]2018.7 '!A:M,13,)","v":"Ambient"},{"$f":"VLOOKUP(B336,'[1]2018.7 '!A:N,14,)","v":"No"}]
[336,"28944261","28944261","Tool kit complete AxiChrom - 50-70-100-140-200","021","13","STD BIOPROCESS CHROM HW","260","Std AxiChrom 50-200",{"v":1896.0000000000002,"d":"1,896"},{"v":17081.064000000002,"d":"17,081"},null,{"$f":"VLOOKUP(B337,'[1]2018.7 '!A:C,3,)","v":"Active"},{"$f":"VLOOKUP(B337,'[1]2018.7 '!A:M,13,)","v":"Ambient"},{"$f":"VLOOKUP(B337,'[1]2018.7 '!A:N,14,)","v":"No"}]
[337,"28948118","28948118","Adapter hanger 140","021","13","STD BIOPROCESS CHROM HW","260","Std AxiChrom 50-200",495,{"v":4459.455,"d":"4,459"},null,{"$f":"VLOOKUP(B338,'[1]2018.7 '!A:C,3,)","v":"Active"},{"$f":"VLOOKUP(B338,'[1]2018.7 '!A:M,13,)","v":"Ambient"},{"$f":"VLOOKUP(B338,'[1]2018.7 '!A:N,14,)","v":"No"}]
[338,"28948119","28948119","Adapter hanger 200","021","13","STD BIOPROCESS CHROM HW","260","Std AxiChrom 50-200",{"v":480.99999999999994,"d":"481"},{"v":4333.329,"d":"4,333"},null,{"$f":"VLOOKUP(B339,'[1]2018.7 '!A:C,3,)","v":"Active"},{"$f":"VLOOKUP(B339,'[1]2018.7 '!A:M,13,)","v":"Ambient"},{"$f":"VLOOKUP(B339,'[1]2018.7 '!A:N,14,)","v":"No"}]
[339,"28948952","28948952","User manual AxiChrom 140 and 200","021","13","STD BIOPROCESS CHROM HW","260","Std AxiChrom 50-200",161,{"v":1450.449,"d":"1,450"},null,{"$f":"VLOOKUP(B340,'[1]2018.7 '!A:C,3,)","v":"Active"},{"$f":"VLOOKUP(B340,'[1]2018.7 '!A:M,13,)","v":"Ambient"},{"$f":"VLOOKUP(B340,'[1]2018.7 '!A:N,14,)","v":"No"}]
[340,"28952220","28952220","AxiChrom 100/300/Glass/10SS, 28952220","021","13","STD BIOPROCESS CHROM HW","260","Std AxiChrom 50-200","询价","询价",null,{"$f":"VLOOKUP(B341,'[1]2018.7 '!A:C,3,)","v":"Obsolete with Service"},{"$f":"VLOOKUP(B341,'[1]2018.7 '!A:M,13,)","v":{"$error":"#N/A"}},{"$f":"VLOOKUP(B341,'[1]2018.7 '!A:N,14,)","v":{"$error":"#N/A"}}]
[341,"28954276","28954276","Intelligent packing strategy for AKTAexplorer and AKTApilot","021","13","STD BIOPROCESS CHROM HW","260","Std AxiChrom 50-200",133,{"v":1198.1970000000001,"d":"1,198"},null,{"$f":"VLOOKUP(B342,'[1]2018.7 '!A:C,3,)","v":"Active"},{"$f":"VLOOKUP(B342,'[1]2018.7 '!A:M,13,)","v":"Ambient"},{"$f":"VLOOKUP(B342,'[1]2018.7 '!A:N,14,)","v":"Reviewing"}]
[342,"28964742","28964742","Flexible tube, id 6.4 mm TC 25 PTFE","021","13","STD BIOPROCESS CHROM HW","260","Std AxiChrom 50-200",923,{"v":8315.307,"d":"8,315"},null,{"$f":"VLOOKUP(B343,'[1]2018.7 '!A:C,3,)","v":"Active"},{"$f":"VLOOKUP(B343,'[1]2018.7 '!A:M,13,)","v":"Ambient"},{"$f":"VLOOKUP(B343,'[1]2018.7 '!A:N,14,)","v":"No"}]
[343,"28966446","28966446","Bed Support kit AxiChrom 70 20SS","021","13","STD BIOPROCESS CHROM HW","260","Std AxiChrom 50-200",{"v":2413,"d":"2,413"},{"v":21738.717,"d":"21,739"},null,{"$f":"VLOOKUP(B344,'[1]2018.7 '!A:C,3,)","v":"Active"},{"$f":"VLOOKUP(B344,'[1]2018.7 '!A:M,13,)","v":"Ambient"},{"$f":"VLOOKUP(B344,'[1]2018.7 '!A:N,14,)","v":"No"}]
[344,"28966447","28966447","Bed Support kit AxiChrom 50 20SS","021","13","STD BIOPROCESS CHROM HW","260","Std AxiChrom 50-200",{"v":2360,"d":"2,360"},{"v":21261.24,"d":"21,261"},null,{"$f":"VLOOKUP(B345,'[1]2018.7 '!A:C,3,)","v":"Active"},{"$f":"VLOOKUP(B345,'[1]2018.7 '!A:M,13,)","v":"Ambient"},{"$f":"VLOOKUP(B345,'[1]2018.7 '!A:N,14,)","v":"No"}]
[345,"28966448","28966448","Bed Support kit AxiChrom 70 10SS","021","13","STD BIOPROCESS CHROM HW","260","Std AxiChrom 50-200",{"v":2646,"d":"2,646"},{"v":23837.814000000002,"d":"23,838"},null,{"$f":"VLOOKUP(B346,'[1]2018.7 '!A:C,3,)","v":"Active"},{"$f":"VLOOKUP(B346,'[1]2018.7 '!A:M,13,)","v":"Ambient"},{"$f":"VLOOKUP(B346,'[1]2018.7 '!A:N,14,)","v":"No"}]
[346,"28966449","28966449","Bed Support kit AxiChrom 50 10SS","021","13","STD BIOPROCESS CHROM HW","260","Std AxiChrom 50-200",{"v":2499,"d":"2,499"},{"v":22513.491,"d":"22,513"},null,{"$f":"VLOOKUP(B347,'[1]2018.7 '!A:C,3,)","v":"Active"},{"$f":"VLOOKUP(B347,'[1]2018.7 '!A:M,13,)","v":"Ambient"},{"$f":"VLOOKUP(B347,'[1]2018.7 '!A:N,14,)","v":"No"}]
[347,"28968365","28968365","Flexible tube id 9.5 mm TC25 PTFE. For Intelligent Packing","021","13","STD BIOPROCESS CHROM HW","260","Std AxiChrom 50-200",{"v":1044,"d":"1,044"},{"v":9405.396,"d":"9,405"},null,{"$f":"VLOOKUP(B348,'[1]2018.7 '!A:C,3,)","v":"Active"},{"$f":"VLOOKUP(B348,'[1]2018.7 '!A:M,13,)","v":"Ambient"},{"$f":"VLOOKUP(B348,'[1]2018.7 '!A:N,14,)","v":"No"}]
[348,"28977958","28977958","Silicone tubing kit AxiChrom 140, id4.8 -AKTApilot","021","13","STD BIOPROCESS CHROM HW","260","Std AxiChrom 50-200",{"v":3622,"d":"3,622"},{"v":32630.598,"d":"32,631"},null,{"$f":"VLOOKUP(B349,'[1]2018.7 '!A:C,3,)","v":"Active"},{"$f":"VLOOKUP(B349,'[1]2018.7 '!A:M,13,)","v":"Ambient"},{"$f":"VLOOKUP(B349,'[1]2018.7 '!A:N,14,)","v":"No"}]
[349,"28977960","28977960","Silicone tubing kit AxiChrom 140, id3.2  -AKTApilot","021","13","STD BIOPROCESS CHROM HW","260","Std AxiChrom 50-200",{"v":3045,"d":"3,045"},{"v":27432.405000000002,"d":"27,432"},null,{"$f":"VLOOKUP(B350,'[1]2018.7 '!A:C,3,)","v":"Active"},{"$f":"VLOOKUP(B350,'[1]2018.7 '!A:M,13,)","v":"Ambient"},{"$f":"VLOOKUP(B350,'[1]2018.7 '!A:N,14,)","v":"No"}]
[350,"28977970","28977970","Silicone tubing kit AxiChrom 200, id6.4 -AKTApilot","021","13","STD BIOPROCESS CHROM HW","260","Std AxiChrom 50-200",{"v":2536,"d":"2,536"},{"v":22846.824,"d":"22,847"},null,{"$f":"VLOOKUP(B351,'[1]2018.7 '!A:C,3,)","v":"Active"},{"$f":"VLOOKUP(B351,'[1]2018.7 '!A:M,13,)","v":"Ambient"},{"$f":"VLOOKUP(B351,'[1]2018.7 '!A:N,14,)","v":"No"}]
[351,"28978006","28978006","6 bar rupture disc kit for AxiChrom 200.","021","13","STD BIOPROCESS CHROM HW","260","Std AxiChrom 50-200",{"v":2267,"d":"2,267"},{"v":20423.403000000002,"d":"20,423"},null,{"$f":"VLOOKUP(B352,'[1]2018.7 '!A:C,3,)","v":"Active"},{"$f":"VLOOKUP(B352,'[1]2018.7 '!A:M,13,)","v":"Ambient"},{"$f":"VLOOKUP(B352,'[1]2018.7 '!A:N,14,)","v":"No"}]
[352,"28978012","28978012","8 bar rupture disc kit for AxiChrom 140.","021","13","STD BIOPROCESS CHROM HW","260","Std AxiChrom 50-200",{"v":2273,"d":"2,273"},{"v":20477.457000000002,"d":"20,477"},null,{"$f":"VLOOKUP(B353,'[1]2018.7 '!A:C,3,)","v":"Active"},{"$f":"VLOOKUP(B353,'[1]2018.7 '!A:M,13,)","v":"Ambient"},{"$f":"VLOOKUP(B353,'[1]2018.7 '!A:N,14,)","v":"No"}]
[353,"28988889","28988889","Tubing kit AxiChrom 50-70 AKTA avant, desk","021","13","STD BIOPROCESS CHROM HW","260","Std AxiChrom 50-200",563,{"v":5072.067,"d":"5,072"},null,{"$f":"VLOOKUP(B354,'[1]2018.7 '!A:C,3,)","v":"Active"},{"$f":"VLOOKUP(B354,'[1]2018.7 '!A:M,13,)","v":"Ambient"},{"$f":"VLOOKUP(B354,'[1]2018.7 '!A:N,14,)","v":"No"}]
[354,"28988892","28988892","Tubing kit AxiChrom 50-70 AKTA avant, floor","021","13","STD BIOPROCESS CHROM HW","260","Std AxiChrom 50-200",571,{"v":5144.139,"d":"5,144"},null,{"$f":"VLOOKUP(B355,'[1]2018.7 '!A:C,3,)","v":"Active"},{"$f":"VLOOKUP(B355,'[1]2018.7 '!A:M,13,)","v":"Ambient"},{"$f":"VLOOKUP(B355,'[1]2018.7 '!A:N,14,)","v":"No"}]
[355,"28989524","28989524","AxiChrom 50/300 Column","021","13","STD BIOPROCESS CHROM HW","260","Std AxiChrom 50-200","询价","询价",null,{"$f":"VLOOKUP(B356,'[1]2018.7 '!A:C,3,)","v":"Active"},{"$f":"VLOOKUP(B356,'[1]2018.7 '!A:M,13,)","v":"Ambient"},{"$f":"VLOOKUP(B356,'[1]2018.7 '!A:N,14,)","v":"Reviewing"}]
[356,"28989525","28989525","AxiChrom 50/500 Column","021","13","STD BIOPROCESS CHROM HW","260","Std AxiChrom 50-200","询价","询价",null,{"$f":"VLOOKUP(B357,'[1]2018.7 '!A:C,3,)","v":"Active"},{"$f":"VLOOKUP(B357,'[1]2018.7 '!A:M,13,)","v":"Ambient"},{"$f":"VLOOKUP(B357,'[1]2018.7 '!A:N,14,)","v":"Reviewing"}]
[357,"28989526","28989526","AxiChrom 70/300 Column","021","13","STD BIOPROCESS CHROM HW","260","Std AxiChrom 50-200","询价","询价",null,{"$f":"VLOOKUP(B358,'[1]2018.7 '!A:C,3,)","v":"Active"},{"$f":"VLOOKUP(B358,'[1]2018.7 '!A:M,13,)","v":"Ambient"},{"$f":"VLOOKUP(B358,'[1]2018.7 '!A:N,14,)","v":"Reviewing"}]
[358,"28989527","28989527","AxiChrom 70/500 Column","021","13","STD BIOPROCESS CHROM HW","260","Std AxiChrom 50-200","询价","询价",null,{"$f":"VLOOKUP(B359,'[1]2018.7 '!A:C,3,)","v":"Active"},{"$f":"VLOOKUP(B359,'[1]2018.7 '!A:M,13,)","v":"Ambient"},{"$f":"VLOOKUP(B359,'[1]2018.7 '!A:N,14,)","v":"Reviewing"}]
[359,"28989571","28989571","AxiChrom 140/300 Column","021","13","STD BIOPROCESS CHROM HW","260","Std AxiChrom 50-200","询价","询价",null,{"$f":"VLOOKUP(B360,'[1]2018.7 '!A:C,3,)","v":"Active"},{"$f":"VLOOKUP(B360,'[1]2018.7 '!A:M,13,)","v":"Ambient"},{"$f":"VLOOKUP(B360,'[1]2018.7 '!A:N,14,)","v":"Reviewing"}]
[360,"28989572","28989572","AxiChrom 140/500 Column","021","13","STD BIOPROCESS CHROM HW","260","Std AxiChrom 50-200","询价","询价",null,{"$f":"VLOOKUP(B361,'[1]2018.7 '!A:C,3,)","v":"Active"},{"$f":"VLOOKUP(B361,'[1]2018.7 '!A:M,13,)","v":"Ambient"},{"$f":"VLOOKUP(B361,'[1]2018.7 '!A:N,14,)","v":"Reviewing"}]
[361,"28989573","28989573","AxiChrom 200/300 Column","021","13","STD BIOPROCESS CHROM HW","260","Std AxiChrom 50-200","询价","询价",null,{"$f":"VLOOKUP(B362,'[1]2018.7 '!A:C,3,)","v":"Active"},{"$f":"VLOOKUP(B362,'[1]2018.7 '!A:M,13,)","v":"Ambient"},{"$f":"VLOOKUP(B362,'[1]2018.7 '!A:N,14,)","v":"Reviewing"}]
[362,"28989574","28989574","AxiChrom 200/500 Column","021","13","STD BIOPROCESS CHROM HW","260","Std AxiChrom 50-200","询价","询价",null,{"$f":"VLOOKUP(B363,'[1]2018.7 '!A:C,3,)","v":"Active"},{"$f":"VLOOKUP(B363,'[1]2018.7 '!A:M,13,)","v":"Ambient"},{"$f":"VLOOKUP(B363,'[1]2018.7 '!A:N,14,)","v":"Reviewing"}]
[363,"28989576","28989576","AxiChrom 100/300","021","13","STD BIOPROCESS CHROM HW","260","Std AxiChrom 50-200","询价","询价",null,{"$f":"VLOOKUP(B364,'[1]2018.7 '!A:C,3,)","v":"Active"},{"$f":"VLOOKUP(B364,'[1]2018.7 '!A:M,13,)","v":"Ambient"},{"$f":"VLOOKUP(B364,'[1]2018.7 '!A:N,14,)","v":"Reviewing"}]
[364,"28989577","28989577","AxiChrom 100/500","021","13","STD BIOPROCESS CHROM HW","260","Std AxiChrom 50-200","询价","询价",null,{"$f":"VLOOKUP(B365,'[1]2018.7 '!A:C,3,)","v":"Active"},{"$f":"VLOOKUP(B365,'[1]2018.7 '!A:M,13,)","v":"Ambient"},{"$f":"VLOOKUP(B365,'[1]2018.7 '!A:N,14,)","v":"Reviewing"}]
[365,"28989578","28989578","AxiChrom 450/300","021","13","STD BIOPROCESS CHROM HW","260","Std AxiChrom 50-200","询价","询价",null,{"$f":"VLOOKUP(B366,'[1]2018.7 '!A:C,3,)","v":"Active"},{"$f":"VLOOKUP(B366,'[1]2018.7 '!A:M,13,)","v":"Ambient"},{"$f":"VLOOKUP(B366,'[1]2018.7 '!A:N,14,)","v":"Reviewing"}]
[366,"28990708","28990708","AKTAdesign - empty column package","021","13","STD BIOPROCESS CHROM HW","260","Std AxiChrom 50-200","询价","询价",null,{"$f":"VLOOKUP(B367,'[1]2018.7 '!A:C,3,)","v":"Active"},{"$f":"VLOOKUP(B367,'[1]2018.7 '!A:M,13,)","v":"Ambient"},{"$f":"VLOOKUP(B367,'[1]2018.7 '!A:N,14,)","v":"Reviewing"}]
[367,"28999356","28999356","NA-AxiChrom 50/300 Column","021","13","STD BIOPROCESS CHROM HW","260","Std AxiChrom 50-200","询价","询价",null,{"$f":"VLOOKUP(B368,'[1]2018.7 '!A:C,3,)","v":"Active"},{"$f":"VLOOKUP(B368,'[1]2018.7 '!A:M,13,)","v":"Ambient"},{"$f":"VLOOKUP(B368,'[1]2018.7 '!A:N,14,)","v":"Reviewing"}]
[368,"28999357","28999357","NA-AxiChrom 50/500 Column","021","13","STD BIOPROCESS CHROM HW","260","Std AxiChrom 50-200","询价","询价",null,{"$f":"VLOOKUP(B369,'[1]2018.7 '!A:C,3,)","v":"Active"},{"$f":"VLOOKUP(B369,'[1]2018.7 '!A:M,13,)","v":"Ambient"},{"$f":"VLOOKUP(B369,'[1]2018.7 '!A:N,14,)","v":"Reviewing"}]
[369,"28999358","28999358","NA-AxiChrom 70/300 Column","021","13","STD BIOPROCESS CHROM HW","260","Std AxiChrom 50-200","询价","询价",null,{"$f":"VLOOKUP(B370,'[1]2018.7 '!A:C,3,)","v":"Active"},{"$f":"VLOOKUP(B370,'[1]2018.7 '!A:M,13,)","v":"Ambient"},{"$f":"VLOOKUP(B370,'[1]2018.7 '!A:N,14,)","v":"Reviewing"}]
[370,"28999359","28999359","NA-AxiChrom 70/500 Column","021","13","STD BIOPROCESS CHROM HW","260","Std AxiChrom 50-200","询价","询价",null,{"$f":"VLOOKUP(B371,'[1]2018.7 '!A:C,3,)","v":"Active"},{"$f":"VLOOKUP(B371,'[1]2018.7 '!A:M,13,)","v":"Ambient"},{"$f":"VLOOKUP(B371,'[1]2018.7 '!A:N,14,)","v":"Reviewing"}]
[371,"28999360","28999360","NA-AxiChrom 140/300 Column","021","13","STD BIOPROCESS CHROM HW","260","Std AxiChrom 50-200","询价","询价",null,{"$f":"VLOOKUP(B372,'[1]2018.7 '!A:C,3,)","v":"Active"},{"$f":"VLOOKUP(B372,'[1]2018.7 '!A:M,13,)","v":"Ambient"},{"$f":"VLOOKUP(B372,'[1]2018.7 '!A:N,14,)","v":"Reviewing"}]
[372,"28999362","28999362","NA-AxiChrom 140/500 Column","021","13","STD BIOPROCESS CHROM HW","260","Std AxiChrom 50-200","询价","询价",null,{"$f":"VLOOKUP(B373,'[1]2018.7 '!A:C,3,)","v":"Active"},{"$f":"VLOOKUP(B373,'[1]2018.7 '!A:M,13,)","v":"Ambient"},{"$f":"VLOOKUP(B373,'[1]2018.7 '!A:N,14,)","v":"Reviewing"}]
[373,"28999441","28999441","NA-AxiChrom 200/300 Column","021","13","STD BIOPROCESS CHROM HW","260","Std AxiChrom 50-200","询价","询价",null,{"$f":"VLOOKUP(B374,'[1]2018.7 '!A:C,3,)","v":"Active"},{"$f":"VLOOKUP(B374,'[1]2018.7 '!A:M,13,)","v":"Ambient"},{"$f":"VLOOKUP(B374,'[1]2018.7 '!A:N,14,)","v":"Reviewing"}]
[374,"28999443","28999443","NA-AxiChrom 200/500 Column","021","13","STD BIOPROCESS CHROM HW","260","Std AxiChrom 50-200","询价","询价",null,{"$f":"VLOOKUP(B375,'[1]2018.7 '!A:C,3,)","v":"Active"},{"$f":"VLOOKUP(B375,'[1]2018.7 '!A:M,13,)","v":"Ambient"},{"$f":"VLOOKUP(B375,'[1]2018.7 '!A:N,14,)","v":"Reviewing"}]
[375,"28999444","28999444","NA-AxiChrom 100/300","021","13","STD BIOPROCESS CHROM HW","260","Std AxiChrom 50-200","询价","询价",null,{"$f":"VLOOKUP(B376,'[1]2018.7 '!A:C,3,)","v":"Active"},{"$f":"VLOOKUP(B376,'[1]2018.7 '!A:M,13,)","v":"Ambient"},{"$f":"VLOOKUP(B376,'[1]2018.7 '!A:N,14,)","v":"Reviewing"}]
[376,"28999445","28999445","NA-AxiChrom 100/500","021","13","STD BIOPROCESS CHROM HW","260","Std AxiChrom 50-200","询价","询价",null,{"$f":"VLOOKUP(B377,'[1]2018.7 '!A:C,3,)","v":"Active"},{"$f":"VLOOKUP(B377,'[1]2018.7 '!A:M,13,)","v":"Ambient"},{"$f":"VLOOKUP(B377,'[1]2018.7 '!A:N,14,)","v":"Reviewing"}]
[377,"29016533","29016533","AxiChrom 200/300/Glass/20PE","021","13","STD BIOPROCESS CHROM HW","260","Std AxiChrom 50-200",{"v":25409,"d":"25,409"},{"v":228909.681,"d":"228,910"},null,{"$f":"VLOOKUP(B378,'[1]2018.7 '!A:C,3,)","v":"Active"},{"$f":"VLOOKUP(B378,'[1]2018.7 '!A:M,13,)","v":"Ambient"},{"$f":"VLOOKUP(B378,'[1]2018.7 '!A:N,14,)","v":"No"}]
[378,"29016534","29016534","AxiChrom 50/300/Glass/20PE","021","13","STD BIOPROCESS CHROM HW","260","Std AxiChrom 50-200",{"v":8605,"d":"8,605"},{"v":77522.445,"d":"77,522"},null,{"$f":"VLOOKUP(B379,'[1]2018.7 '!A:C,3,)","v":"Active"},{"$f":"VLOOKUP(B379,'[1]2018.7 '!A:M,13,)","v":"Ambient"},{"$f":"VLOOKUP(B379,'[1]2018.7 '!A:N,14,)","v":"No"}]
[379,"29016535","29016535","AxiChrom 140/300/Glass/20PE","021","13","STD BIOPROCESS CHROM HW","260","Std AxiChrom 50-200",{"v":18955,"d":"18,955"},{"v":170765.595,"d":"170,766"},null,{"$f":"VLOOKUP(B380,'[1]2018.7 '!A:C,3,)","v":"Active"},{"$f":"VLOOKUP(B380,'[1]2018.7 '!A:M,13,)","v":"Ambient"},{"$f":"VLOOKUP(B380,'[1]2018.7 '!A:N,14,)","v":"No"}]
[380,"29016536","29016536","AxiChrom 100/300/Glass/20PE","021","13","STD BIOPROCESS CHROM HW","260","Std AxiChrom 50-200",{"v":13345,"d":"13,345"},{"v":120225.10500000001,"d":"120,225"},null,{"$f":"VLOOKUP(B381,'[1]2018.7 '!A:C,3,)","v":"Active"},{"$f":"VLOOKUP(B381,'[1]2018.7 '!A:M,13,)","v":"Ambient"},{"$f":"VLOOKUP(B381,'[1]2018.7 '!A:N,14,)","v":"No"}]
[381,"29016537","29016537","AxiChrom 70/300/Glass/20PE","021","13","STD BIOPROCESS CHROM HW","260","Std AxiChrom 50-200",{"v":11265,"d":"11,265"},{"v":101486.38500000001,"d":"101,486"},null,{"$f":"VLOOKUP(B382,'[1]2018.7 '!A:C,3,)","v":"Active"},{"$f":"VLOOKUP(B382,'[1]2018.7 '!A:M,13,)","v":"Ambient"},{"$f":"VLOOKUP(B382,'[1]2018.7 '!A:N,14,)","v":"No"}]
[382,"29017445","29017445","AKTAPILOT AXICHROM50/300 20SS","021","13","STD BIOPROCESS CHROM HW","260","Std AxiChrom 50-200",{"v":178284,"d":"178,284"},{"v":1606160.556,"d":"1,606,161"},null,{"$f":"VLOOKUP(B383,'[1]2018.7 '!A:C,3,)","v":"Active"},{"$f":"VLOOKUP(B383,'[1]2018.7 '!A:M,13,)","v":"Ambient"},{"$f":"VLOOKUP(B383,'[1]2018.7 '!A:N,14,)","v":"Reviewing"}]
[383,"29017451","29017451","AKTAPILOT AXICHROM50/500 20SS","021","13","STD BIOPROCESS CHROM HW","260","Std AxiChrom 50-200",{"v":178284,"d":"178,284"},{"v":1606160.556,"d":"1,606,161"},null,{"$f":"VLOOKUP(B384,'[1]2018.7 '!A:C,3,)","v":"Active"},{"$f":"VLOOKUP(B384,'[1]2018.7 '!A:M,13,)","v":"Ambient"},{"$f":"VLOOKUP(B384,'[1]2018.7 '!A:N,14,)","v":"Reviewing"}]
[384,"29017462","29017462","AKTAPILOT AXICHROM70/300 20SS","021","13","STD BIOPROCESS CHROM HW","260","Std AxiChrom 50-200",{"v":178284,"d":"178,284"},{"v":1606160.556,"d":"1,606,161"},null,{"$f":"VLOOKUP(B385,'[1]2018.7 '!A:C,3,)","v":"Active"},{"$f":"VLOOKUP(B385,'[1]2018.7 '!A:M,13,)","v":"Ambient"},{"$f":"VLOOKUP(B385,'[1]2018.7 '!A:N,14,)","v":"Reviewing"}]
[385,"29017463","29017463","AKTAPILOT AXICHROM70/500 20SS","021","13","STD BIOPROCESS CHROM HW","260","Std AxiChrom 50-200",{"v":178284,"d":"178,284"},{"v":1606160.556,"d":"1,606,161"},null,{"$f":"VLOOKUP(B386,'[1]2018.7 '!A:C,3,)","v":"Active"},{"$f":"VLOOKUP(B386,'[1]2018.7 '!A:M,13,)","v":"Ambient"},{"$f":"VLOOKUP(B386,'[1]2018.7 '!A:N,14,)","v":"Reviewing"}]
[386,"29017464","29017464","AKTAPILOT AXICHROM100/300 20SS","021","13","STD BIOPROCESS CHROM HW","260","Std AxiChrom 50-200",{"$f":"K387/9.009","v":{"v":178284,"d":"178,284"}},{"v":1606160.556,"d":"1,606,161"},null,{"$f":"VLOOKUP(B387,'[1]2018.7 '!A:C,3,)","v":"Active"},{"$f":"VLOOKUP(B387,'[1]2018.7 '!A:M,13,)","v":"Ambient"},{"$f":"VLOOKUP(B387,'[1]2018.7 '!A:N,14,)","v":"Reviewing"}]
[387,"29017465","29017465","AKTAPILOT AXICHROM100/500 20SS","021","13","STD BIOPROCESS CHROM HW","260","Std AxiChrom 50-200",{"v":178284,"d":"178,284"},{"v":1606160.556,"d":"1,606,161"},null,{"$f":"VLOOKUP(B388,'[1]2018.7 '!A:C,3,)","v":"Active"},{"$f":"VLOOKUP(B388,'[1]2018.7 '!A:M,13,)","v":"Ambient"},{"$f":"VLOOKUP(B388,'[1]2018.7 '!A:N,14,)","v":"Reviewing"}]
[388,"29017466","29017466","AKTAPILOT AXICHROM140/300 20SS","021","13","STD BIOPROCESS CHROM HW","260","Std AxiChrom 50-200",{"v":189220,"d":"189,220"},{"v":1704682.98,"d":"1,704,683"},null,{"$f":"VLOOKUP(B389,'[1]2018.7 '!A:C,3,)","v":"Active"},{"$f":"VLOOKUP(B389,'[1]2018.7 '!A:M,13,)","v":"Ambient"},{"$f":"VLOOKUP(B389,'[1]2018.7 '!A:N,14,)","v":"Reviewing"}]
[389,"29017468","29017468","AKTAPILOT AXICHROM200/300 20SS","021","13","STD BIOPROCESS CHROM HW","260","Std AxiChrom 50-200",{"v":192663,"d":"192,663"},{"v":1735700.9670000002,"d":"1,735,701"},null,{"$f":"VLOOKUP(B390,'[1]2018.7 '!A:C,3,)","v":"Active"},{"$f":"VLOOKUP(B390,'[1]2018.7 '!A:M,13,)","v":"Ambient"},{"$f":"VLOOKUP(B390,'[1]2018.7 '!A:N,14,)","v":"Reviewing"}]
[390,"29017469","29017469","AKTAPILOT AXICHROM200/500 20SS","021","13","STD BIOPROCESS CHROM HW","260","Std AxiChrom 50-200",{"v":193841,"d":"193,841"},{"v":1746313.5690000001,"d":"1,746,314"},null,{"$f":"VLOOKUP(B391,'[1]2018.7 '!A:C,3,)","v":"Active"},{"$f":"VLOOKUP(B391,'[1]2018.7 '!A:M,13,)","v":"Ambient"},{"$f":"VLOOKUP(B391,'[1]2018.7 '!A:N,14,)","v":"Reviewing"}]
[391,"29019404","29019404","AKTAPILOT AXICHROM140/500 20SS","021","13","STD BIOPROCESS CHROM HW","260","Std AxiChrom 50-200",{"v":190114,"d":"190,114"},{"v":1712737.026,"d":"1,712,737"},null,{"$f":"VLOOKUP(B392,'[1]2018.7 '!A:C,3,)","v":"Active"},{"$f":"VLOOKUP(B392,'[1]2018.7 '!A:M,13,)","v":"Ambient"},{"$f":"VLOOKUP(B392,'[1]2018.7 '!A:N,14,)","v":"Reviewing"}]
[392,"29025651","29025651","AKTAPILOT AXICHROM100/300 20SS","021","13","STD BIOPROCESS CHROM HW","260","Std AxiChrom 50-200",{"v":178284,"d":"178,284"},{"v":1606160.556,"d":"1,606,161"},null,{"$f":"VLOOKUP(B393,'[1]2018.7 '!A:C,3,)","v":"Active"},{"$f":"VLOOKUP(B393,'[1]2018.7 '!A:M,13,)","v":"Ambient"},{"$f":"VLOOKUP(B393,'[1]2018.7 '!A:N,14,)","v":"Reviewing"}]
[393,"29054392","29054392","AKTAPILOT AXICHROM50/300 20PE","021","13","STD BIOPROCESS CHROM HW","260","Std AxiChrom 50-200",{"v":178284,"d":"178,284"},{"v":1606160.556,"d":"1,606,161"},null,{"$f":"VLOOKUP(B394,'[1]2018.7 '!A:C,3,)","v":"Active"},{"$f":"VLOOKUP(B394,'[1]2018.7 '!A:M,13,)","v":"Reviewing"},{"$f":"VLOOKUP(B394,'[1]2018.7 '!A:N,14,)","v":"Reviewing"}]
[394,"29054393","29054393","AKTAPILOT AXICHROM70/300 20PE","021","13","STD BIOPROCESS CHROM HW","260","Std AxiChrom 50-200",{"v":178284,"d":"178,284"},{"v":1606160.556,"d":"1,606,161"},null,{"$f":"VLOOKUP(B395,'[1]2018.7 '!A:C,3,)","v":"Active"},{"$f":"VLOOKUP(B395,'[1]2018.7 '!A:M,13,)","v":"Reviewing"},{"$f":"VLOOKUP(B395,'[1]2018.7 '!A:N,14,)","v":"No"}]
[395,"29054394","29054394","AKTAPILOT AXICHROM100/300 20PE","021","13","STD BIOPROCESS CHROM HW","260","Std AxiChrom 50-200",{"v":178284,"d":"178,284"},{"v":1606160.556,"d":"1,606,161"},null,{"$f":"VLOOKUP(B396,'[1]2018.7 '!A:C,3,)","v":"Active"},{"$f":"VLOOKUP(B396,'[1]2018.7 '!A:M,13,)","v":"Reviewing"},{"$f":"VLOOKUP(B396,'[1]2018.7 '!A:N,14,)","v":"No"}]
[396,"29054395","29054395","AKTAPILOT AXICHROM140/300 20PE","021","13","STD BIOPROCESS CHROM HW","260","Std AxiChrom 50-200",{"v":187762,"d":"187,762"},{"v":1691547.858,"d":"1,691,548"},null,{"$f":"VLOOKUP(B397,'[1]2018.7 '!A:C,3,)","v":"Active"},{"$f":"VLOOKUP(B397,'[1]2018.7 '!A:M,13,)","v":"Reviewing"},{"$f":"VLOOKUP(B397,'[1]2018.7 '!A:N,14,)","v":"Reviewing"}]
[397,"29054396","29054396","AKTAPILOT AXICHROM200/300 20PE","021","13","STD BIOPROCESS CHROM HW","260","Std AxiChrom 50-200",{"v":190988,"d":"190,988"},{"v":1720610.892,"d":"1,720,611"},null,{"$f":"VLOOKUP(B398,'[1]2018.7 '!A:C,3,)","v":"Active"},{"$f":"VLOOKUP(B398,'[1]2018.7 '!A:M,13,)","v":"Reviewing"},{"$f":"VLOOKUP(B398,'[1]2018.7 '!A:N,14,)","v":"Reviewing"}]
[398,"29103770","29103770","AxiChrom 100/300/Glass/10SS, 29103770","021","13","STD BIOPROCESS CHROM HW","260","Std AxiChrom 50-200","询价","询价"]
[399,"29103771","29103771","AxiChrom 140/300/Glass/10SS, 29103771","021","13","STD BIOPROCESS CHROM HW","260","Std AxiChrom 50-200","询价","询价"]
[400,"29128077","29128077","AxiChrom 200/300/Glass/20SS","021","13","STD BIOPROCESS CHROM HW","260","Std AxiChrom 50-200",{"v":80154,"d":"80,154"},{"v":722107.386,"d":"722,107"}]
[401,"29128078","29128078","AxiChrom 200/300/Glass/20SS","021","13","STD BIOPROCESS CHROM HW","260","Std AxiChrom 50-200",{"v":80154,"d":"80,154"},{"v":722107.386,"d":"722,107"}]
[402,"29128079","29128079","AxiChrom 140/300/Glass/20SS","021","13","STD BIOPROCESS CHROM HW","260","Std AxiChrom 50-200",{"v":66295,"d":"66,295"},{"v":597251.655,"d":"597,252"}]
[403,"29128081","29128081","AxiChrom 70/300/Glass/10SS, 29128081","021","13","STD BIOPROCESS CHROM HW","260","Std AxiChrom 50-200","询价","询价"]
[404,"29128082","29128082","AxiChrom 140/300/Glass/10SS, 29128082","021","13","STD BIOPROCESS CHROM HW","260","Std AxiChrom 50-200","询价","询价"]
[405,"29128083","29128083","AxiChrom 100/300/Glass/10SS, 29128083","021","13","STD BIOPROCESS CHROM HW","260","Std AxiChrom 50-200","询价","询价"]
[406,"29128091","29128091",{"$error":"#N/A"},"021","13","STD BIOPROCESS CHROM HW","260","Std AxiChrom 50-200","询价","询价"]
[407,"80590260","80590260","Domestic Std Col AC 50-200","021","13","STD BIOPROCESS CHROM HW","260","Std AxiChrom 50-200","询价","询价",null,{"$f":"VLOOKUP(B408,'[1]2018.7 '!A:C,3,)","v":"Active"},{"$f":"VLOOKUP(B408,'[1]2018.7 '!A:M,13,)","v":"Dry Ice"},{"$f":"VLOOKUP(B408,'[1]2018.7 '!A:N,14,)","v":"Reviewing"}]
[408,"80591260","80591260","Domestic AxiChrom 50-200","021","13","STD BIOPROCESS CHROM HW","260","Std AxiChrom 50-200","询价","询价",null,{"$f":"VLOOKUP(B409,'[1]2018.7 '!A:C,3,)","v":"Obsolete"},{"$f":"VLOOKUP(B409,'[1]2018.7 '!A:M,13,)","v":{"$error":"#N/A"}},{"$f":"VLOOKUP(B409,'[1]2018.7 '!A:N,14,)","v":{"$error":"#N/A"}}]
[409,"28906261","28906261","AKTAready","021","13","STD BIOPROCESS CHROM HW","415","Std AKTA ready Systems",{"v":208345,"d":"208,345"},{"v":1876980.105,"d":"1,876,980"},null,{"$f":"VLOOKUP(B410,'[1]2018.7 '!A:C,3,)","v":"Active"},{"$f":"VLOOKUP(B410,'[1]2018.7 '!A:M,13,)","v":"Ambient"},{"$f":"VLOOKUP(B410,'[1]2018.7 '!A:N,14,)","v":"No"}]
[410,"28937588","28937588","AKTAready RTP Column Trolley","021","13","STD BIOPROCESS CHROM HW","415","Std AKTA ready Systems",{"v":3232,"d":"3,232"},{"v":29117.088,"d":"29,117"},null,{"$f":"VLOOKUP(B411,'[1]2018.7 '!A:C,3,)","v":"Active"},{"$f":"VLOOKUP(B411,'[1]2018.7 '!A:M,13,)","v":"Ambient"},{"$f":"VLOOKUP(B411,'[1]2018.7 '!A:N,14,)","v":"No"}]
[411,"28957380","28957380","AKTAready monthly rental fee","021","13","STD BIOPROCESS CHROM HW","415","Std AKTA ready Systems",{"v":6669,"d":"6,669"},{"v":60081.021,"d":"60,081"},null,{"$f":"VLOOKUP(B412,'[1]2018.7 '!A:C,3,)","v":"Active"},{"$f":"VLOOKUP(B412,'[1]2018.7 '!A:M,13,)","v":"Ambient"},{"$f":"VLOOKUP(B412,'[1]2018.7 '!A:N,14,)","v":"Reviewing"}]
[412,"29003879","29003879","Air Sensor AKTAready","021","13","STD BIOPROCESS CHROM HW","415","Std AKTA ready Systems",{"v":2340,"d":"2,340"},{"v":21081.06,"d":"21,081"},null,{"$f":"VLOOKUP(B413,'[1]2018.7 '!A:C,3,)","v":"Active"},{"$f":"VLOOKUP(B413,'[1]2018.7 '!A:M,13,)","v":"Ambient"},{"$f":"VLOOKUP(B413,'[1]2018.7 '!A:N,14,)","v":"No"}]
[413,"29009290","29009290","AktaReady Gradient","021","49","CBS","246","CBS AKTA ready","询价","询价"]
[414,"29010596","29010596","AKTAReady Gradient HW Option","021","49","CBS","246","CBS AKTA ready","询价","询价"]
[415,"29010614","29010614","AKTAReady Gradient HW Option","021","49","CBS","246","CBS AKTA ready",{"v":194716,"d":"194,716"},{"v":1754196.4440000001,"d":"1,754,196"},null,{"$f":"VLOOKUP(B416,'[1]2018.7 '!A:C,3,)","v":"Phase Out"},{"$f":"VLOOKUP(B416,'[1]2018.7 '!A:M,13,)","v":"Ambient"},{"$f":"VLOOKUP(B416,'[1]2018.7 '!A:N,14,)","v":"reviewing"}]
[416,"29026104","29026104","AKTAready strategy upgrade","021","49","CBS","246","CBS AKTA ready","询价","询价",null,{"$f":"VLOOKUP(B417,'[1]2018.7 '!A:C,3,)","v":"Active"},{"$f":"VLOOKUP(B417,'[1]2018.7 '!A:M,13,)","v":"Ambient"},{"$f":"VLOOKUP(B417,'[1]2018.7 '!A:N,14,)","v":"No"}]
[417,"29031340","29031340","AKTA Ready gradient sn 3093","021","49","CBS","246","CBS AKTA ready","询价","询价"]
[418,"29031346","29031346","AKTA Ready gradient sn 3096","021","49","CBS","246","CBS AKTA ready","询价","询价"]
[419,"29032038","29032038","AKTA ready gradient","021","13","STD BIOPROCESS CHROM HW","415","Std AKTA ready Systems",{"v":245561,"d":"245,561"},{"v":2212259.049,"d":"2,212,259"},null,{"$f":"VLOOKUP(B420,'[1]2018.7 '!A:C,3,)","v":"Active"},{"$f":"VLOOKUP(B420,'[1]2018.7 '!A:M,13,)","v":"Ambient"},{"$f":"VLOOKUP(B420,'[1]2018.7 '!A:N,14,)","v":"No"}]
[420,"29032239","29032239","FAT services s/n 3097","021","49","CBS","246","CBS AKTA ready","询价","询价"]
[421,"29032245","29032245","FAT services s/n 3096","021","49","CBS","246","CBS AKTA ready","询价","询价"]
[422,"29032784","29032784","Gradient upgrade AKTA ready","021","13","STD BIOPROCESS CHROM HW","415","Std AKTA ready Systems",{"v":37400,"d":"37,400"},{"v":336936.60000000003,"d":"336,937"},null,{"$f":"VLOOKUP(B423,'[1]2018.7 '!A:C,3,)","v":"Active"},{"$f":"VLOOKUP(B423,'[1]2018.7 '!A:M,13,)","v":"Ambient"},{"$f":"VLOOKUP(B423,'[1]2018.7 '!A:N,14,)","v":"No"}]
[423,"29033301","29033301","AKTAready gradient","021","49","CBS","246","CBS AKTA ready",{"v":193873,"d":"193,873"},{"v":1746601.857,"d":"1,746,602"},null,{"$f":"VLOOKUP(B424,'[1]2018.7 '!A:C,3,)","v":"Phase Out"},{"$f":"VLOOKUP(B424,'[1]2018.7 '!A:M,13,)","v":"Ambient"},{"$f":"VLOOKUP(B424,'[1]2018.7 '!A:N,14,)","v":"reviewing"}]
[424,"29033303","29033303","AKTAready gradient","021","49","CBS","246","CBS AKTA ready",{"v":193873,"d":"193,873"},{"v":1746601.857,"d":"1,746,602"},null,{"$f":"VLOOKUP(B425,'[1]2018.7 '!A:C,3,)","v":"Phase Out"},{"$f":"VLOOKUP(B425,'[1]2018.7 '!A:M,13,)","v":"Ambient"},{"$f":"VLOOKUP(B425,'[1]2018.7 '!A:N,14,)","v":"reviewing"}]
[425,"29036132","29036132","AKTAready gradient","021","49","CBS","246","CBS AKTA ready","询价","询价"]
[426,"29036133","29036133","AKTAready gradient","021","49","CBS","246","CBS AKTA ready","询价","询价"]
[427,"29036134","29036134","AKTAready gradient","021","49","CBS","246","CBS AKTA ready","询价","询价"]
[428,"29039311","29039311","EBA control unit for s/n 3093","021","49","CBS","246","CBS AKTA ready","询价","询价"]
[429,"29041890","29041890","Gradient option AKTAready","021","49","CBS","246","CBS AKTA ready",{"v":34244,"d":"34,244"},{"v":308504.196,"d":"308,504"},null,{"$f":"VLOOKUP(B430,'[1]2018.7 '!A:C,3,)","v":"Phase Out"},{"$f":"VLOOKUP(B430,'[1]2018.7 '!A:M,13,)","v":"Ambient"},{"$f":"VLOOKUP(B430,'[1]2018.7 '!A:N,14,)","v":"reviewing"}]
[430,"29041891","29041891","AKTAready gradient","021","49","CBS","246","CBS AKTA ready","询价","询价"]
[431,"29042538","29042538","EBA control unit for s/n 3096","021","49","CBS","246","CBS AKTA ready","询价","询价"]
[432,"29043544","29043544","Customized AKTAready gradient","021","49","CBS","246","CBS AKTA ready","询价","询价"]
[433,"29045902","29045902","FAT project 212140","021","49","CBS","281","CBS Other","询价","询价"]
[434,"29047810","29047810","AKTAready GOLDSEAL","021","13","STD BIOPROCESS CHROM HW","415","Std AKTA ready Systems",{"v":139739.865857241,"d":"139,740"},{"v":1258916.4515078843,"d":"1,258,916"},null,{"$f":"VLOOKUP(B435,'[1]2018.7 '!A:C,3,)","v":"Active"},{"$f":"VLOOKUP(B435,'[1]2018.7 '!A:M,13,)","v":"Ambient"},{"$f":"VLOOKUP(B435,'[1]2018.7 '!A:N,14,)","v":"No"}]
[435,"29060563","29060563","AKTAready gradient","021","49","CBS","246","CBS AKTA ready","询价","询价"]
[436,"29065166","29065166","AKTAready gradient","021","49","CBS","246","CBS AKTA ready",{"v":178596,"d":"178,596"},{"v":1608971.364,"d":"1,608,971"},null,{"$f":"VLOOKUP(B437,'[1]2018.7 '!A:C,3,)","v":"Phase Out"},{"$f":"VLOOKUP(B437,'[1]2018.7 '!A:M,13,)","v":"Ambient"},{"$f":"VLOOKUP(B437,'[1]2018.7 '!A:N,14,)","v":"reviewing"}]
[437,"29089073","29089073","AKTAready gradient","021","49","CBS","246","CBS AKTA ready","询价","询价"]
[438,"29103217","29103217","AKTA ready Legacy Gradient Upgrade Kit","021","13","STD BIOPROCESS CHROM HW","415","Std AKTA ready Systems",{"v":35270,"d":"35,270"},{"v":317747.43,"d":"317,747"},null,{"$f":"VLOOKUP(B439,'[1]2018.7 '!A:C,3,)","v":"Active"},{"$f":"VLOOKUP(B439,'[1]2018.7 '!A:M,13,)","v":"Ambient"},{"$f":"VLOOKUP(B439,'[1]2018.7 '!A:N,14,)","v":"No"}]
[439,"29106748","29106748","Gradient kit AKTAREady","021","49","CBS","246","CBS AKTA ready","询价","询价"]
[440,"29113001","29113001","AKTAready SN 9007","021","13","STD BIOPROCESS CHROM HW","415","Std AKTA ready Systems","询价","询价"]
[441,"29141888","29141888","AKTAready gradient with FAT","021","49","CBS","246","CBS AKTA ready","询价","询价"]
[442,"80590415","80590415","Domestic Std ChrSys RTP","021","13","STD BIOPROCESS CHROM HW","415","Std AKTA ready Systems","询价","询价",null,{"$f":"VLOOKUP(B443,'[1]2018.7 '!A:C,3,)","v":"Active"},{"$f":"VLOOKUP(B443,'[1]2018.7 '!A:M,13,)","v":"Ambient"},{"$f":"VLOOKUP(B443,'[1]2018.7 '!A:N,14,)","v":"Reviewing"}]
[443,"28930182","28930182","Low Flow Kit, AKTAready","021","13","STD BIOPROCESS CHROM HW","449","Std AKTA ready Flowkits","询价","询价",null,{"$f":"VLOOKUP(B444,'[1]2018.7 '!A:C,3,)","v":"Active"},{"$f":"VLOOKUP(B444,'[1]2018.7 '!A:M,13,)","v":"Ambient"},{"$f":"VLOOKUP(B444,'[1]2018.7 '!A:N,14,)","v":"No"}]
[444,"28930183","28930183","High Flow Kit, AKTAready","021","13","STD BIOPROCESS CHROM HW","449","Std AKTA ready Flowkits","询价","询价",null,{"$f":"VLOOKUP(B445,'[1]2018.7 '!A:C,3,)","v":"Active"},{"$f":"VLOOKUP(B445,'[1]2018.7 '!A:M,13,)","v":"Ambient"},{"$f":"VLOOKUP(B445,'[1]2018.7 '!A:N,14,)","v":"No"}]
[445,"29007855","29007855","AKTAReady Low Flow Kit ReadyMate","021","13","STD BIOPROCESS CHROM HW","449","Std AKTA ready Flowkits","询价","询价",null,{"$f":"VLOOKUP(B446,'[1]2018.7 '!A:C,3,)","v":"Active"},{"$f":"VLOOKUP(B446,'[1]2018.7 '!A:M,13,)","v":"Ambient"},{"$f":"VLOOKUP(B446,'[1]2018.7 '!A:N,14,)","v":"No"}]
[446,"29007856","29007856","AKTAReady High Flow Kit ReadyMate","021","13","STD BIOPROCESS CHROM HW","449","Std AKTA ready Flowkits","询价","询价",null,{"$f":"VLOOKUP(B447,'[1]2018.7 '!A:C,3,)","v":"Active"},{"$f":"VLOOKUP(B447,'[1]2018.7 '!A:M,13,)","v":"Ambient"},{"$f":"VLOOKUP(B447,'[1]2018.7 '!A:N,14,)","v":"No"}]
[447,"29021085","29021085","AKTA ready Gradient Low Flow Section","021","13","STD BIOPROCESS CHROM HW","449","Std AKTA ready Flowkits","询价","询价",null,{"$f":"VLOOKUP(B448,'[1]2018.7 '!A:C,3,)","v":"Active"},{"$f":"VLOOKUP(B448,'[1]2018.7 '!A:M,13,)","v":"Ambient"},{"$f":"VLOOKUP(B448,'[1]2018.7 '!A:N,14,)","v":"No"}]
[448,"29021086","29021086","AKTA ready Gradient High Flow Section","021","13","STD BIOPROCESS CHROM HW","449","Std AKTA ready Flowkits","询价","询价",null,{"$f":"VLOOKUP(B449,'[1]2018.7 '!A:C,3,)","v":"Active"},{"$f":"VLOOKUP(B449,'[1]2018.7 '!A:M,13,)","v":"Ambient"},{"$f":"VLOOKUP(B449,'[1]2018.7 '!A:N,14,)","v":"No"}]
[449,"29048892","29048892","Low Flow Kit ReadyMate Gradient AKTA ready","021","13","STD BIOPROCESS CHROM HW","449","Std AKTA ready Flowkits","询价","询价",null,{"$f":"VLOOKUP(B450,'[1]2018.7 '!A:C,3,)","v":"Active"},{"$f":"VLOOKUP(B450,'[1]2018.7 '!A:M,13,)","v":"Ambient"},{"$f":"VLOOKUP(B450,'[1]2018.7 '!A:N,14,)","v":"No"}]
[450,"29048893","29048893","Low Flow Kit ReadyMate Isocratic AKTA ready","021","13","STD BIOPROCESS CHROM HW","449","Std AKTA ready Flowkits","询价","询价",null,{"$f":"VLOOKUP(B451,'[1]2018.7 '!A:C,3,)","v":"Active"},{"$f":"VLOOKUP(B451,'[1]2018.7 '!A:M,13,)","v":"Ambient"},{"$f":"VLOOKUP(B451,'[1]2018.7 '!A:N,14,)","v":"No"}]
[451,"80590449","80590449","Domestic Std Chr Flowkits","021","13","STD BIOPROCESS CHROM HW","449","Std AKTA ready Flowkits","询价","询价",null,{"$f":"VLOOKUP(B452,'[1]2018.7 '!A:C,3,)","v":"Active"},{"$f":"VLOOKUP(B452,'[1]2018.7 '!A:M,13,)","v":"Ambient"},{"$f":"VLOOKUP(B452,'[1]2018.7 '!A:N,14,)","v":"Reviewing"}]
[452,"RTPCFP-1-E-3M","56411033","RTPCFP-1-E-3M","021","38","READY TO PROCESS","416","RTP Hollow Fiber filters",{"$f":"K453/9.009","v":{"v":1133,"d":"1,133"}},{"v":10207.197,"d":"10,207"},null,{"$f":"VLOOKUP(B453,'[1]2018.7 '!A:C,3,)","v":"Phase Out"},{"$f":"VLOOKUP(B453,'[1]2018.7 '!A:M,13,)","v":"Ambient"},{"$f":"VLOOKUP(B453,'[1]2018.7 '!A:N,14,)","v":"reviewing"}]
[453,"RTPCFP-1-E-3MS","39000000","RTPCFP-1-E-3MS","021","38","READY TO PROCESS","416","RTP Hollow Fiber filters",{"v":1133,"d":"1,133"},{"v":10207.197,"d":"10,207"},null,{"$f":"VLOOKUP(B454,'[1]2018.7 '!A:C,3,)","v":"Active"},{"$f":"VLOOKUP(B454,'[1]2018.7 '!A:M,13,)","v":"Ambient"},{"$f":"VLOOKUP(B454,'[1]2018.7 '!A:N,14,)","v":"No"}]
[454,"RTPCFP-1-E-3X2MS","39000011","RTPCFP-1-E-3X2MS","021","38","READY TO PROCESS","416","RTP Hollow Fiber filters",{"v":1442,"d":"1,442"},{"v":12990.978000000001,"d":"12,991"},null,{"$f":"VLOOKUP(B455,'[1]2018.7 '!A:C,3,)","v":"Active"},{"$f":"VLOOKUP(B455,'[1]2018.7 '!A:M,13,)","v":"Ambient"},{"$f":"VLOOKUP(B455,'[1]2018.7 '!A:N,14,)","v":"No"}]
[455,"RTPCFP-1-E-4MS","39000015","RTPCFP-1-E-4MS","021","38","READY TO PROCESS","416","RTP Hollow Fiber filters",{"v":1648,"d":"1,648"},{"v":14846.832,"d":"14,847"},null,{"$f":"VLOOKUP(B456,'[1]2018.7 '!A:C,3,)","v":"Active"},{"$f":"VLOOKUP(B456,'[1]2018.7 '!A:M,13,)","v":"Ambient"},{"$f":"VLOOKUP(B456,'[1]2018.7 '!A:N,14,)","v":"No"}]
[456,"RTPCFP-1-E-4X2M","56411059","RTPCFP-1-E-4X2M","021","38","READY TO PROCESS","416","RTP Hollow Fiber filters",{"v":2060,"d":"2,060"},{"v":18558.54,"d":"18,559"},null,{"$f":"VLOOKUP(B457,'[1]2018.7 '!A:C,3,)","v":"Phase Out"},{"$f":"VLOOKUP(B457,'[1]2018.7 '!A:M,13,)","v":"Ambient"},{"$f":"VLOOKUP(B457,'[1]2018.7 '!A:N,14,)","v":"reviewing"}]
[457,"RTPCFP-1-E-4X2MS","39000026","RTPCFP-1-E-4X2MS","021","38","READY TO PROCESS","416","RTP Hollow Fiber filters",{"v":2060,"d":"2,060"},{"v":18558.54,"d":"18,559"},null,{"$f":"VLOOKUP(B458,'[1]2018.7 '!A:C,3,)","v":"Active"},{"$f":"VLOOKUP(B458,'[1]2018.7 '!A:M,13,)","v":"Ambient"},{"$f":"VLOOKUP(B458,'[1]2018.7 '!A:N,14,)","v":"No"}]
[458,"RTPCFP-1-E-55S","28984047","RTPCFP-1-E-55S","021","38","READY TO PROCESS","416","RTP Hollow Fiber filters",{"v":5739,"d":"5,739"},{"v":51702.651000000005,"d":"51,703"},null,{"$f":"VLOOKUP(B459,'[1]2018.7 '!A:C,3,)","v":"Active"},{"$f":"VLOOKUP(B459,'[1]2018.7 '!A:M,13,)","v":"Ambient"},{"$f":"VLOOKUP(B459,'[1]2018.7 '!A:N,14,)","v":"No"}]
[459,"RTPCFP-1-E-5S","39000030","RTPCFP-1-E-5S","021","38","READY TO PROCESS","416","RTP Hollow Fiber filters",{"v":2369,"d":"2,369"},{"v":21342.321,"d":"21,342"},null,{"$f":"VLOOKUP(B460,'[1]2018.7 '!A:C,3,)","v":"Active"},{"$f":"VLOOKUP(B460,'[1]2018.7 '!A:M,13,)","v":"Ambient"},{"$f":"VLOOKUP(B460,'[1]2018.7 '!A:N,14,)","v":"No"}]
[460,"RTPCFP-1-E-6S","39000041","RTPCFP-1-E-6S","021","38","READY TO PROCESS","416","RTP Hollow Fiber filters",{"v":2987,"d":"2,987"},{"v":26909.883,"d":"26,910"},null,{"$f":"VLOOKUP(B461,'[1]2018.7 '!A:C,3,)","v":"Active"},{"$f":"VLOOKUP(B461,'[1]2018.7 '!A:M,13,)","v":"Ambient"},{"$f":"VLOOKUP(B461,'[1]2018.7 '!A:N,14,)","v":"No"}]
[461,"RTPCFP-1-E-8S","39000045","RTPCFP-1-E-8S","021","38","READY TO PROCESS","416","RTP Hollow Fiber filters",{"v":3090,"d":"3,090"},{"v":27837.81,"d":"27,838"},null,{"$f":"VLOOKUP(B462,'[1]2018.7 '!A:C,3,)","v":"Active"},{"$f":"VLOOKUP(B462,'[1]2018.7 '!A:M,13,)","v":"Ambient"},{"$f":"VLOOKUP(B462,'[1]2018.7 '!A:N,14,)","v":"No"}]
[462,"RTPCFP-1-E-9S","39000056","RTPCFP-1-E-9S","021","38","READY TO PROCESS","416","RTP Hollow Fiber filters",{"v":4429,"d":"4,429"},{"v":39900.861000000004,"d":"39,901"},null,{"$f":"VLOOKUP(B463,'[1]2018.7 '!A:C,3,)","v":"Active"},{"$f":"VLOOKUP(B463,'[1]2018.7 '!A:M,13,)","v":"Ambient"},{"$f":"VLOOKUP(B463,'[1]2018.7 '!A:N,14,)","v":"No"}]
[463,"RTPCFP-2-E-3MS","39000001","RTPCFP-2-E-3MS","021","38","READY TO PROCESS","416","RTP Hollow Fiber filters",{"v":1133,"d":"1,133"},{"v":10207.197,"d":"10,207"},null,{"$f":"VLOOKUP(B464,'[1]2018.7 '!A:C,3,)","v":"Active"},{"$f":"VLOOKUP(B464,'[1]2018.7 '!A:M,13,)","v":"Ambient"},{"$f":"VLOOKUP(B464,'[1]2018.7 '!A:N,14,)","v":"No"}]
[464,"RTPCFP-2-E-3X2MS","39000012","RTPCFP-2-E-3X2MS","021","38","READY TO PROCESS","416","RTP Hollow Fiber filters",{"v":1442,"d":"1,442"},{"v":12990.978000000001,"d":"12,991"},null,{"$f":"VLOOKUP(B465,'[1]2018.7 '!A:C,3,)","v":"Active"},{"$f":"VLOOKUP(B465,'[1]2018.7 '!A:M,13,)","v":"Ambient"},{"$f":"VLOOKUP(B465,'[1]2018.7 '!A:N,14,)","v":"No"}]
[465,"RTPCFP-2-E-4MS","39000016","RTPCFP-2-E-4MS","021","38","READY TO PROCESS","416","RTP Hollow Fiber filters",{"v":1648,"d":"1,648"},{"v":14846.832,"d":"14,847"},null,{"$f":"VLOOKUP(B466,'[1]2018.7 '!A:C,3,)","v":"Active"},{"$f":"VLOOKUP(B466,'[1]2018.7 '!A:M,13,)","v":"Ambient"},{"$f":"VLOOKUP(B466,'[1]2018.7 '!A:N,14,)","v":"No"}]
[466,"RTPCFP-2-E-4X2MS","39000027","RTPCFP-2-E-4X2MS","021","38","READY TO PROCESS","416","RTP Hollow Fiber filters",{"v":2060,"d":"2,060"},{"v":18558.54,"d":"18,559"},null,{"$f":"VLOOKUP(B467,'[1]2018.7 '!A:C,3,)","v":"Active"},{"$f":"VLOOKUP(B467,'[1]2018.7 '!A:M,13,)","v":"Ambient"},{"$f":"VLOOKUP(B467,'[1]2018.7 '!A:N,14,)","v":"No"}]
[467,"RTPCFP-2-E-5S","39000031","RTPCFP-2-E-5S","021","38","READY TO PROCESS","416","RTP Hollow Fiber filters",{"v":2369,"d":"2,369"},{"v":21342.321,"d":"21,342"},null,{"$f":"VLOOKUP(B468,'[1]2018.7 '!A:C,3,)","v":"Active"},{"$f":"VLOOKUP(B468,'[1]2018.7 '!A:M,13,)","v":"Ambient"},{"$f":"VLOOKUP(B468,'[1]2018.7 '!A:N,14,)","v":"No"}]
[468,"RTPCFP-2-E-6S","39000042","RTPCFP-2-E-6S","021","38","READY TO PROCESS","416","RTP Hollow Fiber filters",{"v":2987,"d":"2,987"},{"v":26909.883,"d":"26,910"},null,{"$f":"VLOOKUP(B469,'[1]2018.7 '!A:C,3,)","v":"Active"},{"$f":"VLOOKUP(B469,'[1]2018.7 '!A:M,13,)","v":"Ambient"},{"$f":"VLOOKUP(B469,'[1]2018.7 '!A:N,14,)","v":"No"}]
[469,"RTPCFP-2-E-8S","39000046","RTPCFP-2-E-8S","021","38","READY TO PROCESS","416","RTP Hollow Fiber filters",{"v":3090,"d":"3,090"},{"v":27837.81,"d":"27,838"},null,{"$f":"VLOOKUP(B470,'[1]2018.7 '!A:C,3,)","v":"Active"},{"$f":"VLOOKUP(B470,'[1]2018.7 '!A:M,13,)","v":"Ambient"},{"$f":"VLOOKUP(B470,'[1]2018.7 '!A:N,14,)","v":"No"}]
[470,"RTPCFP-2-E-9S","39000057","RTPCFP-2-E-9S","021","38","READY TO PROCESS","416","RTP Hollow Fiber filters",{"v":4429,"d":"4,429"},{"v":39900.861000000004,"d":"39,901"},null,{"$f":"VLOOKUP(B471,'[1]2018.7 '!A:C,3,)","v":"Active"},{"$f":"VLOOKUP(B471,'[1]2018.7 '!A:M,13,)","v":"Ambient"},{"$f":"VLOOKUP(B471,'[1]2018.7 '!A:N,14,)","v":"No"}]
[471,"RTPCFP-4-E-3MS","39000002","RTPCFP-4-E-3MS","021","38","READY TO PROCESS","416","RTP Hollow Fiber filters",{"v":1133,"d":"1,133"},{"v":10207.197,"d":"10,207"},null,{"$f":"VLOOKUP(B472,'[1]2018.7 '!A:C,3,)","v":"Active"},{"$f":"VLOOKUP(B472,'[1]2018.7 '!A:M,13,)","v":"Ambient"},{"$f":"VLOOKUP(B472,'[1]2018.7 '!A:N,14,)","v":"No"}]
[472,"RTPCFP-4-E-3X2MS","39000013","RTPCFP-4-E-3X2MS","021","38","READY TO PROCESS","416","RTP Hollow Fiber filters",{"v":1442,"d":"1,442"},{"v":12990.978000000001,"d":"12,991"},null,{"$f":"VLOOKUP(B473,'[1]2018.7 '!A:C,3,)","v":"Active"},{"$f":"VLOOKUP(B473,'[1]2018.7 '!A:M,13,)","v":"Ambient"},{"$f":"VLOOKUP(B473,'[1]2018.7 '!A:N,14,)","v":"No"}]
[473,"RTPCFP-4-E-4MS","39000017","RTPCFP-4-E-4MS","021","38","READY TO PROCESS","416","RTP Hollow Fiber filters",{"v":1648,"d":"1,648"},{"v":14846.832,"d":"14,847"},null,{"$f":"VLOOKUP(B474,'[1]2018.7 '!A:C,3,)","v":"Active"},{"$f":"VLOOKUP(B474,'[1]2018.7 '!A:M,13,)","v":"Ambient"},{"$f":"VLOOKUP(B474,'[1]2018.7 '!A:N,14,)","v":"No"}]
[474,"RTPCFP-4-E-4X2M","56411061","RTPCFP-4-E-4X2M","021","38","READY TO PROCESS","416","RTP Hollow Fiber filters",{"v":2060,"d":"2,060"},{"v":18558.54,"d":"18,559"},null,{"$f":"VLOOKUP(B475,'[1]2018.7 '!A:C,3,)","v":"Phase Out"},{"$f":"VLOOKUP(B475,'[1]2018.7 '!A:M,13,)","v":"Ambient"},{"$f":"VLOOKUP(B475,'[1]2018.7 '!A:N,14,)","v":"reviewing"}]
[475,"RTPCFP-4-E-4X2MS","39000028","RTPCFP-4-E-4X2MS","021","38","READY TO PROCESS","416","RTP Hollow Fiber filters",{"v":2060,"d":"2,060"},{"v":18558.54,"d":"18,559"},null,{"$f":"VLOOKUP(B476,'[1]2018.7 '!A:C,3,)","v":"Active"},{"$f":"VLOOKUP(B476,'[1]2018.7 '!A:M,13,)","v":"Ambient"},{"$f":"VLOOKUP(B476,'[1]2018.7 '!A:N,14,)","v":"No"}]
[476,"RTPCFP-4-E-5S","39000032","RTPCFP-4-E-5S","021","38","READY TO PROCESS","416","RTP Hollow Fiber filters",{"v":2369,"d":"2,369"},{"v":21342.321,"d":"21,342"},null,{"$f":"VLOOKUP(B477,'[1]2018.7 '!A:C,3,)","v":"Active"},{"$f":"VLOOKUP(B477,'[1]2018.7 '!A:M,13,)","v":"Ambient"},{"$f":"VLOOKUP(B477,'[1]2018.7 '!A:N,14,)","v":"No"}]
[477,"RTPCFP-4-E-6S","39000043","RTPCFP-4-E-6S","021","38","READY TO PROCESS","416","RTP Hollow Fiber filters",{"v":2987,"d":"2,987"},{"v":26909.883,"d":"26,910"},null,{"$f":"VLOOKUP(B478,'[1]2018.7 '!A:C,3,)","v":"Active"},{"$f":"VLOOKUP(B478,'[1]2018.7 '!A:M,13,)","v":"Ambient"},{"$f":"VLOOKUP(B478,'[1]2018.7 '!A:N,14,)","v":"No"}]
[478,"RTPCFP-4-E-8S","39000047","RTPCFP-4-E-8S","021","38","READY TO PROCESS","416","RTP Hollow Fiber filters",{"v":3090,"d":"3,090"},{"v":27837.81,"d":"27,838"},null,{"$f":"VLOOKUP(B479,'[1]2018.7 '!A:C,3,)","v":"Active"},{"$f":"VLOOKUP(B479,'[1]2018.7 '!A:M,13,)","v":"Ambient"},{"$f":"VLOOKUP(B479,'[1]2018.7 '!A:N,14,)","v":"No"}]
[479,"RTPCFP-4-E-9S","39000058","RTPCFP-4-E-9S","021","38","READY TO PROCESS","416","RTP Hollow Fiber filters",{"v":4429,"d":"4,429"},{"v":39900.861000000004,"d":"39,901"},null,{"$f":"VLOOKUP(B480,'[1]2018.7 '!A:C,3,)","v":"Active"},{"$f":"VLOOKUP(B480,'[1]2018.7 '!A:M,13,)","v":"Ambient"},{"$f":"VLOOKUP(B480,'[1]2018.7 '!A:N,14,)","v":"No"}]
[480,"RTPCFP-6-D-35S","39000088","RTPCFP-6-D-35S","021","38","READY TO PROCESS","416","RTP Hollow Fiber filters",{"v":4120,"d":"4,120"},{"v":37117.08,"d":"37,117"},null,{"$f":"VLOOKUP(B481,'[1]2018.7 '!A:C,3,)","v":"Active"},{"$f":"VLOOKUP(B481,'[1]2018.7 '!A:M,13,)","v":"Ambient"},{"$f":"VLOOKUP(B481,'[1]2018.7 '!A:N,14,)","v":"No"}]
[481,"RTPCFP-6-D-3MS","39000003","RTPCFP-6-D-3MS","021","38","READY TO PROCESS","416","RTP Hollow Fiber filters",{"v":1133,"d":"1,133"},{"v":10207.197,"d":"10,207"},null,{"$f":"VLOOKUP(B482,'[1]2018.7 '!A:C,3,)","v":"Active"},{"$f":"VLOOKUP(B482,'[1]2018.7 '!A:M,13,)","v":"Ambient"},{"$f":"VLOOKUP(B482,'[1]2018.7 '!A:N,14,)","v":"No"}]
[482,"RTPCFP-6-D-3X2MS","39000014","RTPCFP-6-D-3X2MS","021","38","READY TO PROCESS","416","RTP Hollow Fiber filters",{"v":1442,"d":"1,442"},{"v":12990.978000000001,"d":"12,991"},null,{"$f":"VLOOKUP(B483,'[1]2018.7 '!A:C,3,)","v":"Active"},{"$f":"VLOOKUP(B483,'[1]2018.7 '!A:M,13,)","v":"Ambient"},{"$f":"VLOOKUP(B483,'[1]2018.7 '!A:N,14,)","v":"No"}]
[483,"RTPCFP-6-D-4MS","39000018","RTPCFP-6-D-4MS","021","38","READY TO PROCESS","416","RTP Hollow Fiber filters",{"v":1648,"d":"1,648"},{"v":14846.832,"d":"14,847"},null,{"$f":"VLOOKUP(B484,'[1]2018.7 '!A:C,3,)","v":"Active"},{"$f":"VLOOKUP(B484,'[1]2018.7 '!A:M,13,)","v":"Ambient"},{"$f":"VLOOKUP(B484,'[1]2018.7 '!A:N,14,)","v":"No"}]
[484,"RTPCFP-6-D-4X2MS","39000029","RTPCFP-6-D-4X2MS","021","38","READY TO PROCESS","416","RTP Hollow Fiber filters",{"v":2060,"d":"2,060"},{"v":18558.54,"d":"18,559"},null,{"$f":"VLOOKUP(B485,'[1]2018.7 '!A:C,3,)","v":"Active"},{"$f":"VLOOKUP(B485,'[1]2018.7 '!A:M,13,)","v":"Ambient"},{"$f":"VLOOKUP(B485,'[1]2018.7 '!A:N,14,)","v":"No"}]
[485,"RTPCFP-6-D-55S","39000090","RTPCFP-6-D-55S","021","38","READY TO PROCESS","416","RTP Hollow Fiber filters",{"v":6371,"d":"6,371"},{"v":57396.339,"d":"57,396"},null,{"$f":"VLOOKUP(B486,'[1]2018.7 '!A:C,3,)","v":"Active"},{"$f":"VLOOKUP(B486,'[1]2018.7 '!A:M,13,)","v":"Ambient"},{"$f":"VLOOKUP(B486,'[1]2018.7 '!A:N,14,)","v":"No"}]
[486,"RTPCFP-6-D-5S","39000033","RTPCFP-6-D-5S","021","38","READY TO PROCESS","416","RTP Hollow Fiber filters",{"v":2369,"d":"2,369"},{"v":21342.321,"d":"21,342"},null,{"$f":"VLOOKUP(B487,'[1]2018.7 '!A:C,3,)","v":"Active"},{"$f":"VLOOKUP(B487,'[1]2018.7 '!A:M,13,)","v":"Ambient"},{"$f":"VLOOKUP(B487,'[1]2018.7 '!A:N,14,)","v":"No"}]
[487,"RTPCFP-6-D-6S","39000044","RTPCFP-6-D-6S","021","38","READY TO PROCESS","416","RTP Hollow Fiber filters",{"v":2987,"d":"2,987"},{"v":26909.883,"d":"26,910"},null,{"$f":"VLOOKUP(B488,'[1]2018.7 '!A:C,3,)","v":"Active"},{"$f":"VLOOKUP(B488,'[1]2018.7 '!A:M,13,)","v":"Ambient"},{"$f":"VLOOKUP(B488,'[1]2018.7 '!A:N,14,)","v":"No"}]
[488,"RTPCFP-6-D-8S","39000048","RTPCFP-6-D-8S","021","38","READY TO PROCESS","416","RTP Hollow Fiber filters",{"v":3090,"d":"3,090"},{"v":27837.81,"d":"27,838"},null,{"$f":"VLOOKUP(B489,'[1]2018.7 '!A:C,3,)","v":"Active"},{"$f":"VLOOKUP(B489,'[1]2018.7 '!A:M,13,)","v":"Ambient"},{"$f":"VLOOKUP(B489,'[1]2018.7 '!A:N,14,)","v":"No"}]
[489,"RTPCFP-6-D-9S","39000059","RTPCFP-6-D-9S","021","38","READY TO PROCESS","416","RTP Hollow Fiber filters",{"v":4429,"d":"4,429"},{"v":39900.861000000004,"d":"39,901"},null,{"$f":"VLOOKUP(B490,'[1]2018.7 '!A:C,3,)","v":"Active"},{"$f":"VLOOKUP(B490,'[1]2018.7 '!A:M,13,)","v":"Ambient"},{"$f":"VLOOKUP(B490,'[1]2018.7 '!A:N,14,)","v":"No"}]
[490,"RTPUFP-10-C-3X2MS","39000004","RTPUFP-10-C-3X2MS","021","38","READY TO PROCESS","416","RTP Hollow Fiber filters",{"v":1442,"d":"1,442"},{"v":12990.978000000001,"d":"12,991"},null,{"$f":"VLOOKUP(B491,'[1]2018.7 '!A:C,3,)","v":"Active"},{"$f":"VLOOKUP(B491,'[1]2018.7 '!A:M,13,)","v":"Ambient"},{"$f":"VLOOKUP(B491,'[1]2018.7 '!A:N,14,)","v":"No"}]
[491,"RTPUFP-10-C-4MS","39000067","RTPUFP-10-C-4MS","021","38","READY TO PROCESS","416","RTP Hollow Fiber filters",{"v":1648,"d":"1,648"},{"v":14846.832,"d":"14,847"},null,{"$f":"VLOOKUP(B492,'[1]2018.7 '!A:C,3,)","v":"Active"},{"$f":"VLOOKUP(B492,'[1]2018.7 '!A:M,13,)","v":"Ambient"},{"$f":"VLOOKUP(B492,'[1]2018.7 '!A:N,14,)","v":"No"}]
[492,"RTPUFP-10-C-4X2MS","39000019","RTPUFP-10-C-4X2MS","021","38","READY TO PROCESS","416","RTP Hollow Fiber filters",{"v":2060,"d":"2,060"},{"v":18558.54,"d":"18,559"},null,{"$f":"VLOOKUP(B493,'[1]2018.7 '!A:C,3,)","v":"Active"},{"$f":"VLOOKUP(B493,'[1]2018.7 '!A:M,13,)","v":"Ambient"},{"$f":"VLOOKUP(B493,'[1]2018.7 '!A:N,14,)","v":"No"}]
[493,"RTPUFP-10-C-5S","39000074","RTPUFP-10-C-5S","021","38","READY TO PROCESS","416","RTP Hollow Fiber filters",{"v":2369,"d":"2,369"},{"v":21342.321,"d":"21,342"},null,{"$f":"VLOOKUP(B494,'[1]2018.7 '!A:C,3,)","v":"Active"},{"$f":"VLOOKUP(B494,'[1]2018.7 '!A:M,13,)","v":"Ambient"},{"$f":"VLOOKUP(B494,'[1]2018.7 '!A:N,14,)","v":"No"}]
[494,"RTPUFP-10-C-6S","39000034","RTPUFP-10-C-6S","021","38","READY TO PROCESS","416","RTP Hollow Fiber filters",{"v":2987,"d":"2,987"},{"v":26909.883,"d":"26,910"},null,{"$f":"VLOOKUP(B495,'[1]2018.7 '!A:C,3,)","v":"Active"},{"$f":"VLOOKUP(B495,'[1]2018.7 '!A:M,13,)","v":"Ambient"},{"$f":"VLOOKUP(B495,'[1]2018.7 '!A:N,14,)","v":"No"}]
[495,"RTPUFP-10-C-8S","39000081","RTPUFP-10-C-8S","021","38","READY TO PROCESS","416","RTP Hollow Fiber filters",{"v":3090,"d":"3,090"},{"v":27837.81,"d":"27,838"},null,{"$f":"VLOOKUP(B496,'[1]2018.7 '!A:C,3,)","v":"Active"},{"$f":"VLOOKUP(B496,'[1]2018.7 '!A:M,13,)","v":"Ambient"},{"$f":"VLOOKUP(B496,'[1]2018.7 '!A:N,14,)","v":"No"}]
[496,"RTPUFP-10-C-9S","39000049","RTPUFP-10-C-9S","021","38","READY TO PROCESS","416","RTP Hollow Fiber filters",{"v":4429,"d":"4,429"},{"v":39900.861000000004,"d":"39,901"},null,{"$f":"VLOOKUP(B497,'[1]2018.7 '!A:C,3,)","v":"Active"},{"$f":"VLOOKUP(B497,'[1]2018.7 '!A:M,13,)","v":"Ambient"},{"$f":"VLOOKUP(B497,'[1]2018.7 '!A:N,14,)","v":"No"}]
[497,"RTPUFP-100-C-3X2M","56411040","RTPUFP-100-C-3X2M","021","38","READY TO PROCESS","416","RTP Hollow Fiber filters",{"v":1442,"d":"1,442"},{"v":12990.978000000001,"d":"12,991"},null,{"$f":"VLOOKUP(B498,'[1]2018.7 '!A:C,3,)","v":"Phase Out"},{"$f":"VLOOKUP(B498,'[1]2018.7 '!A:M,13,)","v":"Ambient"},{"$f":"VLOOKUP(B498,'[1]2018.7 '!A:N,14,)","v":"reviewing"}]
[498,"RTPUFP-100-C-3X2MS","39000007","RTPUFP-100-C-3X2MS","021","38","READY TO PROCESS","416","RTP Hollow Fiber filters",{"v":1442,"d":"1,442"},{"v":12990.978000000001,"d":"12,991"},null,{"$f":"VLOOKUP(B499,'[1]2018.7 '!A:C,3,)","v":"Active"},{"$f":"VLOOKUP(B499,'[1]2018.7 '!A:M,13,)","v":"Ambient"},{"$f":"VLOOKUP(B499,'[1]2018.7 '!A:N,14,)","v":"No"}]
[499,"RTPUFP-100-C-4MS","39000070","RTPUFP-100-C-4MS","021","38","READY TO PROCESS","416","RTP Hollow Fiber filters",{"v":1648,"d":"1,648"},{"v":14846.832,"d":"14,847"},null,{"$f":"VLOOKUP(B500,'[1]2018.7 '!A:C,3,)","v":"Active"},{"$f":"VLOOKUP(B500,'[1]2018.7 '!A:M,13,)","v":"Ambient"},{"$f":"VLOOKUP(B500,'[1]2018.7 '!A:N,14,)","v":"No"}]
[500,"RTPUFP-100-C-4X2MS","39000022","RTPUFP-100-C-4X2MS","021","38","READY TO PROCESS","416","RTP Hollow Fiber filters",{"v":2060,"d":"2,060"},{"v":18558.54,"d":"18,559"},null,{"$f":"VLOOKUP(B501,'[1]2018.7 '!A:C,3,)","v":"Active"},{"$f":"VLOOKUP(B501,'[1]2018.7 '!A:M,13,)","v":"Ambient"},{"$f":"VLOOKUP(B501,'[1]2018.7 '!A:N,14,)","v":"No"}]
[501,"RTPUFP-100-C-5S","39000077","RTPUFP-100-C-5S","021","38","READY TO PROCESS","416","RTP Hollow Fiber filters",{"v":2369,"d":"2,369"},{"v":21342.321,"d":"21,342"},null,{"$f":"VLOOKUP(B502,'[1]2018.7 '!A:C,3,)","v":"Active"},{"$f":"VLOOKUP(B502,'[1]2018.7 '!A:M,13,)","v":"Ambient"},{"$f":"VLOOKUP(B502,'[1]2018.7 '!A:N,14,)","v":"No"}]
[502,"RTPUFP-100-C-6S","39000037","RTPUFP-100-C-6S","021","38","READY TO PROCESS","416","RTP Hollow Fiber filters",{"v":2987,"d":"2,987"},{"v":26909.883,"d":"26,910"},null,{"$f":"VLOOKUP(B503,'[1]2018.7 '!A:C,3,)","v":"Active"},{"$f":"VLOOKUP(B503,'[1]2018.7 '!A:M,13,)","v":"Ambient"},{"$f":"VLOOKUP(B503,'[1]2018.7 '!A:N,14,)","v":"No"}]
[503,"RTPUFP-100-C-8S","39000084","RTPUFP-100-C-8S","021","38","READY TO PROCESS","416","RTP Hollow Fiber filters",{"v":3090,"d":"3,090"},{"v":27837.81,"d":"27,838"},null,{"$f":"VLOOKUP(B504,'[1]2018.7 '!A:C,3,)","v":"Active"},{"$f":"VLOOKUP(B504,'[1]2018.7 '!A:M,13,)","v":"Ambient"},{"$f":"VLOOKUP(B504,'[1]2018.7 '!A:N,14,)","v":"No"}]
[504,"RTPUFP-100-C-9S","39000052","RTPUFP-100-C-9S","021","38","READY TO PROCESS","416","RTP Hollow Fiber filters",{"v":4429,"d":"4,429"},{"v":39900.861000000004,"d":"39,901"},null,{"$f":"VLOOKUP(B505,'[1]2018.7 '!A:C,3,)","v":"Active"},{"$f":"VLOOKUP(B505,'[1]2018.7 '!A:M,13,)","v":"Ambient"},{"$f":"VLOOKUP(B505,'[1]2018.7 '!A:N,14,)","v":"No"}]
[505,"RTPUFP-30-C-3X2MS","39000005","RTPUFP-30-C-3X2MS","021","38","READY TO PROCESS","416","RTP Hollow Fiber filters",{"v":1442,"d":"1,442"},{"v":12990.978000000001,"d":"12,991"},null,{"$f":"VLOOKUP(B506,'[1]2018.7 '!A:C,3,)","v":"Active"},{"$f":"VLOOKUP(B506,'[1]2018.7 '!A:M,13,)","v":"Ambient"},{"$f":"VLOOKUP(B506,'[1]2018.7 '!A:N,14,)","v":"No"}]
[506,"RTPUFP-30-C-4MS","39000068","RTPUFP-30-C-4MS","021","38","READY TO PROCESS","416","RTP Hollow Fiber filters",{"v":1648,"d":"1,648"},{"v":14846.832,"d":"14,847"},null,{"$f":"VLOOKUP(B507,'[1]2018.7 '!A:C,3,)","v":"Active"},{"$f":"VLOOKUP(B507,'[1]2018.7 '!A:M,13,)","v":"Ambient"},{"$f":"VLOOKUP(B507,'[1]2018.7 '!A:N,14,)","v":"No"}]
[507,"RTPUFP-30-C-4X2M","56411053","RTPUFP-30-C-4X2M","021","38","READY TO PROCESS","416","RTP Hollow Fiber filters",{"v":2060,"d":"2,060"},{"v":18558.54,"d":"18,559"},null,{"$f":"VLOOKUP(B508,'[1]2018.7 '!A:C,3,)","v":"Phase Out"},{"$f":"VLOOKUP(B508,'[1]2018.7 '!A:M,13,)","v":"Ambient"},{"$f":"VLOOKUP(B508,'[1]2018.7 '!A:N,14,)","v":"reviewing"}]
[508,"RTPUFP-30-C-4X2MS","39000020","RTPUFP-30-C-4X2MS","021","38","READY TO PROCESS","416","RTP Hollow Fiber filters",{"v":2060,"d":"2,060"},{"v":18558.54,"d":"18,559"},null,{"$f":"VLOOKUP(B509,'[1]2018.7 '!A:C,3,)","v":"Active"},{"$f":"VLOOKUP(B509,'[1]2018.7 '!A:M,13,)","v":"Ambient"},{"$f":"VLOOKUP(B509,'[1]2018.7 '!A:N,14,)","v":"No"}]
[509,"RTPUFP-30-C-5S","39000075","RTPUFP-30-C-5S","021","38","READY TO PROCESS","416","RTP Hollow Fiber filters",{"v":2369,"d":"2,369"},{"v":21342.321,"d":"21,342"},null,{"$f":"VLOOKUP(B510,'[1]2018.7 '!A:C,3,)","v":"Active"},{"$f":"VLOOKUP(B510,'[1]2018.7 '!A:M,13,)","v":"Ambient"},{"$f":"VLOOKUP(B510,'[1]2018.7 '!A:N,14,)","v":"No"}]
[510,"RTPUFP-30-C-6S","39000035","RTPUFP-30-C-6S","021","38","READY TO PROCESS","416","RTP Hollow Fiber filters",{"v":2987,"d":"2,987"},{"v":26909.883,"d":"26,910"},null,{"$f":"VLOOKUP(B511,'[1]2018.7 '!A:C,3,)","v":"Active"},{"$f":"VLOOKUP(B511,'[1]2018.7 '!A:M,13,)","v":"Ambient"},{"$f":"VLOOKUP(B511,'[1]2018.7 '!A:N,14,)","v":"No"}]
[511,"RTPUFP-30-C-8S","39000082","RTPUFP-30-C-8S","021","38","READY TO PROCESS","416","RTP Hollow Fiber filters",{"v":3090,"d":"3,090"},{"v":27837.81,"d":"27,838"},null,{"$f":"VLOOKUP(B512,'[1]2018.7 '!A:C,3,)","v":"Active"},{"$f":"VLOOKUP(B512,'[1]2018.7 '!A:M,13,)","v":"Ambient"},{"$f":"VLOOKUP(B512,'[1]2018.7 '!A:N,14,)","v":"No"}]
[512,"RTPUFP-30-C-9S","39000050","RTPUFP-30-C-9S","021","38","READY TO PROCESS","416","RTP Hollow Fiber filters",{"v":4429,"d":"4,429"},{"v":39900.861000000004,"d":"39,901"},null,{"$f":"VLOOKUP(B513,'[1]2018.7 '!A:C,3,)","v":"Active"},{"$f":"VLOOKUP(B513,'[1]2018.7 '!A:M,13,)","v":"Ambient"},{"$f":"VLOOKUP(B513,'[1]2018.7 '!A:N,14,)","v":"No"}]
[513,"RTPUFP-300-C-3X2MS","39000008","RTPUFP-300-C-3X2MS","021","38","READY TO PROCESS","416","RTP Hollow Fiber filters",{"v":1442,"d":"1,442"},{"v":12990.978000000001,"d":"12,991"},null,{"$f":"VLOOKUP(B514,'[1]2018.7 '!A:C,3,)","v":"Active"},{"$f":"VLOOKUP(B514,'[1]2018.7 '!A:M,13,)","v":"Ambient"},{"$f":"VLOOKUP(B514,'[1]2018.7 '!A:N,14,)","v":"No"}]
[514,"RTPUFP-300-C-4MS","39000071","RTPUFP-300-C-4MS","021","38","READY TO PROCESS","416","RTP Hollow Fiber filters",{"v":1648,"d":"1,648"},{"v":14846.832,"d":"14,847"},null,{"$f":"VLOOKUP(B515,'[1]2018.7 '!A:C,3,)","v":"Active"},{"$f":"VLOOKUP(B515,'[1]2018.7 '!A:M,13,)","v":"Ambient"},{"$f":"VLOOKUP(B515,'[1]2018.7 '!A:N,14,)","v":"No"}]
[515,"RTPUFP-300-C-4X2MS","39000023","RTPUFP-300-C-4X2MS","021","38","READY TO PROCESS","416","RTP Hollow Fiber filters",{"v":2060,"d":"2,060"},{"v":18558.54,"d":"18,559"},null,{"$f":"VLOOKUP(B516,'[1]2018.7 '!A:C,3,)","v":"Active"},{"$f":"VLOOKUP(B516,'[1]2018.7 '!A:M,13,)","v":"Ambient"},{"$f":"VLOOKUP(B516,'[1]2018.7 '!A:N,14,)","v":"No"}]
[516,"RTPUFP-300-C-5S","39000078","RTPUFP-300-C-5S","021","38","READY TO PROCESS","416","RTP Hollow Fiber filters",{"$f":"K517/9.009","v":{"v":2369,"d":"2,369"}},{"v":21342.321,"d":"21,342"},null,{"$f":"VLOOKUP(B517,'[1]2018.7 '!A:C,3,)","v":"Active"},{"$f":"VLOOKUP(B517,'[1]2018.7 '!A:M,13,)","v":"Ambient"},{"$f":"VLOOKUP(B517,'[1]2018.7 '!A:N,14,)","v":"No"}]
[517,"RTPUFP-300-C-6S","39000038","RTPUFP-300-C-6S","021","38","READY TO PROCESS","416","RTP Hollow Fiber filters",{"v":2987,"d":"2,987"},{"v":26909.883,"d":"26,910"},null,{"$f":"VLOOKUP(B518,'[1]2018.7 '!A:C,3,)","v":"Active"},{"$f":"VLOOKUP(B518,'[1]2018.7 '!A:M,13,)","v":"Ambient"},{"$f":"VLOOKUP(B518,'[1]2018.7 '!A:N,14,)","v":"No"}]
[518,"RTPUFP-300-C-8S","39000085","RTPUFP-300-C-8S","021","38","READY TO PROCESS","416","RTP Hollow Fiber filters",{"v":3090,"d":"3,090"},{"v":27837.81,"d":"27,838"},null,{"$f":"VLOOKUP(B519,'[1]2018.7 '!A:C,3,)","v":"Active"},{"$f":"VLOOKUP(B519,'[1]2018.7 '!A:M,13,)","v":"Ambient"},{"$f":"VLOOKUP(B519,'[1]2018.7 '!A:N,14,)","v":"No"}]
[519,"RTPUFP-300-C-9S","39000053","RTPUFP-300-C-9S","021","38","READY TO PROCESS","416","RTP Hollow Fiber filters",{"v":4429,"d":"4,429"},{"v":39900.861000000004,"d":"39,901"},null,{"$f":"VLOOKUP(B520,'[1]2018.7 '!A:C,3,)","v":"Active"},{"$f":"VLOOKUP(B520,'[1]2018.7 '!A:M,13,)","v":"Ambient"},{"$f":"VLOOKUP(B520,'[1]2018.7 '!A:N,14,)","v":"No"}]
[520,"RTPUFP-50-C-3X2MS","39000006","RTPUFP-50-C-3X2MS","021","38","READY TO PROCESS","416","RTP Hollow Fiber filters",{"v":1442,"d":"1,442"},{"v":12990.978000000001,"d":"12,991"},null,{"$f":"VLOOKUP(B521,'[1]2018.7 '!A:C,3,)","v":"Active"},{"$f":"VLOOKUP(B521,'[1]2018.7 '!A:M,13,)","v":"Ambient"},{"$f":"VLOOKUP(B521,'[1]2018.7 '!A:N,14,)","v":"No"}]
[521,"RTPUFP-50-C-4MS","39000069","RTPUFP-50-C-4MS","021","38","READY TO PROCESS","416","RTP Hollow Fiber filters",{"v":1648,"d":"1,648"},{"v":14846.832,"d":"14,847"},null,{"$f":"VLOOKUP(B522,'[1]2018.7 '!A:C,3,)","v":"Active"},{"$f":"VLOOKUP(B522,'[1]2018.7 '!A:M,13,)","v":"Ambient"},{"$f":"VLOOKUP(B522,'[1]2018.7 '!A:N,14,)","v":"No"}]
[522,"RTPUFP-50-C-4X2MS","39000021","RTPUFP-50-C-4X2MS","021","38","READY TO PROCESS","416","RTP Hollow Fiber filters",{"v":2060,"d":"2,060"},{"v":18558.54,"d":"18,559"},null,{"$f":"VLOOKUP(B523,'[1]2018.7 '!A:C,3,)","v":"Active"},{"$f":"VLOOKUP(B523,'[1]2018.7 '!A:M,13,)","v":"Ambient"},{"$f":"VLOOKUP(B523,'[1]2018.7 '!A:N,14,)","v":"No"}]
[523,"RTPUFP-50-C-5S","39000076","RTPUFP-50-C-5S","021","38","READY TO PROCESS","416","RTP Hollow Fiber filters",{"v":2369,"d":"2,369"},{"v":21342.321,"d":"21,342"},null,{"$f":"VLOOKUP(B524,'[1]2018.7 '!A:C,3,)","v":"Active"},{"$f":"VLOOKUP(B524,'[1]2018.7 '!A:M,13,)","v":"Ambient"},{"$f":"VLOOKUP(B524,'[1]2018.7 '!A:N,14,)","v":"No"}]
[524,"RTPUFP-50-C-6S","39000036","RTPUFP-50-C-6S","021","38","READY TO PROCESS","416","RTP Hollow Fiber filters",{"v":2987,"d":"2,987"},{"v":26909.883,"d":"26,910"},null,{"$f":"VLOOKUP(B525,'[1]2018.7 '!A:C,3,)","v":"Active"},{"$f":"VLOOKUP(B525,'[1]2018.7 '!A:M,13,)","v":"Ambient"},{"$f":"VLOOKUP(B525,'[1]2018.7 '!A:N,14,)","v":"No"}]
[525,"RTPUFP-50-C-8S","39000083","RTPUFP-50-C-8S","021","38","READY TO PROCESS","416","RTP Hollow Fiber filters",{"v":3090,"d":"3,090"},{"v":27837.81,"d":"27,838"},null,{"$f":"VLOOKUP(B526,'[1]2018.7 '!A:C,3,)","v":"Active"},{"$f":"VLOOKUP(B526,'[1]2018.7 '!A:M,13,)","v":"Ambient"},{"$f":"VLOOKUP(B526,'[1]2018.7 '!A:N,14,)","v":"No"}]
[526,"RTPUFP-50-C-9S","39000051","RTPUFP-50-C-9S","021","38","READY TO PROCESS","416","RTP Hollow Fiber filters",{"v":4429,"d":"4,429"},{"v":39900.861000000004,"d":"39,901"},null,{"$f":"VLOOKUP(B527,'[1]2018.7 '!A:C,3,)","v":"Active"},{"$f":"VLOOKUP(B527,'[1]2018.7 '!A:M,13,)","v":"Ambient"},{"$f":"VLOOKUP(B527,'[1]2018.7 '!A:N,14,)","v":"No"}]
[527,"RTPUFP-500-C-35S","39000089","RTPUFP-500-C-35S","021","38","READY TO PROCESS","416","RTP Hollow Fiber filters",{"v":4415,"d":"4,415"},{"v":39774.735,"d":"39,775"},null,{"$f":"VLOOKUP(B528,'[1]2018.7 '!A:C,3,)","v":"Active"},{"$f":"VLOOKUP(B528,'[1]2018.7 '!A:M,13,)","v":"Ambient"},{"$f":"VLOOKUP(B528,'[1]2018.7 '!A:N,14,)","v":"No"}]
[528,"RTPUFP-500-C-3X2MS","39000009","RTPUFP-500-C-3X2MS","021","38","READY TO PROCESS","416","RTP Hollow Fiber filters",{"v":1442,"d":"1,442"},{"v":12990.978000000001,"d":"12,991"},null,{"$f":"VLOOKUP(B529,'[1]2018.7 '!A:C,3,)","v":"Active"},{"$f":"VLOOKUP(B529,'[1]2018.7 '!A:M,13,)","v":"Ambient"},{"$f":"VLOOKUP(B529,'[1]2018.7 '!A:N,14,)","v":"No"}]
[529,"RTPUFP-500-C-4MS","39000072","RTPUFP-500-C-4MS","021","38","READY TO PROCESS","416","RTP Hollow Fiber filters",{"v":1648,"d":"1,648"},{"v":14846.832,"d":"14,847"},null,{"$f":"VLOOKUP(B530,'[1]2018.7 '!A:C,3,)","v":"Active"},{"$f":"VLOOKUP(B530,'[1]2018.7 '!A:M,13,)","v":"Ambient"},{"$f":"VLOOKUP(B530,'[1]2018.7 '!A:N,14,)","v":"No"}]
[530,"RTPUFP-500-C-4X2MS","39000024","RTPUFP-500-C-4X2MS","021","38","READY TO PROCESS","416","RTP Hollow Fiber filters",{"v":2060,"d":"2,060"},{"v":18558.54,"d":"18,559"},null,{"$f":"VLOOKUP(B531,'[1]2018.7 '!A:C,3,)","v":"Active"},{"$f":"VLOOKUP(B531,'[1]2018.7 '!A:M,13,)","v":"Ambient"},{"$f":"VLOOKUP(B531,'[1]2018.7 '!A:N,14,)","v":"No"}]
[531,"RTPUFP-500-C-55S","39000091","RTPUFP-500-C-55S","021","38","READY TO PROCESS","416","RTP Hollow Fiber filters",{"v":7448,"d":"7,448"},{"v":67099.032,"d":"67,099"},null,{"$f":"VLOOKUP(B532,'[1]2018.7 '!A:C,3,)","v":"Active"},{"$f":"VLOOKUP(B532,'[1]2018.7 '!A:M,13,)","v":"Ambient"},{"$f":"VLOOKUP(B532,'[1]2018.7 '!A:N,14,)","v":"No"}]
[532,"RTPUFP-500-C-5S","39000079","RTPUFP-500-C-5S","021","38","READY TO PROCESS","416","RTP Hollow Fiber filters",{"v":2369,"d":"2,369"},{"v":21342.321,"d":"21,342"},null,{"$f":"VLOOKUP(B533,'[1]2018.7 '!A:C,3,)","v":"Active"},{"$f":"VLOOKUP(B533,'[1]2018.7 '!A:M,13,)","v":"Ambient"},{"$f":"VLOOKUP(B533,'[1]2018.7 '!A:N,14,)","v":"No"}]
[533,"RTPUFP-500-C-6S","39000039","RTPUFP-500-C-6S","021","38","READY TO PROCESS","416","RTP Hollow Fiber filters",{"v":2987,"d":"2,987"},{"v":26909.883,"d":"26,910"},null,{"$f":"VLOOKUP(B534,'[1]2018.7 '!A:C,3,)","v":"Active"},{"$f":"VLOOKUP(B534,'[1]2018.7 '!A:M,13,)","v":"Ambient"},{"$f":"VLOOKUP(B534,'[1]2018.7 '!A:N,14,)","v":"No"}]
[534,"RTPUFP-500-C-8S","39000086","RTPUFP-500-C-8S","021","38","READY TO PROCESS","416","RTP Hollow Fiber filters",{"v":3090,"d":"3,090"},{"v":27837.81,"d":"27,838"},null,{"$f":"VLOOKUP(B535,'[1]2018.7 '!A:C,3,)","v":"Active"},{"$f":"VLOOKUP(B535,'[1]2018.7 '!A:M,13,)","v":"Ambient"},{"$f":"VLOOKUP(B535,'[1]2018.7 '!A:N,14,)","v":"No"}]
[535,"RTPUFP-500-C-9S","39000054","RTPUFP-500-C-9S","021","38","READY TO PROCESS","416","RTP Hollow Fiber filters",{"v":4429,"d":"4,429"},{"v":39900.861000000004,"d":"39,901"},null,{"$f":"VLOOKUP(B536,'[1]2018.7 '!A:C,3,)","v":"Active"},{"$f":"VLOOKUP(B536,'[1]2018.7 '!A:M,13,)","v":"Ambient"},{"$f":"VLOOKUP(B536,'[1]2018.7 '!A:N,14,)","v":"No"}]
[536,"RTPUFP-750-C-35S","29019349","RTPUFP-750-C-35S","021","38","READY TO PROCESS","416","RTP Hollow Fiber filters",{"v":4415,"d":"4,415"},{"v":39774.735,"d":"39,775"},null,{"$f":"VLOOKUP(B537,'[1]2018.7 '!A:C,3,)","v":"Active"},{"$f":"VLOOKUP(B537,'[1]2018.7 '!A:M,13,)","v":"Ambient"},{"$f":"VLOOKUP(B537,'[1]2018.7 '!A:N,14,)","v":"No"}]
[537,"RTPUFP-750-C-3X2MS","29023633","RTPUFP-750-C-3X2MS","021","38","READY TO PROCESS","416","RTP Hollow Fiber filters",{"v":1133,"d":"1,133"},{"v":10207.197,"d":"10,207"},null,{"$f":"VLOOKUP(B538,'[1]2018.7 '!A:C,3,)","v":"Active"},{"$f":"VLOOKUP(B538,'[1]2018.7 '!A:M,13,)","v":"Ambient"},{"$f":"VLOOKUP(B538,'[1]2018.7 '!A:N,14,)","v":"No"}]
[538,"RTPUFP-750-C-4MS","29019184","RTPUFP-750-C-4MS","021","38","READY TO PROCESS","416","RTP Hollow Fiber filters",{"v":1373,"d":"1,373"},{"v":12369.357,"d":"12,369"},null,{"$f":"VLOOKUP(B539,'[1]2018.7 '!A:C,3,)","v":"Active"},{"$f":"VLOOKUP(B539,'[1]2018.7 '!A:M,13,)","v":"Ambient"},{"$f":"VLOOKUP(B539,'[1]2018.7 '!A:N,14,)","v":"No"}]
[539,"RTPUFP-750-C-4X2MS","29023956","RTPUFP-750-C-4X2MS","021","38","READY TO PROCESS","416","RTP Hollow Fiber filters",{"v":1756,"d":"1,756"},{"v":15819.804,"d":"15,820"},null,{"$f":"VLOOKUP(B540,'[1]2018.7 '!A:C,3,)","v":"Active"},{"$f":"VLOOKUP(B540,'[1]2018.7 '!A:M,13,)","v":"Ambient"},{"$f":"VLOOKUP(B540,'[1]2018.7 '!A:N,14,)","v":"No"}]
[540,"RTPUFP-750-C-55S","29019352","RTPUFP-750-C-55S","021","38","READY TO PROCESS","416","RTP Hollow Fiber filters",{"v":7448,"d":"7,448"},{"v":67099.032,"d":"67,099"},null,{"$f":"VLOOKUP(B541,'[1]2018.7 '!A:C,3,)","v":"Active"},{"$f":"VLOOKUP(B541,'[1]2018.7 '!A:M,13,)","v":"Ambient"},{"$f":"VLOOKUP(B541,'[1]2018.7 '!A:N,14,)","v":"No"}]
[541,"RTPUFP-750-C-5S","29019187","RTPUFP-750-C-5S","021","38","READY TO PROCESS","416","RTP Hollow Fiber filters",{"v":1980,"d":"1,980"},{"v":17837.82,"d":"17,838"},null,{"$f":"VLOOKUP(B542,'[1]2018.7 '!A:C,3,)","v":"Active"},{"$f":"VLOOKUP(B542,'[1]2018.7 '!A:M,13,)","v":"Ambient"},{"$f":"VLOOKUP(B542,'[1]2018.7 '!A:N,14,)","v":"No"}]
[542,"RTPUFP-750-C-6S","29019190","RTPUFP-750-C-6S","021","38","READY TO PROCESS","416","RTP Hollow Fiber filters",{"v":2635,"d":"2,635"},{"v":23738.715,"d":"23,739"},null,{"$f":"VLOOKUP(B543,'[1]2018.7 '!A:C,3,)","v":"Active"},{"$f":"VLOOKUP(B543,'[1]2018.7 '!A:M,13,)","v":"Ambient"},{"$f":"VLOOKUP(B543,'[1]2018.7 '!A:N,14,)","v":"No"}]
[543,"RTPUFP-750-C-8S","29019193","RTPUFP-750-C-8S","021","38","READY TO PROCESS","416","RTP Hollow Fiber filters",{"v":2770,"d":"2,770"},{"v":24954.93,"d":"24,955"},null,{"$f":"VLOOKUP(B544,'[1]2018.7 '!A:C,3,)","v":"Active"},{"$f":"VLOOKUP(B544,'[1]2018.7 '!A:M,13,)","v":"Ambient"},{"$f":"VLOOKUP(B544,'[1]2018.7 '!A:N,14,)","v":"No"}]
[544,"RTPUFP-750-C-9S","29019196","RTPUFP-750-C-9S","021","38","READY TO PROCESS","416","RTP Hollow Fiber filters",{"v":3681.9999999999995,"d":"3,682"},{"v":33171.138,"d":"33,171"},null,{"$f":"VLOOKUP(B545,'[1]2018.7 '!A:C,3,)","v":"Active"},{"$f":"VLOOKUP(B545,'[1]2018.7 '!A:M,13,)","v":"Ambient"},{"$f":"VLOOKUP(B545,'[1]2018.7 '!A:N,14,)","v":"No"}]
[545,"RTPUFP-750-E-3X2MS","39000010","RTPUFP-750-E-3X2MS","021","38","READY TO PROCESS","416","RTP Hollow Fiber filters",{"v":1442,"d":"1,442"},{"v":12990.978000000001,"d":"12,991"},null,{"$f":"VLOOKUP(B546,'[1]2018.7 '!A:C,3,)","v":"Active"},{"$f":"VLOOKUP(B546,'[1]2018.7 '!A:M,13,)","v":"Ambient"},{"$f":"VLOOKUP(B546,'[1]2018.7 '!A:N,14,)","v":"No"}]
[546,"RTPUFP-750-E-4MS","39000073","RTPUFP-750-E-4MS","021","38","READY TO PROCESS","416","RTP Hollow Fiber filters",{"v":1648,"d":"1,648"},{"v":14846.832,"d":"14,847"},null,{"$f":"VLOOKUP(B547,'[1]2018.7 '!A:C,3,)","v":"Active"},{"$f":"VLOOKUP(B547,'[1]2018.7 '!A:M,13,)","v":"Ambient"},{"$f":"VLOOKUP(B547,'[1]2018.7 '!A:N,14,)","v":"No"}]
[547,"RTPUFP-750-E-4X2MS","39000025","RTPUFP-750-E-4X2MS","021","38","READY TO PROCESS","416","RTP Hollow Fiber filters",{"v":2060,"d":"2,060"},{"v":18558.54,"d":"18,559"},null,{"$f":"VLOOKUP(B548,'[1]2018.7 '!A:C,3,)","v":"Active"},{"$f":"VLOOKUP(B548,'[1]2018.7 '!A:M,13,)","v":"Ambient"},{"$f":"VLOOKUP(B548,'[1]2018.7 '!A:N,14,)","v":"No"}]
[548,"RTPUFP-750-E-55S","28984051","RTPUFP-750-E-55S","021","38","READY TO PROCESS","416","RTP Hollow Fiber filters",{"v":5739,"d":"5,739"},{"v":51702.651000000005,"d":"51,703"},null,{"$f":"VLOOKUP(B549,'[1]2018.7 '!A:C,3,)","v":"Active"},{"$f":"VLOOKUP(B549,'[1]2018.7 '!A:M,13,)","v":"Ambient"},{"$f":"VLOOKUP(B549,'[1]2018.7 '!A:N,14,)","v":"No"}]
[549,"RTPUFP-750-E-5S","39000080","RTPUFP-750-E-5S","021","38","READY TO PROCESS","416","RTP Hollow Fiber filters",{"v":2369,"d":"2,369"},{"v":21342.321,"d":"21,342"},null,{"$f":"VLOOKUP(B550,'[1]2018.7 '!A:C,3,)","v":"Active"},{"$f":"VLOOKUP(B550,'[1]2018.7 '!A:M,13,)","v":"Ambient"},{"$f":"VLOOKUP(B550,'[1]2018.7 '!A:N,14,)","v":"No"}]
[550,"RTPUFP-750-E-6S","39000040","RTPUFP-750-E-6S","021","38","READY TO PROCESS","416","RTP Hollow Fiber filters",{"v":2987,"d":"2,987"},{"v":26909.883,"d":"26,910"},null,{"$f":"VLOOKUP(B551,'[1]2018.7 '!A:C,3,)","v":"Active"},{"$f":"VLOOKUP(B551,'[1]2018.7 '!A:M,13,)","v":"Ambient"},{"$f":"VLOOKUP(B551,'[1]2018.7 '!A:N,14,)","v":"No"}]
[551,"RTPUFP-750-E-8S","39000087","RTPUFP-750-E-8S","021","38","READY TO PROCESS","416","RTP Hollow Fiber filters",{"v":3090,"d":"3,090"},{"v":27837.81,"d":"27,838"},null,{"$f":"VLOOKUP(B552,'[1]2018.7 '!A:C,3,)","v":"Active"},{"$f":"VLOOKUP(B552,'[1]2018.7 '!A:M,13,)","v":"Ambient"},{"$f":"VLOOKUP(B552,'[1]2018.7 '!A:N,14,)","v":"No"}]
[552,"RTPUFP-750-E-9S","39000055","RTPUFP-750-E-9S","021","38","READY TO PROCESS","416","RTP Hollow Fiber filters",{"v":4429,"d":"4,429"},{"v":39900.861000000004,"d":"39,901"},null,{"$f":"VLOOKUP(B553,'[1]2018.7 '!A:C,3,)","v":"Active"},{"$f":"VLOOKUP(B553,'[1]2018.7 '!A:M,13,)","v":"Ambient"},{"$f":"VLOOKUP(B553,'[1]2018.7 '!A:N,14,)","v":"No"}]
[553,"28936612","28936612","ReadyMate DAC250 1/4in 10/pk","021","38","READY TO PROCESS","417","RTP Connectivity Solutions",{"v":382.13,"d":"382"},{"v":3442.60917,"d":"3,443"},null,{"$f":"VLOOKUP(B554,'[1]2018.7 '!A:C,3,)","v":"Active"},{"$f":"VLOOKUP(B554,'[1]2018.7 '!A:M,13,)","v":"Ambient"},{"$f":"VLOOKUP(B554,'[1]2018.7 '!A:N,14,)","v":"No"}]
[554,"28936687","28936687","ReadyMate DAC375 3/8in 10/pk","021","38","READY TO PROCESS","417","RTP Connectivity Solutions",{"v":382.13,"d":"382"},{"v":3442.60917,"d":"3,443"},null,{"$f":"VLOOKUP(B555,'[1]2018.7 '!A:C,3,)","v":"Active"},{"$f":"VLOOKUP(B555,'[1]2018.7 '!A:M,13,)","v":"Ambient"},{"$f":"VLOOKUP(B555,'[1]2018.7 '!A:N,14,)","v":"No"}]
[555,"28936688","28936688","ReadyMate DAC500 1/2in 10/pk","021","38","READY TO PROCESS","417","RTP Connectivity Solutions",{"v":382.13,"d":"382"},{"v":3442.60917,"d":"3,443"},null,{"$f":"VLOOKUP(B556,'[1]2018.7 '!A:C,3,)","v":"Active"},{"$f":"VLOOKUP(B556,'[1]2018.7 '!A:M,13,)","v":"Ambient"},{"$f":"VLOOKUP(B556,'[1]2018.7 '!A:N,14,)","v":"No"}]
[556,"28936689","28936689","ReadyMate DAC750 3/4in 10/pk","021","38","READY TO PROCESS","417","RTP Connectivity Solutions",{"v":382.13,"d":"382"},{"v":3442.60917,"d":"3,443"},null,{"$f":"VLOOKUP(B557,'[1]2018.7 '!A:C,3,)","v":"Active"},{"$f":"VLOOKUP(B557,'[1]2018.7 '!A:M,13,)","v":"Ambient"},{"$f":"VLOOKUP(B557,'[1]2018.7 '!A:N,14,)","v":"No"}]
[557,"28936690","28936690","ReadyClamp 25/pk","021","38","READY TO PROCESS","417","RTP Connectivity Solutions",{"v":442.9,"d":"443"},{"v":3990.0861,"d":"3,990"},null,{"$f":"VLOOKUP(B558,'[1]2018.7 '!A:C,3,)","v":"Active"},{"$f":"VLOOKUP(B558,'[1]2018.7 '!A:M,13,)","v":"Ambient"},{"$f":"VLOOKUP(B558,'[1]2018.7 '!A:N,14,)","v":"No"}]
[558,"28936691","28936691","ReadyMate DAC250 1/4in 50/pk","021","38","READY TO PROCESS","417","RTP Connectivity Solutions",{"v":1570.75,"d":"1,571"},{"v":14150.88675,"d":"14,151"},null,{"$f":"VLOOKUP(B559,'[1]2018.7 '!A:C,3,)","v":"Active"},{"$f":"VLOOKUP(B559,'[1]2018.7 '!A:M,13,)","v":"Ambient"},{"$f":"VLOOKUP(B559,'[1]2018.7 '!A:N,14,)","v":"No"}]
[559,"28936692","28936692","ReadyMate DAC375 3/8in 50/pk","021","38","READY TO PROCESS","417","RTP Connectivity Solutions",{"v":1573.84,"d":"1,574"},{"v":14178.72456,"d":"14,179"},null,{"$f":"VLOOKUP(B560,'[1]2018.7 '!A:C,3,)","v":"Active"},{"$f":"VLOOKUP(B560,'[1]2018.7 '!A:M,13,)","v":"Ambient"},{"$f":"VLOOKUP(B560,'[1]2018.7 '!A:N,14,)","v":"No"}]
[560,"28936693","28936693","ReadyMate DAC500 1/2in 50/pk","021","38","READY TO PROCESS","417","RTP Connectivity Solutions",{"v":1573.84,"d":"1,574"},{"v":14178.72456,"d":"14,179"},null,{"$f":"VLOOKUP(B561,'[1]2018.7 '!A:C,3,)","v":"Active"},{"$f":"VLOOKUP(B561,'[1]2018.7 '!A:M,13,)","v":"Ambient"},{"$f":"VLOOKUP(B561,'[1]2018.7 '!A:N,14,)","v":"No"}]
[561,"28936694","28936694","ReadyMate DAC750 3/4in 50/pk","021","38","READY TO PROCESS","417","RTP Connectivity Solutions",{"v":1573.84,"d":"1,574"},{"v":14178.72456,"d":"14,179"},null,{"$f":"VLOOKUP(B562,'[1]2018.7 '!A:C,3,)","v":"Active"},{"$f":"VLOOKUP(B562,'[1]2018.7 '!A:M,13,)","v":"Ambient"},{"$f":"VLOOKUP(B562,'[1]2018.7 '!A:N,14,)","v":"No"}]
[562,"28936695","28936695","ReadyMate DAC750 MINI TC 10/pk","021","38","READY TO PROCESS","417","RTP Connectivity Solutions",{"v":417.15,"d":"417"},{"v":3758.10435,"d":"3,758"},null,{"$f":"VLOOKUP(B563,'[1]2018.7 '!A:C,3,)","v":"Active"},{"$f":"VLOOKUP(B563,'[1]2018.7 '!A:M,13,)","v":"Ambient"},{"$f":"VLOOKUP(B563,'[1]2018.7 '!A:N,14,)","v":"No"}]
[563,"28936707","28936707","ReadyMate DAC750 MINI TC 50/pk","021","38","READY TO PROCESS","417","RTP Connectivity Solutions",{"v":1729.37,"d":"1,729"},{"v":15579.89433,"d":"15,580"},null,{"$f":"VLOOKUP(B564,'[1]2018.7 '!A:C,3,)","v":"Active"},{"$f":"VLOOKUP(B564,'[1]2018.7 '!A:M,13,)","v":"Ambient"},{"$f":"VLOOKUP(B564,'[1]2018.7 '!A:N,14,)","v":"No"}]
[564,"28956889","28956889","ReadyMate DAC 1500 TC 10/pk","021","38","READY TO PROCESS","417","RTP Connectivity Solutions",{"v":442.9,"d":"443"},{"v":3990.0861,"d":"3,990"},null,{"$f":"VLOOKUP(B565,'[1]2018.7 '!A:C,3,)","v":"Active"},{"$f":"VLOOKUP(B565,'[1]2018.7 '!A:M,13,)","v":"Ambient"},{"$f":"VLOOKUP(B565,'[1]2018.7 '!A:N,14,)","v":"No"}]
[565,"28956890","28956890","ReadyMate DAC 1500 TC 50/pk","021","38","READY TO PROCESS","417","RTP Connectivity Solutions",{"v":1851.9399999999998,"d":"1,852"},{"v":16684.12746,"d":"16,684"},null,{"$f":"VLOOKUP(B566,'[1]2018.7 '!A:C,3,)","v":"Active"},{"$f":"VLOOKUP(B566,'[1]2018.7 '!A:M,13,)","v":"Ambient"},{"$f":"VLOOKUP(B566,'[1]2018.7 '!A:N,14,)","v":"No"}]
[566,"72B15013","29149674",{"$error":"#N/A"},"021","38","READY TO PROCESS","417","RTP Connectivity Solutions",{"v":119.32999999999998,"d":"119"},{"v":1075.04397,"d":"1,075"},null,{"$f":"VLOOKUP(B567,'[1]2018.7 '!A:C,3,)","v":"Active"},{"$f":"VLOOKUP(B567,'[1]2018.7 '!A:M,13,)","v":"Ambient"},{"$f":"VLOOKUP(B567,'[1]2018.7 '!A:N,14,)","v":"No"}]
[567,"72B15014","29149675",{"$error":"#N/A"},"021","38","READY TO PROCESS","417","RTP Connectivity Solutions",{"v":119.32999999999998,"d":"119"},{"v":1075.04397,"d":"1,075"},null,{"$f":"VLOOKUP(B568,'[1]2018.7 '!A:C,3,)","v":"Active"},{"$f":"VLOOKUP(B568,'[1]2018.7 '!A:M,13,)","v":"Ambient"},{"$f":"VLOOKUP(B568,'[1]2018.7 '!A:N,14,)","v":"Reviewing"}]
[568,"72B15015","29149676",{"$error":"#N/A"},"021","38","READY TO PROCESS","417","RTP Connectivity Solutions",{"v":149.15,"d":"149"},{"v":1343.69235,"d":"1,344"},null,{"$f":"VLOOKUP(B569,'[1]2018.7 '!A:C,3,)","v":"Active"},{"$f":"VLOOKUP(B569,'[1]2018.7 '!A:M,13,)","v":"Ambient"},{"$f":"VLOOKUP(B569,'[1]2018.7 '!A:N,14,)","v":"Reviewing"}]
[569,"72B15016","29149677",{"$error":"#N/A"},"021","38","READY TO PROCESS","417","RTP Connectivity Solutions",{"v":149.15,"d":"149"},{"v":1343.69235,"d":"1,344"},null,{"$f":"VLOOKUP(B570,'[1]2018.7 '!A:C,3,)","v":"Active"},{"$f":"VLOOKUP(B570,'[1]2018.7 '!A:M,13,)","v":"Ambient"},{"$f":"VLOOKUP(B570,'[1]2018.7 '!A:N,14,)","v":"Reviewing"}]
[570,"72B15017","29149678",{"$error":"#N/A"},"021","38","READY TO PROCESS","417","RTP Connectivity Solutions",{"v":59.67,"d":"60"},{"v":537.56703,"d":"538"},null,{"$f":"VLOOKUP(B571,'[1]2018.7 '!A:C,3,)","v":"Active"},{"$f":"VLOOKUP(B571,'[1]2018.7 '!A:M,13,)","v":"Ambient"},{"$f":"VLOOKUP(B571,'[1]2018.7 '!A:N,14,)","v":"Reviewing"}]
[571,"72B15018","29149680",{"$error":"#N/A"},"021","38","READY TO PROCESS","417","RTP Connectivity Solutions",{"v":478.95000000000005,"d":"479"},{"v":4314.86055,"d":"4,315"},null,{"$f":"VLOOKUP(B572,'[1]2018.7 '!A:C,3,)","v":"Active"},{"$f":"VLOOKUP(B572,'[1]2018.7 '!A:M,13,)","v":"Ambient"},{"$f":"VLOOKUP(B572,'[1]2018.7 '!A:N,14,)","v":"Reviewing"}]
[572,"72B15019","29149681",{"$error":"#N/A"},"021","38","READY TO PROCESS","417","RTP Connectivity Solutions",{"v":59.67,"d":"60"},{"v":537.56703,"d":"538"},null,{"$f":"VLOOKUP(B573,'[1]2018.7 '!A:C,3,)","v":"Active"},{"$f":"VLOOKUP(B573,'[1]2018.7 '!A:M,13,)","v":"Ambient"},{"$f":"VLOOKUP(B573,'[1]2018.7 '!A:N,14,)","v":"No"}]
[573,"72B15020","29149682",{"$error":"#N/A"},"021","38","READY TO PROCESS","417","RTP Connectivity Solutions",{"v":478.95000000000005,"d":"479"},{"v":4314.86055,"d":"4,315"},null,{"$f":"VLOOKUP(B574,'[1]2018.7 '!A:C,3,)","v":"Active"},{"$f":"VLOOKUP(B574,'[1]2018.7 '!A:M,13,)","v":"Ambient"},{"$f":"VLOOKUP(B574,'[1]2018.7 '!A:N,14,)","v":"No"}]
[574,"72B15021","29149683",{"$error":"#N/A"},"021","38","READY TO PROCESS","417","RTP Connectivity Solutions",{"v":119.32999999999998,"d":"119"},{"v":1075.04397,"d":"1,075"},null,{"$f":"VLOOKUP(B575,'[1]2018.7 '!A:C,3,)","v":"Active"},{"$f":"VLOOKUP(B575,'[1]2018.7 '!A:M,13,)","v":"Ambient"},{"$f":"VLOOKUP(B575,'[1]2018.7 '!A:N,14,)","v":"Reviewing"}]
[575,"72B15022","29149684",{"$error":"#N/A"},"021","38","READY TO PROCESS","417","RTP Connectivity Solutions",{"v":119.32999999999998,"d":"119"},{"v":1075.04397,"d":"1,075"},null,{"$f":"VLOOKUP(B576,'[1]2018.7 '!A:C,3,)","v":"Active"},{"$f":"VLOOKUP(B576,'[1]2018.7 '!A:M,13,)","v":"Ambient"},{"$f":"VLOOKUP(B576,'[1]2018.7 '!A:N,14,)","v":"Reviewing"}]
[576,"72P15001","29149858",{"$error":"#N/A"},"021","38","READY TO PROCESS","417","RTP Connectivity Solutions",{"v":190.96,"d":"191"},{"v":1720.3586400000002,"d":"1,720"},null,{"$f":"VLOOKUP(B577,'[1]2018.7 '!A:C,3,)","v":"Obsolete"},{"$f":"VLOOKUP(B577,'[1]2018.7 '!A:M,13,)","v":{"$error":"#N/A"}},{"$f":"VLOOKUP(B577,'[1]2018.7 '!A:N,14,)","v":{"$error":"#N/A"}}]
[577,"72P15002","29149859",{"$error":"#N/A"},"021","38","READY TO PROCESS","417","RTP Connectivity Solutions",{"v":287.37,"d":"287"},{"v":2588.91633,"d":"2,589"},null,{"$f":"VLOOKUP(B578,'[1]2018.7 '!A:C,3,)","v":"Obsolete"},{"$f":"VLOOKUP(B578,'[1]2018.7 '!A:M,13,)","v":{"$error":"#N/A"}},{"$f":"VLOOKUP(B578,'[1]2018.7 '!A:N,14,)","v":{"$error":"#N/A"}}]
[578,"72P15003","29149860",{"$error":"#N/A"},"021","38","READY TO PROCESS","417","RTP Connectivity Solutions",{"v":7162.62,"d":"7,163"},{"v":64528.043580000005,"d":"64,528"},null,{"$f":"VLOOKUP(B579,'[1]2018.7 '!A:C,3,)","v":"Active"},{"$f":"VLOOKUP(B579,'[1]2018.7 '!A:M,13,)","v":"Ambient"},{"$f":"VLOOKUP(B579,'[1]2018.7 '!A:N,14,)","v":"No"}]
[579,"72P15004","29149861",{"$error":"#N/A"},"021","38","READY TO PROCESS","417","RTP Connectivity Solutions",{"v":7162.62,"d":"7,163"},{"v":64528.043580000005,"d":"64,528"},null,{"$f":"VLOOKUP(B580,'[1]2018.7 '!A:C,3,)","v":"Obsolete"},{"$f":"VLOOKUP(B580,'[1]2018.7 '!A:M,13,)","v":{"$error":"#N/A"}},{"$f":"VLOOKUP(B580,'[1]2018.7 '!A:N,14,)","v":"No"}]
[580,"72P15005","29149862",{"$error":"#N/A"},"021","38","READY TO PROCESS","417","RTP Connectivity Solutions",{"$f":"K581/9.009","v":{"v":7162.62,"d":"7,163"}},{"v":64528.043580000005,"d":"64,528"},null,{"$f":"VLOOKUP(B581,'[1]2018.7 '!A:C,3,)","v":"Obsolete"},{"$f":"VLOOKUP(B581,'[1]2018.7 '!A:M,13,)","v":{"$error":"#N/A"}},{"$f":"VLOOKUP(B581,'[1]2018.7 '!A:N,14,)","v":{"$error":"#N/A"}}]
[581,"12410114","12410114","RMRM Jumper 0.25INX1 FT CF1PK","021","38","READY TO PROCESS","418","RTP Standard jumpers",{"v":149.36,"d":"149"},{"v":1345.5842400000001,"d":"1,346"},null,{"$f":"VLOOKUP(B582,'[1]2018.7 '!A:C,3,)","v":"Active"},{"$f":"VLOOKUP(B582,'[1]2018.7 '!A:M,13,)","v":"Ambient"},{"$f":"VLOOKUP(B582,'[1]2018.7 '!A:N,14,)","v":"No"}]
[582,"12410115","12410115","RMRM Jumper 0.25INX3 FT CF1PK","021","38","READY TO PROCESS","418","RTP Standard jumpers",{"v":163.77,"d":"164"},{"v":1475.4039300000002,"d":"1,475"},null,{"$f":"VLOOKUP(B583,'[1]2018.7 '!A:C,3,)","v":"Active"},{"$f":"VLOOKUP(B583,'[1]2018.7 '!A:M,13,)","v":"Ambient"},{"$f":"VLOOKUP(B583,'[1]2018.7 '!A:N,14,)","v":"No"}]
[583,"12410116","12410116","RMRM Jumper 0.25INX5 FT CF1PK","021","38","READY TO PROCESS","418","RTP Standard jumpers",{"v":177.16,"d":"177"},{"v":1596.0344400000001,"d":"1,596"},null,{"$f":"VLOOKUP(B584,'[1]2018.7 '!A:C,3,)","v":"Active"},{"$f":"VLOOKUP(B584,'[1]2018.7 '!A:M,13,)","v":"Ambient"},{"$f":"VLOOKUP(B584,'[1]2018.7 '!A:N,14,)","v":"No"}]
[584,"12410117","12410117","RMRM Jumper .375INX1 FT CF1PK","021","38","READY TO PROCESS","418","RTP Standard jumpers",{"v":150.38,"d":"150"},{"v":1354.77342,"d":"1,355"},null,{"$f":"VLOOKUP(B585,'[1]2018.7 '!A:C,3,)","v":"Active"},{"$f":"VLOOKUP(B585,'[1]2018.7 '!A:M,13,)","v":"Ambient"},{"$f":"VLOOKUP(B585,'[1]2018.7 '!A:N,14,)","v":"No"}]
[585,"12410118","12410118","RMRM Jumper .375INX3 FT CF1PK","021","38","READY TO PROCESS","418","RTP Standard jumpers",{"v":166.86,"d":"167"},{"v":1503.2417400000002,"d":"1,503"},null,{"$f":"VLOOKUP(B586,'[1]2018.7 '!A:C,3,)","v":"Active"},{"$f":"VLOOKUP(B586,'[1]2018.7 '!A:M,13,)","v":"Ambient"},{"$f":"VLOOKUP(B586,'[1]2018.7 '!A:N,14,)","v":"No"}]
[586,"12410119","12410119","RMRM Jumper .375INX5 FT CF1PK","021","38","READY TO PROCESS","418","RTP Standard jumpers",{"v":181.28,"d":"181"},{"v":1633.1515200000001,"d":"1,633"},null,{"$f":"VLOOKUP(B587,'[1]2018.7 '!A:C,3,)","v":"Active"},{"$f":"VLOOKUP(B587,'[1]2018.7 '!A:M,13,)","v":"Ambient"},{"$f":"VLOOKUP(B587,'[1]2018.7 '!A:N,14,)","v":"No"}]
[587,"12410120","12410120","RMRM Jumper 0.5INX1 FT CF1PK","021","38","READY TO PROCESS","418","RTP Standard jumpers",{"v":156.56,"d":"157"},{"v":1410.44904,"d":"1,410"},null,{"$f":"VLOOKUP(B588,'[1]2018.7 '!A:C,3,)","v":"Active"},{"$f":"VLOOKUP(B588,'[1]2018.7 '!A:M,13,)","v":"Ambient"},{"$f":"VLOOKUP(B588,'[1]2018.7 '!A:N,14,)","v":"No"}]
[588,"12410121","12410121","RMRM Jumper 0.5INX3 FT CF1PK","021","38","READY TO PROCESS","418","RTP Standard jumpers",{"v":173.04,"d":"173"},{"v":1558.91736,"d":"1,559"},null,{"$f":"VLOOKUP(B589,'[1]2018.7 '!A:C,3,)","v":"Active"},{"$f":"VLOOKUP(B589,'[1]2018.7 '!A:M,13,)","v":"Ambient"},{"$f":"VLOOKUP(B589,'[1]2018.7 '!A:N,14,)","v":"No"}]
[589,"12410122","12410122","RMRM Jumper 0.5INX5 FT CF1PK","021","38","READY TO PROCESS","418","RTP Standard jumpers",{"v":187.47,"d":"187"},{"v":1688.91723,"d":"1,689"},null,{"$f":"VLOOKUP(B590,'[1]2018.7 '!A:C,3,)","v":"Active"},{"$f":"VLOOKUP(B590,'[1]2018.7 '!A:M,13,)","v":"Ambient"},{"$f":"VLOOKUP(B590,'[1]2018.7 '!A:N,14,)","v":"No"}]
[590,"12410123","12410123","RMRM Jumper 0.75INX1 FT CF1PK","021","38","READY TO PROCESS","418","RTP Standard jumpers",{"v":160.68,"d":"161"},{"v":1447.5661200000002,"d":"1,448"},null,{"$f":"VLOOKUP(B591,'[1]2018.7 '!A:C,3,)","v":"Active"},{"$f":"VLOOKUP(B591,'[1]2018.7 '!A:M,13,)","v":"Ambient"},{"$f":"VLOOKUP(B591,'[1]2018.7 '!A:N,14,)","v":"No"}]
[591,"12410127","12410127","RMRM Jumper 0.75INX3 FT CF1PK","021","38","READY TO PROCESS","418","RTP Standard jumpers",{"v":199.83,"d":"200"},{"v":1800.2684700000002,"d":"1,800"},null,{"$f":"VLOOKUP(B592,'[1]2018.7 '!A:C,3,)","v":"Active"},{"$f":"VLOOKUP(B592,'[1]2018.7 '!A:M,13,)","v":"Ambient"},{"$f":"VLOOKUP(B592,'[1]2018.7 '!A:N,14,)","v":"No"}]
[592,"12410128","12410128","RMRM Jumper 0.75INX5 FT CF1PK","021","38","READY TO PROCESS","418","RTP Standard jumpers",{"v":241.74,"d":"242"},{"v":2177.83566,"d":"2,178"},null,{"$f":"VLOOKUP(B593,'[1]2018.7 '!A:C,3,)","v":"Active"},{"$f":"VLOOKUP(B593,'[1]2018.7 '!A:M,13,)","v":"Ambient"},{"$f":"VLOOKUP(B593,'[1]2018.7 '!A:N,14,)","v":"No"}]
[593,"12410129","12410129","RMRM Jumper 0.25INX1 FT RS1PK","021","38","READY TO PROCESS","418","RTP Standard jumpers",{"v":160.68,"d":"161"},{"v":1447.5661200000002,"d":"1,448"},null,{"$f":"VLOOKUP(B594,'[1]2018.7 '!A:C,3,)","v":"Active"},{"$f":"VLOOKUP(B594,'[1]2018.7 '!A:M,13,)","v":"Ambient"},{"$f":"VLOOKUP(B594,'[1]2018.7 '!A:N,14,)","v":"No"}]
[594,"12410130","12410130","RMRM Jumper 0.25INX3 FT RS1PK","021","38","READY TO PROCESS","418","RTP Standard jumpers",{"v":177.16,"d":"177"},{"v":1596.0344400000001,"d":"1,596"},null,{"$f":"VLOOKUP(B595,'[1]2018.7 '!A:C,3,)","v":"Active"},{"$f":"VLOOKUP(B595,'[1]2018.7 '!A:M,13,)","v":"Ambient"},{"$f":"VLOOKUP(B595,'[1]2018.7 '!A:N,14,)","v":"No"}]
[595,"12410131","12410131","RMRM Jumper 0.25INX5 FT RS1PK","021","38","READY TO PROCESS","418","RTP Standard jumpers",{"v":194.68,"d":"195"},{"v":1753.8721200000002,"d":"1,754"},null,{"$f":"VLOOKUP(B596,'[1]2018.7 '!A:C,3,)","v":"Active"},{"$f":"VLOOKUP(B596,'[1]2018.7 '!A:M,13,)","v":"Ambient"},{"$f":"VLOOKUP(B596,'[1]2018.7 '!A:N,14,)","v":"No"}]
[596,"12410132","12410132","RMRM Jumper .375INX1 FT RS1PK","021","38","READY TO PROCESS","418","RTP Standard jumpers",{"v":165.83,"d":"166"},{"v":1493.9624700000002,"d":"1,494"},null,{"$f":"VLOOKUP(B597,'[1]2018.7 '!A:C,3,)","v":"Active"},{"$f":"VLOOKUP(B597,'[1]2018.7 '!A:M,13,)","v":"Ambient"},{"$f":"VLOOKUP(B597,'[1]2018.7 '!A:N,14,)","v":"No"}]
[597,"12410133","12410133","RMRM Jumper .375INX3 FT RS1PK","021","38","READY TO PROCESS","418","RTP Standard jumpers",{"v":183.35,"d":"183"},{"v":1651.80015,"d":"1,652"},null,{"$f":"VLOOKUP(B598,'[1]2018.7 '!A:C,3,)","v":"Active"},{"$f":"VLOOKUP(B598,'[1]2018.7 '!A:M,13,)","v":"Ambient"},{"$f":"VLOOKUP(B598,'[1]2018.7 '!A:N,14,)","v":"No"}]
[598,"12410134","12410134","RMRM Jumper .375INX5 FT RS1PK","021","38","READY TO PROCESS","418","RTP Standard jumpers",{"v":201.88,"d":"202"},{"v":1818.73692,"d":"1,819"},null,{"$f":"VLOOKUP(B599,'[1]2018.7 '!A:C,3,)","v":"Active"},{"$f":"VLOOKUP(B599,'[1]2018.7 '!A:M,13,)","v":"Ambient"},{"$f":"VLOOKUP(B599,'[1]2018.7 '!A:N,14,)","v":"No"}]
[599,"12410135","12410135","RMRM Jumper 0.5INX1 FT RS1PK","021","38","READY TO PROCESS","418","RTP Standard jumpers",{"v":167.89,"d":"168"},{"v":1512.52101,"d":"1,513"},null,{"$f":"VLOOKUP(B600,'[1]2018.7 '!A:C,3,)","v":"Active"},{"$f":"VLOOKUP(B600,'[1]2018.7 '!A:M,13,)","v":"Ambient"},{"$f":"VLOOKUP(B600,'[1]2018.7 '!A:N,14,)","v":"No"}]
[600,"12410136","12410136","RMRM Jumper 0.5INX3 FT RS1PK","021","38","READY TO PROCESS","418","RTP Standard jumpers",{"v":183.35,"d":"183"},{"v":1651.80015,"d":"1,652"},null,{"$f":"VLOOKUP(B601,'[1]2018.7 '!A:C,3,)","v":"Active"},{"$f":"VLOOKUP(B601,'[1]2018.7 '!A:M,13,)","v":"Ambient"},{"$f":"VLOOKUP(B601,'[1]2018.7 '!A:N,14,)","v":"No"}]
[601,"12410137","12410137","RMRM Jumper 0.5INX5 FT RS1PK","021","38","READY TO PROCESS","418","RTP Standard jumpers",{"v":207.06,"d":"207"},{"v":1865.40354,"d":"1,865"},null,{"$f":"VLOOKUP(B602,'[1]2018.7 '!A:C,3,)","v":"Active"},{"$f":"VLOOKUP(B602,'[1]2018.7 '!A:M,13,)","v":"Ambient"},{"$f":"VLOOKUP(B602,'[1]2018.7 '!A:N,14,)","v":"No"}]
[602,"12410138","12410138","RMRM Jumper 0.75INX1 FT RS1PK","021","38","READY TO PROCESS","418","RTP Standard jumpers",{"v":174.07,"d":"174"},{"v":1568.19663,"d":"1,568"},null,{"$f":"VLOOKUP(B603,'[1]2018.7 '!A:C,3,)","v":"Active"},{"$f":"VLOOKUP(B603,'[1]2018.7 '!A:M,13,)","v":"Ambient"},{"$f":"VLOOKUP(B603,'[1]2018.7 '!A:N,14,)","v":"No"}]
[603,"12410142","12410142","RMRM Jumper 0.75INX3 FT RS1PK","021","38","READY TO PROCESS","418","RTP Standard jumpers",{"v":206.04,"d":"206"},{"v":1856.21436,"d":"1,856"},null,{"$f":"VLOOKUP(B604,'[1]2018.7 '!A:C,3,)","v":"Active"},{"$f":"VLOOKUP(B604,'[1]2018.7 '!A:M,13,)","v":"Ambient"},{"$f":"VLOOKUP(B604,'[1]2018.7 '!A:N,14,)","v":"No"}]
[604,"12410143","12410143","RMRM Jumper 0.75INX5 FT RS1PK","021","38","READY TO PROCESS","418","RTP Standard jumpers",{"v":243.77999999999997,"d":"244"},{"v":2196.21402,"d":"2,196"},null,{"$f":"VLOOKUP(B605,'[1]2018.7 '!A:C,3,)","v":"Active"},{"$f":"VLOOKUP(B605,'[1]2018.7 '!A:M,13,)","v":"Ambient"},{"$f":"VLOOKUP(B605,'[1]2018.7 '!A:N,14,)","v":"No"}]
[605,"12410144","12410144","RMTC JUMPER 0.25INx1 ft CF1PK","021","38","READY TO PROCESS","418","RTP Standard jumpers",{"v":163.77,"d":"164"},{"v":1475.4039300000002,"d":"1,475"},null,{"$f":"VLOOKUP(B606,'[1]2018.7 '!A:C,3,)","v":"Active"},{"$f":"VLOOKUP(B606,'[1]2018.7 '!A:M,13,)","v":"Ambient"},{"$f":"VLOOKUP(B606,'[1]2018.7 '!A:N,14,)","v":"No"}]
[606,"12410145","12410145","RMTC JUMPER .375INx1 FT CF1PK","021","38","READY TO PROCESS","418","RTP Standard jumpers",{"v":166.86,"d":"167"},{"v":1503.2417400000002,"d":"1,503"},null,{"$f":"VLOOKUP(B607,'[1]2018.7 '!A:C,3,)","v":"Active"},{"$f":"VLOOKUP(B607,'[1]2018.7 '!A:M,13,)","v":"Ambient"},{"$f":"VLOOKUP(B607,'[1]2018.7 '!A:N,14,)","v":"No"}]
[607,"12410147","12410147","RMTC JUMPER 0.5INx1 FT CF1PK","021","38","READY TO PROCESS","418","RTP Standard jumpers",{"v":169.95,"d":"170"},{"v":1531.07955,"d":"1,531"},null,{"$f":"VLOOKUP(B608,'[1]2018.7 '!A:C,3,)","v":"Active"},{"$f":"VLOOKUP(B608,'[1]2018.7 '!A:M,13,)","v":"Ambient"},{"$f":"VLOOKUP(B608,'[1]2018.7 '!A:N,14,)","v":"No"}]
[608,"12410148","12410148","RMTC JUMPER 0.75INx1 FT CF1PK","021","38","READY TO PROCESS","418","RTP Standard jumpers",{"v":176.13,"d":"176"},{"v":1586.75517,"d":"1,587"},null,{"$f":"VLOOKUP(B609,'[1]2018.7 '!A:C,3,)","v":"Active"},{"$f":"VLOOKUP(B609,'[1]2018.7 '!A:M,13,)","v":"Ambient"},{"$f":"VLOOKUP(B609,'[1]2018.7 '!A:N,14,)","v":"No"}]
[609,"12410149","12410149","RMTC JUMPER 0.25INx1 FT RS1PK","021","38","READY TO PROCESS","418","RTP Standard jumpers",{"v":175.1,"d":"175"},{"v":1577.4759,"d":"1,577"},null,{"$f":"VLOOKUP(B610,'[1]2018.7 '!A:C,3,)","v":"Active"},{"$f":"VLOOKUP(B610,'[1]2018.7 '!A:M,13,)","v":"Ambient"},{"$f":"VLOOKUP(B610,'[1]2018.7 '!A:N,14,)","v":"Reviewing"}]
[610,"12410150","12410150","RMTC JUMPER .375INx1 FT RS1PK","021","38","READY TO PROCESS","418","RTP Standard jumpers",{"v":176.13,"d":"176"},{"v":1586.75517,"d":"1,587"},null,{"$f":"VLOOKUP(B611,'[1]2018.7 '!A:C,3,)","v":"Active"},{"$f":"VLOOKUP(B611,'[1]2018.7 '!A:M,13,)","v":"Ambient"},{"$f":"VLOOKUP(B611,'[1]2018.7 '!A:N,14,)","v":"No"}]
[611,"12410151","12410151","RMTC JUMPER 0.5INx1 FT RS1PK","021","38","READY TO PROCESS","418","RTP Standard jumpers",{"v":181.28,"d":"181"},{"v":1633.1515200000001,"d":"1,633"},null,{"$f":"VLOOKUP(B612,'[1]2018.7 '!A:C,3,)","v":"Active"},{"$f":"VLOOKUP(B612,'[1]2018.7 '!A:M,13,)","v":"Ambient"},{"$f":"VLOOKUP(B612,'[1]2018.7 '!A:N,14,)","v":"No"}]
[612,"12410152","12410152","RMTC JUMPER 0.75INx1 FT RS1PK","021","38","READY TO PROCESS","418","RTP Standard jumpers",{"v":192.62,"d":"193"},{"v":1735.31358,"d":"1,735"},null,{"$f":"VLOOKUP(B613,'[1]2018.7 '!A:C,3,)","v":"Active"},{"$f":"VLOOKUP(B613,'[1]2018.7 '!A:M,13,)","v":"Ambient"},{"$f":"VLOOKUP(B613,'[1]2018.7 '!A:N,14,)","v":"No"}]
[613,"12410163","12410163","3RMT JUMPER 0.25INx6IN CF1PK","021","38","READY TO PROCESS","418","RTP Standard jumpers",{"v":229.5,"d":"230"},{"v":2067.5655,"d":"2,068"},null,{"$f":"VLOOKUP(B614,'[1]2018.7 '!A:C,3,)","v":"Active"},{"$f":"VLOOKUP(B614,'[1]2018.7 '!A:M,13,)","v":"Ambient"},{"$f":"VLOOKUP(B614,'[1]2018.7 '!A:N,14,)","v":"No"}]
[614,"12410164","12410164","3RMT JUMPER .375INx6IN CF1PK","021","38","READY TO PROCESS","418","RTP Standard jumpers",{"v":235.62,"d":"236"},{"v":2122.70058,"d":"2,123"},null,{"$f":"VLOOKUP(B615,'[1]2018.7 '!A:C,3,)","v":"Active"},{"$f":"VLOOKUP(B615,'[1]2018.7 '!A:M,13,)","v":"Ambient"},{"$f":"VLOOKUP(B615,'[1]2018.7 '!A:N,14,)","v":"No"}]
[615,"12410166","12410166","3RMT JUMPER 0.5INx6IN CF1PK","021","38","READY TO PROCESS","418","RTP Standard jumpers",{"v":244.8,"d":"245"},{"v":2205.4032,"d":"2,205"},null,{"$f":"VLOOKUP(B616,'[1]2018.7 '!A:C,3,)","v":"Active"},{"$f":"VLOOKUP(B616,'[1]2018.7 '!A:M,13,)","v":"Ambient"},{"$f":"VLOOKUP(B616,'[1]2018.7 '!A:N,14,)","v":"No"}]
[616,"12410167","12410167","3RMT JUMPER 0.75INx6IN CF1PK","021","38","READY TO PROCESS","418","RTP Standard jumpers",255,{"v":2297.295,"d":"2,297"},null,{"$f":"VLOOKUP(B617,'[1]2018.7 '!A:C,3,)","v":"Active"},{"$f":"VLOOKUP(B617,'[1]2018.7 '!A:M,13,)","v":"Ambient"},{"$f":"VLOOKUP(B617,'[1]2018.7 '!A:N,14,)","v":"No"}]
[617,"12410168","12410168","3RMT JUMPER 0.25INx6IN RS1PK","021","38","READY TO PROCESS","418","RTP Standard jumpers",{"v":244.8,"d":"245"},{"v":2205.4032,"d":"2,205"},null,{"$f":"VLOOKUP(B618,'[1]2018.7 '!A:C,3,)","v":"Active"},{"$f":"VLOOKUP(B618,'[1]2018.7 '!A:M,13,)","v":"Ambient"},{"$f":"VLOOKUP(B618,'[1]2018.7 '!A:N,14,)","v":"Reviewing"}]
[618,"12410169","12410169","3RMT JUMPER .375INx6IN RS1PK","021","38","READY TO PROCESS","418","RTP Standard jumpers",255,{"v":2297.295,"d":"2,297"},null,{"$f":"VLOOKUP(B619,'[1]2018.7 '!A:C,3,)","v":"Active"},{"$f":"VLOOKUP(B619,'[1]2018.7 '!A:M,13,)","v":"Ambient"},{"$f":"VLOOKUP(B619,'[1]2018.7 '!A:N,14,)","v":"Reviewing"}]
[619,"12410171","12410171","3RMT JUMPER 0.5INx6IN RS1PK","021","38","READY TO PROCESS","418","RTP Standard jumpers",{"v":263.16,"d":"263"},{"v":2370.8084400000002,"d":"2,371"},null,{"$f":"VLOOKUP(B620,'[1]2018.7 '!A:C,3,)","v":"Active"},{"$f":"VLOOKUP(B620,'[1]2018.7 '!A:M,13,)","v":"Ambient"},{"$f":"VLOOKUP(B620,'[1]2018.7 '!A:N,14,)","v":"No"}]
[620,"12410172","12410172","3RMT JUMPER 0.75INx6IN RS1PK","021","38","READY TO PROCESS","418","RTP Standard jumpers",{"v":274.38,"d":"274"},{"v":2471.88942,"d":"2,472"},null,{"$f":"VLOOKUP(B621,'[1]2018.7 '!A:C,3,)","v":"Active"},{"$f":"VLOOKUP(B621,'[1]2018.7 '!A:M,13,)","v":"Ambient"},{"$f":"VLOOKUP(B621,'[1]2018.7 '!A:N,14,)","v":"No"}]
[621,"12410173","12410173","4RMT JUMPER 0.25inx6IN CF1PK","021","38","READY TO PROCESS","418","RTP Standard jumpers",{"v":295.8,"d":"296"},{"v":2664.8622,"d":"2,665"},null,{"$f":"VLOOKUP(B622,'[1]2018.7 '!A:C,3,)","v":"Active"},{"$f":"VLOOKUP(B622,'[1]2018.7 '!A:M,13,)","v":"Ambient"},{"$f":"VLOOKUP(B622,'[1]2018.7 '!A:N,14,)","v":"No"}]
[622,"12410174","12410174","4RMT JUMPER .375inx6IN CF1PK","021","38","READY TO PROCESS","418","RTP Standard jumpers",{"v":310.08,"d":"310"},{"v":2793.5107199999998,"d":"2,794"},null,{"$f":"VLOOKUP(B623,'[1]2018.7 '!A:C,3,)","v":"Active"},{"$f":"VLOOKUP(B623,'[1]2018.7 '!A:M,13,)","v":"Ambient"},{"$f":"VLOOKUP(B623,'[1]2018.7 '!A:N,14,)","v":"No"}]
[623,"12410175","12410175","4RMT JUMPER 0.5inx6IN CF1PK","021","38","READY TO PROCESS","418","RTP Standard jumpers",{"v":321.3,"d":"321"},{"v":2894.5917000000004,"d":"2,895"},null,{"$f":"VLOOKUP(B624,'[1]2018.7 '!A:C,3,)","v":"Active"},{"$f":"VLOOKUP(B624,'[1]2018.7 '!A:M,13,)","v":"Ambient"},{"$f":"VLOOKUP(B624,'[1]2018.7 '!A:N,14,)","v":"No"}]
[624,"12410176","12410176","4RMT JUMPER 0.75inx6IN CF1PK","021","38","READY TO PROCESS","418","RTP Standard jumpers",{"v":351.9,"d":"352"},{"v":3170.2671,"d":"3,170"},null,{"$f":"VLOOKUP(B625,'[1]2018.7 '!A:C,3,)","v":"Active"},{"$f":"VLOOKUP(B625,'[1]2018.7 '!A:M,13,)","v":"Ambient"},{"$f":"VLOOKUP(B625,'[1]2018.7 '!A:N,14,)","v":"No"}]
[625,"12410177","12410177","4RMT JUMPER 0.25inx6IN RS1PK","021","38","READY TO PROCESS","418","RTP Standard jumpers",{"v":309.06,"d":"309"},{"v":2784.32154,"d":"2,784"},null,{"$f":"VLOOKUP(B626,'[1]2018.7 '!A:C,3,)","v":"Active"},{"$f":"VLOOKUP(B626,'[1]2018.7 '!A:M,13,)","v":"Ambient"},{"$f":"VLOOKUP(B626,'[1]2018.7 '!A:N,14,)","v":"Reviewing"}]
[626,"12410178","12410178","4RMT JUMPER .375inx6IN RS1PK","021","38","READY TO PROCESS","418","RTP Standard jumpers",{"v":321.3,"d":"321"},{"v":2894.5917000000004,"d":"2,895"},null,{"$f":"VLOOKUP(B627,'[1]2018.7 '!A:C,3,)","v":"Active"},{"$f":"VLOOKUP(B627,'[1]2018.7 '!A:M,13,)","v":"Ambient"},{"$f":"VLOOKUP(B627,'[1]2018.7 '!A:N,14,)","v":"No"}]
[627,"12410179","12410179","4RMT JUMPER 0.5inx6IN RS1PK","021","38","READY TO PROCESS","418","RTP Standard jumpers",{"v":334.56,"d":"335"},{"v":3014.0510400000003,"d":"3,014"},null,{"$f":"VLOOKUP(B628,'[1]2018.7 '!A:C,3,)","v":"Active"},{"$f":"VLOOKUP(B628,'[1]2018.7 '!A:M,13,)","v":"Ambient"},{"$f":"VLOOKUP(B628,'[1]2018.7 '!A:N,14,)","v":"Reviewing"}]
[628,"12410180","12410180","4RMT JUMPER 0.75inx6IN RS1PK","021","38","READY TO PROCESS","418","RTP Standard jumpers",{"v":372.3,"d":"372"},{"v":3354.0507000000002,"d":"3,354"},null,{"$f":"VLOOKUP(B629,'[1]2018.7 '!A:C,3,)","v":"Active"},{"$f":"VLOOKUP(B629,'[1]2018.7 '!A:M,13,)","v":"Ambient"},{"$f":"VLOOKUP(B629,'[1]2018.7 '!A:N,14,)","v":"No"}]
[629,"12410181","12410181","6RMT JUMPER 0.25inx6IN CF1PK","021","38","READY TO PROCESS","418","RTP Standard jumpers",{"v":424.32,"d":"424"},{"v":3822.69888,"d":"3,823"},null,{"$f":"VLOOKUP(B630,'[1]2018.7 '!A:C,3,)","v":"Active"},{"$f":"VLOOKUP(B630,'[1]2018.7 '!A:M,13,)","v":"Ambient"},{"$f":"VLOOKUP(B630,'[1]2018.7 '!A:N,14,)","v":"No"}]
[630,"12410182","12410182","6RMT JUMPER .375inx6IN CF1PK","021","38","READY TO PROCESS","418","RTP Standard jumpers",{"v":444.72,"d":"445"},{"v":4006.4824800000006,"d":"4,006"},null,{"$f":"VLOOKUP(B631,'[1]2018.7 '!A:C,3,)","v":"Active"},{"$f":"VLOOKUP(B631,'[1]2018.7 '!A:M,13,)","v":"Ambient"},{"$f":"VLOOKUP(B631,'[1]2018.7 '!A:N,14,)","v":"No"}]
[631,"12410183","12410183","6RMT JUMPER 0.5inx6IN CF1PK","021","38","READY TO PROCESS","418","RTP Standard jumpers",{"v":466.13999999999993,"d":"466"},{"v":4199.45526,"d":"4,199"},null,{"$f":"VLOOKUP(B632,'[1]2018.7 '!A:C,3,)","v":"Active"},{"$f":"VLOOKUP(B632,'[1]2018.7 '!A:M,13,)","v":"Ambient"},{"$f":"VLOOKUP(B632,'[1]2018.7 '!A:N,14,)","v":"No"}]
[632,"12410184","12410184","6RMT JUMPER 0.75inx6IN CF1PK","021","38","READY TO PROCESS","418","RTP Standard jumpers",{"v":498.7799999999999,"d":"499"},{"v":4493.5090199999995,"d":"4,494"},null,{"$f":"VLOOKUP(B633,'[1]2018.7 '!A:C,3,)","v":"Active"},{"$f":"VLOOKUP(B633,'[1]2018.7 '!A:M,13,)","v":"Ambient"},{"$f":"VLOOKUP(B633,'[1]2018.7 '!A:N,14,)","v":"No"}]
[633,"12410185","12410185","6RMT JUMPER 0.25inx6IN RS1PK","021","38","READY TO PROCESS","418","RTP Standard jumpers",{"v":441.66,"d":"442"},{"v":3978.9149400000006,"d":"3,979"},null,{"$f":"VLOOKUP(B634,'[1]2018.7 '!A:C,3,)","v":"Active"},{"$f":"VLOOKUP(B634,'[1]2018.7 '!A:M,13,)","v":"Ambient"},{"$f":"VLOOKUP(B634,'[1]2018.7 '!A:N,14,)","v":"No"}]
[634,"12410186","12410186","6RMT JUMPER .375inx6IN RS1PK","021","38","READY TO PROCESS","418","RTP Standard jumpers",459,{"v":4135.131,"d":"4,135"},null,{"$f":"VLOOKUP(B635,'[1]2018.7 '!A:C,3,)","v":"Active"},{"$f":"VLOOKUP(B635,'[1]2018.7 '!A:M,13,)","v":"Ambient"},{"$f":"VLOOKUP(B635,'[1]2018.7 '!A:N,14,)","v":"No"}]
[635,"12410187","12410187","6RMT JUMPER 0.5inx6IN RS1PK","021","38","READY TO PROCESS","418","RTP Standard jumpers",{"v":478.37999999999994,"d":"478"},{"v":4309.72542,"d":"4,310"},null,{"$f":"VLOOKUP(B636,'[1]2018.7 '!A:C,3,)","v":"Active"},{"$f":"VLOOKUP(B636,'[1]2018.7 '!A:M,13,)","v":"Ambient"},{"$f":"VLOOKUP(B636,'[1]2018.7 '!A:N,14,)","v":"No"}]
[636,"12410188","12410188","6RMT JUMPER 0.75inx6IN RS1PK","021","38","READY TO PROCESS","418","RTP Standard jumpers",{"v":499.80000000000007,"d":"500"},{"v":4502.698200000001,"d":"4,503"},null,{"$f":"VLOOKUP(B637,'[1]2018.7 '!A:C,3,)","v":"Active"},{"$f":"VLOOKUP(B637,'[1]2018.7 '!A:M,13,)","v":"Ambient"},{"$f":"VLOOKUP(B637,'[1]2018.7 '!A:N,14,)","v":"No"}]
[637,"12410189","12410189","3RMY JUMPER 0.25inx6IN CF1PK","021","38","READY TO PROCESS","418","RTP Standard jumpers",{"v":229.5,"d":"230"},{"v":2067.5655,"d":"2,068"},null,{"$f":"VLOOKUP(B638,'[1]2018.7 '!A:C,3,)","v":"Active"},{"$f":"VLOOKUP(B638,'[1]2018.7 '!A:M,13,)","v":"Ambient"},{"$f":"VLOOKUP(B638,'[1]2018.7 '!A:N,14,)","v":"No"}]
[638,"12410190","12410190","3RMY JUMPER .375inx6IN CF1PK","021","38","READY TO PROCESS","418","RTP Standard jumpers",{"v":235.62,"d":"236"},{"v":2122.70058,"d":"2,123"},null,{"$f":"VLOOKUP(B639,'[1]2018.7 '!A:C,3,)","v":"Active"},{"$f":"VLOOKUP(B639,'[1]2018.7 '!A:M,13,)","v":"Ambient"},{"$f":"VLOOKUP(B639,'[1]2018.7 '!A:N,14,)","v":"No"}]
[639,"12410191","12410191","3RMY JUMPER 0.5inx6IN CF1PK","021","38","READY TO PROCESS","418","RTP Standard jumpers",{"v":244.8,"d":"245"},{"v":2205.4032,"d":"2,205"},null,{"$f":"VLOOKUP(B640,'[1]2018.7 '!A:C,3,)","v":"Active"},{"$f":"VLOOKUP(B640,'[1]2018.7 '!A:M,13,)","v":"Ambient"},{"$f":"VLOOKUP(B640,'[1]2018.7 '!A:N,14,)","v":"No"}]
[640,"12410192","12410192","3RMY JUMPER 0.75inx6IN CF1PK","021","38","READY TO PROCESS","418","RTP Standard jumpers",255,{"v":2297.295,"d":"2,297"},null,{"$f":"VLOOKUP(B641,'[1]2018.7 '!A:C,3,)","v":"Active"},{"$f":"VLOOKUP(B641,'[1]2018.7 '!A:M,13,)","v":"Ambient"},{"$f":"VLOOKUP(B641,'[1]2018.7 '!A:N,14,)","v":"No"}]
[641,"12410193","12410193","3RMY JUMPER 0.25inx6IN RS1PK","021","38","READY TO PROCESS","418","RTP Standard jumpers",{"v":244.8,"d":"245"},{"v":2205.4032,"d":"2,205"},null,{"$f":"VLOOKUP(B642,'[1]2018.7 '!A:C,3,)","v":"Active"},{"$f":"VLOOKUP(B642,'[1]2018.7 '!A:M,13,)","v":"Ambient"},{"$f":"VLOOKUP(B642,'[1]2018.7 '!A:N,14,)","v":"No"}]
[642,"12410194","12410194","3RMY JUMPER .375inx6IN RS1PK","021","38","READY TO PROCESS","418","RTP Standard jumpers",255,{"v":2297.295,"d":"2,297"},null,{"$f":"VLOOKUP(B643,'[1]2018.7 '!A:C,3,)","v":"Active"},{"$f":"VLOOKUP(B643,'[1]2018.7 '!A:M,13,)","v":"Ambient"},{"$f":"VLOOKUP(B643,'[1]2018.7 '!A:N,14,)","v":"No"}]
[643,"12410195","12410195","3RMY JUMPER 0.5inx6IN RS1PK","021","38","READY TO PROCESS","418","RTP Standard jumpers",{"v":263.16,"d":"263"},{"v":2370.8084400000002,"d":"2,371"},null,{"$f":"VLOOKUP(B644,'[1]2018.7 '!A:C,3,)","v":"Active"},{"$f":"VLOOKUP(B644,'[1]2018.7 '!A:M,13,)","v":"Ambient"},{"$f":"VLOOKUP(B644,'[1]2018.7 '!A:N,14,)","v":"No"}]
[644,"12410196","12410196","3RMY JUMPER 0.75inx6IN RS1PK","021","38","READY TO PROCESS","418","RTP Standard jumpers",{"$f":"K645/9.009","v":{"v":272.34,"d":"272"}},{"v":2453.51106,"d":"2,454"},null,{"$f":"VLOOKUP(B645,'[1]2018.7 '!A:C,3,)","v":"Active"},{"$f":"VLOOKUP(B645,'[1]2018.7 '!A:M,13,)","v":"Ambient"},{"$f":"VLOOKUP(B645,'[1]2018.7 '!A:N,14,)","v":"No"}]
[645,"12410197","12410197","RMSTCM JUMP .375inx1 FT CF1PK","021","38","READY TO PROCESS","418","RTP Standard jumpers",{"v":244.8,"d":"245"},{"v":2205.4032,"d":"2,205"},null,{"$f":"VLOOKUP(B646,'[1]2018.7 '!A:C,3,)","v":"Active"},{"$f":"VLOOKUP(B646,'[1]2018.7 '!A:M,13,)","v":"Ambient"},{"$f":"VLOOKUP(B646,'[1]2018.7 '!A:N,14,)","v":"No"}]
[646,"12410198","12410198","RMSTCM JUMP .5INx1 FT CF1PK","021","38","READY TO PROCESS","418","RTP Standard jumpers",{"v":244.8,"d":"245"},{"v":2205.4032,"d":"2,205"},null,{"$f":"VLOOKUP(B647,'[1]2018.7 '!A:C,3,)","v":"Active"},{"$f":"VLOOKUP(B647,'[1]2018.7 '!A:M,13,)","v":"Ambient"},{"$f":"VLOOKUP(B647,'[1]2018.7 '!A:N,14,)","v":"Reviewing"}]
[647,"12410199","12410199","RMSTC1 JUMP .375INx1 FT CF1PK","021","38","READY TO PROCESS","418","RTP Standard jumpers",{"v":244.8,"d":"245"},{"v":2205.4032,"d":"2,205"},null,{"$f":"VLOOKUP(B648,'[1]2018.7 '!A:C,3,)","v":"Active"},{"$f":"VLOOKUP(B648,'[1]2018.7 '!A:M,13,)","v":"Ambient"},{"$f":"VLOOKUP(B648,'[1]2018.7 '!A:N,14,)","v":"No"}]
[648,"12410200","12410200","RMSTC1 JUMP .5INx1 FT CF1PK","021","38","READY TO PROCESS","418","RTP Standard jumpers",{"v":244.8,"d":"245"},{"v":2205.4032,"d":"2,205"},null,{"$f":"VLOOKUP(B649,'[1]2018.7 '!A:C,3,)","v":"Active"},{"$f":"VLOOKUP(B649,'[1]2018.7 '!A:M,13,)","v":"Ambient"},{"$f":"VLOOKUP(B649,'[1]2018.7 '!A:N,14,)","v":"Reviewing"}]
[649,"12410201","12410201","RMSTCM JUMP .375INx1 FT RS1PK","021","38","READY TO PROCESS","418","RTP Standard jumpers",{"v":259.08,"d":"259"},{"v":2334.05172,"d":"2,334"},null,{"$f":"VLOOKUP(B650,'[1]2018.7 '!A:C,3,)","v":"Active"},{"$f":"VLOOKUP(B650,'[1]2018.7 '!A:M,13,)","v":"Ambient"},{"$f":"VLOOKUP(B650,'[1]2018.7 '!A:N,14,)","v":"Reviewing"}]
[650,"12410202","12410202","RMSTCM JUMP .5INx1 FT RS1PK","021","38","READY TO PROCESS","418","RTP Standard jumpers",{"v":259.08,"d":"259"},{"v":2334.05172,"d":"2,334"},null,{"$f":"VLOOKUP(B651,'[1]2018.7 '!A:C,3,)","v":"Active"},{"$f":"VLOOKUP(B651,'[1]2018.7 '!A:M,13,)","v":"Ambient"},{"$f":"VLOOKUP(B651,'[1]2018.7 '!A:N,14,)","v":"No"}]
[651,"12410203","12410203","RMSTC1 JUMP .375INx1 FT RS1PK","021","38","READY TO PROCESS","418","RTP Standard jumpers",{"v":259.08,"d":"259"},{"v":2334.05172,"d":"2,334"},null,{"$f":"VLOOKUP(B652,'[1]2018.7 '!A:C,3,)","v":"Active"},{"$f":"VLOOKUP(B652,'[1]2018.7 '!A:M,13,)","v":"Ambient"},{"$f":"VLOOKUP(B652,'[1]2018.7 '!A:N,14,)","v":"No"}]
[652,"12410204","12410204","RMSTC1 JUMP .5INx1 FT RS1PK","021","38","READY TO PROCESS","418","RTP Standard jumpers",{"v":259.08,"d":"259"},{"v":2334.05172,"d":"2,334"},null,{"$f":"VLOOKUP(B653,'[1]2018.7 '!A:C,3,)","v":"Active"},{"$f":"VLOOKUP(B653,'[1]2018.7 '!A:M,13,)","v":"Ambient"},{"$f":"VLOOKUP(B653,'[1]2018.7 '!A:N,14,)","v":"No"}]
[653,"12410206","12410206","100L 4x0.75IN PORT 18IN CF 1PK","021","38","READY TO PROCESS","437","RTP ReadyKleer storage bags",594,{"v":5351.3460000000005,"d":"5,351"},null,{"$f":"VLOOKUP(B654,'[1]2018.7 '!A:C,3,)","v":"Active"},{"$f":"VLOOKUP(B654,'[1]2018.7 '!A:M,13,)","v":"Ambient"},{"$f":"VLOOKUP(B654,'[1]2018.7 '!A:N,14,)","v":"No"}]
[654,"12410207","12410207","100L 5x0.75IN PORT 18IN CF 1PK","021","38","READY TO PROCESS","437","RTP ReadyKleer storage bags",680,{"v":6126.12,"d":"6,126"},null,{"$f":"VLOOKUP(B655,'[1]2018.7 '!A:C,3,)","v":"Active"},{"$f":"VLOOKUP(B655,'[1]2018.7 '!A:M,13,)","v":"Ambient"},{"$f":"VLOOKUP(B655,'[1]2018.7 '!A:N,14,)","v":"No"}]
[655,"12410208","12410208","200L 4x0.75IN PORT 18IN CF 1PK","021","38","READY TO PROCESS","437","RTP ReadyKleer storage bags",625,{"v":5630.625,"d":"5,631"},null,{"$f":"VLOOKUP(B656,'[1]2018.7 '!A:C,3,)","v":"Active"},{"$f":"VLOOKUP(B656,'[1]2018.7 '!A:M,13,)","v":"Ambient"},{"$f":"VLOOKUP(B656,'[1]2018.7 '!A:N,14,)","v":"No"}]
[656,"12410209","12410209","200L 5x0.75IN PORT 18IN CF 1PK","021","38","READY TO PROCESS","437","RTP ReadyKleer storage bags",791,{"v":7126.119000000001,"d":"7,126"},null,{"$f":"VLOOKUP(B657,'[1]2018.7 '!A:C,3,)","v":"Active"},{"$f":"VLOOKUP(B657,'[1]2018.7 '!A:M,13,)","v":"Ambient"},{"$f":"VLOOKUP(B657,'[1]2018.7 '!A:N,14,)","v":"No"}]
[657,"12410218","12410218","1L 3x0.25 IN PORT 1 FT CF 1PK","021","38","READY TO PROCESS","437","RTP ReadyKleer storage bags",252,{"v":2270.268,"d":"2,270"},null,{"$f":"VLOOKUP(B658,'[1]2018.7 '!A:C,3,)","v":"Active"},{"$f":"VLOOKUP(B658,'[1]2018.7 '!A:M,13,)","v":"Ambient"},{"$f":"VLOOKUP(B658,'[1]2018.7 '!A:N,14,)","v":"No"}]
[658,"12410219","12410219","1L 4x0.25 IN PORT 1 FT CF 1PK","021","38","READY TO PROCESS","437","RTP ReadyKleer storage bags",287,{"v":2585.583,"d":"2,586"},null,{"$f":"VLOOKUP(B659,'[1]2018.7 '!A:C,3,)","v":"Active"},{"$f":"VLOOKUP(B659,'[1]2018.7 '!A:M,13,)","v":"Ambient"},{"$f":"VLOOKUP(B659,'[1]2018.7 '!A:N,14,)","v":"No"}]
[659,"12410220","12410220","5L 3x0.375 IN PORT 1 FT CF 1PK","021","38","READY TO PROCESS","437","RTP ReadyKleer storage bags",270,{"v":2432.4300000000003,"d":"2,432"},null,{"$f":"VLOOKUP(B660,'[1]2018.7 '!A:C,3,)","v":"Active"},{"$f":"VLOOKUP(B660,'[1]2018.7 '!A:M,13,)","v":"Ambient"},{"$f":"VLOOKUP(B660,'[1]2018.7 '!A:N,14,)","v":"No"}]
[660,"12410221","12410221","5L 4x0.375 IN PORT 1 FT CF 1PK","021","38","READY TO PROCESS","437","RTP ReadyKleer storage bags",306,{"v":2756.754,"d":"2,757"},null,{"$f":"VLOOKUP(B661,'[1]2018.7 '!A:C,3,)","v":"Active"},{"$f":"VLOOKUP(B661,'[1]2018.7 '!A:M,13,)","v":"Ambient"},{"$f":"VLOOKUP(B661,'[1]2018.7 '!A:N,14,)","v":"No"}]
[661,"12410222","12410222","10L 3x0.5 IN PORT 1 FT CF 1PK","021","38","READY TO PROCESS","437","RTP ReadyKleer storage bags",302,{"v":2720.7180000000003,"d":"2,721"},null,{"$f":"VLOOKUP(B662,'[1]2018.7 '!A:C,3,)","v":"Active"},{"$f":"VLOOKUP(B662,'[1]2018.7 '!A:M,13,)","v":"Ambient"},{"$f":"VLOOKUP(B662,'[1]2018.7 '!A:N,14,)","v":"No"}]
[662,"12410223","12410223","10L 4x0.5 IN PORT 1 FT CF 1PK","021","38","READY TO PROCESS","437","RTP ReadyKleer storage bags",333,{"v":2999.9970000000003,"d":"3,000"},null,{"$f":"VLOOKUP(B663,'[1]2018.7 '!A:C,3,)","v":"Active"},{"$f":"VLOOKUP(B663,'[1]2018.7 '!A:M,13,)","v":"Ambient"},{"$f":"VLOOKUP(B663,'[1]2018.7 '!A:N,14,)","v":"No"}]
[663,"12410224","12410224","20L 3x0.5 IN PORT 1 FT CF 1PK","021","38","READY TO PROCESS","437","RTP ReadyKleer storage bags",305,{"v":2747.745,"d":"2,748"},null,{"$f":"VLOOKUP(B664,'[1]2018.7 '!A:C,3,)","v":"Active"},{"$f":"VLOOKUP(B664,'[1]2018.7 '!A:M,13,)","v":"Ambient"},{"$f":"VLOOKUP(B664,'[1]2018.7 '!A:N,14,)","v":"No"}]
[664,"12410225","12410225","20L 4x0.5 IN PORT 1 FT CF 1PK","021","38","READY TO PROCESS","437","RTP ReadyKleer storage bags",334,{"v":3009.0060000000003,"d":"3,009"},null,{"$f":"VLOOKUP(B665,'[1]2018.7 '!A:C,3,)","v":"Active"},{"$f":"VLOOKUP(B665,'[1]2018.7 '!A:M,13,)","v":"Ambient"},{"$f":"VLOOKUP(B665,'[1]2018.7 '!A:N,14,)","v":"No"}]
[665,"12410226","12410226","250 mL 2x.25IN PORT 1 FT CF1PK","021","38","READY TO PROCESS","437","RTP ReadyKleer storage bags",{"v":242.99999999999997,"d":"243"},{"v":2189.187,"d":"2,189"},null,{"$f":"VLOOKUP(B666,'[1]2018.7 '!A:C,3,)","v":"Active"},{"$f":"VLOOKUP(B666,'[1]2018.7 '!A:M,13,)","v":"Ambient"},{"$f":"VLOOKUP(B666,'[1]2018.7 '!A:N,14,)","v":"No"}]
[666,"12410227","12410227","500 mL 2x.25IN PORT 1 FT CF1PK","021","38","READY TO PROCESS","437","RTP ReadyKleer storage bags",{"v":242.99999999999997,"d":"243"},{"v":2189.187,"d":"2,189"},null,{"$f":"VLOOKUP(B667,'[1]2018.7 '!A:C,3,)","v":"Active"},{"$f":"VLOOKUP(B667,'[1]2018.7 '!A:M,13,)","v":"Ambient"},{"$f":"VLOOKUP(B667,'[1]2018.7 '!A:N,14,)","v":"No"}]
[667,"12410228","12410228","50L 3x0.75 IN PORT 1 FT CF 1PK","021","38","READY TO PROCESS","437","RTP ReadyKleer storage bags",461,{"v":4153.149,"d":"4,153"},null,{"$f":"VLOOKUP(B668,'[1]2018.7 '!A:C,3,)","v":"Active"},{"$f":"VLOOKUP(B668,'[1]2018.7 '!A:M,13,)","v":"Ambient"},{"$f":"VLOOKUP(B668,'[1]2018.7 '!A:N,14,)","v":"No"}]
[668,"12410229","12410229","50L 4x0.75 IN PORT 1 FT CF 1PK","021","38","READY TO PROCESS","437","RTP ReadyKleer storage bags",576,{"v":5189.184,"d":"5,189"},null,{"$f":"VLOOKUP(B669,'[1]2018.7 '!A:C,3,)","v":"Active"},{"$f":"VLOOKUP(B669,'[1]2018.7 '!A:M,13,)","v":"Ambient"},{"$f":"VLOOKUP(B669,'[1]2018.7 '!A:N,14,)","v":"No"}]
[669,"12410233","12410233","PRESS SENS 0.75IN TCRM 1PK","021","38","READY TO PROCESS","418","RTP Standard jumpers",{"v":439.62,"d":"440"},{"v":3960.5365800000004,"d":"3,961"},null,{"$f":"VLOOKUP(B670,'[1]2018.7 '!A:C,3,)","v":"Active"},{"$f":"VLOOKUP(B670,'[1]2018.7 '!A:M,13,)","v":"Ambient"},{"$f":"VLOOKUP(B670,'[1]2018.7 '!A:N,14,)","v":"No"}]
[670,"12410238","12410238","TEMP SENS 0.75IN TCRM 1PK","021","38","READY TO PROCESS","418","RTP Standard jumpers",{"v":439.62,"d":"440"},{"v":3960.5365800000004,"d":"3,961"},null,{"$f":"VLOOKUP(B671,'[1]2018.7 '!A:C,3,)","v":"Active"},{"$f":"VLOOKUP(B671,'[1]2018.7 '!A:M,13,)","v":"Ambient"},{"$f":"VLOOKUP(B671,'[1]2018.7 '!A:N,14,)","v":"Reviewing"}]
[671,"12410243","12410243","COND SENS 0.75IN TCRM 1PK","021","38","READY TO PROCESS","418","RTP Standard jumpers",{"v":439.62,"d":"440"},{"v":3960.5365800000004,"d":"3,961"},null,{"$f":"VLOOKUP(B672,'[1]2018.7 '!A:C,3,)","v":"Active"},{"$f":"VLOOKUP(B672,'[1]2018.7 '!A:M,13,)","v":"Ambient"},{"$f":"VLOOKUP(B672,'[1]2018.7 '!A:N,14,)","v":"No"}]
[672,"12410254","12410254","1xGF0520 1xHC9210 2xRM","021","38","READY TO PROCESS","418","RTP Standard jumpers",{"v":1230.12,"d":"1,230"},{"v":11082.15108,"d":"11,082"},null,{"$f":"VLOOKUP(B673,'[1]2018.7 '!A:C,3,)","v":"Active"},{"$f":"VLOOKUP(B673,'[1]2018.7 '!A:M,13,)","v":"Ambient"},{"$f":"VLOOKUP(B673,'[1]2018.7 '!A:N,14,)","v":"No"}]
[673,"28979432","28979432","PSIL JUMPER .375INIDX.563INOD","021","38","READY TO PROCESS","418","RTP Standard jumpers",{"v":197.77,"d":"198"},{"v":1781.7099300000002,"d":"1,782"},null,{"$f":"VLOOKUP(B674,'[1]2018.7 '!A:C,3,)","v":"Active"},{"$f":"VLOOKUP(B674,'[1]2018.7 '!A:M,13,)","v":"Ambient"},{"$f":"VLOOKUP(B674,'[1]2018.7 '!A:N,14,)","v":"No"}]
[674,"28979434","28979434","PSIL JUMPER .375INIDX.625INOD","021","38","READY TO PROCESS","418","RTP Standard jumpers",{"v":197.77,"d":"198"},{"v":1781.7099300000002,"d":"1,782"},null,{"$f":"VLOOKUP(B675,'[1]2018.7 '!A:C,3,)","v":"Active"},{"$f":"VLOOKUP(B675,'[1]2018.7 '!A:M,13,)","v":"Ambient"},{"$f":"VLOOKUP(B675,'[1]2018.7 '!A:N,14,)","v":"No"}]
[675,"28979436","28979436","PSIL JUMPER .5INIDX.75INOD","021","38","READY TO PROCESS","418","RTP Standard jumpers",{"v":234.59999999999997,"d":"235"},{"v":2113.5114,"d":"2,114"},null,{"$f":"VLOOKUP(B676,'[1]2018.7 '!A:C,3,)","v":"Active"},{"$f":"VLOOKUP(B676,'[1]2018.7 '!A:M,13,)","v":"Ambient"},{"$f":"VLOOKUP(B676,'[1]2018.7 '!A:N,14,)","v":"No"}]
[676,"28979437","28979437","PSIL JUMPER .5INIDX.875INOD","021","38","READY TO PROCESS","418","RTP Standard jumpers",{"v":234.59999999999997,"d":"235"},{"v":2113.5114,"d":"2,114"},null,{"$f":"VLOOKUP(B677,'[1]2018.7 '!A:C,3,)","v":"Active"},{"$f":"VLOOKUP(B677,'[1]2018.7 '!A:M,13,)","v":"Ambient"},{"$f":"VLOOKUP(B677,'[1]2018.7 '!A:N,14,)","v":"No"}]
[677,"28979438","28979438","PSIL JUMPER .75INIDX1.125INOD","021","38","READY TO PROCESS","418","RTP Standard jumpers",{"v":368.22,"d":"368"},{"v":3317.2939800000004,"d":"3,317"},null,{"$f":"VLOOKUP(B678,'[1]2018.7 '!A:C,3,)","v":"Active"},{"$f":"VLOOKUP(B678,'[1]2018.7 '!A:M,13,)","v":"Ambient"},{"$f":"VLOOKUP(B678,'[1]2018.7 '!A:N,14,)","v":"No"}]
[678,"28979439","28979439","TEMP SENS .375INx6IN RSRM","021","38","READY TO PROCESS","418","RTP Standard jumpers",{"v":383.52,"d":"384"},{"v":3455.13168,"d":"3,455"},null,{"$f":"VLOOKUP(B679,'[1]2018.7 '!A:C,3,)","v":"Active"},{"$f":"VLOOKUP(B679,'[1]2018.7 '!A:M,13,)","v":"Ambient"},{"$f":"VLOOKUP(B679,'[1]2018.7 '!A:N,14,)","v":"Reviewing"}]
[679,"28979440","28979440","COND SENS .375INx6IN RSRM 1PK","021","38","READY TO PROCESS","418","RTP Standard jumpers",{"v":383.52,"d":"384"},{"v":3455.13168,"d":"3,455"},null,{"$f":"VLOOKUP(B680,'[1]2018.7 '!A:C,3,)","v":"Active"},{"$f":"VLOOKUP(B680,'[1]2018.7 '!A:M,13,)","v":"Ambient"},{"$f":"VLOOKUP(B680,'[1]2018.7 '!A:N,14,)","v":"No"}]
[680,"28979470","28979470","PSIL JUMPER .25INIDX.437INOD","021","38","READY TO PROCESS","418","RTP Standard jumpers",{"v":197.77,"d":"198"},{"v":1781.7099300000002,"d":"1,782"},null,{"$f":"VLOOKUP(B681,'[1]2018.7 '!A:C,3,)","v":"Active"},{"$f":"VLOOKUP(B681,'[1]2018.7 '!A:M,13,)","v":"Ambient"},{"$f":"VLOOKUP(B681,'[1]2018.7 '!A:N,14,)","v":"No"}]
[681,"28979471","28979471","PRES SENS .375INx6IN RSRM 1PK","021","38","READY TO PROCESS","418","RTP Standard jumpers",{"v":383.52,"d":"384"},{"v":3455.13168,"d":"3,455"},null,{"$f":"VLOOKUP(B682,'[1]2018.7 '!A:C,3,)","v":"Active"},{"$f":"VLOOKUP(B682,'[1]2018.7 '!A:M,13,)","v":"Ambient"},{"$f":"VLOOKUP(B682,'[1]2018.7 '!A:N,14,)","v":"No"}]
[682,"28980699","28980699","PSIL JUMPER .25INIDX.5INOD","021","38","READY TO PROCESS","418","RTP Standard jumpers",{"v":303.96,"d":"304"},{"v":2738.3756399999997,"d":"2,738"},null,{"$f":"VLOOKUP(B683,'[1]2018.7 '!A:C,3,)","v":"Active"},{"$f":"VLOOKUP(B683,'[1]2018.7 '!A:M,13,)","v":"Ambient"},{"$f":"VLOOKUP(B683,'[1]2018.7 '!A:N,14,)","v":"No"}]
[683,"29064847","29064847","50L 3x0.5in CF1pk","021","38","READY TO PROCESS","437","RTP ReadyKleer storage bags",434,{"v":3909.906,"d":"3,910"},null,{"$f":"VLOOKUP(B684,'[1]2018.7 '!A:C,3,)","v":"Sales Stop"},{"$f":"VLOOKUP(B684,'[1]2018.7 '!A:M,13,)","v":"Ambient"},{"$f":"VLOOKUP(B684,'[1]2018.7 '!A:N,14,)","v":"No"}]
[684,"29064848","29064848","100L 3x0.5in CF1pk","021","38","READY TO PROCESS","437","RTP ReadyKleer storage bags",453,{"v":4081.077,"d":"4,081"},null,{"$f":"VLOOKUP(B685,'[1]2018.7 '!A:C,3,)","v":"Sales Stop"},{"$f":"VLOOKUP(B685,'[1]2018.7 '!A:M,13,)","v":"Ambient"},{"$f":"VLOOKUP(B685,'[1]2018.7 '!A:N,14,)","v":"No"}]
[685,"29064849","29064849","200L 3x0.5in CF1pk","021","38","READY TO PROCESS","437","RTP ReadyKleer storage bags",{"v":486.99999999999994,"d":"487"},{"v":4387.383,"d":"4,387"},null,{"$f":"VLOOKUP(B686,'[1]2018.7 '!A:C,3,)","v":"Sales Stop"},{"$f":"VLOOKUP(B686,'[1]2018.7 '!A:M,13,)","v":"Ambient"},{"$f":"VLOOKUP(B686,'[1]2018.7 '!A:N,14,)","v":"No"}]
[686,"29064850","29064850","500L 3x0.5in CF1pk","021","38","READY TO PROCESS","437","RTP ReadyKleer storage bags",677,{"v":6099.093,"d":"6,099"},null,{"$f":"VLOOKUP(B687,'[1]2018.7 '!A:C,3,)","v":"Sales Stop"},{"$f":"VLOOKUP(B687,'[1]2018.7 '!A:M,13,)","v":"Ambient"},{"$f":"VLOOKUP(B687,'[1]2018.7 '!A:N,14,)","v":"No"}]
[687,"29064854","29064854","50L 2x0.5in + 2x0.75in CF1pk","021","38","READY TO PROCESS","437","RTP ReadyKleer storage bags",561,{"v":5054.049,"d":"5,054"},null,{"$f":"VLOOKUP(B688,'[1]2018.7 '!A:C,3,)","v":"Sales Stop"},{"$f":"VLOOKUP(B688,'[1]2018.7 '!A:M,13,)","v":"Ambient"},{"$f":"VLOOKUP(B688,'[1]2018.7 '!A:N,14,)","v":"No"}]
[688,"29064855","29064855","100L 2x0.5in + 2x0.75in CF1pk","021","38","READY TO PROCESS","437","RTP ReadyKleer storage bags",575,{"v":5180.175,"d":"5,180"},null,{"$f":"VLOOKUP(B689,'[1]2018.7 '!A:C,3,)","v":"Sales Stop"},{"$f":"VLOOKUP(B689,'[1]2018.7 '!A:M,13,)","v":"Ambient"},{"$f":"VLOOKUP(B689,'[1]2018.7 '!A:N,14,)","v":"No"}]
[689,"29064856","29064856","200L 2x0.5in + 2x0.75in CF1pk","021","38","READY TO PROCESS","437","RTP ReadyKleer storage bags",609,{"v":5486.481,"d":"5,486"},null,{"$f":"VLOOKUP(B690,'[1]2018.7 '!A:C,3,)","v":"Sales Stop"},{"$f":"VLOOKUP(B690,'[1]2018.7 '!A:M,13,)","v":"Ambient"},{"$f":"VLOOKUP(B690,'[1]2018.7 '!A:N,14,)","v":"No"}]
[690,"29064857","29064857","500L 2x0.5in + 2x0.75in CF1pk","021","38","READY TO PROCESS","437","RTP ReadyKleer storage bags",797,{"v":7180.173000000001,"d":"7,180"},null,{"$f":"VLOOKUP(B691,'[1]2018.7 '!A:C,3,)","v":"Sales Stop"},{"$f":"VLOOKUP(B691,'[1]2018.7 '!A:M,13,)","v":"Ambient"},{"$f":"VLOOKUP(B691,'[1]2018.7 '!A:N,14,)","v":"No"}]
[691,"29106692","29106692","1000L 3x0.75in CF1pk","021","38","READY TO PROCESS","437","RTP ReadyKleer storage bags",844,{"v":7603.5960000000005,"d":"7,604"},null,{"$f":"VLOOKUP(B692,'[1]2018.7 '!A:C,3,)","v":"Sales Stop"},{"$f":"VLOOKUP(B692,'[1]2018.7 '!A:M,13,)","v":"Ambient"},{"$f":"VLOOKUP(B692,'[1]2018.7 '!A:N,14,)","v":"No"}]
[692,"29106693","29106693","1000L 2x0.75in + 2x1.0in CF1pk","021","38","READY TO PROCESS","437","RTP ReadyKleer storage bags",{"v":1011,"d":"1,011"},{"v":9108.099,"d":"9,108"},null,{"$f":"VLOOKUP(B693,'[1]2018.7 '!A:C,3,)","v":"Sales Stop"},{"$f":"VLOOKUP(B693,'[1]2018.7 '!A:M,13,)","v":"Ambient"},{"$f":"VLOOKUP(B693,'[1]2018.7 '!A:N,14,)","v":"No"}]
[693,"KMPHHC9202HH","28400264","ULTA HC RTP 0,2um 2IN HBHB 3pk","021","38","READY TO PROCESS","418","RTP Standard jumpers",{"v":589.56,"d":"590"},{"v":5311.346039999999,"d":"5,311"},null,{"$f":"VLOOKUP(B694,'[1]2018.7 '!A:C,3,)","v":"Active"},{"$f":"VLOOKUP(B694,'[1]2018.7 '!A:M,13,)","v":"Ambient"},{"$f":"VLOOKUP(B694,'[1]2018.7 '!A:N,14,)","v":"No"}]
[694,"KMPHSG9202HH","28400270","ULTA SG RTP 0,2um 2IN HBHB 3pk","021","38","READY TO PROCESS","418","RTP Standard jumpers",{"v":576.3,"d":"576"},{"v":5191.8867,"d":"5,192"},null,{"$f":"VLOOKUP(B695,'[1]2018.7 '!A:C,3,)","v":"Active"},{"$f":"VLOOKUP(B695,'[1]2018.7 '!A:M,13,)","v":"Ambient"},{"$f":"VLOOKUP(B695,'[1]2018.7 '!A:N,14,)","v":"Reviewing"}]
[695,"RC2011-0110","29013677","10L RECIRCULATION BAG ASSEMBLY","021","38","READY TO PROCESS","437","RTP ReadyKleer storage bags",{"v":1031,"d":"1,031"},{"v":9288.279,"d":"9,288"},null,{"$f":"VLOOKUP(B696,'[1]2018.7 '!A:C,3,)","v":"Active"},{"$f":"VLOOKUP(B696,'[1]2018.7 '!A:M,13,)","v":"Ambient"},{"$f":"VLOOKUP(B696,'[1]2018.7 '!A:N,14,)","v":"No"}]
[696,"RC2011-0111","29013680","100L PERMEATE COLLECTION ASSEMBLY","021","38","READY TO PROCESS","437","RTP ReadyKleer storage bags",641,{"v":5774.769,"d":"5,775"},null,{"$f":"VLOOKUP(B697,'[1]2018.7 '!A:C,3,)","v":"Active"},{"$f":"VLOOKUP(B697,'[1]2018.7 '!A:M,13,)","v":"Ambient"},{"$f":"VLOOKUP(B697,'[1]2018.7 '!A:N,14,)","v":"Reviewing"}]
[697,"RC2011-0112","29013810","Recovery Bag Assembly","021","38","READY TO PROCESS","437","RTP ReadyKleer storage bags",313,{"v":2819.817,"d":"2,820"},null,{"$f":"VLOOKUP(B698,'[1]2018.7 '!A:C,3,)","v":"Active"},{"$f":"VLOOKUP(B698,'[1]2018.7 '!A:M,13,)","v":"Ambient"},{"$f":"VLOOKUP(B698,'[1]2018.7 '!A:N,14,)","v":"Reviewing"}]
[698,"RC2011-0113","29013813","Buffer Condition Assembly","021","38","READY TO PROCESS","418","RTP Standard jumpers",{"v":228.47999999999996,"d":"228"},{"v":2058.37632,"d":"2,058"},null,{"$f":"VLOOKUP(B699,'[1]2018.7 '!A:C,3,)","v":"Active"},{"$f":"VLOOKUP(B699,'[1]2018.7 '!A:M,13,)","v":"Ambient"},{"$f":"VLOOKUP(B699,'[1]2018.7 '!A:N,14,)","v":"Reviewing"}]
[699,"RC2011-0114","29013815","Process Feed Assembly","021","38","READY TO PROCESS","418","RTP Standard jumpers",{"v":322.32,"d":"322"},{"v":2903.7808800000003,"d":"2,904"},null,{"$f":"VLOOKUP(B700,'[1]2018.7 '!A:C,3,)","v":"Active"},{"$f":"VLOOKUP(B700,'[1]2018.7 '!A:M,13,)","v":"Ambient"},{"$f":"VLOOKUP(B700,'[1]2018.7 '!A:N,14,)","v":"Reviewing"}]
[700,"RC2011-0115","29013818","Diafiltration 20L Assembly","021","38","READY TO PROCESS","437","RTP ReadyKleer storage bags",283,{"v":2549.547,"d":"2,550"},null,{"$f":"VLOOKUP(B701,'[1]2018.7 '!A:C,3,)","v":"Active"},{"$f":"VLOOKUP(B701,'[1]2018.7 '!A:M,13,)","v":"Ambient"},{"$f":"VLOOKUP(B701,'[1]2018.7 '!A:N,14,)","v":"Reviewing"}]
[701,"RC2011-0116","29013822","Diafiltration 5L Assembly","021","38","READY TO PROCESS","437","RTP ReadyKleer storage bags",213,{"v":1918.9170000000001,"d":"1,919"},null,{"$f":"VLOOKUP(B702,'[1]2018.7 '!A:C,3,)","v":"Active"},{"$f":"VLOOKUP(B702,'[1]2018.7 '!A:M,13,)","v":"Ambient"},{"$f":"VLOOKUP(B702,'[1]2018.7 '!A:N,14,)","v":"Reviewing"}]
[702,"RC2011-0130","29009382","ReadyMate - Vent Jumper","021","38","READY TO PROCESS","418","RTP Standard jumpers",{"v":99.91,"d":"100"},{"v":900.08919,"d":"900"},null,{"$f":"VLOOKUP(B703,'[1]2018.7 '!A:C,3,)","v":"Active"},{"$f":"VLOOKUP(B703,'[1]2018.7 '!A:M,13,)","v":"Ambient"},{"$f":"VLOOKUP(B703,'[1]2018.7 '!A:N,14,)","v":"No"}]
[703,"RC2011-0131","29009384","ReadyMate - Disconnect Jumper","021","38","READY TO PROCESS","418","RTP Standard jumpers",{"v":193.65,"d":"194"},{"v":1744.5928500000002,"d":"1,745"},null,{"$f":"VLOOKUP(B704,'[1]2018.7 '!A:C,3,)","v":"Active"},{"$f":"VLOOKUP(B704,'[1]2018.7 '!A:M,13,)","v":"Ambient"},{"$f":"VLOOKUP(B704,'[1]2018.7 '!A:N,14,)","v":"No"}]
[704,"RC2011-0137","29012498","VENT FILTER ASSEMBLY, CUSTOM","021","38","READY TO PROCESS","418","RTP Standard jumpers",{"v":409.02,"d":"409"},{"v":3684.86118,"d":"3,685"},null,{"$f":"VLOOKUP(B705,'[1]2018.7 '!A:C,3,)","v":"Active"},{"$f":"VLOOKUP(B705,'[1]2018.7 '!A:M,13,)","v":"Ambient"},{"$f":"VLOOKUP(B705,'[1]2018.7 '!A:N,14,)","v":"Reviewing"}]
[705,"RC2011-0143","29013826","RM-SENSOR-MPC JUMPER ASSEMBLY","021","38","READY TO PROCESS","418","RTP Standard jumpers",{"v":275.4,"d":"275"},{"v":2481.0786,"d":"2,481"},null,{"$f":"VLOOKUP(B706,'[1]2018.7 '!A:C,3,)","v":"Active"},{"$f":"VLOOKUP(B706,'[1]2018.7 '!A:M,13,)","v":"Ambient"},{"$f":"VLOOKUP(B706,'[1]2018.7 '!A:N,14,)","v":"Reviewing"}]
[706,"RC2011-0163","29014534","10L, CUSTOM, NFF","021","38","READY TO PROCESS","437","RTP ReadyKleer storage bags",704,{"v":6342.336,"d":"6,342"},null,{"$f":"VLOOKUP(B707,'[1]2018.7 '!A:C,3,)","v":"Active"},{"$f":"VLOOKUP(B707,'[1]2018.7 '!A:M,13,)","v":"Ambient"},{"$f":"VLOOKUP(B707,'[1]2018.7 '!A:N,14,)","v":"No"}]
[707,"28977894","28977894","READYKART  WITH 3 SHELVES","021","38","READY TO PROCESS","436","RTP Hardware",{"v":11600,"d":"11,600"},{"v":104504.40000000001,"d":"104,504"},null,{"$f":"VLOOKUP(B708,'[1]2018.7 '!A:C,3,)","v":"Active"},{"$f":"VLOOKUP(B708,'[1]2018.7 '!A:M,13,)","v":"Ambient"},{"$f":"VLOOKUP(B708,'[1]2018.7 '!A:N,14,)","v":"No"}]
[708,"28977896","28977896","READYKART 3 SHELF FRAME","021","38","READY TO PROCESS","436","RTP Hardware",{"$f":"K709/9.009","v":{"v":9808,"d":"9,808"}},{"v":88360.272,"d":"88,360"},null,{"$f":"VLOOKUP(B709,'[1]2018.7 '!A:C,3,)","v":"Phase Out"},{"$f":"VLOOKUP(B709,'[1]2018.7 '!A:M,13,)","v":"Ambient"},{"$f":"VLOOKUP(B709,'[1]2018.7 '!A:N,14,)","v":"reviewing"}]
[709,"28977897","28977897","READYKART MINI WITH 3 SHELVES","021","38","READY TO PROCESS","436","RTP Hardware",{"v":10200,"d":"10,200"},{"v":91891.8,"d":"91,892"},null,{"$f":"VLOOKUP(B710,'[1]2018.7 '!A:C,3,)","v":"Active"},{"$f":"VLOOKUP(B710,'[1]2018.7 '!A:M,13,)","v":"Ambient"},{"$f":"VLOOKUP(B710,'[1]2018.7 '!A:N,14,)","v":"No"}]
[710,"28977899","28977899","READYKART TOP SHELF ASSEMBLY","021","38","READY TO PROCESS","436","RTP Hardware",{"v":6653,"d":"6,653"},{"v":59936.877,"d":"59,937"},null,{"$f":"VLOOKUP(B711,'[1]2018.7 '!A:C,3,)","v":"Active"},{"$f":"VLOOKUP(B711,'[1]2018.7 '!A:M,13,)","v":"Ambient"},{"$f":"VLOOKUP(B711,'[1]2018.7 '!A:N,14,)","v":"No"}]
[711,"28977900","28977900","READYKART MINI TOP SHELF ASSY","021","38","READY TO PROCESS","436","RTP Hardware",{"v":4558,"d":"4,558"},{"v":41063.022000000004,"d":"41,063"},null,{"$f":"VLOOKUP(B712,'[1]2018.7 '!A:C,3,)","v":"Active"},{"$f":"VLOOKUP(B712,'[1]2018.7 '!A:M,13,)","v":"Ambient"},{"$f":"VLOOKUP(B712,'[1]2018.7 '!A:N,14,)","v":"No"}]
[712,"28977901","28977901","READYKART ARM CLAMP ASSEMBLY","021","38","READY TO PROCESS","436","RTP Hardware",{"v":1302,"d":"1,302"},{"v":11729.718,"d":"11,730"},null,{"$f":"VLOOKUP(B713,'[1]2018.7 '!A:C,3,)","v":"Active"},{"$f":"VLOOKUP(B713,'[1]2018.7 '!A:M,13,)","v":"Ambient"},{"$f":"VLOOKUP(B713,'[1]2018.7 '!A:N,14,)","v":"No"}]
[713,"28977902","28977902","READYKART FILTER HOLDER ROD","021","38","READY TO PROCESS","436","RTP Hardware",603,{"v":5432.427000000001,"d":"5,432"},null,{"$f":"VLOOKUP(B714,'[1]2018.7 '!A:C,3,)","v":"Active"},{"$f":"VLOOKUP(B714,'[1]2018.7 '!A:M,13,)","v":"Ambient"},{"$f":"VLOOKUP(B714,'[1]2018.7 '!A:N,14,)","v":"No"}]
[714,"28977903","28977903","READYKART 200L TANK","021","38","READY TO PROCESS","436","RTP Hardware",{"v":2880,"d":"2,880"},{"v":25945.920000000002,"d":"25,946"},null,{"$f":"VLOOKUP(B715,'[1]2018.7 '!A:C,3,)","v":"Active"},{"$f":"VLOOKUP(B715,'[1]2018.7 '!A:M,13,)","v":"Ambient"},{"$f":"VLOOKUP(B715,'[1]2018.7 '!A:N,14,)","v":"No"}]
[715,"28977904","28977904","READYKART 100L TANK","021","38","READY TO PROCESS","436","RTP Hardware",{"v":2266,"d":"2,266"},{"v":20414.394,"d":"20,414"},null,{"$f":"VLOOKUP(B716,'[1]2018.7 '!A:C,3,)","v":"Active"},{"$f":"VLOOKUP(B716,'[1]2018.7 '!A:M,13,)","v":"Ambient"},{"$f":"VLOOKUP(B716,'[1]2018.7 '!A:N,14,)","v":"No"}]
[716,"28977905","28977905","READYKART 1 AND 5 L TRAY","021","38","READY TO PROCESS","436","RTP Hardware",{"v":1169,"d":"1,169"},{"v":10531.521,"d":"10,532"},null,{"$f":"VLOOKUP(B717,'[1]2018.7 '!A:C,3,)","v":"Active"},{"$f":"VLOOKUP(B717,'[1]2018.7 '!A:M,13,)","v":"Ambient"},{"$f":"VLOOKUP(B717,'[1]2018.7 '!A:N,14,)","v":"No"}]
[717,"28977906","28977906","READYKART 10 AND 20 L TRAY","021","38","READY TO PROCESS","436","RTP Hardware",{"v":1465,"d":"1,465"},{"v":13198.185000000001,"d":"13,198"},null,{"$f":"VLOOKUP(B718,'[1]2018.7 '!A:C,3,)","v":"Active"},{"$f":"VLOOKUP(B718,'[1]2018.7 '!A:M,13,)","v":"Ambient"},{"$f":"VLOOKUP(B718,'[1]2018.7 '!A:N,14,)","v":"No"}]
[718,"28977907","28977907","READYKART 50 L TRAY","021","38","READY TO PROCESS","436","RTP Hardware",{"v":1734,"d":"1,734"},{"v":15621.606,"d":"15,622"},null,{"$f":"VLOOKUP(B719,'[1]2018.7 '!A:C,3,)","v":"Active"},{"$f":"VLOOKUP(B719,'[1]2018.7 '!A:M,13,)","v":"Ambient"},{"$f":"VLOOKUP(B719,'[1]2018.7 '!A:N,14,)","v":"No"}]
[719,"28977908","28977908","READYKART SHELF NO TANK  HOLE","021","38","READY TO PROCESS","436","RTP Hardware",{"v":946.0000000000001,"d":"946"},{"v":8522.514000000001,"d":"8,523"},null,{"$f":"VLOOKUP(B720,'[1]2018.7 '!A:C,3,)","v":"Active"},{"$f":"VLOOKUP(B720,'[1]2018.7 '!A:M,13,)","v":"Ambient"},{"$f":"VLOOKUP(B720,'[1]2018.7 '!A:N,14,)","v":"Reviewing"}]
[720,"28977909","28977909","READYKART SHELF WITH TANK HOLE","021","38","READY TO PROCESS","436","RTP Hardware",{"v":946.0000000000001,"d":"946"},{"v":8522.514000000001,"d":"8,523"},null,{"$f":"VLOOKUP(B721,'[1]2018.7 '!A:C,3,)","v":"Active"},{"$f":"VLOOKUP(B721,'[1]2018.7 '!A:M,13,)","v":"Ambient"},{"$f":"VLOOKUP(B721,'[1]2018.7 '!A:N,14,)","v":"Reviewing"}]
[721,"28977910","28977910","READYKART MINI SHELF NO TANK HOLE","021","38","READY TO PROCESS","436","RTP Hardware",789,{"v":7108.101000000001,"d":"7,108"},null,{"$f":"VLOOKUP(B722,'[1]2018.7 '!A:C,3,)","v":"Active"},{"$f":"VLOOKUP(B722,'[1]2018.7 '!A:M,13,)","v":"Ambient"},{"$f":"VLOOKUP(B722,'[1]2018.7 '!A:N,14,)","v":"Reviewing"}]
[722,"28977913","28977913","READYKART MINI SHELF WITH TANK HOLE","021","38","READY TO PROCESS","436","RTP Hardware",789,{"v":7108.101000000001,"d":"7,108"},null,{"$f":"VLOOKUP(B723,'[1]2018.7 '!A:C,3,)","v":"Active"},{"$f":"VLOOKUP(B723,'[1]2018.7 '!A:M,13,)","v":"Ambient"},{"$f":"VLOOKUP(B723,'[1]2018.7 '!A:N,14,)","v":"No"}]
[723,"28977917","28977917","READYKART HANGING BAG PLATE","021","38","READY TO PROCESS","436","RTP Hardware",175,{"v":1576.575,"d":"1,577"},null,{"$f":"VLOOKUP(B724,'[1]2018.7 '!A:C,3,)","v":"Active"},{"$f":"VLOOKUP(B724,'[1]2018.7 '!A:M,13,)","v":"Ambient"},{"$f":"VLOOKUP(B724,'[1]2018.7 '!A:N,14,)","v":"No"}]
[724,"28977918","28977918","READYKART ARM  GAS SPRING","021","38","READY TO PROCESS","436","RTP Hardware",441,{"v":3972.969,"d":"3,973"},null,{"$f":"VLOOKUP(B725,'[1]2018.7 '!A:C,3,)","v":"Active"},{"$f":"VLOOKUP(B725,'[1]2018.7 '!A:M,13,)","v":"Ambient"},{"$f":"VLOOKUP(B725,'[1]2018.7 '!A:N,14,)","v":"Reviewing"}]
[725,"28977919","28977919","READYKART FIXED CASTER","021","38","READY TO PROCESS","436","RTP Hardware",75,{"v":675.6750000000001,"d":"676"},null,{"$f":"VLOOKUP(B726,'[1]2018.7 '!A:C,3,)","v":"Active"},{"$f":"VLOOKUP(B726,'[1]2018.7 '!A:M,13,)","v":"Ambient"},{"$f":"VLOOKUP(B726,'[1]2018.7 '!A:N,14,)","v":"Reviewing"}]
[726,"28977920","28977920","READYKART SWIVEL LOCK CASTER","021","38","READY TO PROCESS","436","RTP Hardware",108,{"v":972.972,"d":"973"},null,{"$f":"VLOOKUP(B727,'[1]2018.7 '!A:C,3,)","v":"Active"},{"$f":"VLOOKUP(B727,'[1]2018.7 '!A:M,13,)","v":"Ambient"},{"$f":"VLOOKUP(B727,'[1]2018.7 '!A:N,14,)","v":"Reviewing"}]
[727,"28977921","28977921","READYKART END PANEL","021","38","READY TO PROCESS","436","RTP Hardware",992,{"v":8936.928,"d":"8,937"},null,{"$f":"VLOOKUP(B728,'[1]2018.7 '!A:C,3,)","v":"Active"},{"$f":"VLOOKUP(B728,'[1]2018.7 '!A:M,13,)","v":"Ambient"},{"$f":"VLOOKUP(B728,'[1]2018.7 '!A:N,14,)","v":"Reviewing"}]
[728,"28977922","28977922","READYKART TRAY LIFT ASSEMBLY","021","38","READY TO PROCESS","436","RTP Hardware",181,{"v":1630.6290000000001,"d":"1,631"},null,{"$f":"VLOOKUP(B729,'[1]2018.7 '!A:C,3,)","v":"Active"},{"$f":"VLOOKUP(B729,'[1]2018.7 '!A:M,13,)","v":"Ambient"},{"$f":"VLOOKUP(B729,'[1]2018.7 '!A:N,14,)","v":"No"}]
[729,"28977923","28977923","READYKART ARM CLAMP","021","38","READY TO PROCESS","436","RTP Hardware",711,{"v":6405.399,"d":"6,405"},null,{"$f":"VLOOKUP(B730,'[1]2018.7 '!A:C,3,)","v":"Active"},{"$f":"VLOOKUP(B730,'[1]2018.7 '!A:M,13,)","v":"Ambient"},{"$f":"VLOOKUP(B730,'[1]2018.7 '!A:N,14,)","v":"No"}]
[730,"28977924","28977924","READYKART ARM GLIDE INSERT","021","38","READY TO PROCESS","436","RTP Hardware",107,{"v":963.9630000000001,"d":"964"},null,{"$f":"VLOOKUP(B731,'[1]2018.7 '!A:C,3,)","v":"Active"},{"$f":"VLOOKUP(B731,'[1]2018.7 '!A:M,13,)","v":"Ambient"},{"$f":"VLOOKUP(B731,'[1]2018.7 '!A:N,14,)","v":"Reviewing"}]
[731,"28977925","28977925","READYKART ARM GLIDE LOCATOR","021","38","READY TO PROCESS","436","RTP Hardware",97,{"v":873.873,"d":"874"},null,{"$f":"VLOOKUP(B732,'[1]2018.7 '!A:C,3,)","v":"Active"},{"$f":"VLOOKUP(B732,'[1]2018.7 '!A:M,13,)","v":"Ambient"},{"$f":"VLOOKUP(B732,'[1]2018.7 '!A:N,14,)","v":"Reviewing"}]
[732,"28977926","28977926","READYKART FILTER HOLDER CLAMP","021","38","READY TO PROCESS","436","RTP Hardware",195,{"v":1756.755,"d":"1,757"},null,{"$f":"VLOOKUP(B733,'[1]2018.7 '!A:C,3,)","v":"Active"},{"$f":"VLOOKUP(B733,'[1]2018.7 '!A:M,13,)","v":"Ambient"},{"$f":"VLOOKUP(B733,'[1]2018.7 '!A:N,14,)","v":"No"}]
[733,"29026097","29026097","Scilog Pressure Sensor Monitor","021","38","READY TO PROCESS","436","RTP Hardware",{"v":5901,"d":"5,901"},{"v":53162.109000000004,"d":"53,162"},null,{"$f":"VLOOKUP(B734,'[1]2018.7 '!A:C,3,)","v":"Active"},{"$f":"VLOOKUP(B734,'[1]2018.7 '!A:M,13,)","v":"Ambient"},{"$f":"VLOOKUP(B734,'[1]2018.7 '!A:N,14,)","v":"Reviewing"}]
[734,"29064843","29064843","500L POLYPROPYLENE BIN","021","38","READY TO PROCESS","436","RTP Hardware",{"v":5724,"d":"5,724"},{"v":51567.516,"d":"51,568"},null,{"$f":"VLOOKUP(B735,'[1]2018.7 '!A:C,3,)","v":"Active"},{"$f":"VLOOKUP(B735,'[1]2018.7 '!A:M,13,)","v":"Ambient"},{"$f":"VLOOKUP(B735,'[1]2018.7 '!A:N,14,)","v":"No"}]
[735,"29064866","29064866","100L POLYPROPYLENE BIN","021","38","READY TO PROCESS","436","RTP Hardware",{"v":4770,"d":"4,770"},{"v":42972.93,"d":"42,973"},null,{"$f":"VLOOKUP(B736,'[1]2018.7 '!A:C,3,)","v":"Active"},{"$f":"VLOOKUP(B736,'[1]2018.7 '!A:M,13,)","v":"Ambient"},{"$f":"VLOOKUP(B736,'[1]2018.7 '!A:N,14,)","v":"No"}]
[736,"29064867","29064867","200L POLYPROPYLENE BIN","021","38","READY TO PROCESS","436","RTP Hardware",{"v":5179,"d":"5,179"},{"v":46657.611000000004,"d":"46,658"},null,{"$f":"VLOOKUP(B737,'[1]2018.7 '!A:C,3,)","v":"Active"},{"$f":"VLOOKUP(B737,'[1]2018.7 '!A:M,13,)","v":"Ambient"},{"$f":"VLOOKUP(B737,'[1]2018.7 '!A:N,14,)","v":"No"}]
[737,"29064868","29064868","1000L POLYPROPYLENE BIN","021","38","READY TO PROCESS","436","RTP Hardware",{"v":12300,"d":"12,300"},{"v":110810.7,"d":"110,811"},null,{"$f":"VLOOKUP(B738,'[1]2018.7 '!A:C,3,)","v":"Active"},{"$f":"VLOOKUP(B738,'[1]2018.7 '!A:M,13,)","v":"Ambient"},{"$f":"VLOOKUP(B738,'[1]2018.7 '!A:N,14,)","v":"No"}]
[738,"29086648","29086648","DRAIN PLATE, POLY BIN (QTY. 1)","021","38","READY TO PROCESS","436","RTP Hardware",{"v":158.34,"d":"158"},{"v":1426.48506,"d":"1,426"},null,{"$f":"VLOOKUP(B739,'[1]2018.7 '!A:C,3,)","v":"Active"},{"$f":"VLOOKUP(B739,'[1]2018.7 '!A:M,13,)","v":"Ambient"},{"$f":"VLOOKUP(B739,'[1]2018.7 '!A:N,14,)","v":"Reviewing"}]
[739,"29086651","29086651","DOOR, 500L POLY BIN (QTY. 1)","021","38","READY TO PROCESS","436","RTP Hardware",312,{"v":2810.808,"d":"2,811"},null,{"$f":"VLOOKUP(B740,'[1]2018.7 '!A:C,3,)","v":"Active"},{"$f":"VLOOKUP(B740,'[1]2018.7 '!A:M,13,)","v":"Ambient"},{"$f":"VLOOKUP(B740,'[1]2018.7 '!A:N,14,)","v":"Reviewing"}]
[740,"29095392","29095392","CASTER KIT, POLY BIN (QTY. 1)","021","38","READY TO PROCESS","436","RTP Hardware",253,{"v":2279.277,"d":"2,279"},null,{"$f":"VLOOKUP(B741,'[1]2018.7 '!A:C,3,)","v":"Active"},{"$f":"VLOOKUP(B741,'[1]2018.7 '!A:M,13,)","v":"Ambient"},{"$f":"VLOOKUP(B741,'[1]2018.7 '!A:N,14,)","v":"No"}]
[741,"29095396","29095396","CASTER PLUGS, PLY BIN (QTY. 4)","021","38","READY TO PROCESS","436","RTP Hardware",{"v":48.72,"d":"49"},{"v":438.91848,"d":"439"},null,{"$f":"VLOOKUP(B742,'[1]2018.7 '!A:C,3,)","v":"Active"},{"$f":"VLOOKUP(B742,'[1]2018.7 '!A:M,13,)","v":"Ambient"},{"$f":"VLOOKUP(B742,'[1]2018.7 '!A:N,14,)","v":"Reviewing"}]
[742,"NV-GSG02-010","28400167","NVAX, 2 IN CAP 10 L BAG ASMBLY","021","38","READY TO PROCESS","446","RTP NFF ReadyCircuits",{"v":208.08,"d":"208"},{"v":1874.59272,"d":"1,875"},null,{"$f":"VLOOKUP(B743,'[1]2018.7 '!A:C,3,)","v":"Active"},{"$f":"VLOOKUP(B743,'[1]2018.7 '!A:M,13,)","v":"Ambient"},{"$f":"VLOOKUP(B743,'[1]2018.7 '!A:N,14,)","v":"Reviewing"}]
[743,"NV-GSG02-050","28400171","NVAX, 2 IN CAP 50 L BAG ASMBLY","021","38","READY TO PROCESS","446","RTP NFF ReadyCircuits",{"v":391.68,"d":"392"},{"v":3528.64512,"d":"3,529"},null,{"$f":"VLOOKUP(B744,'[1]2018.7 '!A:C,3,)","v":"Active"},{"$f":"VLOOKUP(B744,'[1]2018.7 '!A:M,13,)","v":"Ambient"},{"$f":"VLOOKUP(B744,'[1]2018.7 '!A:N,14,)","v":"Reviewing"}]
[744,"NV-GSG02C010","28400404","NVAX 2in Cap 10L CHROM BAG","021","38","READY TO PROCESS","446","RTP NFF ReadyCircuits",{"v":266.22,"d":"266"},{"v":2398.3759800000003,"d":"2,398"},null,{"$f":"VLOOKUP(B745,'[1]2018.7 '!A:C,3,)","v":"Active"},{"$f":"VLOOKUP(B745,'[1]2018.7 '!A:M,13,)","v":"Ambient"},{"$f":"VLOOKUP(B745,'[1]2018.7 '!A:N,14,)","v":"Reviewing"}]
[745,"NV-GSG02C020","28400405","NVAX 2in CAP 20L CHROM BAG","021","38","READY TO PROCESS","446","RTP NFF ReadyCircuits",{"v":279.48,"d":"279"},{"v":2517.83532,"d":"2,518"},null,{"$f":"VLOOKUP(B746,'[1]2018.7 '!A:C,3,)","v":"Active"},{"$f":"VLOOKUP(B746,'[1]2018.7 '!A:M,13,)","v":"Ambient"},{"$f":"VLOOKUP(B746,'[1]2018.7 '!A:N,14,)","v":"Reviewing"}]
[746,"NV-GSG02C050","28400406","NVAX 2in Cap 50L CHROM BAG","021","38","READY TO PROCESS","446","RTP NFF ReadyCircuits",{"v":415.14,"d":"415"},{"v":3739.99626,"d":"3,740"},null,{"$f":"VLOOKUP(B747,'[1]2018.7 '!A:C,3,)","v":"Active"},{"$f":"VLOOKUP(B747,'[1]2018.7 '!A:M,13,)","v":"Ambient"},{"$f":"VLOOKUP(B747,'[1]2018.7 '!A:N,14,)","v":"Reviewing"}]
[747,"NV-GSG04-100","28400170","NVAX, 4 IN CAP 100 L BAG ASMBLY","021","38","READY TO PROCESS","446","RTP NFF ReadyCircuits",{"v":435.54,"d":"436"},{"v":3923.7798600000006,"d":"3,924"},null,{"$f":"VLOOKUP(B748,'[1]2018.7 '!A:C,3,)","v":"Active"},{"$f":"VLOOKUP(B748,'[1]2018.7 '!A:M,13,)","v":"Ambient"},{"$f":"VLOOKUP(B748,'[1]2018.7 '!A:N,14,)","v":"Reviewing"}]
[748,"RC2010-0015","28990482","20L, CUSTOM ASSEMBLY","021","38","READY TO PROCESS","446","RTP NFF ReadyCircuits",{"v":383.52,"d":"384"},{"v":3455.13168,"d":"3,455"},null,{"$f":"VLOOKUP(B749,'[1]2018.7 '!A:C,3,)","v":"Active"},{"$f":"VLOOKUP(B749,'[1]2018.7 '!A:M,13,)","v":"Ambient"},{"$f":"VLOOKUP(B749,'[1]2018.7 '!A:N,14,)","v":"No"}]
[749,"RC2010-0016","28990517","10L NFF, CUSTOM","021","38","READY TO PROCESS","446","RTP NFF ReadyCircuits",{"v":1192.38,"d":"1,192"},{"v":10742.151420000002,"d":"10,742"},null,{"$f":"VLOOKUP(B750,'[1]2018.7 '!A:C,3,)","v":"Active"},{"$f":"VLOOKUP(B750,'[1]2018.7 '!A:M,13,)","v":"Ambient"},{"$f":"VLOOKUP(B750,'[1]2018.7 '!A:N,14,)","v":"No"}]
[750,"RC2010-0017","28990524","5L NFF, CUSTOM","021","38","READY TO PROCESS","446","RTP NFF ReadyCircuits",{"v":1013.88,"d":"1,014"},{"v":9134.04492,"d":"9,134"},null,{"$f":"VLOOKUP(B751,'[1]2018.7 '!A:C,3,)","v":"Active"},{"$f":"VLOOKUP(B751,'[1]2018.7 '!A:M,13,)","v":"Ambient"},{"$f":"VLOOKUP(B751,'[1]2018.7 '!A:N,14,)","v":"No"}]
[751,"RC2010-0021","28994724","5L NFF, CUSTOM","021","38","READY TO PROCESS","446","RTP NFF ReadyCircuits",{"v":749.7,"d":"750"},{"v":6754.047300000001,"d":"6,754"},null,{"$f":"VLOOKUP(B752,'[1]2018.7 '!A:C,3,)","v":"Active"},{"$f":"VLOOKUP(B752,'[1]2018.7 '!A:M,13,)","v":"Ambient"},{"$f":"VLOOKUP(B752,'[1]2018.7 '!A:N,14,)","v":"No"}]
[752,"RC2010-TEST1","28988750","5L NFF, CUSTOM","021","38","READY TO PROCESS","446","RTP NFF ReadyCircuits",{"v":1075.08,"d":"1,075"},{"v":9685.39572,"d":"9,685"},null,{"$f":"VLOOKUP(B753,'[1]2018.7 '!A:C,3,)","v":"Active"},{"$f":"VLOOKUP(B753,'[1]2018.7 '!A:M,13,)","v":"Ambient"},{"$f":"VLOOKUP(B753,'[1]2018.7 '!A:N,14,)","v":"Reviewing"}]
[753,"RC2010-TEST2","28989738","10L NFF, CUSTOM","021","38","READY TO PROCESS","446","RTP NFF ReadyCircuits",{"v":3055.92,"d":"3,056"},{"v":27530.783280000003,"d":"27,531"},null,{"$f":"VLOOKUP(B754,'[1]2018.7 '!A:C,3,)","v":"Active"},{"$f":"VLOOKUP(B754,'[1]2018.7 '!A:M,13,)","v":"Ambient"},{"$f":"VLOOKUP(B754,'[1]2018.7 '!A:N,14,)","v":"Reviewing"}]
[754,"RC2011-0003","28999678","10L NFF CUSTOM","021","38","READY TO PROCESS","446","RTP NFF ReadyCircuits",{"v":1031.22,"d":"1,031"},{"v":9290.260980000001,"d":"9,290"},null,{"$f":"VLOOKUP(B755,'[1]2018.7 '!A:C,3,)","v":"Active"},{"$f":"VLOOKUP(B755,'[1]2018.7 '!A:M,13,)","v":"Ambient"},{"$f":"VLOOKUP(B755,'[1]2018.7 '!A:N,14,)","v":"Reviewing"}]
[755,"RC2011-0006","29001391","10L CELL HARVEST ASSEMBLY","021","38","READY TO PROCESS","446","RTP NFF ReadyCircuits",{"v":1119.96,"d":"1,120"},{"v":10089.719640000001,"d":"10,090"},null,{"$f":"VLOOKUP(B756,'[1]2018.7 '!A:C,3,)","v":"Active"},{"$f":"VLOOKUP(B756,'[1]2018.7 '!A:M,13,)","v":"Ambient"},{"$f":"VLOOKUP(B756,'[1]2018.7 '!A:N,14,)","v":"No"}]
[756,"RC2011-0007","29001582","20L CELL HARVEST ASSEMBLY","021","38","READY TO PROCESS","446","RTP NFF ReadyCircuits",{"v":1443.3,"d":"1,443"},{"v":13002.6897,"d":"13,003"},null,{"$f":"VLOOKUP(B757,'[1]2018.7 '!A:C,3,)","v":"Active"},{"$f":"VLOOKUP(B757,'[1]2018.7 '!A:M,13,)","v":"Ambient"},{"$f":"VLOOKUP(B757,'[1]2018.7 '!A:N,14,)","v":"No"}]
[757,"RC2011-0008","29001584","50L CELL HARVEST ASSEMBLY","021","38","READY TO PROCESS","446","RTP NFF ReadyCircuits",{"v":2887.62,"d":"2,888"},{"v":26014.56858,"d":"26,015"},null,{"$f":"VLOOKUP(B758,'[1]2018.7 '!A:C,3,)","v":"Active"},{"$f":"VLOOKUP(B758,'[1]2018.7 '!A:M,13,)","v":"Ambient"},{"$f":"VLOOKUP(B758,'[1]2018.7 '!A:N,14,)","v":"Reviewing"}]
[758,"RC2012-0013","29017235","NFF CUSTOM JUMPER","021","38","READY TO PROCESS","446","RTP NFF ReadyCircuits",{"v":165.83,"d":"166"},{"v":1493.9624700000002,"d":"1,494"},null,{"$f":"VLOOKUP(B759,'[1]2018.7 '!A:C,3,)","v":"Active"},{"$f":"VLOOKUP(B759,'[1]2018.7 '!A:M,13,)","v":"Ambient"},{"$f":"VLOOKUP(B759,'[1]2018.7 '!A:N,14,)","v":"No"}]
[759,"RC2012-0014","29017304","NFF CUSTOM JUMPER","021","38","READY TO PROCESS","446","RTP NFF ReadyCircuits",{"v":198.8,"d":"199"},{"v":1790.9892000000002,"d":"1,791"},null,{"$f":"VLOOKUP(B760,'[1]2018.7 '!A:C,3,)","v":"Active"},{"$f":"VLOOKUP(B760,'[1]2018.7 '!A:M,13,)","v":"Ambient"},{"$f":"VLOOKUP(B760,'[1]2018.7 '!A:N,14,)","v":"No"}]
[760,"RC2012-0055","29021739","10L, CUSTOM ASSEMBLY","021","38","READY TO PROCESS","446","RTP NFF ReadyCircuits",{"v":1301.52,"d":"1,302"},{"v":11725.393680000001,"d":"11,725"},null,{"$f":"VLOOKUP(B761,'[1]2018.7 '!A:C,3,)","v":"Active"},{"$f":"VLOOKUP(B761,'[1]2018.7 '!A:M,13,)","v":"Ambient"},{"$f":"VLOOKUP(B761,'[1]2018.7 '!A:N,14,)","v":"No"}]
[761,"RC2012-0056","29021746","5L, CUSTOM ASSEMBLY","021","38","READY TO PROCESS","446","RTP NFF ReadyCircuits",{"v":1229.1,"d":"1,229"},{"v":11072.9619,"d":"11,073"},null,{"$f":"VLOOKUP(B762,'[1]2018.7 '!A:C,3,)","v":"Active"},{"$f":"VLOOKUP(B762,'[1]2018.7 '!A:M,13,)","v":"Ambient"},{"$f":"VLOOKUP(B762,'[1]2018.7 '!A:N,14,)","v":"Reviewing"}]
[762,"RC2012-0099","29034199","JUMPER ASSEMBLY, CUSTOM","021","38","READY TO PROCESS","446","RTP NFF ReadyCircuits",{"v":1999.2000000000003,"d":"1,999"},{"v":18010.792800000003,"d":"18,011"},null,{"$f":"VLOOKUP(B763,'[1]2018.7 '!A:C,3,)","v":"Active"},{"$f":"VLOOKUP(B763,'[1]2018.7 '!A:M,13,)","v":"Ambient"},{"$f":"VLOOKUP(B763,'[1]2018.7 '!A:N,14,)","v":"No"}]
[763,"RC2013-0033","29061064","NFF JUMPER ASSEMBLY, CUSTOM","021","38","READY TO PROCESS","446","RTP NFF ReadyCircuits",{"v":291.72,"d":"292"},{"v":2628.10548,"d":"2,628"},null,{"$f":"VLOOKUP(B764,'[1]2018.7 '!A:C,3,)","v":"Active"},{"$f":"VLOOKUP(B764,'[1]2018.7 '!A:M,13,)","v":"Ambient"},{"$f":"VLOOKUP(B764,'[1]2018.7 '!A:N,14,)","v":"No"}]
[764,"RC2013-0049","29088945","NFF JUMPER ASSEMBLY, CUSTOM","021","38","READY TO PROCESS","446","RTP NFF ReadyCircuits",{"v":2434.74,"d":"2,435"},{"v":21934.572659999998,"d":"21,935"},null,{"$f":"VLOOKUP(B765,'[1]2018.7 '!A:C,3,)","v":"Active"},{"$f":"VLOOKUP(B765,'[1]2018.7 '!A:M,13,)","v":"Ambient"},{"$f":"VLOOKUP(B765,'[1]2018.7 '!A:N,14,)","v":"Reviewing"}]
[765,"RC2014-0108","29137159","20L, CUSTOM ASSEMBLY","021","38","READY TO PROCESS","446","RTP NFF ReadyCircuits",{"v":1755.42,"d":"1,755"},{"v":15814.578780000002,"d":"15,815"},null,{"$f":"VLOOKUP(B766,'[1]2018.7 '!A:C,3,)","v":"Active"},{"$f":"VLOOKUP(B766,'[1]2018.7 '!A:M,13,)","v":"Ambient"},{"$f":"VLOOKUP(B766,'[1]2018.7 '!A:N,14,)","v":"No"}]
[766,"RC2014-0132","29140491","1L, CUSTOM ASSEMBLY","021","38","READY TO PROCESS","446","RTP NFF ReadyCircuits",{"v":400.86,"d":"401"},{"v":3611.34774,"d":"3,611"},null,{"$f":"VLOOKUP(B767,'[1]2018.7 '!A:C,3,)","v":"Active"},{"$f":"VLOOKUP(B767,'[1]2018.7 '!A:M,13,)","v":"Ambient"},{"$f":"VLOOKUP(B767,'[1]2018.7 '!A:N,14,)","v":"Reviewing"}]
[767,"12410058","12410058","1XCG9202 2X0.5 FT CF RM","021","38","READY TO PROCESS","446","RTP NFF ReadyCircuits",{"v":328.44,"d":"328"},{"v":2958.9159600000003,"d":"2,959"},null,{"$f":"VLOOKUP(B768,'[1]2018.7 '!A:C,3,)","v":"Active"},{"$f":"VLOOKUP(B768,'[1]2018.7 '!A:M,13,)","v":"Ambient"},{"$f":"VLOOKUP(B768,'[1]2018.7 '!A:N,14,)","v":"No"}]
[768,"12410059","12410059","1XCG9204 2X0.5 FT CF RM","021","38","READY TO PROCESS","446","RTP NFF ReadyCircuits",{"v":390.66,"d":"391"},{"v":3519.4559400000003,"d":"3,519"},null,{"$f":"VLOOKUP(B769,'[1]2018.7 '!A:C,3,)","v":"Active"},{"$f":"VLOOKUP(B769,'[1]2018.7 '!A:M,13,)","v":"Ambient"},{"$f":"VLOOKUP(B769,'[1]2018.7 '!A:N,14,)","v":"No"}]
[769,"12410060","12410060","1XCG92H1  2X RM","021","38","READY TO PROCESS","446","RTP NFF ReadyCircuits",{"v":512.04,"d":"512"},{"v":4612.96836,"d":"4,613"},null,{"$f":"VLOOKUP(B770,'[1]2018.7 '!A:C,3,)","v":"Active"},{"$f":"VLOOKUP(B770,'[1]2018.7 '!A:M,13,)","v":"Ambient"},{"$f":"VLOOKUP(B770,'[1]2018.7 '!A:N,14,)","v":"No"}]
[770,"12410061","12410061","1XCG9206  2X0.5 FT CF RM","021","38","READY TO PROCESS","446","RTP NFF ReadyCircuits",{"v":466.13999999999993,"d":"466"},{"v":4199.45526,"d":"4,199"},null,{"$f":"VLOOKUP(B771,'[1]2018.7 '!A:C,3,)","v":"Active"},{"$f":"VLOOKUP(B771,'[1]2018.7 '!A:M,13,)","v":"Ambient"},{"$f":"VLOOKUP(B771,'[1]2018.7 '!A:N,14,)","v":"No"}]
[771,"12410062","12410062","1XCG9210  2X RM","021","38","READY TO PROCESS","446","RTP NFF ReadyCircuits",{"v":641.58,"d":"642"},{"v":5779.9942200000005,"d":"5,780"},null,{"$f":"VLOOKUP(B772,'[1]2018.7 '!A:C,3,)","v":"Active"},{"$f":"VLOOKUP(B772,'[1]2018.7 '!A:M,13,)","v":"Ambient"},{"$f":"VLOOKUP(B772,'[1]2018.7 '!A:N,14,)","v":"Reviewing"}]
[772,"12410063","12410063","1XCG9220 2X RM","021","38","READY TO PROCESS","446","RTP NFF ReadyCircuits",{"$f":"K773/9.009","v":{"v":1177.08,"d":"1,177"}},{"v":10604.31372,"d":"10,604"},null,{"$f":"VLOOKUP(B773,'[1]2018.7 '!A:C,3,)","v":"Active"},{"$f":"VLOOKUP(B773,'[1]2018.7 '!A:M,13,)","v":"Ambient"},{"$f":"VLOOKUP(B773,'[1]2018.7 '!A:N,14,)","v":"No"}]
[773,"12410064","12410064","1xCG9230 2x RM","021","38","READY TO PROCESS","446","RTP NFF ReadyCircuits",{"v":1586.1,"d":"1,586"},{"v":14289.1749,"d":"14,289"},null,{"$f":"VLOOKUP(B774,'[1]2018.7 '!A:C,3,)","v":"Active"},{"$f":"VLOOKUP(B774,'[1]2018.7 '!A:M,13,)","v":"Ambient"},{"$f":"VLOOKUP(B774,'[1]2018.7 '!A:N,14,)","v":"Reviewing"}]
[774,"12410065","12410065","1XGF9602 2X0.5 FT CF RM","021","38","READY TO PROCESS","446","RTP NFF ReadyCircuits",{"v":272.34,"d":"272"},{"v":2453.51106,"d":"2,454"},null,{"$f":"VLOOKUP(B775,'[1]2018.7 '!A:C,3,)","v":"Active"},{"$f":"VLOOKUP(B775,'[1]2018.7 '!A:M,13,)","v":"Ambient"},{"$f":"VLOOKUP(B775,'[1]2018.7 '!A:N,14,)","v":"No"}]
[775,"12410066","12410066","1XGF9604 2X0.5 FT CF RM","021","38","READY TO PROCESS","446","RTP NFF ReadyCircuits",{"v":309.06,"d":"309"},{"v":2784.32154,"d":"2,784"},null,{"$f":"VLOOKUP(B776,'[1]2018.7 '!A:C,3,)","v":"Active"},{"$f":"VLOOKUP(B776,'[1]2018.7 '!A:M,13,)","v":"Ambient"},{"$f":"VLOOKUP(B776,'[1]2018.7 '!A:N,14,)","v":"No"}]
[776,"12410067","12410067","1XGF96H1  2X RM","021","38","READY TO PROCESS","446","RTP NFF ReadyCircuits",{"v":374.34,"d":"374"},{"v":3372.42906,"d":"3,372"},null,{"$f":"VLOOKUP(B777,'[1]2018.7 '!A:C,3,)","v":"Active"},{"$f":"VLOOKUP(B777,'[1]2018.7 '!A:M,13,)","v":"Ambient"},{"$f":"VLOOKUP(B777,'[1]2018.7 '!A:N,14,)","v":"Reviewing"}]
[777,"12410068","12410068","1XGF9606 2X0.5 FT CF RM","021","38","READY TO PROCESS","446","RTP NFF ReadyCircuits",{"v":345.78,"d":"346"},{"v":3115.13202,"d":"3,115"},null,{"$f":"VLOOKUP(B778,'[1]2018.7 '!A:C,3,)","v":"Active"},{"$f":"VLOOKUP(B778,'[1]2018.7 '!A:M,13,)","v":"Ambient"},{"$f":"VLOOKUP(B778,'[1]2018.7 '!A:N,14,)","v":"Reviewing"}]
[778,"12410069","12410069","1XGF9610  2X RM","021","38","READY TO PROCESS","446","RTP NFF ReadyCircuits",{"v":460.0199999999999,"d":"460"},{"v":4144.32018,"d":"4,144"},null,{"$f":"VLOOKUP(B779,'[1]2018.7 '!A:C,3,)","v":"Active"},{"$f":"VLOOKUP(B779,'[1]2018.7 '!A:M,13,)","v":"Ambient"},{"$f":"VLOOKUP(B779,'[1]2018.7 '!A:N,14,)","v":"Reviewing"}]
[779,"12410070","12410070","1XGF9620 2X RM","021","38","READY TO PROCESS","446","RTP NFF ReadyCircuits",{"v":761.94,"d":"762"},{"v":6864.317460000001,"d":"6,864"},null,{"$f":"VLOOKUP(B780,'[1]2018.7 '!A:C,3,)","v":"Active"},{"$f":"VLOOKUP(B780,'[1]2018.7 '!A:M,13,)","v":"Ambient"},{"$f":"VLOOKUP(B780,'[1]2018.7 '!A:N,14,)","v":"No"}]
[780,"12410071","12410071","1XGF9630 2X RM","021","38","READY TO PROCESS","446","RTP NFF ReadyCircuits",{"v":1074.06,"d":"1,074"},{"v":9676.20654,"d":"9,676"},null,{"$f":"VLOOKUP(B781,'[1]2018.7 '!A:C,3,)","v":"Active"},{"$f":"VLOOKUP(B781,'[1]2018.7 '!A:M,13,)","v":"Ambient"},{"$f":"VLOOKUP(B781,'[1]2018.7 '!A:N,14,)","v":"No"}]
[781,"12410072","12410072","1XGF0102 2X0.5 FT CF RM","021","38","READY TO PROCESS","446","RTP NFF ReadyCircuits",{"v":272.34,"d":"272"},{"v":2453.51106,"d":"2,454"},null,{"$f":"VLOOKUP(B782,'[1]2018.7 '!A:C,3,)","v":"Active"},{"$f":"VLOOKUP(B782,'[1]2018.7 '!A:M,13,)","v":"Ambient"},{"$f":"VLOOKUP(B782,'[1]2018.7 '!A:N,14,)","v":"No"}]
[782,"12410073","12410073","1XGF0104 2X0.5 FT CF RM","021","38","READY TO PROCESS","446","RTP NFF ReadyCircuits",{"v":309.06,"d":"309"},{"v":2784.32154,"d":"2,784"},null,{"$f":"VLOOKUP(B783,'[1]2018.7 '!A:C,3,)","v":"Active"},{"$f":"VLOOKUP(B783,'[1]2018.7 '!A:M,13,)","v":"Ambient"},{"$f":"VLOOKUP(B783,'[1]2018.7 '!A:N,14,)","v":"Reviewing"}]
[783,"12410074","12410074","1XGF0106 2X0.5 FT CF RM","021","38","READY TO PROCESS","446","RTP NFF ReadyCircuits",{"v":345.78,"d":"346"},{"v":3115.13202,"d":"3,115"},null,{"$f":"VLOOKUP(B784,'[1]2018.7 '!A:C,3,)","v":"Active"},{"$f":"VLOOKUP(B784,'[1]2018.7 '!A:M,13,)","v":"Ambient"},{"$f":"VLOOKUP(B784,'[1]2018.7 '!A:N,14,)","v":"Reviewing"}]
[784,"12410075","12410075","1XGF01H1  2X RM","021","38","READY TO PROCESS","446","RTP NFF ReadyCircuits",{"v":374.34,"d":"374"},{"v":3372.42906,"d":"3,372"},null,{"$f":"VLOOKUP(B785,'[1]2018.7 '!A:C,3,)","v":"Active"},{"$f":"VLOOKUP(B785,'[1]2018.7 '!A:M,13,)","v":"Ambient"},{"$f":"VLOOKUP(B785,'[1]2018.7 '!A:N,14,)","v":"Reviewing"}]
[785,"12410076","12410076","1XGF0110  2X RM","021","38","READY TO PROCESS","446","RTP NFF ReadyCircuits",{"v":460.0199999999999,"d":"460"},{"v":4144.32018,"d":"4,144"},null,{"$f":"VLOOKUP(B786,'[1]2018.7 '!A:C,3,)","v":"Active"},{"$f":"VLOOKUP(B786,'[1]2018.7 '!A:M,13,)","v":"Ambient"},{"$f":"VLOOKUP(B786,'[1]2018.7 '!A:N,14,)","v":"Reviewing"}]
[786,"12410077","12410077","1XGF0120 2X RM","021","38","READY TO PROCESS","446","RTP NFF ReadyCircuits",{"v":761.94,"d":"762"},{"v":6864.317460000001,"d":"6,864"},null,{"$f":"VLOOKUP(B787,'[1]2018.7 '!A:C,3,)","v":"Active"},{"$f":"VLOOKUP(B787,'[1]2018.7 '!A:M,13,)","v":"Ambient"},{"$f":"VLOOKUP(B787,'[1]2018.7 '!A:N,14,)","v":"Reviewing"}]
[787,"12410078","12410078","1XGF0130 2X RM","021","38","READY TO PROCESS","446","RTP NFF ReadyCircuits",{"v":1074.06,"d":"1,074"},{"v":9676.20654,"d":"9,676"},null,{"$f":"VLOOKUP(B788,'[1]2018.7 '!A:C,3,)","v":"Active"},{"$f":"VLOOKUP(B788,'[1]2018.7 '!A:M,13,)","v":"Ambient"},{"$f":"VLOOKUP(B788,'[1]2018.7 '!A:N,14,)","v":"Reviewing"}]
[788,"12410079","12410079","1XGF0202 2X0.5 FT CF RM","021","38","READY TO PROCESS","446","RTP NFF ReadyCircuits",{"v":272.34,"d":"272"},{"v":2453.51106,"d":"2,454"},null,{"$f":"VLOOKUP(B789,'[1]2018.7 '!A:C,3,)","v":"Active"},{"$f":"VLOOKUP(B789,'[1]2018.7 '!A:M,13,)","v":"Ambient"},{"$f":"VLOOKUP(B789,'[1]2018.7 '!A:N,14,)","v":"No"}]
[789,"12410080","12410080","1XGF0204 2X0.5 FT CF RM","021","38","READY TO PROCESS","446","RTP NFF ReadyCircuits",{"v":309.06,"d":"309"},{"v":2784.32154,"d":"2,784"},null,{"$f":"VLOOKUP(B790,'[1]2018.7 '!A:C,3,)","v":"Active"},{"$f":"VLOOKUP(B790,'[1]2018.7 '!A:M,13,)","v":"Ambient"},{"$f":"VLOOKUP(B790,'[1]2018.7 '!A:N,14,)","v":"No"}]
[790,"12410081","12410081","1XGF0206  2X0.5 FT CF RM","021","38","READY TO PROCESS","446","RTP NFF ReadyCircuits",{"v":345.78,"d":"346"},{"v":3115.13202,"d":"3,115"},null,{"$f":"VLOOKUP(B791,'[1]2018.7 '!A:C,3,)","v":"Active"},{"$f":"VLOOKUP(B791,'[1]2018.7 '!A:M,13,)","v":"Ambient"},{"$f":"VLOOKUP(B791,'[1]2018.7 '!A:N,14,)","v":"Reviewing"}]
[791,"12410082","12410082","1XGF02H1  2X RM","021","38","READY TO PROCESS","446","RTP NFF ReadyCircuits",{"v":374.34,"d":"374"},{"v":3372.42906,"d":"3,372"},null,{"$f":"VLOOKUP(B792,'[1]2018.7 '!A:C,3,)","v":"Active"},{"$f":"VLOOKUP(B792,'[1]2018.7 '!A:M,13,)","v":"Ambient"},{"$f":"VLOOKUP(B792,'[1]2018.7 '!A:N,14,)","v":"Reviewing"}]
[792,"12410083","12410083","1XGF0210  2X RM","021","38","READY TO PROCESS","446","RTP NFF ReadyCircuits",{"v":460.0199999999999,"d":"460"},{"v":4144.32018,"d":"4,144"},null,{"$f":"VLOOKUP(B793,'[1]2018.7 '!A:C,3,)","v":"Active"},{"$f":"VLOOKUP(B793,'[1]2018.7 '!A:M,13,)","v":"Ambient"},{"$f":"VLOOKUP(B793,'[1]2018.7 '!A:N,14,)","v":"Reviewing"}]
[793,"12410084","12410084","1XGF0220 2X RM","021","38","READY TO PROCESS","446","RTP NFF ReadyCircuits",{"v":761.94,"d":"762"},{"v":6864.317460000001,"d":"6,864"},null,{"$f":"VLOOKUP(B794,'[1]2018.7 '!A:C,3,)","v":"Active"},{"$f":"VLOOKUP(B794,'[1]2018.7 '!A:M,13,)","v":"Ambient"},{"$f":"VLOOKUP(B794,'[1]2018.7 '!A:N,14,)","v":"Reviewing"}]
[794,"12410085","12410085","1xGF0230 2x RM","021","38","READY TO PROCESS","446","RTP NFF ReadyCircuits",{"v":1074.06,"d":"1,074"},{"v":9676.20654,"d":"9,676"},null,{"$f":"VLOOKUP(B795,'[1]2018.7 '!A:C,3,)","v":"Active"},{"$f":"VLOOKUP(B795,'[1]2018.7 '!A:M,13,)","v":"Ambient"},{"$f":"VLOOKUP(B795,'[1]2018.7 '!A:N,14,)","v":"Reviewing"}]
[795,"12410086","12410086","1XGF0502 2X0.5 FT CF RM","021","38","READY TO PROCESS","446","RTP NFF ReadyCircuits",{"v":272.34,"d":"272"},{"v":2453.51106,"d":"2,454"},null,{"$f":"VLOOKUP(B796,'[1]2018.7 '!A:C,3,)","v":"Active"},{"$f":"VLOOKUP(B796,'[1]2018.7 '!A:M,13,)","v":"Ambient"},{"$f":"VLOOKUP(B796,'[1]2018.7 '!A:N,14,)","v":"No"}]
[796,"12410087","12410087","1XGF0504 2X0.5 FT CF RM","021","38","READY TO PROCESS","446","RTP NFF ReadyCircuits",{"v":309.06,"d":"309"},{"v":2784.32154,"d":"2,784"},null,{"$f":"VLOOKUP(B797,'[1]2018.7 '!A:C,3,)","v":"Active"},{"$f":"VLOOKUP(B797,'[1]2018.7 '!A:M,13,)","v":"Ambient"},{"$f":"VLOOKUP(B797,'[1]2018.7 '!A:N,14,)","v":"No"}]
[797,"12410088","12410088","1XGF05H1  2X RM","021","38","READY TO PROCESS","446","RTP NFF ReadyCircuits",{"v":374.34,"d":"374"},{"v":3372.42906,"d":"3,372"},null,{"$f":"VLOOKUP(B798,'[1]2018.7 '!A:C,3,)","v":"Active"},{"$f":"VLOOKUP(B798,'[1]2018.7 '!A:M,13,)","v":"Ambient"},{"$f":"VLOOKUP(B798,'[1]2018.7 '!A:N,14,)","v":"No"}]
[798,"12410089","12410089","1XGF0506 2X0.5 FT CF RM","021","38","READY TO PROCESS","446","RTP NFF ReadyCircuits",{"v":345.78,"d":"346"},{"v":3115.13202,"d":"3,115"},null,{"$f":"VLOOKUP(B799,'[1]2018.7 '!A:C,3,)","v":"Active"},{"$f":"VLOOKUP(B799,'[1]2018.7 '!A:M,13,)","v":"Ambient"},{"$f":"VLOOKUP(B799,'[1]2018.7 '!A:N,14,)","v":"No"}]
[799,"12410090","12410090","1XGF0510  2X RM","021","38","READY TO PROCESS","446","RTP NFF ReadyCircuits",{"v":460.0199999999999,"d":"460"},{"v":4144.32018,"d":"4,144"},null,{"$f":"VLOOKUP(B800,'[1]2018.7 '!A:C,3,)","v":"Active"},{"$f":"VLOOKUP(B800,'[1]2018.7 '!A:M,13,)","v":"Ambient"},{"$f":"VLOOKUP(B800,'[1]2018.7 '!A:N,14,)","v":"No"}]
[800,"12410091","12410091","1XGF0520 2X RM","021","38","READY TO PROCESS","446","RTP NFF ReadyCircuits",{"v":761.94,"d":"762"},{"v":6864.317460000001,"d":"6,864"},null,{"$f":"VLOOKUP(B801,'[1]2018.7 '!A:C,3,)","v":"Active"},{"$f":"VLOOKUP(B801,'[1]2018.7 '!A:M,13,)","v":"Ambient"},{"$f":"VLOOKUP(B801,'[1]2018.7 '!A:N,14,)","v":"No"}]
[801,"12410092","12410092","1XGF0530 2X RM","021","38","READY TO PROCESS","446","RTP NFF ReadyCircuits",{"v":1074.06,"d":"1,074"},{"v":9676.20654,"d":"9,676"},null,{"$f":"VLOOKUP(B802,'[1]2018.7 '!A:C,3,)","v":"Active"},{"$f":"VLOOKUP(B802,'[1]2018.7 '!A:M,13,)","v":"Ambient"},{"$f":"VLOOKUP(B802,'[1]2018.7 '!A:N,14,)","v":"No"}]
[802,"12410093","12410093","1XHC9202 2X0.5 FT CF RM","021","38","READY TO PROCESS","446","RTP NFF ReadyCircuits",{"v":376.38,"d":"376"},{"v":3390.80742,"d":"3,391"},null,{"$f":"VLOOKUP(B803,'[1]2018.7 '!A:C,3,)","v":"Active"},{"$f":"VLOOKUP(B803,'[1]2018.7 '!A:M,13,)","v":"Ambient"},{"$f":"VLOOKUP(B803,'[1]2018.7 '!A:N,14,)","v":"No"}]
[803,"12410094","12410094","1XHC9204 2X0.5 FT CF RM","021","38","READY TO PROCESS","446","RTP NFF ReadyCircuits",{"v":446.76,"d":"447"},{"v":4024.8608400000003,"d":"4,025"},null,{"$f":"VLOOKUP(B804,'[1]2018.7 '!A:C,3,)","v":"Active"},{"$f":"VLOOKUP(B804,'[1]2018.7 '!A:M,13,)","v":"Ambient"},{"$f":"VLOOKUP(B804,'[1]2018.7 '!A:N,14,)","v":"No"}]
[804,"12410095","12410095","1XHC92H1 2X RM","021","38","READY TO PROCESS","446","RTP NFF ReadyCircuits",{"v":604.86,"d":"605"},{"v":5449.18374,"d":"5,449"},null,{"$f":"VLOOKUP(B805,'[1]2018.7 '!A:C,3,)","v":"Active"},{"$f":"VLOOKUP(B805,'[1]2018.7 '!A:M,13,)","v":"Ambient"},{"$f":"VLOOKUP(B805,'[1]2018.7 '!A:N,14,)","v":"No"}]
[805,"12410096","12410096","1XHC9206 2X0.5 FT CF RM","021","38","READY TO PROCESS","446","RTP NFF ReadyCircuits",{"v":532.44,"d":"532"},{"v":4796.7519600000005,"d":"4,797"},null,{"$f":"VLOOKUP(B806,'[1]2018.7 '!A:C,3,)","v":"Active"},{"$f":"VLOOKUP(B806,'[1]2018.7 '!A:M,13,)","v":"Ambient"},{"$f":"VLOOKUP(B806,'[1]2018.7 '!A:N,14,)","v":"No"}]
[806,"12410097","12410097","1XHC9210 2X RM","021","38","READY TO PROCESS","446","RTP NFF ReadyCircuits",{"v":742.56,"d":"743"},{"v":6689.72304,"d":"6,690"},null,{"$f":"VLOOKUP(B807,'[1]2018.7 '!A:C,3,)","v":"Active"},{"$f":"VLOOKUP(B807,'[1]2018.7 '!A:M,13,)","v":"Ambient"},{"$f":"VLOOKUP(B807,'[1]2018.7 '!A:N,14,)","v":"No"}]
[807,"12410098","12410098","1XHC9220 2X RM","021","38","READY TO PROCESS","446","RTP NFF ReadyCircuits",{"v":1288.26,"d":"1,288"},{"v":11605.93434,"d":"11,606"},null,{"$f":"VLOOKUP(B808,'[1]2018.7 '!A:C,3,)","v":"Active"},{"$f":"VLOOKUP(B808,'[1]2018.7 '!A:M,13,)","v":"Ambient"},{"$f":"VLOOKUP(B808,'[1]2018.7 '!A:N,14,)","v":"No"}]
[808,"12410099","12410099","1XHC9230 2X RM","021","38","READY TO PROCESS","446","RTP NFF ReadyCircuits",{"v":1841.1,"d":"1,841"},{"v":16586.4699,"d":"16,586"},null,{"$f":"VLOOKUP(B809,'[1]2018.7 '!A:C,3,)","v":"Active"},{"$f":"VLOOKUP(B809,'[1]2018.7 '!A:M,13,)","v":"Ambient"},{"$f":"VLOOKUP(B809,'[1]2018.7 '!A:N,14,)","v":"No"}]
[809,"12410100","12410100","1XSG9202 2X0.5 FT CF RM","021","38","READY TO PROCESS","446","RTP NFF ReadyCircuits",{"v":330.48,"d":"330"},{"v":2977.2943200000004,"d":"2,977"},null,{"$f":"VLOOKUP(B810,'[1]2018.7 '!A:C,3,)","v":"Active"},{"$f":"VLOOKUP(B810,'[1]2018.7 '!A:M,13,)","v":"Ambient"},{"$f":"VLOOKUP(B810,'[1]2018.7 '!A:N,14,)","v":"No"}]
[810,"12410101","12410101","1XSG9204 2X0.5 FT CF RM","021","38","READY TO PROCESS","446","RTP NFF ReadyCircuits",{"v":420.24,"d":"420"},{"v":3785.94216,"d":"3,786"},null,{"$f":"VLOOKUP(B811,'[1]2018.7 '!A:C,3,)","v":"Active"},{"$f":"VLOOKUP(B811,'[1]2018.7 '!A:M,13,)","v":"Ambient"},{"$f":"VLOOKUP(B811,'[1]2018.7 '!A:N,14,)","v":"No"}]
[811,"12410102","12410102","1XSG92H1 2X RM","021","38","READY TO PROCESS","446","RTP NFF ReadyCircuits",512,{"v":4612.608,"d":"4,613"},null,{"$f":"VLOOKUP(B812,'[1]2018.7 '!A:C,3,)","v":"Active"},{"$f":"VLOOKUP(B812,'[1]2018.7 '!A:M,13,)","v":"Ambient"},{"$f":"VLOOKUP(B812,'[1]2018.7 '!A:N,14,)","v":"No"}]
[812,"12410103","12410103","1XSG9206 2X0.5 FT CF RM","021","38","READY TO PROCESS","446","RTP NFF ReadyCircuits",{"v":477.36,"d":"477"},{"v":4300.53624,"d":"4,301"},null,{"$f":"VLOOKUP(B813,'[1]2018.7 '!A:C,3,)","v":"Active"},{"$f":"VLOOKUP(B813,'[1]2018.7 '!A:M,13,)","v":"Ambient"},{"$f":"VLOOKUP(B813,'[1]2018.7 '!A:N,14,)","v":"Reviewing"}]
[813,"12410104","12410104","1XSG9210 2X RM","021","38","READY TO PROCESS","446","RTP NFF ReadyCircuits",673,{"v":6063.057,"d":"6,063"},null,{"$f":"VLOOKUP(B814,'[1]2018.7 '!A:C,3,)","v":"Active"},{"$f":"VLOOKUP(B814,'[1]2018.7 '!A:M,13,)","v":"Ambient"},{"$f":"VLOOKUP(B814,'[1]2018.7 '!A:N,14,)","v":"No"}]
[814,"12410105","12410105","1XSG9220 2X RM","021","38","READY TO PROCESS","446","RTP NFF ReadyCircuits",{"v":1144,"d":"1,144"},{"v":10306.296,"d":"10,306"},null,{"$f":"VLOOKUP(B815,'[1]2018.7 '!A:C,3,)","v":"Active"},{"$f":"VLOOKUP(B815,'[1]2018.7 '!A:M,13,)","v":"Ambient"},{"$f":"VLOOKUP(B815,'[1]2018.7 '!A:N,14,)","v":"Reviewing"}]
[815,"12410106","12410106","1XSG9230 2X RM","021","38","READY TO PROCESS","446","RTP NFF ReadyCircuits",{"v":1608,"d":"1,608"},{"v":14486.472,"d":"14,486"},null,{"$f":"VLOOKUP(B816,'[1]2018.7 '!A:C,3,)","v":"Active"},{"$f":"VLOOKUP(B816,'[1]2018.7 '!A:M,13,)","v":"Ambient"},{"$f":"VLOOKUP(B816,'[1]2018.7 '!A:N,14,)","v":"Reviewing"}]
[816,"12410245","12410245","1xGF0502 1xCG9202 2x0.5ft C RM","021","38","READY TO PROCESS","446","RTP NFF ReadyCircuits",{"v":440.64,"d":"441"},{"v":3969.72576,"d":"3,970"},null,{"$f":"VLOOKUP(B817,'[1]2018.7 '!A:C,3,)","v":"Active"},{"$f":"VLOOKUP(B817,'[1]2018.7 '!A:M,13,)","v":"Ambient"},{"$f":"VLOOKUP(B817,'[1]2018.7 '!A:N,14,)","v":"No"}]
[817,"12410246","12410246","1xGF05H1 1xCG9206 1x0.5ft C RM","021","38","READY TO PROCESS","446","RTP NFF ReadyCircuits",{"v":689.52,"d":"690"},{"v":6211.88568,"d":"6,212"},null,{"$f":"VLOOKUP(B818,'[1]2018.7 '!A:C,3,)","v":"Active"},{"$f":"VLOOKUP(B818,'[1]2018.7 '!A:M,13,)","v":"Ambient"},{"$f":"VLOOKUP(B818,'[1]2018.7 '!A:N,14,)","v":"No"}]
[818,"12410247","12410247","1xGF0510 1xCG92H1 2xRM","021","38","READY TO PROCESS","446","RTP NFF ReadyCircuits",{"v":861.9,"d":"862"},{"v":7764.8571,"d":"7,765"},null,{"$f":"VLOOKUP(B819,'[1]2018.7 '!A:C,3,)","v":"Active"},{"$f":"VLOOKUP(B819,'[1]2018.7 '!A:M,13,)","v":"Ambient"},{"$f":"VLOOKUP(B819,'[1]2018.7 '!A:N,14,)","v":"No"}]
[819,"12410248","12410248","1xGF0520 1xCG9210 2xRM","021","38","READY TO PROCESS","446","RTP NFF ReadyCircuits",{"v":1258.68,"d":"1,259"},{"v":11339.448120000001,"d":"11,339"},null,{"$f":"VLOOKUP(B820,'[1]2018.7 '!A:C,3,)","v":"Active"},{"$f":"VLOOKUP(B820,'[1]2018.7 '!A:M,13,)","v":"Ambient"},{"$f":"VLOOKUP(B820,'[1]2018.7 '!A:N,14,)","v":"No"}]
[820,"12410251","12410251","1xGF0502 1xHC9202 2x0.5ft C RM","021","38","READY TO PROCESS","446","RTP NFF ReadyCircuits",{"v":479.4,"d":"479"},{"v":4318.9146,"d":"4,319"},null,{"$f":"VLOOKUP(B821,'[1]2018.7 '!A:C,3,)","v":"Active"},{"$f":"VLOOKUP(B821,'[1]2018.7 '!A:M,13,)","v":"Ambient"},{"$f":"VLOOKUP(B821,'[1]2018.7 '!A:N,14,)","v":"No"}]
[821,"12410252","12410252","1xGF05H1 1xHC9206 1x0.5ft C RM","021","38","READY TO PROCESS","446","RTP NFF ReadyCircuits",{"v":763.98,"d":"764"},{"v":6882.695820000001,"d":"6,883"},null,{"$f":"VLOOKUP(B822,'[1]2018.7 '!A:C,3,)","v":"Active"},{"$f":"VLOOKUP(B822,'[1]2018.7 '!A:M,13,)","v":"Ambient"},{"$f":"VLOOKUP(B822,'[1]2018.7 '!A:N,14,)","v":"No"}]
[822,"12410253","12410253","1xGF0510 1xHC92H1 2xRM","021","38","READY TO PROCESS","446","RTP NFF ReadyCircuits",{"v":934.3199999999999,"d":"934"},{"v":8417.28888,"d":"8,417"},null,{"$f":"VLOOKUP(B823,'[1]2018.7 '!A:C,3,)","v":"Active"},{"$f":"VLOOKUP(B823,'[1]2018.7 '!A:M,13,)","v":"Ambient"},{"$f":"VLOOKUP(B823,'[1]2018.7 '!A:N,14,)","v":"No"}]
[823,"29096239","29096239","1MR9102 2X0.5 FT CF RM","021","38","READY TO PROCESS","446","RTP NFF ReadyCircuits",{"v":314.16,"d":"314"},{"v":2830.2674400000005,"d":"2,830"},null,{"$f":"VLOOKUP(B824,'[1]2018.7 '!A:C,3,)","v":"Active"},{"$f":"VLOOKUP(B824,'[1]2018.7 '!A:M,13,)","v":"Ambient"},{"$f":"VLOOKUP(B824,'[1]2018.7 '!A:N,14,)","v":"No"}]
[824,"29096772","29096772","1MR9104 2X0.5 FT CF RM","021","38","READY TO PROCESS","446","RTP NFF ReadyCircuits",{"v":372.3,"d":"372"},{"v":3354.0507000000002,"d":"3,354"},null,{"$f":"VLOOKUP(B825,'[1]2018.7 '!A:C,3,)","v":"Active"},{"$f":"VLOOKUP(B825,'[1]2018.7 '!A:M,13,)","v":"Ambient"},{"$f":"VLOOKUP(B825,'[1]2018.7 '!A:N,14,)","v":"No"}]
[825,"29096785","29096785","1MR91H1 2X RM","021","38","READY TO PROCESS","446","RTP NFF ReadyCircuits",{"v":503.88,"d":"504"},{"v":4539.45492,"d":"4,539"},null,{"$f":"VLOOKUP(B826,'[1]2018.7 '!A:C,3,)","v":"Active"},{"$f":"VLOOKUP(B826,'[1]2018.7 '!A:M,13,)","v":"Ambient"},{"$f":"VLOOKUP(B826,'[1]2018.7 '!A:N,14,)","v":"No"}]
[826,"29096794","29096794","1MR9106 2X0.5 FT CF RM","021","38","READY TO PROCESS","446","RTP NFF ReadyCircuits",{"v":443.7,"d":"444"},{"v":3997.2933000000003,"d":"3,997"},null,{"$f":"VLOOKUP(B827,'[1]2018.7 '!A:C,3,)","v":"Active"},{"$f":"VLOOKUP(B827,'[1]2018.7 '!A:M,13,)","v":"Ambient"},{"$f":"VLOOKUP(B827,'[1]2018.7 '!A:N,14,)","v":"Reviewing"}]
[827,"29096798","29096798","1MR9110 2X RM","021","38","READY TO PROCESS","446","RTP NFF ReadyCircuits",{"v":618.12,"d":"618"},{"v":5568.64308,"d":"5,569"},null,{"$f":"VLOOKUP(B828,'[1]2018.7 '!A:C,3,)","v":"Active"},{"$f":"VLOOKUP(B828,'[1]2018.7 '!A:M,13,)","v":"Ambient"},{"$f":"VLOOKUP(B828,'[1]2018.7 '!A:N,14,)","v":"No"}]
[828,"29096802","29096802","1MR9120 2X RM","021","38","READY TO PROCESS","446","RTP NFF ReadyCircuits",{"v":1074.06,"d":"1,074"},{"v":9676.20654,"d":"9,676"},null,{"$f":"VLOOKUP(B829,'[1]2018.7 '!A:C,3,)","v":"Active"},{"$f":"VLOOKUP(B829,'[1]2018.7 '!A:M,13,)","v":"Ambient"},{"$f":"VLOOKUP(B829,'[1]2018.7 '!A:N,14,)","v":"No"}]
[829,"29096805","29096805","1MR9130 2X RM","021","38","READY TO PROCESS","446","RTP NFF ReadyCircuits",{"v":1533.06,"d":"1,533"},{"v":13811.33754,"d":"13,811"},null,{"$f":"VLOOKUP(B830,'[1]2018.7 '!A:C,3,)","v":"Active"},{"$f":"VLOOKUP(B830,'[1]2018.7 '!A:M,13,)","v":"Ambient"},{"$f":"VLOOKUP(B830,'[1]2018.7 '!A:N,14,)","v":"No"}]
[830,"29008002","29008002","ReadyCircuit Development Hours","021","38","READY TO PROCESS","447","RTP Custom jumpers",337,{"v":3036.033,"d":"3,036"},null,{"$f":"VLOOKUP(B831,'[1]2018.7 '!A:C,3,)","v":"Active"},{"$f":"VLOOKUP(B831,'[1]2018.7 '!A:M,13,)","v":"Ambient"},{"$f":"VLOOKUP(B831,'[1]2018.7 '!A:N,14,)","v":"Reviewing"}]
[831,"NVBAG-140-1","11000587","140-Liter Bag","021","38","READY TO PROCESS","437","RTP ReadyKleer storage bags",{"v":2836,"d":"2,836"},{"v":25549.524,"d":"25,550"},null,{"$f":"VLOOKUP(B832,'[1]2018.7 '!A:C,3,)","v":"Active"},{"$f":"VLOOKUP(B832,'[1]2018.7 '!A:M,13,)","v":"Ambient"},{"$f":"VLOOKUP(B832,'[1]2018.7 '!A:N,14,)","v":"Reviewing"}]
[832,"RC2010-0004","28987679","SENSOR ASSY, PENDO TECH, 1/2-IN","021","38","READY TO PROCESS","447","RTP Custom jumpers",304,{"v":2738.736,"d":"2,739"},null,{"$f":"VLOOKUP(B833,'[1]2018.7 '!A:C,3,)","v":"Active"},{"$f":"VLOOKUP(B833,'[1]2018.7 '!A:M,13,)","v":"Ambient"},{"$f":"VLOOKUP(B833,'[1]2018.7 '!A:N,14,)","v":"Reviewing"}]
[833,"RC2010-0027","28990320","PENDOTECH RM TO RM JUMPER 3/4","021","38","READY TO PROCESS","447","RTP Custom jumpers",324,{"v":2918.916,"d":"2,919"},null,{"$f":"VLOOKUP(B834,'[1]2018.7 '!A:C,3,)","v":"Active"},{"$f":"VLOOKUP(B834,'[1]2018.7 '!A:M,13,)","v":"Ambient"},{"$f":"VLOOKUP(B834,'[1]2018.7 '!A:N,14,)","v":"Reviewing"}]
[834,"RC2010-0030","29016281","RM TO FEMALE MPC JUMPER 3/8","021","38","READY TO PROCESS","447","RTP Custom jumpers",{"v":113.63,"d":"114"},{"v":1023.69267,"d":"1,024"},null,{"$f":"VLOOKUP(B835,'[1]2018.7 '!A:C,3,)","v":"Active"},{"$f":"VLOOKUP(B835,'[1]2018.7 '!A:M,13,)","v":"Ambient"},{"$f":"VLOOKUP(B835,'[1]2018.7 '!A:N,14,)","v":"No"}]
[835,"RC2010-0031","29016293","RM TO MALE MPC JUMPER 3/8","021","38","READY TO PROCESS","447","RTP Custom jumpers",{"v":113.63,"d":"114"},{"v":1023.69267,"d":"1,024"},null,{"$f":"VLOOKUP(B836,'[1]2018.7 '!A:C,3,)","v":"Active"},{"$f":"VLOOKUP(B836,'[1]2018.7 '!A:M,13,)","v":"Ambient"},{"$f":"VLOOKUP(B836,'[1]2018.7 '!A:N,14,)","v":"No"}]
[836,"RC2010-0032","28998380","SENSOR ASSY, PENDO TECH, 1/4-IN","021","38","READY TO PROCESS","447","RTP Custom jumpers",{"$f":"K837/9.009","v":285},{"v":2567.565,"d":"2,568"},null,{"$f":"VLOOKUP(B837,'[1]2018.7 '!A:C,3,)","v":"Active"},{"$f":"VLOOKUP(B837,'[1]2018.7 '!A:M,13,)","v":"Ambient"},{"$f":"VLOOKUP(B837,'[1]2018.7 '!A:N,14,)","v":"Reviewing"}]
[837,"RC2011-0004","29026956","20L FEED AND PERMEATE","021","38","READY TO PROCESS","437","RTP ReadyKleer storage bags",521,{"v":4693.689,"d":"4,694"},null,{"$f":"VLOOKUP(B838,'[1]2018.7 '!A:C,3,)","v":"Active"},{"$f":"VLOOKUP(B838,'[1]2018.7 '!A:M,13,)","v":"Ambient"},{"$f":"VLOOKUP(B838,'[1]2018.7 '!A:N,14,)","v":"Reviewing"}]
[838,"RC2011-0011","28999677","HOLLOW FIBER CIRCUIT","021","38","READY TO PROCESS","447","RTP Custom jumpers",{"v":1971.9999999999998,"d":"1,972"},{"v":17765.748,"d":"17,766"},null,{"$f":"VLOOKUP(B839,'[1]2018.7 '!A:C,3,)","v":"Active"},{"$f":"VLOOKUP(B839,'[1]2018.7 '!A:M,13,)","v":"Ambient"},{"$f":"VLOOKUP(B839,'[1]2018.7 '!A:N,14,)","v":"Reviewing"}]
[839,"RC2011-0023","29002617","5L CFF CUSTOM","021","38","READY TO PROCESS","437","RTP ReadyKleer storage bags",{"v":156.52,"d":"157"},{"v":1410.08868,"d":"1,410"},null,{"$f":"VLOOKUP(B840,'[1]2018.7 '!A:C,3,)","v":"Active"},{"$f":"VLOOKUP(B840,'[1]2018.7 '!A:M,13,)","v":"Ambient"},{"$f":"VLOOKUP(B840,'[1]2018.7 '!A:N,14,)","v":"No"}]
[840,"RC2011-0029","29001586","Y MANIFOLD, CUSTOM","021","38","READY TO PROCESS","447","RTP Custom jumpers",574,{"v":5171.166,"d":"5,171"},null,{"$f":"VLOOKUP(B841,'[1]2018.7 '!A:C,3,)","v":"Active"},{"$f":"VLOOKUP(B841,'[1]2018.7 '!A:M,13,)","v":"Ambient"},{"$f":"VLOOKUP(B841,'[1]2018.7 '!A:N,14,)","v":"No"}]
[841,"RC2011-0031","29001587","PROCESS BAG, CFF","021","38","READY TO PROCESS","437","RTP ReadyKleer storage bags",992,{"v":8936.928,"d":"8,937"},null,{"$f":"VLOOKUP(B842,'[1]2018.7 '!A:C,3,)","v":"Active"},{"$f":"VLOOKUP(B842,'[1]2018.7 '!A:M,13,)","v":"Ambient"},{"$f":"VLOOKUP(B842,'[1]2018.7 '!A:N,14,)","v":"No"}]
[842,"RC2011-0034","29000620","1L CFF CUSTOM","021","38","READY TO PROCESS","437","RTP ReadyKleer storage bags",811,{"v":7306.299,"d":"7,306"},null,{"$f":"VLOOKUP(B843,'[1]2018.7 '!A:C,3,)","v":"Active"},{"$f":"VLOOKUP(B843,'[1]2018.7 '!A:M,13,)","v":"Ambient"},{"$f":"VLOOKUP(B843,'[1]2018.7 '!A:N,14,)","v":"Reviewing"}]
[843,"RC2011-0060","29003458","500ml MANIFOLD","021","38","READY TO PROCESS","437","RTP ReadyKleer storage bags",801,{"v":7216.209,"d":"7,216"},null,{"$f":"VLOOKUP(B844,'[1]2018.7 '!A:C,3,)","v":"Active"},{"$f":"VLOOKUP(B844,'[1]2018.7 '!A:M,13,)","v":"Ambient"},{"$f":"VLOOKUP(B844,'[1]2018.7 '!A:N,14,)","v":"Reviewing"}]
[844,"RC2011-0084","29001591","1/4-IN Y ADAPTER, MPC AND RM","021","38","READY TO PROCESS","447","RTP Custom jumpers",{"v":121.34,"d":"121"},{"v":1093.1520600000001,"d":"1,093"},null,{"$f":"VLOOKUP(B845,'[1]2018.7 '!A:C,3,)","v":"Active"},{"$f":"VLOOKUP(B845,'[1]2018.7 '!A:M,13,)","v":"Ambient"},{"$f":"VLOOKUP(B845,'[1]2018.7 '!A:N,14,)","v":"No"}]
[845,"RC2011-0085","29001592","1/4-IN Y RM ADAPTER","021","38","READY TO PROCESS","447","RTP Custom jumpers",{"v":121.34,"d":"121"},{"v":1093.1520600000001,"d":"1,093"},null,{"$f":"VLOOKUP(B846,'[1]2018.7 '!A:C,3,)","v":"Active"},{"$f":"VLOOKUP(B846,'[1]2018.7 '!A:M,13,)","v":"Ambient"},{"$f":"VLOOKUP(B846,'[1]2018.7 '!A:N,14,)","v":"Reviewing"}]
[846,"RC2011-0101","29005307","1/4 JUMPER. CUSTOM","021","38","READY TO PROCESS","447","RTP Custom jumpers",{"v":971.9999999999999,"d":"972"},{"v":8756.748,"d":"8,757"},null,{"$f":"VLOOKUP(B847,'[1]2018.7 '!A:C,3,)","v":"Active"},{"$f":"VLOOKUP(B847,'[1]2018.7 '!A:M,13,)","v":"Ambient"},{"$f":"VLOOKUP(B847,'[1]2018.7 '!A:N,14,)","v":"Reviewing"}]
[847,"RC2012-0001","29017275","5L, CUSTOM ASSEMBLY","021","38","READY TO PROCESS","437","RTP ReadyKleer storage bags",301,{"v":2711.7090000000003,"d":"2,712"},null,{"$f":"VLOOKUP(B848,'[1]2018.7 '!A:C,3,)","v":"Active"},{"$f":"VLOOKUP(B848,'[1]2018.7 '!A:M,13,)","v":"Ambient"},{"$f":"VLOOKUP(B848,'[1]2018.7 '!A:N,14,)","v":"No"}]
[848,"RC2012-0002","29017237","20L, CUSTOM ASSEMBLY","021","38","READY TO PROCESS","437","RTP ReadyKleer storage bags",307,{"v":2765.763,"d":"2,766"},null,{"$f":"VLOOKUP(B849,'[1]2018.7 '!A:C,3,)","v":"Active"},{"$f":"VLOOKUP(B849,'[1]2018.7 '!A:M,13,)","v":"Ambient"},{"$f":"VLOOKUP(B849,'[1]2018.7 '!A:N,14,)","v":"No"}]
[849,"RC2012-0009","29016445","20-FT RM-RM JUMPER ASSEMBLY","021","38","READY TO PROCESS","447","RTP Custom jumpers",224,{"v":2018.016,"d":"2,018"},null,{"$f":"VLOOKUP(B850,'[1]2018.7 '!A:C,3,)","v":"Active"},{"$f":"VLOOKUP(B850,'[1]2018.7 '!A:M,13,)","v":"Ambient"},{"$f":"VLOOKUP(B850,'[1]2018.7 '!A:N,14,)","v":"Reviewing"}]
[850,"RC2012-0010","29016355","1-FT RM-MPC JUMPER ASSEMBLY","021","38","READY TO PROCESS","447","RTP Custom jumpers",{"v":114.40999999999998,"d":"114"},{"v":1030.71969,"d":"1,031"},null,{"$f":"VLOOKUP(B851,'[1]2018.7 '!A:C,3,)","v":"Active"},{"$f":"VLOOKUP(B851,'[1]2018.7 '!A:M,13,)","v":"Ambient"},{"$f":"VLOOKUP(B851,'[1]2018.7 '!A:N,14,)","v":"Reviewing"}]
[851,"RC2012-0029","29054586","1L CUSTOM, ASSEMBLY","021","38","READY TO PROCESS","437","RTP ReadyKleer storage bags",{"v":1207,"d":"1,207"},{"v":10873.863000000001,"d":"10,874"},null,{"$f":"VLOOKUP(B852,'[1]2018.7 '!A:C,3,)","v":"Active"},{"$f":"VLOOKUP(B852,'[1]2018.7 '!A:M,13,)","v":"Ambient"},{"$f":"VLOOKUP(B852,'[1]2018.7 '!A:N,14,)","v":"Reviewing"}]
[852,"RC2012-0030","29052697","5L, CUSTOM ASSEMBLY","021","38","READY TO PROCESS","437","RTP ReadyKleer storage bags",542,{"v":4882.878000000001,"d":"4,883"},null,{"$f":"VLOOKUP(B853,'[1]2018.7 '!A:C,3,)","v":"Active"},{"$f":"VLOOKUP(B853,'[1]2018.7 '!A:M,13,)","v":"Ambient"},{"$f":"VLOOKUP(B853,'[1]2018.7 '!A:N,14,)","v":"Reviewing"}]
[853,"RC2012-0032","29021407","5L RECIRCULATION BAG ASSEMBLY","021","38","READY TO PROCESS","437","RTP ReadyKleer storage bags",{"v":948.0000000000001,"d":"948"},{"v":8540.532000000001,"d":"8,541"},null,{"$f":"VLOOKUP(B854,'[1]2018.7 '!A:C,3,)","v":"Active"},{"$f":"VLOOKUP(B854,'[1]2018.7 '!A:M,13,)","v":"Ambient"},{"$f":"VLOOKUP(B854,'[1]2018.7 '!A:N,14,)","v":"Reviewing"}]
[854,"RC2012-0033","29020065","50L PERMEATE COLLECTION ASSEMBLY","021","38","READY TO PROCESS","437","RTP ReadyKleer storage bags",419,{"v":3774.771,"d":"3,775"},null,{"$f":"VLOOKUP(B855,'[1]2018.7 '!A:C,3,)","v":"Active"},{"$f":"VLOOKUP(B855,'[1]2018.7 '!A:M,13,)","v":"Ambient"},{"$f":"VLOOKUP(B855,'[1]2018.7 '!A:N,14,)","v":"Reviewing"}]
[855,"RC2012-0043","29033364","10L, CUSTOM ASSEMBLY","021","38","READY TO PROCESS","437","RTP ReadyKleer storage bags",340,{"v":3063.06,"d":"3,063"},null,{"$f":"VLOOKUP(B856,'[1]2018.7 '!A:C,3,)","v":"Active"},{"$f":"VLOOKUP(B856,'[1]2018.7 '!A:M,13,)","v":"Ambient"},{"$f":"VLOOKUP(B856,'[1]2018.7 '!A:N,14,)","v":"Reviewing"}]
[856,"RC2012-0044","29064712","20L, CUSTOM ASSEMBLY","021","38","READY TO PROCESS","437","RTP ReadyKleer storage bags",229,{"v":2063.061,"d":"2,063"},null,{"$f":"VLOOKUP(B857,'[1]2018.7 '!A:C,3,)","v":"Active"},{"$f":"VLOOKUP(B857,'[1]2018.7 '!A:M,13,)","v":"Ambient"},{"$f":"VLOOKUP(B857,'[1]2018.7 '!A:N,14,)","v":"Reviewing"}]
[857,"RC2012-0046","29054660","20L CUSTOM, MANIFOLD","021","38","READY TO PROCESS","437","RTP ReadyKleer storage bags",913,{"v":8225.217,"d":"8,225"},null,{"$f":"VLOOKUP(B858,'[1]2018.7 '!A:C,3,)","v":"Active"},{"$f":"VLOOKUP(B858,'[1]2018.7 '!A:M,13,)","v":"Ambient"},{"$f":"VLOOKUP(B858,'[1]2018.7 '!A:N,14,)","v":"Reviewing"}]
[858,"RC2012-0052","29022239","JUMPER ASSEMBLY, CUSTOM","021","38","READY TO PROCESS","447","RTP Custom jumpers",202,{"v":1819.818,"d":"1,820"},null,{"$f":"VLOOKUP(B859,'[1]2018.7 '!A:C,3,)","v":"Active"},{"$f":"VLOOKUP(B859,'[1]2018.7 '!A:M,13,)","v":"Ambient"},{"$f":"VLOOKUP(B859,'[1]2018.7 '!A:N,14,)","v":"Reviewing"}]
[859,"RC2012-0053","29021437","JUMPER ASSEMBLY, CUSTOM","021","38","READY TO PROCESS","447","RTP Custom jumpers",209,{"v":1882.881,"d":"1,883"},null,{"$f":"VLOOKUP(B860,'[1]2018.7 '!A:C,3,)","v":"Active"},{"$f":"VLOOKUP(B860,'[1]2018.7 '!A:M,13,)","v":"Ambient"},{"$f":"VLOOKUP(B860,'[1]2018.7 '!A:N,14,)","v":"Reviewing"}]
[860,"RC2012-0054","29024609","JUMPER ASSEMBLY, CUSTOM","021","38","READY TO PROCESS","447","RTP Custom jumpers",337,{"v":3036.033,"d":"3,036"},null,{"$f":"VLOOKUP(B861,'[1]2018.7 '!A:C,3,)","v":"Active"},{"$f":"VLOOKUP(B861,'[1]2018.7 '!A:M,13,)","v":"Ambient"},{"$f":"VLOOKUP(B861,'[1]2018.7 '!A:N,14,)","v":"Reviewing"}]
[861,"RC2012-0058","29021824","10L, CUSTOM ASSEMBLY","021","38","READY TO PROCESS","437","RTP ReadyKleer storage bags",458,{"v":4126.122,"d":"4,126"},null,{"$f":"VLOOKUP(B862,'[1]2018.7 '!A:C,3,)","v":"Active"},{"$f":"VLOOKUP(B862,'[1]2018.7 '!A:M,13,)","v":"Ambient"},{"$f":"VLOOKUP(B862,'[1]2018.7 '!A:N,14,)","v":"No"}]
[862,"RC2012-0060","29026482","5L MANIFOLD, CUSTOM","021","38","READY TO PROCESS","437","RTP ReadyKleer storage bags",{"v":1888.0000000000002,"d":"1,888"},{"v":17008.992000000002,"d":"17,009"},null,{"$f":"VLOOKUP(B863,'[1]2018.7 '!A:C,3,)","v":"Active"},{"$f":"VLOOKUP(B863,'[1]2018.7 '!A:M,13,)","v":"Ambient"},{"$f":"VLOOKUP(B863,'[1]2018.7 '!A:N,14,)","v":"Reviewing"}]
[863,"RC2012-0061","29026573","1L MANIFOLD, CUSTOM","021","38","READY TO PROCESS","437","RTP ReadyKleer storage bags",{"v":1973,"d":"1,973"},{"v":17774.757,"d":"17,775"},null,{"$f":"VLOOKUP(B864,'[1]2018.7 '!A:C,3,)","v":"Active"},{"$f":"VLOOKUP(B864,'[1]2018.7 '!A:M,13,)","v":"Ambient"},{"$f":"VLOOKUP(B864,'[1]2018.7 '!A:N,14,)","v":"Reviewing"}]
[864,"RC2012-0062","29026603","5L MANIFOLD, CUSTOM","021","38","READY TO PROCESS","437","RTP ReadyKleer storage bags",{"v":1248,"d":"1,248"},{"v":11243.232,"d":"11,243"},null,{"$f":"VLOOKUP(B865,'[1]2018.7 '!A:C,3,)","v":"Active"},{"$f":"VLOOKUP(B865,'[1]2018.7 '!A:M,13,)","v":"Ambient"},{"$f":"VLOOKUP(B865,'[1]2018.7 '!A:N,14,)","v":"Reviewing"}]
[865,"RC2012-0063","29026606","1L MANIFOLD, CUSTOM","021","38","READY TO PROCESS","437","RTP ReadyKleer storage bags",{"v":1333,"d":"1,333"},{"v":12008.997000000001,"d":"12,009"},null,{"$f":"VLOOKUP(B866,'[1]2018.7 '!A:C,3,)","v":"Active"},{"$f":"VLOOKUP(B866,'[1]2018.7 '!A:M,13,)","v":"Ambient"},{"$f":"VLOOKUP(B866,'[1]2018.7 '!A:N,14,)","v":"Reviewing"}]
[866,"RC2012-0064","29026649","20L MANIFOLD, CUSTOM","021","38","READY TO PROCESS","437","RTP ReadyKleer storage bags",{"v":2840,"d":"2,840"},{"v":25585.56,"d":"25,586"},null,{"$f":"VLOOKUP(B867,'[1]2018.7 '!A:C,3,)","v":"Active"},{"$f":"VLOOKUP(B867,'[1]2018.7 '!A:M,13,)","v":"Ambient"},{"$f":"VLOOKUP(B867,'[1]2018.7 '!A:N,14,)","v":"Reviewing"}]
[867,"RC2012-0065","29026651","50L MANIFOLD, CUSTOM","021","38","READY TO PROCESS","437","RTP ReadyKleer storage bags",{"v":2853,"d":"2,853"},{"v":25702.677,"d":"25,703"},null,{"$f":"VLOOKUP(B868,'[1]2018.7 '!A:C,3,)","v":"Active"},{"$f":"VLOOKUP(B868,'[1]2018.7 '!A:M,13,)","v":"Ambient"},{"$f":"VLOOKUP(B868,'[1]2018.7 '!A:N,14,)","v":"Reviewing"}]
[868,"RC2012-0066","29026613","20L MANIFOLD, CUSTOM","021","38","READY TO PROCESS","437","RTP ReadyKleer storage bags",{"v":1235,"d":"1,235"},{"v":11126.115,"d":"11,126"},null,{"$f":"VLOOKUP(B869,'[1]2018.7 '!A:C,3,)","v":"Active"},{"$f":"VLOOKUP(B869,'[1]2018.7 '!A:M,13,)","v":"Ambient"},{"$f":"VLOOKUP(B869,'[1]2018.7 '!A:N,14,)","v":"Reviewing"}]
[869,"RC2012-0067","29026653","50L MANIFOLD, CUSTOM","021","38","READY TO PROCESS","437","RTP ReadyKleer storage bags",{"v":1254,"d":"1,254"},{"v":11297.286,"d":"11,297"},null,{"$f":"VLOOKUP(B870,'[1]2018.7 '!A:C,3,)","v":"Active"},{"$f":"VLOOKUP(B870,'[1]2018.7 '!A:M,13,)","v":"Ambient"},{"$f":"VLOOKUP(B870,'[1]2018.7 '!A:N,14,)","v":"Reviewing"}]
[870,"RC2012-0068","29026499","500mL MANIFOLD, CUSTOM","021","38","READY TO PROCESS","437","RTP ReadyKleer storage bags",{"v":2783,"d":"2,783"},{"v":25072.047000000002,"d":"25,072"},null,{"$f":"VLOOKUP(B871,'[1]2018.7 '!A:C,3,)","v":"Active"},{"$f":"VLOOKUP(B871,'[1]2018.7 '!A:M,13,)","v":"Ambient"},{"$f":"VLOOKUP(B871,'[1]2018.7 '!A:N,14,)","v":"Reviewing"}]
[871,"RC2012-0069","29024216","JUMPER ASSEMBLY, CUSTOM","021","38","READY TO PROCESS","447","RTP Custom jumpers",{"v":132.1,"d":"132"},{"v":1190.0889,"d":"1,190"},null,{"$f":"VLOOKUP(B872,'[1]2018.7 '!A:C,3,)","v":"Active"},{"$f":"VLOOKUP(B872,'[1]2018.7 '!A:M,13,)","v":"Ambient"},{"$f":"VLOOKUP(B872,'[1]2018.7 '!A:N,14,)","v":"No"}]
[872,"RC2012-0070","29022739","JUMPER ASSEMBLY, CUSTOM","021","38","READY TO PROCESS","447","RTP Custom jumpers",378,{"v":3405.402,"d":"3,405"},null,{"$f":"VLOOKUP(B873,'[1]2018.7 '!A:C,3,)","v":"Active"},{"$f":"VLOOKUP(B873,'[1]2018.7 '!A:M,13,)","v":"Ambient"},{"$f":"VLOOKUP(B873,'[1]2018.7 '!A:N,14,)","v":"Reviewing"}]
[873,"RC2012-0071","29022719","JUMPER ASSEMBLY, CUSTOM","021","38","READY TO PROCESS","447","RTP Custom jumpers",458,{"v":4126.122,"d":"4,126"},null,{"$f":"VLOOKUP(B874,'[1]2018.7 '!A:C,3,)","v":"Active"},{"$f":"VLOOKUP(B874,'[1]2018.7 '!A:M,13,)","v":"Ambient"},{"$f":"VLOOKUP(B874,'[1]2018.7 '!A:N,14,)","v":"Reviewing"}]
[874,"RC2012-0085","29027907","1L CUSTOM ASSEMBLY","021","38","READY TO PROCESS","437","RTP ReadyKleer storage bags",301,{"v":2711.7090000000003,"d":"2,712"},null,{"$f":"VLOOKUP(B875,'[1]2018.7 '!A:C,3,)","v":"Active"},{"$f":"VLOOKUP(B875,'[1]2018.7 '!A:M,13,)","v":"Ambient"},{"$f":"VLOOKUP(B875,'[1]2018.7 '!A:N,14,)","v":"No"}]
[875,"RC2012-0086","29027954","5L CUSTOM ASSEMBLY","021","38","READY TO PROCESS","437","RTP ReadyKleer storage bags",322,{"v":2900.898,"d":"2,901"},null,{"$f":"VLOOKUP(B876,'[1]2018.7 '!A:C,3,)","v":"Active"},{"$f":"VLOOKUP(B876,'[1]2018.7 '!A:M,13,)","v":"Ambient"},{"$f":"VLOOKUP(B876,'[1]2018.7 '!A:N,14,)","v":"No"}]
[876,"RC2012-0087","29027961","10L, CUSTOM ASSEMBLY","021","38","READY TO PROCESS","437","RTP ReadyKleer storage bags",327,{"v":2945.943,"d":"2,946"},null,{"$f":"VLOOKUP(B877,'[1]2018.7 '!A:C,3,)","v":"Active"},{"$f":"VLOOKUP(B877,'[1]2018.7 '!A:M,13,)","v":"Ambient"},{"$f":"VLOOKUP(B877,'[1]2018.7 '!A:N,14,)","v":"No"}]
[877,"RC2012-0088","29027971","20L, CUSTOM ASSEMBLY","021","38","READY TO PROCESS","437","RTP ReadyKleer storage bags",327,{"v":2945.943,"d":"2,946"},null,{"$f":"VLOOKUP(B878,'[1]2018.7 '!A:C,3,)","v":"Active"},{"$f":"VLOOKUP(B878,'[1]2018.7 '!A:M,13,)","v":"Ambient"},{"$f":"VLOOKUP(B878,'[1]2018.7 '!A:N,14,)","v":"No"}]
[878,"RC2012-0093","29027991","JUMPER ASSEMBLY, CUSTOM","021","38","READY TO PROCESS","447","RTP Custom jumpers",405,{"v":3648.645,"d":"3,649"},null,{"$f":"VLOOKUP(B879,'[1]2018.7 '!A:C,3,)","v":"Active"},{"$f":"VLOOKUP(B879,'[1]2018.7 '!A:M,13,)","v":"Ambient"},{"$f":"VLOOKUP(B879,'[1]2018.7 '!A:N,14,)","v":"No"}]
[879,"RC2012-0094","29027364","200L CUSTOM, ASSEMBLY","021","38","READY TO PROCESS","437","RTP ReadyKleer storage bags",393,{"v":3540.5370000000003,"d":"3,541"},null,{"$f":"VLOOKUP(B880,'[1]2018.7 '!A:C,3,)","v":"Active"},{"$f":"VLOOKUP(B880,'[1]2018.7 '!A:M,13,)","v":"Ambient"},{"$f":"VLOOKUP(B880,'[1]2018.7 '!A:N,14,)","v":"Reviewing"}]
[880,"RC2012-0095","29027993","JUMPER ASSEMBLY, CUSTOM","021","38","READY TO PROCESS","447","RTP Custom jumpers",263,{"v":2369.367,"d":"2,369"},null,{"$f":"VLOOKUP(B881,'[1]2018.7 '!A:C,3,)","v":"Active"},{"$f":"VLOOKUP(B881,'[1]2018.7 '!A:M,13,)","v":"Ambient"},{"$f":"VLOOKUP(B881,'[1]2018.7 '!A:N,14,)","v":"No"}]
[881,"RC2012-0100","29027995","JUMPER ASSEMBLY, CUSTOM","021","38","READY TO PROCESS","447","RTP Custom jumpers",316,{"v":2846.844,"d":"2,847"},null,{"$f":"VLOOKUP(B882,'[1]2018.7 '!A:C,3,)","v":"Active"},{"$f":"VLOOKUP(B882,'[1]2018.7 '!A:M,13,)","v":"Ambient"},{"$f":"VLOOKUP(B882,'[1]2018.7 '!A:N,14,)","v":"No"}]
[882,"RC2012-0107","29027806","JUMPER ASSEMBLY, CUSTOM","021","38","READY TO PROCESS","447","RTP Custom jumpers",297,{"v":2675.6730000000002,"d":"2,676"},null,{"$f":"VLOOKUP(B883,'[1]2018.7 '!A:C,3,)","v":"Active"},{"$f":"VLOOKUP(B883,'[1]2018.7 '!A:M,13,)","v":"Ambient"},{"$f":"VLOOKUP(B883,'[1]2018.7 '!A:N,14,)","v":"Reviewing"}]
[883,"RC2012-0112","29039303","50L, CUSTOM ASSEMBLY","021","38","READY TO PROCESS","437","RTP ReadyKleer storage bags",{"v":1614,"d":"1,614"},{"v":14540.526,"d":"14,541"},null,{"$f":"VLOOKUP(B884,'[1]2018.7 '!A:C,3,)","v":"Active"},{"$f":"VLOOKUP(B884,'[1]2018.7 '!A:M,13,)","v":"Ambient"},{"$f":"VLOOKUP(B884,'[1]2018.7 '!A:N,14,)","v":"Reviewing"}]
[884,"RC2012-0123","29038534","200L, CUSTOM ASSEMBLY","021","38","READY TO PROCESS","437","RTP ReadyKleer storage bags",602,{"v":5423.418000000001,"d":"5,423"},null,{"$f":"VLOOKUP(B885,'[1]2018.7 '!A:C,3,)","v":"Active"},{"$f":"VLOOKUP(B885,'[1]2018.7 '!A:M,13,)","v":"Ambient"},{"$f":"VLOOKUP(B885,'[1]2018.7 '!A:N,14,)","v":"No"}]
[885,"RC2012-0126","29033350","JUMPER ASSEMBLY, CUSTOM","021","38","READY TO PROCESS","447","RTP Custom jumpers",209,{"v":1882.881,"d":"1,883"},null,{"$f":"VLOOKUP(B886,'[1]2018.7 '!A:C,3,)","v":"Active"},{"$f":"VLOOKUP(B886,'[1]2018.7 '!A:M,13,)","v":"Ambient"},{"$f":"VLOOKUP(B886,'[1]2018.7 '!A:N,14,)","v":"Reviewing"}]
[886,"RC2012-0128","29034003","JUMPER ASSEMBLY, CUSTOM","021","38","READY TO PROCESS","447","RTP Custom jumpers",540,{"v":4864.860000000001,"d":"4,865"},null,{"$f":"VLOOKUP(B887,'[1]2018.7 '!A:C,3,)","v":"Active"},{"$f":"VLOOKUP(B887,'[1]2018.7 '!A:M,13,)","v":"Ambient"},{"$f":"VLOOKUP(B887,'[1]2018.7 '!A:N,14,)","v":"Reviewing"}]
[887,"RC2012-0129","29034167","250mL CUSTOM ASSEMBLY","021","38","READY TO PROCESS","437","RTP ReadyKleer storage bags",425,{"v":3828.8250000000003,"d":"3,829"},null,{"$f":"VLOOKUP(B888,'[1]2018.7 '!A:C,3,)","v":"Active"},{"$f":"VLOOKUP(B888,'[1]2018.7 '!A:M,13,)","v":"Ambient"},{"$f":"VLOOKUP(B888,'[1]2018.7 '!A:N,14,)","v":"No"}]
[888,"RC2012-0130","29043869","500mL CUSTOM ASSEMBLY","021","38","READY TO PROCESS","437","RTP ReadyKleer storage bags",344,{"v":3099.096,"d":"3,099"},null,{"$f":"VLOOKUP(B889,'[1]2018.7 '!A:C,3,)","v":"Active"},{"$f":"VLOOKUP(B889,'[1]2018.7 '!A:M,13,)","v":"Ambient"},{"$f":"VLOOKUP(B889,'[1]2018.7 '!A:N,14,)","v":"Reviewing"}]
[889,"RC2012-0131","29043870","JUMPER ASSEMBLY, CUSTOM","021","38","READY TO PROCESS","447","RTP Custom jumpers",{"v":239.99999999999997,"d":"240"},{"v":2162.16,"d":"2,162"},null,{"$f":"VLOOKUP(B890,'[1]2018.7 '!A:C,3,)","v":"Active"},{"$f":"VLOOKUP(B890,'[1]2018.7 '!A:M,13,)","v":"Ambient"},{"$f":"VLOOKUP(B890,'[1]2018.7 '!A:N,14,)","v":"Reviewing"}]
[890,"RC2012-0134","29034174","JUMPER ASSEMBLY, CUSTOM","021","38","READY TO PROCESS","447","RTP Custom jumpers",304,{"v":2738.736,"d":"2,739"},null,{"$f":"VLOOKUP(B891,'[1]2018.7 '!A:C,3,)","v":"Active"},{"$f":"VLOOKUP(B891,'[1]2018.7 '!A:M,13,)","v":"Ambient"},{"$f":"VLOOKUP(B891,'[1]2018.7 '!A:N,14,)","v":"No"}]
[891,"RC2012-0135","29042936","JUMPER ASSEMBLY, CUSTOM","021","38","READY TO PROCESS","447","RTP Custom jumpers",512,{"v":4612.608,"d":"4,613"},null,{"$f":"VLOOKUP(B892,'[1]2018.7 '!A:C,3,)","v":"Active"},{"$f":"VLOOKUP(B892,'[1]2018.7 '!A:M,13,)","v":"Ambient"},{"$f":"VLOOKUP(B892,'[1]2018.7 '!A:N,14,)","v":"Reviewing"}]
[892,"RC2012-0138","29039297","20L, CUSTOM ASSEMBLY","021","38","READY TO PROCESS","437","RTP ReadyKleer storage bags",{"v":1470,"d":"1,470"},{"v":13243.230000000001,"d":"13,243"},null,{"$f":"VLOOKUP(B893,'[1]2018.7 '!A:C,3,)","v":"Active"},{"$f":"VLOOKUP(B893,'[1]2018.7 '!A:M,13,)","v":"Ambient"},{"$f":"VLOOKUP(B893,'[1]2018.7 '!A:N,14,)","v":"Reviewing"}]
[893,"RC2012-0144","29045608","20L, CUSTOM ASSEMBLY","021","38","READY TO PROCESS","437","RTP ReadyKleer storage bags",{"v":968.9999999999999,"d":"969"},{"v":8729.721,"d":"8,730"},null,{"$f":"VLOOKUP(B894,'[1]2018.7 '!A:C,3,)","v":"Active"},{"$f":"VLOOKUP(B894,'[1]2018.7 '!A:M,13,)","v":"Ambient"},{"$f":"VLOOKUP(B894,'[1]2018.7 '!A:N,14,)","v":"Reviewing"}]
[894,"RC2012-0145","29044679","JUMPER ASSEMBLY, CUSTOM","021","38","READY TO PROCESS","447","RTP Custom jumpers",512,{"v":4612.608,"d":"4,613"},null,{"$f":"VLOOKUP(B895,'[1]2018.7 '!A:C,3,)","v":"Active"},{"$f":"VLOOKUP(B895,'[1]2018.7 '!A:M,13,)","v":"Ambient"},{"$f":"VLOOKUP(B895,'[1]2018.7 '!A:N,14,)","v":"No"}]
[895,"RC2012-0147","29042908","JUMPER ASSEMBLY, CUSTOM","021","38","READY TO PROCESS","447","RTP Custom jumpers",653,{"v":5882.877,"d":"5,883"},null,{"$f":"VLOOKUP(B896,'[1]2018.7 '!A:C,3,)","v":"Active"},{"$f":"VLOOKUP(B896,'[1]2018.7 '!A:M,13,)","v":"Ambient"},{"$f":"VLOOKUP(B896,'[1]2018.7 '!A:N,14,)","v":"Reviewing"}]
[896,"RC2012-0148","29042910","JUMPER ASSEMBLY, CUSTOM","021","38","READY TO PROCESS","447","RTP Custom jumpers",512,{"v":4612.608,"d":"4,613"},null,{"$f":"VLOOKUP(B897,'[1]2018.7 '!A:C,3,)","v":"Active"},{"$f":"VLOOKUP(B897,'[1]2018.7 '!A:M,13,)","v":"Ambient"},{"$f":"VLOOKUP(B897,'[1]2018.7 '!A:N,14,)","v":"Reviewing"}]
[897,"RC2012-0149","29042915","JUMPER ASSEMBLY, CUSTOM","021","38","READY TO PROCESS","447","RTP Custom jumpers",787,{"v":7090.0830000000005,"d":"7,090"},null,{"$f":"VLOOKUP(B898,'[1]2018.7 '!A:C,3,)","v":"Active"},{"$f":"VLOOKUP(B898,'[1]2018.7 '!A:M,13,)","v":"Ambient"},{"$f":"VLOOKUP(B898,'[1]2018.7 '!A:N,14,)","v":"Reviewing"}]
[898,"RC2012-0150","29042919","JUMPER ASSEMBLY, CUSTOM","021","38","READY TO PROCESS","447","RTP Custom jumpers",646,{"v":5819.814,"d":"5,820"},null,{"$f":"VLOOKUP(B899,'[1]2018.7 '!A:C,3,)","v":"Active"},{"$f":"VLOOKUP(B899,'[1]2018.7 '!A:M,13,)","v":"Ambient"},{"$f":"VLOOKUP(B899,'[1]2018.7 '!A:N,14,)","v":"Reviewing"}]
[899,"RC2012-0151","29044911","JUMPER ASSEMBLY, CUSTOM","021","38","READY TO PROCESS","447","RTP Custom jumpers",{"v":188.26,"d":"188"},{"v":1696.03434,"d":"1,696"},null,{"$f":"VLOOKUP(B900,'[1]2018.7 '!A:C,3,)","v":"Active"},{"$f":"VLOOKUP(B900,'[1]2018.7 '!A:M,13,)","v":"Ambient"},{"$f":"VLOOKUP(B900,'[1]2018.7 '!A:N,14,)","v":"Reviewing"}]
[900,"RC2012-0152","29043010","50L, CUSTOM ASSEMBLY","021","38","READY TO PROCESS","437","RTP ReadyKleer storage bags",{"$f":"K901/9.009","v":738},{"v":6648.642,"d":"6,649"},null,{"$f":"VLOOKUP(B901,'[1]2018.7 '!A:C,3,)","v":"Active"},{"$f":"VLOOKUP(B901,'[1]2018.7 '!A:M,13,)","v":"Ambient"},{"$f":"VLOOKUP(B901,'[1]2018.7 '!A:N,14,)","v":"Reviewing"}]
[901,"RC2012-0153","29043015","50L, CUSTOM ASSEMBLY","021","38","READY TO PROCESS","437","RTP ReadyKleer storage bags",717,{"v":6459.453,"d":"6,459"},null,{"$f":"VLOOKUP(B902,'[1]2018.7 '!A:C,3,)","v":"Active"},{"$f":"VLOOKUP(B902,'[1]2018.7 '!A:M,13,)","v":"Ambient"},{"$f":"VLOOKUP(B902,'[1]2018.7 '!A:N,14,)","v":"Reviewing"}]
[902,"RC2013-0001","29048376","5L Custom Manifold","021","38","READY TO PROCESS","437","RTP ReadyKleer storage bags",913,{"v":8225.217,"d":"8,225"},null,{"$f":"VLOOKUP(B903,'[1]2018.7 '!A:C,3,)","v":"Active"},{"$f":"VLOOKUP(B903,'[1]2018.7 '!A:M,13,)","v":"Ambient"},{"$f":"VLOOKUP(B903,'[1]2018.7 '!A:N,14,)","v":"Reviewing"}]
[903,"RC2013-0002","29044916","JUMPER ASSEMBLY, CUSTOM","021","38","READY TO PROCESS","447","RTP Custom jumpers",{"v":236.00000000000003,"d":"236"},{"v":2126.1240000000003,"d":"2,126"},null,{"$f":"VLOOKUP(B904,'[1]2018.7 '!A:C,3,)","v":"Active"},{"$f":"VLOOKUP(B904,'[1]2018.7 '!A:M,13,)","v":"Ambient"},{"$f":"VLOOKUP(B904,'[1]2018.7 '!A:N,14,)","v":"Reviewing"}]
[904,"RC2013-0007","29050409","10L, CUSTOM","021","38","READY TO PROCESS","437","RTP ReadyKleer storage bags",{"v":1162,"d":"1,162"},{"v":10468.458,"d":"10,468"},null,{"$f":"VLOOKUP(B905,'[1]2018.7 '!A:C,3,)","v":"Active"},{"$f":"VLOOKUP(B905,'[1]2018.7 '!A:M,13,)","v":"Ambient"},{"$f":"VLOOKUP(B905,'[1]2018.7 '!A:N,14,)","v":"No"}]
[905,"RC2013-0011","29051547","JUMPER ASSEMBLY, CUSTOM","021","38","READY TO PROCESS","447","RTP Custom jumpers",385,{"v":3468.465,"d":"3,468"},null,{"$f":"VLOOKUP(B906,'[1]2018.7 '!A:C,3,)","v":"Active"},{"$f":"VLOOKUP(B906,'[1]2018.7 '!A:M,13,)","v":"Ambient"},{"$f":"VLOOKUP(B906,'[1]2018.7 '!A:N,14,)","v":"No"}]
[906,"RC2013-0023","29052695","JUMPER ASSEMBLY, CUSTOM","021","38","READY TO PROCESS","447","RTP Custom jumpers",572,{"v":5153.148,"d":"5,153"},null,{"$f":"VLOOKUP(B907,'[1]2018.7 '!A:C,3,)","v":"Active"},{"$f":"VLOOKUP(B907,'[1]2018.7 '!A:M,13,)","v":"Ambient"},{"$f":"VLOOKUP(B907,'[1]2018.7 '!A:N,14,)","v":"No"}]
[907,"RC2013-0024","29056835","JUMPER ASSEMBLY, CUSTOM","021","38","READY TO PROCESS","447","RTP Custom jumpers",340,{"v":3063.06,"d":"3,063"},null,{"$f":"VLOOKUP(B908,'[1]2018.7 '!A:C,3,)","v":"Active"},{"$f":"VLOOKUP(B908,'[1]2018.7 '!A:M,13,)","v":"Ambient"},{"$f":"VLOOKUP(B908,'[1]2018.7 '!A:N,14,)","v":"No"}]
[908,"RC2013-0025","29056840","JUMPER ASSEMBLY, CUSTOM","021","38","READY TO PROCESS","447","RTP Custom jumpers",{"v":476.00000000000006,"d":"476"},{"v":4288.284000000001,"d":"4,288"},null,{"$f":"VLOOKUP(B909,'[1]2018.7 '!A:C,3,)","v":"Active"},{"$f":"VLOOKUP(B909,'[1]2018.7 '!A:M,13,)","v":"Ambient"},{"$f":"VLOOKUP(B909,'[1]2018.7 '!A:N,14,)","v":"No"}]
[909,"RC2013-0034","29061068","250mL, CUSTOM ASSEMBLY","021","38","READY TO PROCESS","437","RTP ReadyKleer storage bags",201,{"v":1810.809,"d":"1,811"},null,{"$f":"VLOOKUP(B910,'[1]2018.7 '!A:C,3,)","v":"Active"},{"$f":"VLOOKUP(B910,'[1]2018.7 '!A:M,13,)","v":"Ambient"},{"$f":"VLOOKUP(B910,'[1]2018.7 '!A:N,14,)","v":"Reviewing"}]
[910,"RC2013-0035","29061076","10L, CUSTOM ASSEMBLY","021","38","READY TO PROCESS","437","RTP ReadyKleer storage bags",258,{"v":2324.322,"d":"2,324"},null,{"$f":"VLOOKUP(B911,'[1]2018.7 '!A:C,3,)","v":"Active"},{"$f":"VLOOKUP(B911,'[1]2018.7 '!A:M,13,)","v":"Ambient"},{"$f":"VLOOKUP(B911,'[1]2018.7 '!A:N,14,)","v":"No"}]
[911,"RC2013-0036","29061078","5L, CUSTOM ASSEMBLY","021","38","READY TO PROCESS","437","RTP ReadyKleer storage bags",225,{"v":2027.025,"d":"2,027"},null,{"$f":"VLOOKUP(B912,'[1]2018.7 '!A:C,3,)","v":"Active"},{"$f":"VLOOKUP(B912,'[1]2018.7 '!A:M,13,)","v":"Ambient"},{"$f":"VLOOKUP(B912,'[1]2018.7 '!A:N,14,)","v":"Reviewing"}]
[912,"RC2013-0037","29061081","1L, CUSTOM ASSEMBLY","021","38","READY TO PROCESS","437","RTP ReadyKleer storage bags",209,{"v":1882.881,"d":"1,883"},null,{"$f":"VLOOKUP(B913,'[1]2018.7 '!A:C,3,)","v":"Active"},{"$f":"VLOOKUP(B913,'[1]2018.7 '!A:M,13,)","v":"Ambient"},{"$f":"VLOOKUP(B913,'[1]2018.7 '!A:N,14,)","v":"Reviewing"}]
[913,"RC2013-0038","29061084","JUMPER ASSEMBLY, CUSTOM","021","38","READY TO PROCESS","447","RTP Custom jumpers",351,{"v":3162.159,"d":"3,162"},null,{"$f":"VLOOKUP(B914,'[1]2018.7 '!A:C,3,)","v":"Active"},{"$f":"VLOOKUP(B914,'[1]2018.7 '!A:M,13,)","v":"Ambient"},{"$f":"VLOOKUP(B914,'[1]2018.7 '!A:N,14,)","v":"Reviewing"}]
[914,"RC2013-0039","29061111","JUMPER ASSEMBLY, CUSTOM","021","38","READY TO PROCESS","447","RTP Custom jumpers",{"v":163.89,"d":"164"},{"v":1476.4850099999999,"d":"1,476"},null,{"$f":"VLOOKUP(B915,'[1]2018.7 '!A:C,3,)","v":"Active"},{"$f":"VLOOKUP(B915,'[1]2018.7 '!A:M,13,)","v":"Ambient"},{"$f":"VLOOKUP(B915,'[1]2018.7 '!A:N,14,)","v":"Reviewing"}]
[915,"RC2013-0040","29061113","JUMPER ASSEMBLY, CUSTOM","021","38","READY TO PROCESS","447","RTP Custom jumpers",{"v":163.89,"d":"164"},{"v":1476.4850099999999,"d":"1,476"},null,{"$f":"VLOOKUP(B916,'[1]2018.7 '!A:C,3,)","v":"Active"},{"$f":"VLOOKUP(B916,'[1]2018.7 '!A:M,13,)","v":"Ambient"},{"$f":"VLOOKUP(B916,'[1]2018.7 '!A:N,14,)","v":"Reviewing"}]
[916,"RC2013-0041","29061116","20L, CUSTOM ASSEMBLY","021","38","READY TO PROCESS","437","RTP ReadyKleer storage bags",264,{"v":2378.376,"d":"2,378"},null,{"$f":"VLOOKUP(B917,'[1]2018.7 '!A:C,3,)","v":"Active"},{"$f":"VLOOKUP(B917,'[1]2018.7 '!A:M,13,)","v":"Ambient"},{"$f":"VLOOKUP(B917,'[1]2018.7 '!A:N,14,)","v":"No"}]
[917,"RC2013-0042","29061119","JUMPER ASSEMBLY, CUSTOM","021","38","READY TO PROCESS","447","RTP Custom jumpers",{"v":245.99999999999997,"d":"246"},{"v":2216.214,"d":"2,216"},null,{"$f":"VLOOKUP(B918,'[1]2018.7 '!A:C,3,)","v":"Active"},{"$f":"VLOOKUP(B918,'[1]2018.7 '!A:M,13,)","v":"Ambient"},{"$f":"VLOOKUP(B918,'[1]2018.7 '!A:N,14,)","v":"Reviewing"}]
[918,"RC2013-0043","29061121","50L, CUSTOM ASSEMBLY","021","38","READY TO PROCESS","437","RTP ReadyKleer storage bags",382,{"v":3441.438,"d":"3,441"},null,{"$f":"VLOOKUP(B919,'[1]2018.7 '!A:C,3,)","v":"Active"},{"$f":"VLOOKUP(B919,'[1]2018.7 '!A:M,13,)","v":"Ambient"},{"$f":"VLOOKUP(B919,'[1]2018.7 '!A:N,14,)","v":"Reviewing"}]
[919,"RC2013-0047","29066520","200L, CUSTOM ASSEMBLY","021","38","READY TO PROCESS","437","RTP ReadyKleer storage bags",347,{"v":3126.123,"d":"3,126"},null,{"$f":"VLOOKUP(B920,'[1]2018.7 '!A:C,3,)","v":"Active"},{"$f":"VLOOKUP(B920,'[1]2018.7 '!A:M,13,)","v":"Ambient"},{"$f":"VLOOKUP(B920,'[1]2018.7 '!A:N,14,)","v":"Reviewing"}]
[920,"RC2013-0060","29084416","POUCHING ASSEMBLY, CUSTOM","021","38","READY TO PROCESS","447","RTP Custom jumpers",{"v":109.21,"d":"109"},{"v":983.87289,"d":"984"},null,{"$f":"VLOOKUP(B921,'[1]2018.7 '!A:C,3,)","v":"Active"},{"$f":"VLOOKUP(B921,'[1]2018.7 '!A:M,13,)","v":"Ambient"},{"$f":"VLOOKUP(B921,'[1]2018.7 '!A:N,14,)","v":"Reviewing"}]
[921,"RC2013-0068","29087877","JUMPER ASSEMBLY, CUSTOM","021","38","READY TO PROCESS","447","RTP Custom jumpers",{"v":127.65000000000002,"d":"128"},{"v":1149.9988500000002,"d":"1,150"},null,{"$f":"VLOOKUP(B922,'[1]2018.7 '!A:C,3,)","v":"Active"},{"$f":"VLOOKUP(B922,'[1]2018.7 '!A:M,13,)","v":"Ambient"},{"$f":"VLOOKUP(B922,'[1]2018.7 '!A:N,14,)","v":"Reviewing"}]
[922,"RC2013-0071","29117284","5L, Custom Assembly","021","38","READY TO PROCESS","437","RTP ReadyKleer storage bags",409,{"v":3684.681,"d":"3,685"},null,{"$f":"VLOOKUP(B923,'[1]2018.7 '!A:C,3,)","v":"Active"},{"$f":"VLOOKUP(B923,'[1]2018.7 '!A:M,13,)","v":"Ambient"},{"$f":"VLOOKUP(B923,'[1]2018.7 '!A:N,14,)","v":"Reviewing"}]
[923,"RC2013-0072","29093097","JUMPER ASSEMBLY, CUSTOM","021","38","READY TO PROCESS","447","RTP Custom jumpers",275,{"v":2477.475,"d":"2,477"},null,{"$f":"VLOOKUP(B924,'[1]2018.7 '!A:C,3,)","v":"Active"},{"$f":"VLOOKUP(B924,'[1]2018.7 '!A:M,13,)","v":"Ambient"},{"$f":"VLOOKUP(B924,'[1]2018.7 '!A:N,14,)","v":"No"}]
[924,"RC2013-0076","29096322","5L, CUSTOM ASSEMBLY","021","38","READY TO PROCESS","437","RTP ReadyKleer storage bags",267,{"v":2405.4030000000002,"d":"2,405"},null,{"$f":"VLOOKUP(B925,'[1]2018.7 '!A:C,3,)","v":"Active"},{"$f":"VLOOKUP(B925,'[1]2018.7 '!A:M,13,)","v":"Ambient"},{"$f":"VLOOKUP(B925,'[1]2018.7 '!A:N,14,)","v":"Reviewing"}]
[925,"RC2013-0077","29096851","1L CUSTOM, ASSEMBLY","021","38","READY TO PROCESS","437","RTP ReadyKleer storage bags",627,{"v":5648.643,"d":"5,649"},null,{"$f":"VLOOKUP(B926,'[1]2018.7 '!A:C,3,)","v":"Active"},{"$f":"VLOOKUP(B926,'[1]2018.7 '!A:M,13,)","v":"Ambient"},{"$f":"VLOOKUP(B926,'[1]2018.7 '!A:N,14,)","v":"No"}]
[926,"RC2013-0078","29096767","1L CUSTOM, ASSEMBLY","021","38","READY TO PROCESS","437","RTP ReadyKleer storage bags",637,{"v":5738.733,"d":"5,739"},null,{"$f":"VLOOKUP(B927,'[1]2018.7 '!A:C,3,)","v":"Active"},{"$f":"VLOOKUP(B927,'[1]2018.7 '!A:M,13,)","v":"Ambient"},{"$f":"VLOOKUP(B927,'[1]2018.7 '!A:N,14,)","v":"Reviewing"}]
[927,"RC2014-0006NS","29115583","JUMPER, CUSTOM ASSEMBLY for ATF2/4 PERMEATE LINE","021","38","READY TO PROCESS","447","RTP Custom jumpers",{"v":138.63,"d":"139"},{"v":1248.91767,"d":"1,249"},null,{"$f":"VLOOKUP(B928,'[1]2018.7 '!A:C,3,)","v":"Active"},{"$f":"VLOOKUP(B928,'[1]2018.7 '!A:M,13,)","v":"Ambient"},{"$f":"VLOOKUP(B928,'[1]2018.7 '!A:N,14,)","v":"Reviewing"}]
[928,"RC2014-0007NS","29115610","JUMPER, CUSTOM ASSEMBLY for ATF6/8 ASSEMBLY KIT","021","38","READY TO PROCESS","447","RTP Custom jumpers",603,{"v":5432.427000000001,"d":"5,432"},null,{"$f":"VLOOKUP(B929,'[1]2018.7 '!A:C,3,)","v":"Active"},{"$f":"VLOOKUP(B929,'[1]2018.7 '!A:M,13,)","v":"Ambient"},{"$f":"VLOOKUP(B929,'[1]2018.7 '!A:N,14,)","v":"Reviewing"}]
[929,"RC2014-0011","29105137","5L, CUSTOM ASSEMBLY","021","38","READY TO PROCESS","437","RTP ReadyKleer storage bags",{"v":239.99999999999997,"d":"240"},{"v":2162.16,"d":"2,162"},null,{"$f":"VLOOKUP(B930,'[1]2018.7 '!A:C,3,)","v":"Active"},{"$f":"VLOOKUP(B930,'[1]2018.7 '!A:M,13,)","v":"Ambient"},{"$f":"VLOOKUP(B930,'[1]2018.7 '!A:N,14,)","v":"Reviewing"}]
[930,"RC2014-0012","29105111","20L, CUSTOM ASSEMBLY","021","38","READY TO PROCESS","437","RTP ReadyKleer storage bags",267,{"v":2405.4030000000002,"d":"2,405"},null,{"$f":"VLOOKUP(B931,'[1]2018.7 '!A:C,3,)","v":"Active"},{"$f":"VLOOKUP(B931,'[1]2018.7 '!A:M,13,)","v":"Ambient"},{"$f":"VLOOKUP(B931,'[1]2018.7 '!A:N,14,)","v":"Reviewing"}]
[931,"RC2014-0013","29105156","50L, CUSTOM ASSEMBLY","021","38","READY TO PROCESS","437","RTP ReadyKleer storage bags",399,{"v":3594.5910000000003,"d":"3,595"},null,{"$f":"VLOOKUP(B932,'[1]2018.7 '!A:C,3,)","v":"Active"},{"$f":"VLOOKUP(B932,'[1]2018.7 '!A:M,13,)","v":"Ambient"},{"$f":"VLOOKUP(B932,'[1]2018.7 '!A:N,14,)","v":"Reviewing"}]
[932,"RC2014-0014","29103345","100L, CUSTOM ASSEMBLY","021","38","READY TO PROCESS","437","RTP ReadyKleer storage bags",505,{"v":4549.545,"d":"4,550"},null,{"$f":"VLOOKUP(B933,'[1]2018.7 '!A:C,3,)","v":"Active"},{"$f":"VLOOKUP(B933,'[1]2018.7 '!A:M,13,)","v":"Ambient"},{"$f":"VLOOKUP(B933,'[1]2018.7 '!A:N,14,)","v":"Reviewing"}]
[933,"RC2014-0015","29104063","200L, CUSTOM ASSEMBLY","021","38","READY TO PROCESS","437","RTP ReadyKleer storage bags",526,{"v":4738.734,"d":"4,739"},null,{"$f":"VLOOKUP(B934,'[1]2018.7 '!A:C,3,)","v":"Active"},{"$f":"VLOOKUP(B934,'[1]2018.7 '!A:M,13,)","v":"Ambient"},{"$f":"VLOOKUP(B934,'[1]2018.7 '!A:N,14,)","v":"Reviewing"}]
[934,"RC2014-0033","29108061","500ml, CUSTOM ASSEMBLY","021","38","READY TO PROCESS","437","RTP ReadyKleer storage bags",{"v":153.49,"d":"153"},{"v":1382.79141,"d":"1,383"},null,{"$f":"VLOOKUP(B935,'[1]2018.7 '!A:C,3,)","v":"Active"},{"$f":"VLOOKUP(B935,'[1]2018.7 '!A:M,13,)","v":"Ambient"},{"$f":"VLOOKUP(B935,'[1]2018.7 '!A:N,14,)","v":"Reviewing"}]
[935,"RC2014-0034NS","29115704","JUMPER ASSEMBLY, CUSTOM FOR ATF4 BX CONNECTION ASSEMBLY","021","38","READY TO PROCESS","447","RTP Custom jumpers",{"v":191.95,"d":"192"},{"v":1729.27755,"d":"1,729"},null,{"$f":"VLOOKUP(B936,'[1]2018.7 '!A:C,3,)","v":"Active"},{"$f":"VLOOKUP(B936,'[1]2018.7 '!A:M,13,)","v":"Ambient"},{"$f":"VLOOKUP(B936,'[1]2018.7 '!A:N,14,)","v":"Reviewing"}]
[936,"RC2014-0044","29129139","50L, CUSTOM ASSEMBLY","021","38","READY TO PROCESS","437","RTP ReadyKleer storage bags",518,{"v":4666.662,"d":"4,667"},null,{"$f":"VLOOKUP(B937,'[1]2018.7 '!A:C,3,)","v":"Active"},{"$f":"VLOOKUP(B937,'[1]2018.7 '!A:M,13,)","v":"Ambient"},{"$f":"VLOOKUP(B937,'[1]2018.7 '!A:N,14,)","v":"No"}]
[937,"RC2014-0045","29116295","JUMPER ASSEMBLY, CUSTOM","021","38","READY TO PROCESS","447","RTP Custom jumpers",{"v":84.25,"d":"84"},{"v":759.00825,"d":"759"},null,{"$f":"VLOOKUP(B938,'[1]2018.7 '!A:C,3,)","v":"Active"},{"$f":"VLOOKUP(B938,'[1]2018.7 '!A:M,13,)","v":"Ambient"},{"$f":"VLOOKUP(B938,'[1]2018.7 '!A:N,14,)","v":"Reviewing"}]
[938,"RC2014-0051","29115464","100L, CUSTOM ASSEMBLY","021","38","READY TO PROCESS","437","RTP ReadyKleer storage bags",{"v":481.99999999999994,"d":"482"},{"v":4342.338,"d":"4,342"},null,{"$f":"VLOOKUP(B939,'[1]2018.7 '!A:C,3,)","v":"Active"},{"$f":"VLOOKUP(B939,'[1]2018.7 '!A:M,13,)","v":"Ambient"},{"$f":"VLOOKUP(B939,'[1]2018.7 '!A:N,14,)","v":"No"}]
[939,"RC2014-0052","29115466","200L, CUSTOM ASSEMBLY","021","38","READY TO PROCESS","437","RTP ReadyKleer storage bags",503,{"v":4531.527,"d":"4,532"},null,{"$f":"VLOOKUP(B940,'[1]2018.7 '!A:C,3,)","v":"Active"},{"$f":"VLOOKUP(B940,'[1]2018.7 '!A:M,13,)","v":"Ambient"},{"$f":"VLOOKUP(B940,'[1]2018.7 '!A:N,14,)","v":"No"}]
[940,"RC2014-0053","29118906","HOLLOW FIBER CIRCUIT","021","38","READY TO PROCESS","447","RTP Custom jumpers",{"v":1883,"d":"1,883"},{"v":16963.947,"d":"16,964"},null,{"$f":"VLOOKUP(B941,'[1]2018.7 '!A:C,3,)","v":"Active"},{"$f":"VLOOKUP(B941,'[1]2018.7 '!A:M,13,)","v":"Ambient"},{"$f":"VLOOKUP(B941,'[1]2018.7 '!A:N,14,)","v":"No"}]
[941,"RC2014-0058","29140330","Jumper Assembly, Custom","021","38","READY TO PROCESS","447","RTP Custom jumpers",{"v":936.0000000000001,"d":"936"},{"v":8432.424,"d":"8,432"},null,{"$f":"VLOOKUP(B942,'[1]2018.7 '!A:C,3,)","v":"Active"},{"$f":"VLOOKUP(B942,'[1]2018.7 '!A:M,13,)","v":"Ambient"},{"$f":"VLOOKUP(B942,'[1]2018.7 '!A:N,14,)","v":"Reviewing"}]
[942,"RC2014-0059","29129250","JUMPER ASSEMBLY, CUSTOM","021","38","READY TO PROCESS","447","RTP Custom jumpers",{"v":245.99999999999997,"d":"246"},{"v":2216.214,"d":"2,216"},null,{"$f":"VLOOKUP(B943,'[1]2018.7 '!A:C,3,)","v":"Active"},{"$f":"VLOOKUP(B943,'[1]2018.7 '!A:M,13,)","v":"Ambient"},{"$f":"VLOOKUP(B943,'[1]2018.7 '!A:N,14,)","v":"Reviewing"}]
[943,"RC2014-0067","29141807","100L, CUSTOM ASSEMBLY","021","38","READY TO PROCESS","437","RTP ReadyKleer storage bags",342,{"v":3081.078,"d":"3,081"},null,{"$f":"VLOOKUP(B944,'[1]2018.7 '!A:C,3,)","v":"Active"},{"$f":"VLOOKUP(B944,'[1]2018.7 '!A:M,13,)","v":"Ambient"},{"$f":"VLOOKUP(B944,'[1]2018.7 '!A:N,14,)","v":"No"}]
[944,"RC2014-0071","29141182","50L, CUSTOM ASSEMBLY","021","38","READY TO PROCESS","437","RTP ReadyKleer storage bags",275,{"v":2477.475,"d":"2,477"},null,{"$f":"VLOOKUP(B945,'[1]2018.7 '!A:C,3,)","v":"Active"},{"$f":"VLOOKUP(B945,'[1]2018.7 '!A:M,13,)","v":"Ambient"},{"$f":"VLOOKUP(B945,'[1]2018.7 '!A:N,14,)","v":"No"}]
[945,"RC2014-0072","29141641","20L, CUSTOM ASSEMBLY","021","38","READY TO PROCESS","437","RTP ReadyKleer storage bags",{"v":165.65,"d":"166"},{"v":1492.34085,"d":"1,492"},null,{"$f":"VLOOKUP(B946,'[1]2018.7 '!A:C,3,)","v":"Active"},{"$f":"VLOOKUP(B946,'[1]2018.7 '!A:M,13,)","v":"Ambient"},{"$f":"VLOOKUP(B946,'[1]2018.7 '!A:N,14,)","v":"No"}]
[946,"RC2014-0088","29141818","20L, CUSTOM ASSEMBLY","021","38","READY TO PROCESS","437","RTP ReadyKleer storage bags",374,{"v":3369.366,"d":"3,369"},null,{"$f":"VLOOKUP(B947,'[1]2018.7 '!A:C,3,)","v":"Active"},{"$f":"VLOOKUP(B947,'[1]2018.7 '!A:M,13,)","v":"Ambient"},{"$f":"VLOOKUP(B947,'[1]2018.7 '!A:N,14,)","v":"No"}]
[947,"RC2014-0089","29132114","20L, CUSTOM ASSEMBLY","021","38","READY TO PROCESS","437","RTP ReadyKleer storage bags",254,{"v":2288.286,"d":"2,288"},null,{"$f":"VLOOKUP(B948,'[1]2018.7 '!A:C,3,)","v":"Active"},{"$f":"VLOOKUP(B948,'[1]2018.7 '!A:M,13,)","v":"Ambient"},{"$f":"VLOOKUP(B948,'[1]2018.7 '!A:N,14,)","v":"No"}]
[948,"RC2014-0090","29132167","10L, CUSTOM ASSEMBLY","021","38","READY TO PROCESS","437","RTP ReadyKleer storage bags",249,{"v":2243.241,"d":"2,243"},null,{"$f":"VLOOKUP(B949,'[1]2018.7 '!A:C,3,)","v":"Active"},{"$f":"VLOOKUP(B949,'[1]2018.7 '!A:M,13,)","v":"Ambient"},{"$f":"VLOOKUP(B949,'[1]2018.7 '!A:N,14,)","v":"No"}]
[949,"RC2014-0092","29135511","JUMPER ASSEMBLY, CUSTOM","021","38","READY TO PROCESS","447","RTP Custom jumpers",249,{"v":2243.241,"d":"2,243"},null,{"$f":"VLOOKUP(B950,'[1]2018.7 '!A:C,3,)","v":"Active"},{"$f":"VLOOKUP(B950,'[1]2018.7 '!A:M,13,)","v":"Ambient"},{"$f":"VLOOKUP(B950,'[1]2018.7 '!A:N,14,)","v":"No"}]
[950,"RC2014-0100","29141646","20L, CUSTOM ASSEMBLY","021","38","READY TO PROCESS","437","RTP ReadyKleer storage bags",{"v":119.07,"d":"119"},{"v":1072.70163,"d":"1,073"},null,{"$f":"VLOOKUP(B951,'[1]2018.7 '!A:C,3,)","v":"Active"},{"$f":"VLOOKUP(B951,'[1]2018.7 '!A:M,13,)","v":"Ambient"},{"$f":"VLOOKUP(B951,'[1]2018.7 '!A:N,14,)","v":"No"}]
[951,"RC2014-0101","29141814","200L, CUSTOM ASSEMBLY","021","38","READY TO PROCESS","437","RTP ReadyKleer storage bags",340,{"v":3063.06,"d":"3,063"},null,{"$f":"VLOOKUP(B952,'[1]2018.7 '!A:C,3,)","v":"Active"},{"$f":"VLOOKUP(B952,'[1]2018.7 '!A:M,13,)","v":"Ambient"},{"$f":"VLOOKUP(B952,'[1]2018.7 '!A:N,14,)","v":"No"}]
[952,"RC2014-0105","29153309",{"$error":"#N/A"},"021","38","READY TO PROCESS","447","RTP Custom jumpers",323,{"v":2909.907,"d":"2,910"},null,{"$f":"VLOOKUP(B953,'[1]2018.7 '!A:C,3,)","v":"Active"},{"$f":"VLOOKUP(B953,'[1]2018.7 '!A:M,13,)","v":"Ambient"},{"$f":"VLOOKUP(B953,'[1]2018.7 '!A:N,14,)","v":"Reviewing"}]
[953,"RC2014-0107","29141783","10L, CUSTOM ASSEMBLY","021","38","READY TO PROCESS","437","RTP ReadyKleer storage bags",{"v":129.42,"d":"129"},{"v":1165.94478,"d":"1,166"},null,{"$f":"VLOOKUP(B954,'[1]2018.7 '!A:C,3,)","v":"Active"},{"$f":"VLOOKUP(B954,'[1]2018.7 '!A:M,13,)","v":"Ambient"},{"$f":"VLOOKUP(B954,'[1]2018.7 '!A:N,14,)","v":"No"}]
[954,"RC2014-0110","29141650","JUMPER ASSEMBLY, CUSTOM","021","38","READY TO PROCESS","447","RTP Custom jumpers",{"v":194.08,"d":"194"},{"v":1748.4667200000001,"d":"1,748"},null,{"$f":"VLOOKUP(B955,'[1]2018.7 '!A:C,3,)","v":"Active"},{"$f":"VLOOKUP(B955,'[1]2018.7 '!A:M,13,)","v":"Ambient"},{"$f":"VLOOKUP(B955,'[1]2018.7 '!A:N,14,)","v":"Reviewing"}]
[955,"RC2014-0113","29153243",{"$error":"#N/A"},"021","38","READY TO PROCESS","447","RTP Custom jumpers",{"v":101.92,"d":"102"},{"v":918.1972800000001,"d":"918"},null,{"$f":"VLOOKUP(B956,'[1]2018.7 '!A:C,3,)","v":"Active"},{"$f":"VLOOKUP(B956,'[1]2018.7 '!A:M,13,)","v":"Ambient"},{"$f":"VLOOKUP(B956,'[1]2018.7 '!A:N,14,)","v":"Reviewing"}]
[956,"RC2014-0114","29153251",{"$error":"#N/A"},"021","38","READY TO PROCESS","447","RTP Custom jumpers",{"v":112.33,"d":"112"},{"v":1011.9809700000001,"d":"1,012"},null,{"$f":"VLOOKUP(B957,'[1]2018.7 '!A:C,3,)","v":"Active"},{"$f":"VLOOKUP(B957,'[1]2018.7 '!A:M,13,)","v":"Ambient"},{"$f":"VLOOKUP(B957,'[1]2018.7 '!A:N,14,)","v":"Reviewing"}]
[957,"RC2014-0136","29153334",{"$error":"#N/A"},"021","38","READY TO PROCESS","447","RTP Custom jumpers",{"v":116.07,"d":"116"},{"v":1045.67463,"d":"1,046"},null,{"$f":"VLOOKUP(B958,'[1]2018.7 '!A:C,3,)","v":"Active"},{"$f":"VLOOKUP(B958,'[1]2018.7 '!A:M,13,)","v":"Ambient"},{"$f":"VLOOKUP(B958,'[1]2018.7 '!A:N,14,)","v":"Reviewing"}]
[958,"RC2015-0003","29153342",{"$error":"#N/A"},"021","38","READY TO PROCESS","437","RTP ReadyKleer storage bags",383,{"v":3450.447,"d":"3,450"},null,{"$f":"VLOOKUP(B959,'[1]2018.7 '!A:C,3,)","v":"Active"},{"$f":"VLOOKUP(B959,'[1]2018.7 '!A:M,13,)","v":"Ambient"},{"$f":"VLOOKUP(B959,'[1]2018.7 '!A:N,14,)","v":"No"}]
[959,"RC2015-0004","29153433",{"$error":"#N/A"},"021","38","READY TO PROCESS","437","RTP ReadyKleer storage bags",377,{"v":3396.393,"d":"3,396"},null,{"$f":"VLOOKUP(B960,'[1]2018.7 '!A:C,3,)","v":"Active"},{"$f":"VLOOKUP(B960,'[1]2018.7 '!A:M,13,)","v":"Ambient"},{"$f":"VLOOKUP(B960,'[1]2018.7 '!A:N,14,)","v":"No"}]
[960,"RC2015-0005","29153448",{"$error":"#N/A"},"021","38","READY TO PROCESS","437","RTP ReadyKleer storage bags",346,{"v":3117.114,"d":"3,117"},null,{"$f":"VLOOKUP(B961,'[1]2018.7 '!A:C,3,)","v":"Active"},{"$f":"VLOOKUP(B961,'[1]2018.7 '!A:M,13,)","v":"Ambient"},{"$f":"VLOOKUP(B961,'[1]2018.7 '!A:N,14,)","v":"No"}]
[961,"RC2015-0006","29153484",{"$error":"#N/A"},"021","38","READY TO PROCESS","437","RTP ReadyKleer storage bags",{"v":1758,"d":"1,758"},{"v":15837.822,"d":"15,838"},null,{"$f":"VLOOKUP(B962,'[1]2018.7 '!A:C,3,)","v":"Active"},{"$f":"VLOOKUP(B962,'[1]2018.7 '!A:M,13,)","v":"Ambient"},{"$f":"VLOOKUP(B962,'[1]2018.7 '!A:N,14,)","v":"No"}]
[962,"RC2015-0007","29153491",{"$error":"#N/A"},"021","38","READY TO PROCESS","447","RTP Custom jumpers",507,{"v":4567.563,"d":"4,568"},null,{"$f":"VLOOKUP(B963,'[1]2018.7 '!A:C,3,)","v":"Active"},{"$f":"VLOOKUP(B963,'[1]2018.7 '!A:M,13,)","v":"Ambient"},{"$f":"VLOOKUP(B963,'[1]2018.7 '!A:N,14,)","v":"No"}]
[963,"RC2015-0008","29153493",{"$error":"#N/A"},"021","38","READY TO PROCESS","437","RTP ReadyKleer storage bags",637,{"v":5738.733,"d":"5,739"},null,{"$f":"VLOOKUP(B964,'[1]2018.7 '!A:C,3,)","v":"Active"},{"$f":"VLOOKUP(B964,'[1]2018.7 '!A:M,13,)","v":"Ambient"},{"$f":"VLOOKUP(B964,'[1]2018.7 '!A:N,14,)","v":"No"}]
[964,"RTP-08-0115","28400518","10L ReadyCircuit","021","38","READY TO PROCESS","437","RTP ReadyKleer storage bags",{"$f":"K965/9.009","v":{"v":6527,"d":"6,527"}},{"v":58801.743,"d":"58,802"},null,{"$f":"VLOOKUP(B965,'[1]2018.7 '!A:C,3,)","v":"Active"},{"$f":"VLOOKUP(B965,'[1]2018.7 '!A:M,13,)","v":"Ambient"},{"$f":"VLOOKUP(B965,'[1]2018.7 '!A:N,14,)","v":"Reviewing"}]
[965,"RTP-08-0116","28400519","50L ReadyCircuit","021","38","READY TO PROCESS","437","RTP ReadyKleer storage bags",{"v":14599.999999999998,"d":"14,600"},{"v":131531.4,"d":"131,531"},null,{"$f":"VLOOKUP(B966,'[1]2018.7 '!A:C,3,)","v":"Active"},{"$f":"VLOOKUP(B966,'[1]2018.7 '!A:M,13,)","v":"Ambient"},{"$f":"VLOOKUP(B966,'[1]2018.7 '!A:N,14,)","v":"Reviewing"}]
[966,"RTP-08-0117","28400520","10L ReadyCircuit No HF","021","38","READY TO PROCESS","437","RTP ReadyKleer storage bags",{"v":4498,"d":"4,498"},{"v":40522.482,"d":"40,522"},null,{"$f":"VLOOKUP(B967,'[1]2018.7 '!A:C,3,)","v":"Active"},{"$f":"VLOOKUP(B967,'[1]2018.7 '!A:M,13,)","v":"Ambient"},{"$f":"VLOOKUP(B967,'[1]2018.7 '!A:N,14,)","v":"Reviewing"}]
[967,"RTP-08-0118","28400521","50L ReadyCircuit No HF","021","38","READY TO PROCESS","437","RTP ReadyKleer storage bags",{"v":8113.000000000001,"d":"8,113"},{"v":73090.017,"d":"73,090"},null,{"$f":"VLOOKUP(B968,'[1]2018.7 '!A:C,3,)","v":"Active"},{"$f":"VLOOKUP(B968,'[1]2018.7 '!A:M,13,)","v":"Ambient"},{"$f":"VLOOKUP(B968,'[1]2018.7 '!A:N,14,)","v":"Reviewing"}]
[968,"RTP0701141","28400526","Biomarin 250ml sample bag","021","38","READY TO PROCESS","437","RTP ReadyKleer storage bags",{"v":107.04,"d":"107"},{"v":964.3233600000001,"d":"964"},null,{"$f":"VLOOKUP(B969,'[1]2018.7 '!A:C,3,)","v":"Active"},{"$f":"VLOOKUP(B969,'[1]2018.7 '!A:M,13,)","v":"Ambient"},{"$f":"VLOOKUP(B969,'[1]2018.7 '!A:N,14,)","v":"Reviewing"}]
[969,"RTP0701142","28400527","Biomarin 1L bag","021","38","READY TO PROCESS","437","RTP ReadyKleer storage bags",{"v":133.3,"d":"133"},{"v":1200.8997000000002,"d":"1,201"},null,{"$f":"VLOOKUP(B970,'[1]2018.7 '!A:C,3,)","v":"Active"},{"$f":"VLOOKUP(B970,'[1]2018.7 '!A:M,13,)","v":"Ambient"},{"$f":"VLOOKUP(B970,'[1]2018.7 '!A:N,14,)","v":"Reviewing"}]
[970,"XL2014-TEST","29137385","200L, CUSTOM","021","38","READY TO PROCESS","437","RTP ReadyKleer storage bags",374,{"v":3369.366,"d":"3,369"},null,{"$f":"VLOOKUP(B971,'[1]2018.7 '!A:C,3,)","v":"Active"},{"$f":"VLOOKUP(B971,'[1]2018.7 '!A:M,13,)","v":"Ambient"},{"$f":"VLOOKUP(B971,'[1]2018.7 '!A:N,14,)","v":"No"}]
[971,"29008005","29008005","RTPHollowFiber Development Hrs","021","38","READY TO PROCESS","416","RTP Hollow Fiber filters",{"v":335.78,"d":"336"},{"v":3025.04202,"d":"3,025"},null,{"$f":"VLOOKUP(B972,'[1]2018.7 '!A:C,3,)","v":"Active"},{"$f":"VLOOKUP(B972,'[1]2018.7 '!A:M,13,)","v":"Ambient"},{"$f":"VLOOKUP(B972,'[1]2018.7 '!A:N,14,)","v":"Reviewing"}]
[972,"HF2010-0001","29008451","HOLLOW FIBER CIRCUIT SIZE 8","021","38","READY TO PROCESS","416","RTP Hollow Fiber filters",{"v":6896.88,"d":"6,897"},{"v":62133.99192,"d":"62,134"},null,{"$f":"VLOOKUP(B973,'[1]2018.7 '!A:C,3,)","v":"Active"},{"$f":"VLOOKUP(B973,'[1]2018.7 '!A:M,13,)","v":"Ambient"},{"$f":"VLOOKUP(B973,'[1]2018.7 '!A:N,14,)","v":"No"}]
[973,"HF2010-0002","29008454","HOLLOW FIBER CIRCUIT SIZE 9","021","38","READY TO PROCESS","416","RTP Hollow Fiber filters",{"v":8393.47,"d":"8,393"},{"v":75616.77123,"d":"75,617"},null,{"$f":"VLOOKUP(B974,'[1]2018.7 '!A:C,3,)","v":"Active"},{"$f":"VLOOKUP(B974,'[1]2018.7 '!A:M,13,)","v":"Ambient"},{"$f":"VLOOKUP(B974,'[1]2018.7 '!A:N,14,)","v":"No"}]
[974,"HF2011-0001","29026954","RTPCFP-4-E-6C1","021","38","READY TO PROCESS","416","RTP Hollow Fiber filters",{"v":2681.09,"d":"2,681"},{"v":24153.939810000003,"d":"24,154"},null,{"$f":"VLOOKUP(B975,'[1]2018.7 '!A:C,3,)","v":"Active"},{"$f":"VLOOKUP(B975,'[1]2018.7 '!A:M,13,)","v":"Ambient"},{"$f":"VLOOKUP(B975,'[1]2018.7 '!A:N,14,)","v":"Reviewing"}]
[975,"HF2011-0002","29007836","FILTER ASSY, CFF, CUSTOM","021","38","READY TO PROCESS","416","RTP Hollow Fiber filters",{"v":2453.46,"d":"2,453"},{"v":22103.22114,"d":"22,103"},null,{"$f":"VLOOKUP(B976,'[1]2018.7 '!A:C,3,)","v":"Active"},{"$f":"VLOOKUP(B976,'[1]2018.7 '!A:M,13,)","v":"Ambient"},{"$f":"VLOOKUP(B976,'[1]2018.7 '!A:N,14,)","v":"No"}]
[976,"HF2011-0003","29008517","CFF, MANIFOLD, CUSTOM","021","38","READY TO PROCESS","416","RTP Hollow Fiber filters",{"v":13390,"d":"13,390"},{"v":120630.51000000001,"d":"120,631"},null,{"$f":"VLOOKUP(B977,'[1]2018.7 '!A:C,3,)","v":"Active"},{"$f":"VLOOKUP(B977,'[1]2018.7 '!A:M,13,)","v":"Ambient"},{"$f":"VLOOKUP(B977,'[1]2018.7 '!A:N,14,)","v":"No"}]
[977,"HF2012-0001","29027362","CFF ASSY, CUSTOM","021","38","READY TO PROCESS","416","RTP Hollow Fiber filters",{"v":1409.04,"d":"1,409"},{"v":12694.04136,"d":"12,694"},null,{"$f":"VLOOKUP(B978,'[1]2018.7 '!A:C,3,)","v":"Active"},{"$f":"VLOOKUP(B978,'[1]2018.7 '!A:M,13,)","v":"Ambient"},{"$f":"VLOOKUP(B978,'[1]2018.7 '!A:N,14,)","v":"No"}]
[978,"HF2012-0002","29025953","CFF ASSY, CUSTOM","021","38","READY TO PROCESS","416","RTP Hollow Fiber filters",{"v":2212.44,"d":"2,212"},{"v":19931.87196,"d":"19,932"},null,{"$f":"VLOOKUP(B979,'[1]2018.7 '!A:C,3,)","v":"Active"},{"$f":"VLOOKUP(B979,'[1]2018.7 '!A:M,13,)","v":"Ambient"},{"$f":"VLOOKUP(B979,'[1]2018.7 '!A:N,14,)","v":"Reviewing"}]
[979,"HF2012-0007","29048371","CFF ASSY, CUSTOM","021","38","READY TO PROCESS","416","RTP Hollow Fiber filters",{"v":2209.35,"d":"2,209"},{"v":19904.03415,"d":"19,904"},null,{"$f":"VLOOKUP(B980,'[1]2018.7 '!A:C,3,)","v":"Active"},{"$f":"VLOOKUP(B980,'[1]2018.7 '!A:M,13,)","v":"Ambient"},{"$f":"VLOOKUP(B980,'[1]2018.7 '!A:N,14,)","v":"No"}]
[980,"HF2013-0001","29049044","CFF ASSY, CUSTOM","021","38","READY TO PROCESS","416","RTP Hollow Fiber filters",{"v":4266.26,"d":"4,266"},{"v":38434.73634,"d":"38,435"},null,{"$f":"VLOOKUP(B981,'[1]2018.7 '!A:C,3,)","v":"Active"},{"$f":"VLOOKUP(B981,'[1]2018.7 '!A:M,13,)","v":"Ambient"},{"$f":"VLOOKUP(B981,'[1]2018.7 '!A:N,14,)","v":"Reviewing"}]
[981,"NVCFP-6-D-3501G1","11000594","Size 35 Tubing Assy, 0,65um","021","38","READY TO PROCESS","416","RTP Hollow Fiber filters",{"v":3407.24,"d":"3,407"},{"v":30695.82516,"d":"30,696"},null,{"$f":"VLOOKUP(B982,'[1]2018.7 '!A:C,3,)","v":"Active"},{"$f":"VLOOKUP(B982,'[1]2018.7 '!A:M,13,)","v":"Ambient"},{"$f":"VLOOKUP(B982,'[1]2018.7 '!A:N,14,)","v":"Reviewing"}]
[982,"NVCFP-6-D-5502G1","11000595","Size 55 Tubing Assy, 2X 0,65um","021","38","READY TO PROCESS","416","RTP Hollow Fiber filters",{"v":8284.29,"d":"8,284"},{"v":74633.16861000001,"d":"74,633"},null,{"$f":"VLOOKUP(B983,'[1]2018.7 '!A:C,3,)","v":"Active"},{"$f":"VLOOKUP(B983,'[1]2018.7 '!A:M,13,)","v":"Ambient"},{"$f":"VLOOKUP(B983,'[1]2018.7 '!A:N,14,)","v":"Reviewing"}]
[983,"NVCFP-6-D-55G","56411137","NVCFP-6-D-55G, Special for Novavax","021","38","READY TO PROCESS","416","RTP Hollow Fiber filters",{"v":8004.130000000001,"d":"8,004"},{"v":72109.20717000001,"d":"72,109"},null,{"$f":"VLOOKUP(B984,'[1]2018.7 '!A:C,3,)","v":"Active"},{"$f":"VLOOKUP(B984,'[1]2018.7 '!A:M,13,)","v":"Ambient"},{"$f":"VLOOKUP(B984,'[1]2018.7 '!A:N,14,)","v":"Reviewing"}]
[984,"NVUFP-500-C-3501G1","11000592","Size 35 Tubing Assy, 500kD","021","38","READY TO PROCESS","416","RTP Hollow Fiber filters",{"v":3361.92,"d":"3,362"},{"v":30287.53728,"d":"30,288"},null,{"$f":"VLOOKUP(B985,'[1]2018.7 '!A:C,3,)","v":"Active"},{"$f":"VLOOKUP(B985,'[1]2018.7 '!A:M,13,)","v":"Ambient"},{"$f":"VLOOKUP(B985,'[1]2018.7 '!A:N,14,)","v":"Reviewing"}]
[985,"NVUFP-500-C-3MG1","11000589","1L Bag with Size 3M 500kD HF","021","38","READY TO PROCESS","416","RTP Hollow Fiber filters",{"v":817.82,"d":"818"},{"v":7367.740380000001,"d":"7,368"},null,{"$f":"VLOOKUP(B986,'[1]2018.7 '!A:C,3,)","v":"Active"},{"$f":"VLOOKUP(B986,'[1]2018.7 '!A:M,13,)","v":"Ambient"},{"$f":"VLOOKUP(B986,'[1]2018.7 '!A:N,14,)","v":"Reviewing"}]
[986,"NVUFP-500-C-4MG1","11000590","2L Bag with Size 4M 500kD HF","021","38","READY TO PROCESS","416","RTP Hollow Fiber filters",{"v":1101.07,"d":"1,101"},{"v":9919.53963,"d":"9,920"},null,{"$f":"VLOOKUP(B987,'[1]2018.7 '!A:C,3,)","v":"Active"},{"$f":"VLOOKUP(B987,'[1]2018.7 '!A:M,13,)","v":"Ambient"},{"$f":"VLOOKUP(B987,'[1]2018.7 '!A:N,14,)","v":"Reviewing"}]
[987,"NVUFP-500-C-5502G1","11000593","Size 55 Tubing Assy, 2x 500kD","021","38","READY TO PROCESS","416","RTP Hollow Fiber filters",{"v":8284.29,"d":"8,284"},{"v":74633.16861000001,"d":"74,633"},null,{"$f":"VLOOKUP(B988,'[1]2018.7 '!A:C,3,)","v":"Active"},{"$f":"VLOOKUP(B988,'[1]2018.7 '!A:M,13,)","v":"Ambient"},{"$f":"VLOOKUP(B988,'[1]2018.7 '!A:N,14,)","v":"Reviewing"}]
[988,"NVUFP-500-C-55G","56411138","NVUFP-500-C-55G, Special for Novavax","021","38","READY TO PROCESS","416","RTP Hollow Fiber filters",{"v":8004.130000000001,"d":"8,004"},{"v":72109.20717000001,"d":"72,109"},null,{"$f":"VLOOKUP(B989,'[1]2018.7 '!A:C,3,)","v":"Active"},{"$f":"VLOOKUP(B989,'[1]2018.7 '!A:M,13,)","v":"Ambient"},{"$f":"VLOOKUP(B989,'[1]2018.7 '!A:N,14,)","v":"Reviewing"}]
[989,"NVUFP-500-C-5G1","11000591","10L Bag with Size 5 500kD HF","021","38","READY TO PROCESS","416","RTP Hollow Fiber filters",{"v":2856.19,"d":"2,856"},{"v":25731.41571,"d":"25,731"},null,{"$f":"VLOOKUP(B990,'[1]2018.7 '!A:C,3,)","v":"Active"},{"$f":"VLOOKUP(B990,'[1]2018.7 '!A:M,13,)","v":"Ambient"},{"$f":"VLOOKUP(B990,'[1]2018.7 '!A:N,14,)","v":"Reviewing"}]
[990,"11000852","11000852","UNION FINGERTIGHT ID 0.3 MM","021","46","PURIFICATION SYSTEMS","283","AKTA Classic",134,{"v":1207.2060000000001,"d":"1,207"},null,{"$f":"VLOOKUP(B991,'[1]2018.7 '!A:C,3,)","v":"Active"},{"$f":"VLOOKUP(B991,'[1]2018.7 '!A:M,13,)","v":"Ambient"},{"$f":"VLOOKUP(B991,'[1]2018.7 '!A:N,14,)","v":"No"}]
[991,"18101798","18101798","TUBING CONNECTOR/M6 MALE","021","46","PURIFICATION SYSTEMS","283","AKTA Classic",66,{"v":594.594,"d":"595"},null,{"$f":"VLOOKUP(B992,'[1]2018.7 '!A:C,3,)","v":"Active"},{"$f":"VLOOKUP(B992,'[1]2018.7 '!A:M,13,)","v":"Ambient"},{"$f":"VLOOKUP(B992,'[1]2018.7 '!A:N,14,)","v":"No"}]
[992,"18180142","18180142","INJECTION NEEDLE 0.7X50 MM","021","46","PURIFICATION SYSTEMS","283","AKTA Classic",218,{"v":1963.962,"d":"1,964"},null,{"$f":"VLOOKUP(B993,'[1]2018.7 '!A:C,3,)","v":"Active"},{"$f":"VLOOKUP(B993,'[1]2018.7 '!A:M,13,)","v":"Ambient"},{"$f":"VLOOKUP(B993,'[1]2018.7 '!A:N,14,)","v":"No"}]
[993,"19001601","19001601","VALVE LV-3","021","46","PURIFICATION SYSTEMS","283","AKTA Classic",{"v":470.00000000000006,"d":"470"},{"v":4234.2300000000005,"d":"4,234"},null,{"$f":"VLOOKUP(B994,'[1]2018.7 '!A:C,3,)","v":"Active"},{"$f":"VLOOKUP(B994,'[1]2018.7 '!A:M,13,)","v":"Ambient"},{"$f":"VLOOKUP(B994,'[1]2018.7 '!A:N,14,)","v":"No"}]
[994,"19001701","19001701","VALVE LV-4","021","46","PURIFICATION SYSTEMS","283","AKTA Classic",511,{"v":4603.599,"d":"4,604"},null,{"$f":"VLOOKUP(B995,'[1]2018.7 '!A:C,3,)","v":"Active"},{"$f":"VLOOKUP(B995,'[1]2018.7 '!A:M,13,)","v":"Ambient"},{"$f":"VLOOKUP(B995,'[1]2018.7 '!A:N,14,)","v":"No"}]
[995,"19003501","19003501","TUBING NIPPLE","021","46","PURIFICATION SYSTEMS","283","AKTA Classic",83,{"v":747.7470000000001,"d":"748"},null,{"$f":"VLOOKUP(B996,'[1]2018.7 '!A:C,3,)","v":"Active"},{"$f":"VLOOKUP(B996,'[1]2018.7 '!A:M,13,)","v":"Ambient"},{"$f":"VLOOKUP(B996,'[1]2018.7 '!A:N,14,)","v":"No"}]
[996,"19003601","19003601","O-RING  3 X 1  PFR91","021","46","PURIFICATION SYSTEMS","283","AKTA Classic",73,{"v":657.657,"d":"658"},null,{"$f":"VLOOKUP(B997,'[1]2018.7 '!A:C,3,)","v":"Active"},{"$f":"VLOOKUP(B997,'[1]2018.7 '!A:M,13,)","v":"Ambient"},{"$f":"VLOOKUP(B997,'[1]2018.7 '!A:N,14,)","v":"No"}]
[997,"19003901","19003901","SEALING PLUG","021","46","PURIFICATION SYSTEMS","283","AKTA Classic",66,{"v":594.594,"d":"595"},null,{"$f":"VLOOKUP(B998,'[1]2018.7 '!A:C,3,)","v":"Active"},{"$f":"VLOOKUP(B998,'[1]2018.7 '!A:M,13,)","v":"Ambient"},{"$f":"VLOOKUP(B998,'[1]2018.7 '!A:N,14,)","v":"No"}]
[998,"19004001","19004001","CAPILLARY TUBING PE,10M,1.0ID,1,8OD","021","46","PURIFICATION SYSTEMS","283","AKTA Classic",76,{"v":684.684,"d":"685"},null,{"$f":"VLOOKUP(B999,'[1]2018.7 '!A:C,3,)","v":"Active"},{"$f":"VLOOKUP(B999,'[1]2018.7 '!A:M,13,)","v":"Ambient"},{"$f":"VLOOKUP(B999,'[1]2018.7 '!A:N,14,)","v":"No"}]
[999,"19004501","19004501","TUBING CONNECTOR TC-2","021","46","PURIFICATION SYSTEMS","283","AKTA Classic",124,{"v":1117.116,"d":"1,117"},null,{"$f":"VLOOKUP(B1000,'[1]2018.7 '!A:C,3,)","v":"Active"},{"$f":"VLOOKUP(B1000,'[1]2018.7 '!A:M,13,)","v":"Ambient"},{"$f":"VLOOKUP(B1000,'[1]2018.7 '!A:N,14,)","v":"No"}]
[1000,"19004701","19004701","TUBING CONNECTOR TC-3","021","46","PURIFICATION SYSTEMS","283","AKTA Classic",131,{"v":1180.179,"d":"1,180"},null,{"$f":"VLOOKUP(B1001,'[1]2018.7 '!A:C,3,)","v":"Active"},{"$f":"VLOOKUP(B1001,'[1]2018.7 '!A:M,13,)","v":"Ambient"},{"$f":"VLOOKUP(B1001,'[1]2018.7 '!A:N,14,)","v":"No"}]
[1001,"19004901","19004901","FLOW CONTROL VALVE FCV-1","021","46","PURIFICATION SYSTEMS","283","AKTA Classic",161,{"v":1450.449,"d":"1,450"},null,{"$f":"VLOOKUP(B1002,'[1]2018.7 '!A:C,3,)","v":"Active"},{"$f":"VLOOKUP(B1002,'[1]2018.7 '!A:M,13,)","v":"Ambient"},{"$f":"VLOOKUP(B1002,'[1]2018.7 '!A:N,14,)","v":"Reviewing"}]
[1002,"19045701","19045701","RESERVOIR CYLINDER","021","46","PURIFICATION SYSTEMS","283","AKTA Classic",140,{"v":1261.26,"d":"1,261"},null,{"$f":"VLOOKUP(B1003,'[1]2018.7 '!A:C,3,)","v":"Active"},{"$f":"VLOOKUP(B1003,'[1]2018.7 '!A:M,13,)","v":"Ambient"},{"$f":"VLOOKUP(B1003,'[1]2018.7 '!A:N,14,)","v":"Reviewing"}]
[1003,"19199350","19199350","TUBING CONNECTOR/M6 MALE","021","46","PURIFICATION SYSTEMS","283","AKTA Classic",68,{"v":612.6120000000001,"d":"613"},null,{"$f":"VLOOKUP(B1004,'[1]2018.7 '!A:C,3,)","v":"Active"},{"$f":"VLOOKUP(B1004,'[1]2018.7 '!A:M,13,)","v":"Ambient"},{"$f":"VLOOKUP(B1004,'[1]2018.7 '!A:N,14,)","v":"No"}]
[1004,"19199401","19199401","SOLENOID VALVE, PSV-50","021","46","PURIFICATION SYSTEMS","283","AKTA Classic",671,{"v":6045.039000000001,"d":"6,045"},null,{"$f":"VLOOKUP(B1005,'[1]2018.7 '!A:C,3,)","v":"Active"},{"$f":"VLOOKUP(B1005,'[1]2018.7 '!A:M,13,)","v":"Ambient"},{"$f":"VLOOKUP(B1005,'[1]2018.7 '!A:N,14,)","v":"No"}]
[1005,"19214301","19214301","TUBING CONNECTOR SRTC-2","021","46","PURIFICATION SYSTEMS","283","AKTA Classic",172,{"v":1549.548,"d":"1,550"},null,{"$f":"VLOOKUP(B1006,'[1]2018.7 '!A:C,3,)","v":"Active"},{"$f":"VLOOKUP(B1006,'[1]2018.7 '!A:M,13,)","v":"Ambient"},{"$f":"VLOOKUP(B1006,'[1]2018.7 '!A:N,14,)","v":"No"}]
[1006,"19214401","19214401","TUBING CONNECTOR SRTC-3","021","46","PURIFICATION SYSTEMS","283","AKTA Classic",150,{"v":1351.3500000000001,"d":"1,351"},null,{"$f":"VLOOKUP(B1007,'[1]2018.7 '!A:C,3,)","v":"Active"},{"$f":"VLOOKUP(B1007,'[1]2018.7 '!A:M,13,)","v":"Ambient"},{"$f":"VLOOKUP(B1007,'[1]2018.7 '!A:N,14,)","v":"No"}]
[1007,"19214801","19214801","TUBING END FITTINGS","021","46","PURIFICATION SYSTEMS","283","AKTA Classic",149,{"v":1342.3410000000001,"d":"1,342"},null,{"$f":"VLOOKUP(B1008,'[1]2018.7 '!A:C,3,)","v":"Active"},{"$f":"VLOOKUP(B1008,'[1]2018.7 '!A:M,13,)","v":"Ambient"},{"$f":"VLOOKUP(B1008,'[1]2018.7 '!A:N,14,)","v":"No"}]
[1008,"19437001","19437001","ETFE TUBING 2M 1,2ID, 1,8OD","021","46","PURIFICATION SYSTEMS","283","AKTA Classic",53,{"v":477.47700000000003,"d":"477"},null,{"$f":"VLOOKUP(B1009,'[1]2018.7 '!A:C,3,)","v":"Phase Out"},{"$f":"VLOOKUP(B1009,'[1]2018.7 '!A:M,13,)","v":"Ambient"},{"$f":"VLOOKUP(B1009,'[1]2018.7 '!A:N,14,)","v":"No"}]
[1009,"28949083","28949083","Adaptor AKTA Uninet 2","021","46","PURIFICATION SYSTEMS","283","AKTA Classic",116,{"v":1045.044,"d":"1,045"},null,{"$f":"VLOOKUP(B1010,'[1]2018.7 '!A:C,3,)","v":"Active"},{"$f":"VLOOKUP(B1010,'[1]2018.7 '!A:M,13,)","v":"Ambient"},{"$f":"VLOOKUP(B1010,'[1]2018.7 '!A:N,14,)","v":"No"}]
[1010,"29022094","29022094","AKTA start - Main Instrument","021","46","PURIFICATION SYSTEMS","088","AKTA start",{"v":10237,"d":"10,237"},{"v":92225.133,"d":"92,225"}]
[1011,"29023051","29023051","Frac30","021","46","PURIFICATION SYSTEMS","088","AKTA start",{"v":1989,"d":"1,989"},{"v":17918.901,"d":"17,919"}]
[1012,"11000407","11000407","INLET FILTER HOLDER KIT (AKTA)","021","46","PURIFICATION SYSTEMS","283","AKTA Classic",150,{"v":1351.3500000000001,"d":"1,351"},null,{"$f":"VLOOKUP(B1013,'[1]2018.7 '!A:C,3,)","v":"Active"},{"$f":"VLOOKUP(B1013,'[1]2018.7 '!A:M,13,)","v":"Ambient"},{"$f":"VLOOKUP(B1013,'[1]2018.7 '!A:N,14,)","v":"No"}]
[1013,"11000410","11000410","SCREW LID GL45 KIT, AKTA","021","46","PURIFICATION SYSTEMS","283","AKTA Classic",46,{"v":414.414,"d":"414"},null,{"$f":"VLOOKUP(B1014,'[1]2018.7 '!A:C,3,)","v":"Active"},{"$f":"VLOOKUP(B1014,'[1]2018.7 '!A:M,13,)","v":"Ambient"},{"$f":"VLOOKUP(B1014,'[1]2018.7 '!A:N,14,)","v":"No"}]
[1014,"11000414","11000414","INLET FILTER SET, AKTA","021","46","PURIFICATION SYSTEMS","283","AKTA Classic",99,{"v":891.8910000000001,"d":"892"},null,{"$f":"VLOOKUP(B1015,'[1]2018.7 '!A:C,3,)","v":"Active"},{"$f":"VLOOKUP(B1015,'[1]2018.7 '!A:M,13,)","v":"Ambient"},{"$f":"VLOOKUP(B1015,'[1]2018.7 '!A:N,14,)","v":"No"}]
[1015,"11001251","11001251","POWER SUPPLY CU-950","021","46","PURIFICATION SYSTEMS","283","AKTA Classic",263,{"v":2369.367,"d":"2,369"},null,{"$f":"VLOOKUP(B1016,'[1]2018.7 '!A:C,3,)","v":"Active"},{"$f":"VLOOKUP(B1016,'[1]2018.7 '!A:M,13,)","v":"Ambient"},{"$f":"VLOOKUP(B1016,'[1]2018.7 '!A:N,14,)","v":"No"}]
[1016,"18102711","18102711","ONLINE FILTER KIT, PKG/10(100 ML/MIN AKTA SYSTEMS)","021","46","PURIFICATION SYSTEMS","283","AKTA Classic",129,{"v":1162.161,"d":"1,162"},null,{"$f":"VLOOKUP(B1017,'[1]2018.7 '!A:C,3,)","v":"Active"},{"$f":"VLOOKUP(B1017,'[1]2018.7 '!A:M,13,)","v":"Ambient"},{"$f":"VLOOKUP(B1017,'[1]2018.7 '!A:N,14,)","v":"No"}]
[1017,"18110972","18110972","CABLE UNINET 0.18 M","021","46","PURIFICATION SYSTEMS","283","AKTA Classic",124,{"v":1117.116,"d":"1,117"},null,{"$f":"VLOOKUP(B1018,'[1]2018.7 '!A:C,3,)","v":"Active"},{"$f":"VLOOKUP(B1018,'[1]2018.7 '!A:M,13,)","v":"Ambient"},{"$f":"VLOOKUP(B1018,'[1]2018.7 '!A:N,14,)","v":"No"}]
[1018,"18110973","18110973","CABLE UNINET 0.3 M","021","46","PURIFICATION SYSTEMS","283","AKTA Classic",130,{"v":1171.17,"d":"1,171"},null,{"$f":"VLOOKUP(B1019,'[1]2018.7 '!A:C,3,)","v":"Active"},{"$f":"VLOOKUP(B1019,'[1]2018.7 '!A:M,13,)","v":"Ambient"},{"$f":"VLOOKUP(B1019,'[1]2018.7 '!A:N,14,)","v":"No"}]
[1019,"18110974","18110974","CABLE UNINET 0.7M","021","46","PURIFICATION SYSTEMS","283","AKTA Classic",{"v":242.99999999999997,"d":"243"},{"v":2189.187,"d":"2,189"},null,{"$f":"VLOOKUP(B1020,'[1]2018.7 '!A:C,3,)","v":"Active"},{"$f":"VLOOKUP(B1020,'[1]2018.7 '!A:M,13,)","v":"Ambient"},{"$f":"VLOOKUP(B1020,'[1]2018.7 '!A:N,14,)","v":"No"}]
[1020,"18110975","18110975","CABLE UNINET 3.0 M","021","46","PURIFICATION SYSTEMS","283","AKTA Classic",316,{"v":2846.844,"d":"2,847"},null,{"$f":"VLOOKUP(B1021,'[1]2018.7 '!A:C,3,)","v":"Active"},{"$f":"VLOOKUP(B1021,'[1]2018.7 '!A:M,13,)","v":"Ambient"},{"$f":"VLOOKUP(B1021,'[1]2018.7 '!A:N,14,)","v":"No"}]
[1021,"18111064","18111064","SIGNAL CABLE 6 PIN","021","46","PURIFICATION SYSTEMS","283","AKTA Classic",319,{"v":2873.871,"d":"2,874"},null,{"$f":"VLOOKUP(B1022,'[1]2018.7 '!A:C,3,)","v":"Active"},{"$f":"VLOOKUP(B1022,'[1]2018.7 '!A:M,13,)","v":"Ambient"},{"$f":"VLOOKUP(B1022,'[1]2018.7 '!A:N,14,)","v":"No"}]
[1022,"18111089","18111089","INJECTION KIT INV-907","021","46","PURIFICATION SYSTEMS","283","AKTA Classic",562,{"v":5063.058,"d":"5,063"},null,{"$f":"VLOOKUP(B1023,'[1]2018.7 '!A:C,3,)","v":"Active"},{"$f":"VLOOKUP(B1023,'[1]2018.7 '!A:M,13,)","v":"Ambient"},{"$f":"VLOOKUP(B1023,'[1]2018.7 '!A:N,14,)","v":"No"}]
[1023,"18111103","18111103","DUMMY ELECTRODE, ROUND TIP","021","46","PURIFICATION SYSTEMS","283","AKTA Classic",189,{"v":1702.701,"d":"1,703"},null,{"$f":"VLOOKUP(B1024,'[1]2018.7 '!A:C,3,)","v":"Active"},{"$f":"VLOOKUP(B1024,'[1]2018.7 '!A:M,13,)","v":"Ambient"},{"$f":"VLOOKUP(B1024,'[1]2018.7 '!A:N,14,)","v":"No"}]
[1024,"18111114","18111114","CLAMP, COND.CELL","021","46","PURIFICATION SYSTEMS","283","AKTA Classic",108,{"v":972.972,"d":"973"},null,{"$f":"VLOOKUP(B1025,'[1]2018.7 '!A:C,3,)","v":"Active"},{"$f":"VLOOKUP(B1025,'[1]2018.7 '!A:M,13,)","v":"Ambient"},{"$f":"VLOOKUP(B1025,'[1]2018.7 '!A:N,14,)","v":"No"}]
[1025,"18111116","18111116","FIBER DETACHMENT TOOL","021","46","PURIFICATION SYSTEMS","283","AKTA Classic",106,{"v":954.9540000000001,"d":"955"},null,{"$f":"VLOOKUP(B1026,'[1]2018.7 '!A:C,3,)","v":"Active"},{"$f":"VLOOKUP(B1026,'[1]2018.7 '!A:M,13,)","v":"Ambient"},{"$f":"VLOOKUP(B1026,'[1]2018.7 '!A:N,14,)","v":"No"}]
[1026,"18111244","18111244","ONLINE FILTER HOLDER,100ML/MIN","021","46","PURIFICATION SYSTEMS","283","AKTA Classic",516,{"v":4648.644,"d":"4,649"},null,{"$f":"VLOOKUP(B1027,'[1]2018.7 '!A:C,3,)","v":"Active"},{"$f":"VLOOKUP(B1027,'[1]2018.7 '!A:M,13,)","v":"Ambient"},{"$f":"VLOOKUP(B1027,'[1]2018.7 '!A:N,14,)","v":"No"}]
[1027,"18111252","18111252","STOP PLUG 1/16in, PKG/5","021","46","PURIFICATION SYSTEMS","283","AKTA Classic",280,{"v":2522.52,"d":"2,523"},null,{"$f":"VLOOKUP(B1028,'[1]2018.7 '!A:C,3,)","v":"Active"},{"$f":"VLOOKUP(B1028,'[1]2018.7 '!A:M,13,)","v":"Ambient"},{"$f":"VLOOKUP(B1028,'[1]2018.7 '!A:N,14,)","v":"No"}]
[1028,"18111253","18111253","PEEK TUBING ID 0,75MM (1/16in)","021","46","PURIFICATION SYSTEMS","283","AKTA Classic",{"$f":"K1029/9.009","v":86},{"v":774.774,"d":"775"},null,{"$f":"VLOOKUP(B1029,'[1]2018.7 '!A:C,3,)","v":"Active"},{"$f":"VLOOKUP(B1029,'[1]2018.7 '!A:M,13,)","v":"Ambient"},{"$f":"VLOOKUP(B1029,'[1]2018.7 '!A:N,14,)","v":"No"}]
[1029,"18111255","18111255","FINGERTIGHT CONNECTOR 1/16in","021","46","PURIFICATION SYSTEMS","283","AKTA Classic",112,{"v":1009.008,"d":"1,009"},null,{"$f":"VLOOKUP(B1030,'[1]2018.7 '!A:C,3,)","v":"Active"},{"$f":"VLOOKUP(B1030,'[1]2018.7 '!A:M,13,)","v":"Ambient"},{"$f":"VLOOKUP(B1030,'[1]2018.7 '!A:N,14,)","v":"No"}]
[1030,"18111315","18111315","INLET FILTER ASSEMBLY","021","46","PURIFICATION SYSTEMS","283","AKTA Classic",170,{"v":1531.53,"d":"1,532"},null,{"$f":"VLOOKUP(B1031,'[1]2018.7 '!A:C,3,)","v":"Active"},{"$f":"VLOOKUP(B1031,'[1]2018.7 '!A:M,13,)","v":"Ambient"},{"$f":"VLOOKUP(B1031,'[1]2018.7 '!A:N,14,)","v":"No"}]
[1031,"18111319","18111319","LAB ROD HOLDER","021","46","PURIFICATION SYSTEMS","283","AKTA Classic",371,{"v":3342.339,"d":"3,342"},null,{"$f":"VLOOKUP(B1032,'[1]2018.7 '!A:C,3,)","v":"Active"},{"$f":"VLOOKUP(B1032,'[1]2018.7 '!A:M,13,)","v":"Ambient"},{"$f":"VLOOKUP(B1032,'[1]2018.7 '!A:N,14,)","v":"No"}]
[1032,"18111332","18111332","TUBING KIT FOR RINSING SYSTEM","021","46","PURIFICATION SYSTEMS","283","AKTA Classic",355,{"v":3198.195,"d":"3,198"},null,{"$f":"VLOOKUP(B1033,'[1]2018.7 '!A:C,3,)","v":"Active"},{"$f":"VLOOKUP(B1033,'[1]2018.7 '!A:M,13,)","v":"Ambient"},{"$f":"VLOOKUP(B1033,'[1]2018.7 '!A:N,14,)","v":"No"}]
[1033,"18111368","18111368","PEEK TUBING, 2M/ID 0,5/OD 1/16","021","46","PURIFICATION SYSTEMS","283","AKTA Classic",70,{"v":630.63,"d":"631"},null,{"$f":"VLOOKUP(B1034,'[1]2018.7 '!A:C,3,)","v":"Active"},{"$f":"VLOOKUP(B1034,'[1]2018.7 '!A:M,13,)","v":"Ambient"},{"$f":"VLOOKUP(B1034,'[1]2018.7 '!A:N,14,)","v":"No"}]
[1034,"18111383","18111383","TUBING KIT SUPERLOOP 10 ML AKTA","021","46","PURIFICATION SYSTEMS","283","AKTA Classic",196,{"v":1765.7640000000001,"d":"1,766"},null,{"$f":"VLOOKUP(B1035,'[1]2018.7 '!A:C,3,)","v":"Phase Out"},{"$f":"VLOOKUP(B1035,'[1]2018.7 '!A:M,13,)","v":"Ambient"},{"$f":"VLOOKUP(B1035,'[1]2018.7 '!A:N,14,)","v":"reviewing"}]
[1035,"18111398","18111398","SAMPLE LOOP 100 UL, INV-907","021","46","PURIFICATION SYSTEMS","283","AKTA Classic",170,{"v":1531.53,"d":"1,532"},null,{"$f":"VLOOKUP(B1036,'[1]2018.7 '!A:C,3,)","v":"Active"},{"$f":"VLOOKUP(B1036,'[1]2018.7 '!A:M,13,)","v":"Ambient"},{"$f":"VLOOKUP(B1036,'[1]2018.7 '!A:N,14,)","v":"No"}]
[1036,"18111399","18111399","SAMPLE LOOP 500 UL, INV-907","021","46","PURIFICATION SYSTEMS","283","AKTA Classic",224,{"v":2018.016,"d":"2,018"},null,{"$f":"VLOOKUP(B1037,'[1]2018.7 '!A:C,3,)","v":"Active"},{"$f":"VLOOKUP(B1037,'[1]2018.7 '!A:M,13,)","v":"Ambient"},{"$f":"VLOOKUP(B1037,'[1]2018.7 '!A:N,14,)","v":"No"}]
[1037,"18111401","18111401","SAMPLE LOOP 1.0 ML, INV-907","021","46","PURIFICATION SYSTEMS","283","AKTA Classic",183,{"v":1648.6470000000002,"d":"1,649"},null,{"$f":"VLOOKUP(B1038,'[1]2018.7 '!A:C,3,)","v":"Active"},{"$f":"VLOOKUP(B1038,'[1]2018.7 '!A:M,13,)","v":"Ambient"},{"$f":"VLOOKUP(B1038,'[1]2018.7 '!A:N,14,)","v":"No"}]
[1038,"18111402","18111402","SAMPLE LOOP 2.0 ML, INV-907","021","46","PURIFICATION SYSTEMS","283","AKTA Classic",280,{"v":2522.52,"d":"2,523"},null,{"$f":"VLOOKUP(B1039,'[1]2018.7 '!A:C,3,)","v":"Active"},{"$f":"VLOOKUP(B1039,'[1]2018.7 '!A:M,13,)","v":"Ambient"},{"$f":"VLOOKUP(B1039,'[1]2018.7 '!A:N,14,)","v":"No"}]
[1039,"18111440","18111440","INLET TUBING KIT ID 2.9mm, OD 3/16in","021","46","PURIFICATION SYSTEMS","283","AKTA Classic",151,{"v":1360.3590000000002,"d":"1,360"},null,{"$f":"VLOOKUP(B1040,'[1]2018.7 '!A:C,3,)","v":"Active"},{"$f":"VLOOKUP(B1040,'[1]2018.7 '!A:M,13,)","v":"Ambient"},{"$f":"VLOOKUP(B1040,'[1]2018.7 '!A:N,14,)","v":"No"}]
[1040,"18111442","18111442","INLET FILTER SET,10 FILT./NETS","021","46","PURIFICATION SYSTEMS","283","AKTA Classic",170,{"v":1531.53,"d":"1,532"},null,{"$f":"VLOOKUP(B1041,'[1]2018.7 '!A:C,3,)","v":"Active"},{"$f":"VLOOKUP(B1041,'[1]2018.7 '!A:M,13,)","v":"Ambient"},{"$f":"VLOOKUP(B1041,'[1]2018.7 '!A:N,14,)","v":"No"}]
[1041,"18111563","18111563","PURGE TUBING  KIT","021","46","PURIFICATION SYSTEMS","283","AKTA Classic",189,{"v":1702.701,"d":"1,703"},null,{"$f":"VLOOKUP(B1042,'[1]2018.7 '!A:C,3,)","v":"Active"},{"$f":"VLOOKUP(B1042,'[1]2018.7 '!A:M,13,)","v":"Ambient"},{"$f":"VLOOKUP(B1042,'[1]2018.7 '!A:N,14,)","v":"No"}]
[1042,"18111774","18111774","CABLE UNINET 15.0 M","021","46","PURIFICATION SYSTEMS","283","AKTA Classic",415,{"v":3738.735,"d":"3,739"},null,{"$f":"VLOOKUP(B1043,'[1]2018.7 '!A:C,3,)","v":"Active"},{"$f":"VLOOKUP(B1043,'[1]2018.7 '!A:M,13,)","v":"Ambient"},{"$f":"VLOOKUP(B1043,'[1]2018.7 '!A:N,14,)","v":"No"}]
[1043,"18111775","18111775","CABLE UNINET 1.5 M","021","46","PURIFICATION SYSTEMS","283","AKTA Classic",211,{"v":1900.8990000000001,"d":"1,901"},null,{"$f":"VLOOKUP(B1044,'[1]2018.7 '!A:C,3,)","v":"Active"},{"$f":"VLOOKUP(B1044,'[1]2018.7 '!A:M,13,)","v":"Ambient"},{"$f":"VLOOKUP(B1044,'[1]2018.7 '!A:N,14,)","v":"No"}]
[1044,"18111781","18111781","FLOW RESTRICTOR 3,5 MPA","021","46","PURIFICATION SYSTEMS","283","AKTA Classic",695,{"v":6261.255,"d":"6,261"},null,{"$f":"VLOOKUP(B1045,'[1]2018.7 '!A:C,3,)","v":"Active"},{"$f":"VLOOKUP(B1045,'[1]2018.7 '!A:M,13,)","v":"Ambient"},{"$f":"VLOOKUP(B1045,'[1]2018.7 '!A:N,14,)","v":"No"}]
[1045,"18111801","18111801","ON-LINE FILTER (10 ML/MIN) CPL","021","46","PURIFICATION SYSTEMS","283","AKTA Classic",603,{"v":5432.427000000001,"d":"5,432"},null,{"$f":"VLOOKUP(B1046,'[1]2018.7 '!A:C,3,)","v":"Active"},{"$f":"VLOOKUP(B1046,'[1]2018.7 '!A:M,13,)","v":"Ambient"},{"$f":"VLOOKUP(B1046,'[1]2018.7 '!A:N,14,)","v":"No"}]
[1046,"18111860","18111860","O-RING 5.3 X 2.4 MM","021","46","PURIFICATION SYSTEMS","283","AKTA Classic",{"v":59.99999999999999,"d":"60"},{"v":540.54,"d":"541"},null,{"$f":"VLOOKUP(B1047,'[1]2018.7 '!A:C,3,)","v":"Active"},{"$f":"VLOOKUP(B1047,'[1]2018.7 '!A:M,13,)","v":"Ambient"},{"$f":"VLOOKUP(B1047,'[1]2018.7 '!A:N,14,)","v":"No"}]
[1047,"18111890","18111890","MIXING CHAMBER 0.6 ML.","021","46","PURIFICATION SYSTEMS","283","AKTA Classic",825,{"v":7432.425,"d":"7,432"},null,{"$f":"VLOOKUP(B1048,'[1]2018.7 '!A:C,3,)","v":"Active"},{"$f":"VLOOKUP(B1048,'[1]2018.7 '!A:M,13,)","v":"Ambient"},{"$f":"VLOOKUP(B1048,'[1]2018.7 '!A:N,14,)","v":"No"}]
[1048,"18111891","18111891","MIXING CHAMB.2ML(SU 17920011)","021","46","PURIFICATION SYSTEMS","283","AKTA Classic",{"v":481.99999999999994,"d":"482"},{"v":4342.338,"d":"4,342"},null,{"$f":"VLOOKUP(B1049,'[1]2018.7 '!A:C,3,)","v":"Active"},{"$f":"VLOOKUP(B1049,'[1]2018.7 '!A:M,13,)","v":"Ambient"},{"$f":"VLOOKUP(B1049,'[1]2018.7 '!A:N,14,)","v":"No"}]
[1049,"18111892","18111892","MIXING CHAMBER 5ML.","021","46","PURIFICATION SYSTEMS","283","AKTA Classic",543,{"v":4891.887000000001,"d":"4,892"},null,{"$f":"VLOOKUP(B1050,'[1]2018.7 '!A:C,3,)","v":"Active"},{"$f":"VLOOKUP(B1050,'[1]2018.7 '!A:M,13,)","v":"Ambient"},{"$f":"VLOOKUP(B1050,'[1]2018.7 '!A:N,14,)","v":"No"}]
[1050,"18111893","18111893","MIXING CHAMBER 12ML.","021","46","PURIFICATION SYSTEMS","283","AKTA Classic",630,{"v":5675.67,"d":"5,676"},null,{"$f":"VLOOKUP(B1051,'[1]2018.7 '!A:C,3,)","v":"Active"},{"$f":"VLOOKUP(B1051,'[1]2018.7 '!A:M,13,)","v":"Ambient"},{"$f":"VLOOKUP(B1051,'[1]2018.7 '!A:N,14,)","v":"No"}]
[1051,"18111905","18111905","MAINS DISTRIBUTION LEAD 0.3M","021","46","PURIFICATION SYSTEMS","283","AKTA Classic",102,{"v":918.918,"d":"919"},null,{"$f":"VLOOKUP(B1052,'[1]2018.7 '!A:C,3,)","v":"Phase Out"},{"$f":"VLOOKUP(B1052,'[1]2018.7 '!A:M,13,)","v":"Ambient"},{"$f":"VLOOKUP(B1052,'[1]2018.7 '!A:N,14,)","v":"No"}]
[1052,"18111906","18111906","MAINS DISTRIBUTION LEAD 0.5M","021","46","PURIFICATION SYSTEMS","283","AKTA Classic",90,{"v":810.8100000000001,"d":"811"},null,{"$f":"VLOOKUP(B1053,'[1]2018.7 '!A:C,3,)","v":"Active"},{"$f":"VLOOKUP(B1053,'[1]2018.7 '!A:M,13,)","v":"Ambient"},{"$f":"VLOOKUP(B1053,'[1]2018.7 '!A:N,14,)","v":"No"}]
[1053,"18111963","18111963","FLOW RESTRICTOR FR-904","021","46","PURIFICATION SYSTEMS","283","AKTA Classic",357,{"v":3216.213,"d":"3,216"},null,{"$f":"VLOOKUP(B1054,'[1]2018.7 '!A:C,3,)","v":"Active"},{"$f":"VLOOKUP(B1054,'[1]2018.7 '!A:M,13,)","v":"Ambient"},{"$f":"VLOOKUP(B1054,'[1]2018.7 '!A:N,14,)","v":"No"}]
[1054,"18111974","18111974","ETFE TUBING,2M/ID0.75/OD1/17","021","46","PURIFICATION SYSTEMS","283","AKTA Classic",76,{"v":684.684,"d":"685"},null,{"$f":"VLOOKUP(B1055,'[1]2018.7 '!A:C,3,)","v":"Active"},{"$f":"VLOOKUP(B1055,'[1]2018.7 '!A:M,13,)","v":"Ambient"},{"$f":"VLOOKUP(B1055,'[1]2018.7 '!A:N,14,)","v":"No"}]
[1055,"18112039","18112039","SAMPLE LOOP,10 MY","021","46","PURIFICATION SYSTEMS","283","AKTA Classic",76,{"v":684.684,"d":"685"},null,{"$f":"VLOOKUP(B1056,'[1]2018.7 '!A:C,3,)","v":"Active"},{"$f":"VLOOKUP(B1056,'[1]2018.7 '!A:M,13,)","v":"Ambient"},{"$f":"VLOOKUP(B1056,'[1]2018.7 '!A:N,14,)","v":"No"}]
[1056,"18112092","18112092","UNION 1/16inMALE,I.D. 0.25","021","46","PURIFICATION SYSTEMS","283","AKTA Classic",31,{"v":279.279,"d":"279"},null,{"$f":"VLOOKUP(B1057,'[1]2018.7 '!A:C,3,)","v":"Active"},{"$f":"VLOOKUP(B1057,'[1]2018.7 '!A:M,13,)","v":"Ambient"},{"$f":"VLOOKUP(B1057,'[1]2018.7 '!A:N,14,)","v":"No"}]
[1057,"18112093","18112093","UNION, 1/16in MALE, I.D. 0.5 MM","021","46","PURIFICATION SYSTEMS","283","AKTA Classic",106,{"v":954.9540000000001,"d":"955"},null,{"$f":"VLOOKUP(B1058,'[1]2018.7 '!A:C,3,)","v":"Active"},{"$f":"VLOOKUP(B1058,'[1]2018.7 '!A:M,13,)","v":"Ambient"},{"$f":"VLOOKUP(B1058,'[1]2018.7 '!A:N,14,)","v":"No"}]
[1058,"18112094","18112094","ON-LINE FILTER (10 ML/MIN)","021","46","PURIFICATION SYSTEMS","283","AKTA Classic",115,{"v":1036.035,"d":"1,036"},null,{"$f":"VLOOKUP(B1059,'[1]2018.7 '!A:C,3,)","v":"Active"},{"$f":"VLOOKUP(B1059,'[1]2018.7 '!A:M,13,)","v":"Ambient"},{"$f":"VLOOKUP(B1059,'[1]2018.7 '!A:N,14,)","v":"No"}]
[1059,"18112095","18112095","PEEK TUBING, 2M/ID0.25/OD1/16","021","46","PURIFICATION SYSTEMS","283","AKTA Classic",{"v":59.99999999999999,"d":"60"},{"v":540.54,"d":"541"},null,{"$f":"VLOOKUP(B1060,'[1]2018.7 '!A:C,3,)","v":"Active"},{"$f":"VLOOKUP(B1060,'[1]2018.7 '!A:M,13,)","v":"Ambient"},{"$f":"VLOOKUP(B1060,'[1]2018.7 '!A:N,14,)","v":"No"}]
[1060,"18112096","18112096","ETFE TUBING, 2M/ID0.5/OD1/17","021","46","PURIFICATION SYSTEMS","283","AKTA Classic",76,{"v":684.684,"d":"685"},null,{"$f":"VLOOKUP(B1061,'[1]2018.7 '!A:C,3,)","v":"Active"},{"$f":"VLOOKUP(B1061,'[1]2018.7 '!A:M,13,)","v":"Ambient"},{"$f":"VLOOKUP(B1061,'[1]2018.7 '!A:N,14,)","v":"No"}]
[1061,"18112116","18112116","FEP TUBING, 3M/ID1/16/OD1/8","021","46","PURIFICATION SYSTEMS","283","AKTA Classic",67,{"v":603.6030000000001,"d":"604"},null,{"$f":"VLOOKUP(B1062,'[1]2018.7 '!A:C,3,)","v":"Active"},{"$f":"VLOOKUP(B1062,'[1]2018.7 '!A:M,13,)","v":"Ambient"},{"$f":"VLOOKUP(B1062,'[1]2018.7 '!A:N,14,)","v":"No"}]
[1062,"18112117","18112117","TUBING CONNECTOR 1/8in","021","46","PURIFICATION SYSTEMS","283","AKTA Classic",178,{"v":1603.602,"d":"1,604"},null,{"$f":"VLOOKUP(B1063,'[1]2018.7 '!A:C,3,)","v":"Active"},{"$f":"VLOOKUP(B1063,'[1]2018.7 '!A:M,13,)","v":"Ambient"},{"$f":"VLOOKUP(B1063,'[1]2018.7 '!A:N,14,)","v":"No"}]
[1063,"18112118","18112118","FERRULE FOR 1/8in TUBING","021","46","PURIFICATION SYSTEMS","283","AKTA Classic",134,{"v":1207.2060000000001,"d":"1,207"},null,{"$f":"VLOOKUP(B1064,'[1]2018.7 '!A:C,3,)","v":"Active"},{"$f":"VLOOKUP(B1064,'[1]2018.7 '!A:M,13,)","v":"Ambient"},{"$f":"VLOOKUP(B1064,'[1]2018.7 '!A:N,14,)","v":"No"}]
[1064,"18112135","18112135","FLOW RESTRICTOR,FR-902","021","46","PURIFICATION SYSTEMS","283","AKTA Classic",682,{"v":6144.138,"d":"6,144"},null,{"$f":"VLOOKUP(B1065,'[1]2018.7 '!A:C,3,)","v":"Active"},{"$f":"VLOOKUP(B1065,'[1]2018.7 '!A:M,13,)","v":"Ambient"},{"$f":"VLOOKUP(B1065,'[1]2018.7 '!A:N,14,)","v":"No"}]
[1065,"18112136","18112136","ETFE TUBING,2M/ID0,25/OD1/17","021","46","PURIFICATION SYSTEMS","283","AKTA Classic",232,{"v":2090.088,"d":"2,090"},null,{"$f":"VLOOKUP(B1066,'[1]2018.7 '!A:C,3,)","v":"Active"},{"$f":"VLOOKUP(B1066,'[1]2018.7 '!A:M,13,)","v":"Ambient"},{"$f":"VLOOKUP(B1066,'[1]2018.7 '!A:N,14,)","v":"No"}]
[1066,"18112164","18112164","TUBING KIT I.D. O,5 MM","021","46","PURIFICATION SYSTEMS","283","AKTA Classic",627,{"v":5648.643,"d":"5,649"},null,{"$f":"VLOOKUP(B1067,'[1]2018.7 '!A:C,3,)","v":"Active"},{"$f":"VLOOKUP(B1067,'[1]2018.7 '!A:M,13,)","v":"Ambient"},{"$f":"VLOOKUP(B1067,'[1]2018.7 '!A:N,14,)","v":"No"}]
[1067,"18112165","18112165","TUBING KIT, I.D. 1,0 MM","021","46","PURIFICATION SYSTEMS","283","AKTA Classic",771,{"v":6945.939,"d":"6,946"},null,{"$f":"VLOOKUP(B1068,'[1]2018.7 '!A:C,3,)","v":"Active"},{"$f":"VLOOKUP(B1068,'[1]2018.7 '!A:M,13,)","v":"Ambient"},{"$f":"VLOOKUP(B1068,'[1]2018.7 '!A:N,14,)","v":"No"}]
[1068,"18112212","18112212","TUBING KIT, I.D. 0.25 MM","021","46","PURIFICATION SYSTEMS","283","AKTA Classic",534,{"v":4810.8060000000005,"d":"4,811"},null,{"$f":"VLOOKUP(B1069,'[1]2018.7 '!A:C,3,)","v":"Active"},{"$f":"VLOOKUP(B1069,'[1]2018.7 '!A:M,13,)","v":"Ambient"},{"$f":"VLOOKUP(B1069,'[1]2018.7 '!A:N,14,)","v":"No"}]
[1069,"18112214","18112214","TUBING KIT 0.75MM AKTA EXPL.","021","46","PURIFICATION SYSTEMS","283","AKTA Classic",433,{"v":3900.897,"d":"3,901"},null,{"$f":"VLOOKUP(B1070,'[1]2018.7 '!A:C,3,)","v":"Active"},{"$f":"VLOOKUP(B1070,'[1]2018.7 '!A:M,13,)","v":"Ambient"},{"$f":"VLOOKUP(B1070,'[1]2018.7 '!A:N,14,)","v":"No"}]
[1070,"18112321","18112321","TUBING KIT, I.D. 0.50 MM","021","46","PURIFICATION SYSTEMS","283","AKTA Classic",540,{"v":4864.860000000001,"d":"4,865"},null,{"$f":"VLOOKUP(B1071,'[1]2018.7 '!A:C,3,)","v":"Active"},{"$f":"VLOOKUP(B1071,'[1]2018.7 '!A:M,13,)","v":"Ambient"},{"$f":"VLOOKUP(B1071,'[1]2018.7 '!A:N,14,)","v":"No"}]
[1071,"18112333","18112333","TUBING KIT, I.D. 0.50 MM","021","46","PURIFICATION SYSTEMS","283","AKTA Classic",338,{"v":3045.042,"d":"3,045"},null,{"$f":"VLOOKUP(B1072,'[1]2018.7 '!A:C,3,)","v":"Active"},{"$f":"VLOOKUP(B1072,'[1]2018.7 '!A:M,13,)","v":"Ambient"},{"$f":"VLOOKUP(B1072,'[1]2018.7 '!A:N,14,)","v":"No"}]
[1072,"18112334","18112334","TUBING KIT,I.D. 0.25 MM","021","46","PURIFICATION SYSTEMS","283","AKTA Classic",309,{"v":2783.781,"d":"2,784"},null,{"$f":"VLOOKUP(B1073,'[1]2018.7 '!A:C,3,)","v":"Active"},{"$f":"VLOOKUP(B1073,'[1]2018.7 '!A:M,13,)","v":"Ambient"},{"$f":"VLOOKUP(B1073,'[1]2018.7 '!A:N,14,)","v":"No"}]
[1073,"18112394","18112394","UNION M6 FEM/1/16inFEM PEEK","021","46","PURIFICATION SYSTEMS","283","AKTA Classic",159,{"v":1432.431,"d":"1,432"},null,{"$f":"VLOOKUP(B1074,'[1]2018.7 '!A:C,3,)","v":"Active"},{"$f":"VLOOKUP(B1074,'[1]2018.7 '!A:M,13,)","v":"Ambient"},{"$f":"VLOOKUP(B1074,'[1]2018.7 '!A:N,14,)","v":"No"}]
[1074,"18112453","18112453","NEW PURGE KIT P-900","021","46","PURIFICATION SYSTEMS","283","AKTA Classic",78,{"v":702.702,"d":"703"},null,{"$f":"VLOOKUP(B1075,'[1]2018.7 '!A:C,3,)","v":"Active"},{"$f":"VLOOKUP(B1075,'[1]2018.7 '!A:M,13,)","v":"Ambient"},{"$f":"VLOOKUP(B1075,'[1]2018.7 '!A:N,14,)","v":"No"}]
[1075,"18112632","18112632","LONG COLUMN HOLDER","021","46","PURIFICATION SYSTEMS","283","AKTA Classic",280,{"v":2522.52,"d":"2,523"},null,{"$f":"VLOOKUP(B1076,'[1]2018.7 '!A:C,3,)","v":"Active"},{"$f":"VLOOKUP(B1076,'[1]2018.7 '!A:M,13,)","v":"Ambient"},{"$f":"VLOOKUP(B1076,'[1]2018.7 '!A:N,14,)","v":"No"}]
[1076,"18112633","18112633","PURGEVALVE AIR900(SU 17920013)","021","46","PURIFICATION SYSTEMS","283","AKTA Classic",152,{"v":1369.368,"d":"1,369"},null,{"$f":"VLOOKUP(B1077,'[1]2018.7 '!A:C,3,)","v":"Active"},{"$f":"VLOOKUP(B1077,'[1]2018.7 '!A:M,13,)","v":"Ambient"},{"$f":"VLOOKUP(B1077,'[1]2018.7 '!A:N,14,)","v":"No"}]
[1077,"18112706","18112706","FERRULES FOR 1/16in O.D.TUBING","021","46","PURIFICATION SYSTEMS","283","AKTA Classic",147,{"v":1324.323,"d":"1,324"},null,{"$f":"VLOOKUP(B1078,'[1]2018.7 '!A:C,3,)","v":"Active"},{"$f":"VLOOKUP(B1078,'[1]2018.7 '!A:M,13,)","v":"Ambient"},{"$f":"VLOOKUP(B1078,'[1]2018.7 '!A:N,14,)","v":"No"}]
[1078,"18112707","18112707","CONNECTOR FOR 1/16in OD TUBING","021","46","PURIFICATION SYSTEMS","283","AKTA Classic",284,{"v":2558.556,"d":"2,559"},null,{"$f":"VLOOKUP(B1079,'[1]2018.7 '!A:C,3,)","v":"Active"},{"$f":"VLOOKUP(B1079,'[1]2018.7 '!A:M,13,)","v":"Ambient"},{"$f":"VLOOKUP(B1079,'[1]2018.7 '!A:N,14,)","v":"No"}]
[1079,"18112766","18112766","INJECTION FILL PORT","021","46","PURIFICATION SYSTEMS","283","AKTA Classic",{"v":245.99999999999997,"d":"246"},{"v":2216.214,"d":"2,216"},null,{"$f":"VLOOKUP(B1080,'[1]2018.7 '!A:C,3,)","v":"Active"},{"$f":"VLOOKUP(B1080,'[1]2018.7 '!A:M,13,)","v":"Ambient"},{"$f":"VLOOKUP(B1080,'[1]2018.7 '!A:N,14,)","v":"No"}]
[1080,"18114227","18114227","BRACKET P-950/960","021","46","PURIFICATION SYSTEMS","283","AKTA Classic",63,{"v":567.567,"d":"568"},null,{"$f":"VLOOKUP(B1081,'[1]2018.7 '!A:C,3,)","v":"Active"},{"$f":"VLOOKUP(B1081,'[1]2018.7 '!A:M,13,)","v":"Ambient"},{"$f":"VLOOKUP(B1081,'[1]2018.7 '!A:N,14,)","v":"No"}]
[1081,"18114998","18114998","SMALL COLUMN CLAMP","021","46","PURIFICATION SYSTEMS","283","AKTA Classic",41,{"v":369.369,"d":"369"},null,{"$f":"VLOOKUP(B1082,'[1]2018.7 '!A:C,3,)","v":"Active"},{"$f":"VLOOKUP(B1082,'[1]2018.7 '!A:M,13,)","v":"Ambient"},{"$f":"VLOOKUP(B1082,'[1]2018.7 '!A:N,14,)","v":"No"}]
[1082,"18115283","18115283","P-950 DIRECT LOAD KIT","021","46","PURIFICATION SYSTEMS","283","AKTA Classic",375,{"v":3378.375,"d":"3,378"},null,{"$f":"VLOOKUP(B1083,'[1]2018.7 '!A:C,3,)","v":"Active"},{"$f":"VLOOKUP(B1083,'[1]2018.7 '!A:M,13,)","v":"Ambient"},{"$f":"VLOOKUP(B1083,'[1]2018.7 '!A:N,14,)","v":"Reviewing"}]
[1083,"18115328","18115328","PURGE KIT P-950","021","46","PURIFICATION SYSTEMS","283","AKTA Classic",134,{"v":1207.2060000000001,"d":"1,207"},null,{"$f":"VLOOKUP(B1084,'[1]2018.7 '!A:C,3,)","v":"Active"},{"$f":"VLOOKUP(B1084,'[1]2018.7 '!A:M,13,)","v":"Ambient"},{"$f":"VLOOKUP(B1084,'[1]2018.7 '!A:N,14,)","v":"No"}]
[1084,"18117481","18117481","O-RING  3 X 1  FFKM (PFR91)","021","46","PURIFICATION SYSTEMS","283","AKTA Classic",{"v":120.99999999999999,"d":"121"},{"v":1090.089,"d":"1,090"},null,{"$f":"VLOOKUP(B1085,'[1]2018.7 '!A:C,3,)","v":"Active"},{"$f":"VLOOKUP(B1085,'[1]2018.7 '!A:M,13,)","v":"Ambient"},{"$f":"VLOOKUP(B1085,'[1]2018.7 '!A:N,14,)","v":"No"}]
[1085,"18117592","18117592","BRACKET P-960","021","46","PURIFICATION SYSTEMS","283","AKTA Classic",97,{"v":873.873,"d":"874"},null,{"$f":"VLOOKUP(B1086,'[1]2018.7 '!A:C,3,)","v":"Active"},{"$f":"VLOOKUP(B1086,'[1]2018.7 '!A:M,13,)","v":"Ambient"},{"$f":"VLOOKUP(B1086,'[1]2018.7 '!A:N,14,)","v":"Reviewing"}]
[1086,"18117739","18117739","TUBING KIT LOADING SAMPLE LOOP","021","46","PURIFICATION SYSTEMS","283","AKTA Classic",579,{"v":5216.211,"d":"5,216"},null,{"$f":"VLOOKUP(B1087,'[1]2018.7 '!A:C,3,)","v":"Phase Out"},{"$f":"VLOOKUP(B1087,'[1]2018.7 '!A:M,13,)","v":"Ambient"},{"$f":"VLOOKUP(B1087,'[1]2018.7 '!A:N,14,)","v":"reviewing"}]
[1087,"18309460","18309460","COLUMN HOLDER AKTA XK50","021","46","PURIFICATION SYSTEMS","283","AKTA Classic",354,{"v":3189.186,"d":"3,189"},null,{"$f":"VLOOKUP(B1088,'[1]2018.7 '!A:C,3,)","v":"Active"},{"$f":"VLOOKUP(B1088,'[1]2018.7 '!A:M,13,)","v":"Ambient"},{"$f":"VLOOKUP(B1088,'[1]2018.7 '!A:N,14,)","v":"No"}]
[1088,"72114606","29147866","Printer for AKTA/Imager","021","46","PURIFICATION SYSTEMS","283","AKTA Classic",264,{"v":2378.376,"d":"2,378"},null,{"$f":"VLOOKUP(B1089,'[1]2018.7 '!A:C,3,)","v":"Active"},{"$f":"VLOOKUP(B1089,'[1]2018.7 '!A:M,13,)","v":"Ambient"},{"$f":"VLOOKUP(B1089,'[1]2018.7 '!A:N,14,)","v":"No"}]
[1089,"11003130","11003130","LARGE ID RECIRK TUBING AKTACRO","021","88","STD BIOPROCESS FILTRATION HW","294","Std AKTAcrossflow",{"v":1949.9999999999998,"d":"1,950"},{"v":17567.55,"d":"17,568"},null,{"$f":"VLOOKUP(B1090,'[1]2018.7 '!A:C,3,)","v":"Active"},{"$f":"VLOOKUP(B1090,'[1]2018.7 '!A:M,13,)","v":"Ambient"},{"$f":"VLOOKUP(B1090,'[1]2018.7 '!A:N,14,)","v":"No"}]
[1090,"29008011","29008011","HollowFiber Development Hours","021","93","BIOPROCESS MEMBRANES","290","Hollow Fiber Cartridges",280,{"v":2522.52,"d":"2,523"},null,{"$f":"VLOOKUP(B1091,'[1]2018.7 '!A:C,3,)","v":"Active"},{"$f":"VLOOKUP(B1091,'[1]2018.7 '!A:M,13,)","v":"Ambient"},{"$f":"VLOOKUP(B1091,'[1]2018.7 '!A:N,14,)","v":"Reviewing"}]
[1091,"ABCFP-2-E-35A","56410568","MF CARTRIDGE","021","93","BIOPROCESS MEMBRANES","290","Hollow Fiber Cartridges",{"v":2685,"d":"2,685"},{"v":24189.165,"d":"24,189"},null,{"$f":"VLOOKUP(B1092,'[1]2018.7 '!A:C,3,)","v":"Active"},{"$f":"VLOOKUP(B1092,'[1]2018.7 '!A:M,13,)","v":"Ambient"},{"$f":"VLOOKUP(B1092,'[1]2018.7 '!A:N,14,)","v":"No"}]
[1092,"ABCFP-2-E-3A","56410565","MF CARTRIDGE","021","93","BIOPROCESS MEMBRANES","290","Hollow Fiber Cartridges",{"$f":"K1093/9.009","v":580},{"v":5225.22,"d":"5,225"},null,{"$f":"VLOOKUP(B1093,'[1]2018.7 '!A:C,3,)","v":"Active"},{"$f":"VLOOKUP(B1093,'[1]2018.7 '!A:M,13,)","v":"Ambient"},{"$f":"VLOOKUP(B1093,'[1]2018.7 '!A:N,14,)","v":"Reviewing"}]
[1093,"ABCFP-2-E-4A","56410566","MF CARTRIDGE","021","93","BIOPROCESS MEMBRANES","290","Hollow Fiber Cartridges",{"v":935.0000000000001,"d":"935"},{"v":8423.415,"d":"8,423"},null,{"$f":"VLOOKUP(B1094,'[1]2018.7 '!A:C,3,)","v":"Active"},{"$f":"VLOOKUP(B1094,'[1]2018.7 '!A:M,13,)","v":"Ambient"},{"$f":"VLOOKUP(B1094,'[1]2018.7 '!A:N,14,)","v":"Reviewing"}]
[1094,"ABCFP-2-E-5A","56410567","MF CARTRIDGE","021","93","BIOPROCESS MEMBRANES","290","Hollow Fiber Cartridges",{"v":1250,"d":"1,250"},{"v":11261.25,"d":"11,261"},null,{"$f":"VLOOKUP(B1095,'[1]2018.7 '!A:C,3,)","v":"Active"},{"$f":"VLOOKUP(B1095,'[1]2018.7 '!A:M,13,)","v":"Ambient"},{"$f":"VLOOKUP(B1095,'[1]2018.7 '!A:N,14,)","v":"No"}]
[1095,"ABCFP-6-D-35A","56410572","MF CARTRIDGE","021","93","BIOPROCESS MEMBRANES","290","Hollow Fiber Cartridges",{"v":2685,"d":"2,685"},{"v":24189.165,"d":"24,189"},null,{"$f":"VLOOKUP(B1096,'[1]2018.7 '!A:C,3,)","v":"Active"},{"$f":"VLOOKUP(B1096,'[1]2018.7 '!A:M,13,)","v":"Ambient"},{"$f":"VLOOKUP(B1096,'[1]2018.7 '!A:N,14,)","v":"No"}]
[1096,"ABCFP-6-D-3A","56410569","MF CARTRIDGE","021","93","BIOPROCESS MEMBRANES","290","Hollow Fiber Cartridges",580,{"v":5225.22,"d":"5,225"},null,{"$f":"VLOOKUP(B1097,'[1]2018.7 '!A:C,3,)","v":"Active"},{"$f":"VLOOKUP(B1097,'[1]2018.7 '!A:M,13,)","v":"Ambient"},{"$f":"VLOOKUP(B1097,'[1]2018.7 '!A:N,14,)","v":"Reviewing"}]
[1097,"ABCFP-6-D-45A","56410928","MF CARTRIDGE, 1,9 M2","021","93","BIOPROCESS MEMBRANES","290","Hollow Fiber Cartridges",{"v":4550,"d":"4,550"},{"v":40990.950000000004,"d":"40,991"},null,{"$f":"VLOOKUP(B1098,'[1]2018.7 '!A:C,3,)","v":"Active"},{"$f":"VLOOKUP(B1098,'[1]2018.7 '!A:M,13,)","v":"Ambient"},{"$f":"VLOOKUP(B1098,'[1]2018.7 '!A:N,14,)","v":"Reviewing"}]
[1098,"ABCFP-6-D-4A","56410570","MF CARTRIDGE","021","93","BIOPROCESS MEMBRANES","290","Hollow Fiber Cartridges",{"v":935.0000000000001,"d":"935"},{"v":8423.415,"d":"8,423"},null,{"$f":"VLOOKUP(B1099,'[1]2018.7 '!A:C,3,)","v":"Active"},{"$f":"VLOOKUP(B1099,'[1]2018.7 '!A:M,13,)","v":"Ambient"},{"$f":"VLOOKUP(B1099,'[1]2018.7 '!A:N,14,)","v":"Reviewing"}]
[1099,"ABCFP-6-D-5A","56410571","MF CARTRIDGE","021","93","BIOPROCESS MEMBRANES","290","Hollow Fiber Cartridges",{"v":1250,"d":"1,250"},{"v":11261.25,"d":"11,261"},null,{"$f":"VLOOKUP(B1100,'[1]2018.7 '!A:C,3,)","v":"Active"},{"$f":"VLOOKUP(B1100,'[1]2018.7 '!A:M,13,)","v":"Ambient"},{"$f":"VLOOKUP(B1100,'[1]2018.7 '!A:N,14,)","v":"Reviewing"}]
[1100,"ALCFP-6-D-5A","56410573","MF CARTRIDGE","021","93","BIOPROCESS MEMBRANES","290","Hollow Fiber Cartridges",{"v":1250,"d":"1,250"},{"v":11261.25,"d":"11,261"},null,{"$f":"VLOOKUP(B1101,'[1]2018.7 '!A:C,3,)","v":"Active"},{"$f":"VLOOKUP(B1101,'[1]2018.7 '!A:M,13,)","v":"Ambient"},{"$f":"VLOOKUP(B1101,'[1]2018.7 '!A:N,14,)","v":"No"}]
[1101,"BGCFP-6D35A","56410574","MF CARTRIDGE","021","93","BIOPROCESS MEMBRANES","290","Hollow Fiber Cartridges",{"v":2750,"d":"2,750"},{"v":24774.75,"d":"24,775"},null,{"$f":"VLOOKUP(B1102,'[1]2018.7 '!A:C,3,)","v":"Active"},{"$f":"VLOOKUP(B1102,'[1]2018.7 '!A:M,13,)","v":"Ambient"},{"$f":"VLOOKUP(B1102,'[1]2018.7 '!A:N,14,)","v":"Reviewing"}]
[1102,"BIUFP-3-C-65MSM","28980267","BIUFP-3-C-65MSM","021","93","BIOPROCESS MEMBRANES","290","Hollow Fiber Cartridges",{"v":9000,"d":"9,000"},{"v":81081,"d":"81,081"},null,{"$f":"VLOOKUP(B1103,'[1]2018.7 '!A:C,3,)","v":"Active"},{"$f":"VLOOKUP(B1103,'[1]2018.7 '!A:M,13,)","v":"Ambient"},{"$f":"VLOOKUP(B1103,'[1]2018.7 '!A:N,14,)","v":"Reviewing"}]
[1103,"CFP-1-D-3MA","56410140","CFP-1-D-3MA","021","93","BIOPROCESS MEMBRANES","290","Hollow Fiber Cartridges",530,{"v":4774.77,"d":"4,775"},null,{"$f":"VLOOKUP(B1104,'[1]2018.7 '!A:C,3,)","v":"Active"},{"$f":"VLOOKUP(B1104,'[1]2018.7 '!A:M,13,)","v":"Ambient"},{"$f":"VLOOKUP(B1104,'[1]2018.7 '!A:N,14,)","v":"No"}]
[1104,"CFP-1-D-4A","56410204","CFP-1-D-4A","021","93","BIOPROCESS MEMBRANES","290","Hollow Fiber Cartridges",860,{"v":7747.740000000001,"d":"7,748"},null,{"$f":"VLOOKUP(B1105,'[1]2018.7 '!A:C,3,)","v":"Active"},{"$f":"VLOOKUP(B1105,'[1]2018.7 '!A:M,13,)","v":"Ambient"},{"$f":"VLOOKUP(B1105,'[1]2018.7 '!A:N,14,)","v":"No"}]
[1105,"CFP-1-D-4MA","56410179","CFP-1-D-4MA","021","93","BIOPROCESS MEMBRANES","290","Hollow Fiber Cartridges",860,{"v":7747.740000000001,"d":"7,748"},null,{"$f":"VLOOKUP(B1106,'[1]2018.7 '!A:C,3,)","v":"Active"},{"$f":"VLOOKUP(B1106,'[1]2018.7 '!A:M,13,)","v":"Ambient"},{"$f":"VLOOKUP(B1106,'[1]2018.7 '!A:N,14,)","v":"Reviewing"}]
[1106,"CFP-1-D-4X2MA","56410221","CFP-1-D-4X2MA","021","93","BIOPROCESS MEMBRANES","290","Hollow Fiber Cartridges",{"v":1100,"d":"1,100"},{"v":9909.9,"d":"9,910"},null,{"$f":"VLOOKUP(B1107,'[1]2018.7 '!A:C,3,)","v":"Active"},{"$f":"VLOOKUP(B1107,'[1]2018.7 '!A:M,13,)","v":"Ambient"},{"$f":"VLOOKUP(B1107,'[1]2018.7 '!A:N,14,)","v":"No"}]
[1107,"CFP-1-D-55A","56410369","CFP-1-D-55A","021","93","BIOPROCESS MEMBRANES","290","Hollow Fiber Cartridges",{"v":4589,"d":"4,589"},{"v":41342.301,"d":"41,342"},null,{"$f":"VLOOKUP(B1108,'[1]2018.7 '!A:C,3,)","v":"Active"},{"$f":"VLOOKUP(B1108,'[1]2018.7 '!A:M,13,)","v":"Ambient"},{"$f":"VLOOKUP(B1108,'[1]2018.7 '!A:N,14,)","v":"Reviewing"}]
[1108,"CFP-1-D-5A","56410246","CFP-1-D-5A","021","93","BIOPROCESS MEMBRANES","290","Hollow Fiber Cartridges",{"v":1240,"d":"1,240"},{"v":11171.16,"d":"11,171"},null,{"$f":"VLOOKUP(B1109,'[1]2018.7 '!A:C,3,)","v":"Active"},{"$f":"VLOOKUP(B1109,'[1]2018.7 '!A:M,13,)","v":"Ambient"},{"$f":"VLOOKUP(B1109,'[1]2018.7 '!A:N,14,)","v":"Reviewing"}]
[1109,"CFP-1-D-6A","56410269","CFP-1-D-6A","021","93","BIOPROCESS MEMBRANES","290","Hollow Fiber Cartridges",{"v":1650,"d":"1,650"},{"v":14864.85,"d":"14,865"},null,{"$f":"VLOOKUP(B1110,'[1]2018.7 '!A:C,3,)","v":"Active"},{"$f":"VLOOKUP(B1110,'[1]2018.7 '!A:M,13,)","v":"Ambient"},{"$f":"VLOOKUP(B1110,'[1]2018.7 '!A:N,14,)","v":"No"}]
[1110,"CFP-1-D-8A","56410286","CFP-1-D-8A","021","93","BIOPROCESS MEMBRANES","290","Hollow Fiber Cartridges",{"v":1735,"d":"1,735"},{"v":15630.615,"d":"15,631"},null,{"$f":"VLOOKUP(B1111,'[1]2018.7 '!A:C,3,)","v":"Active"},{"$f":"VLOOKUP(B1111,'[1]2018.7 '!A:M,13,)","v":"Ambient"},{"$f":"VLOOKUP(B1111,'[1]2018.7 '!A:N,14,)","v":"Reviewing"}]
[1111,"CFP-1-D-9A","56410309","CFP-1-D-9A","021","93","BIOPROCESS MEMBRANES","290","Hollow Fiber Cartridges",{"v":2300,"d":"2,300"},{"v":20720.7,"d":"20,721"},null,{"$f":"VLOOKUP(B1112,'[1]2018.7 '!A:C,3,)","v":"Active"},{"$f":"VLOOKUP(B1112,'[1]2018.7 '!A:M,13,)","v":"Ambient"},{"$f":"VLOOKUP(B1112,'[1]2018.7 '!A:N,14,)","v":"No"}]
[1112,"CFP-1-E-152SB","29010109","CFP-1-E-152SB","021","93","BIOPROCESS MEMBRANES","290","Hollow Fiber Cartridges",{"v":12500,"d":"12,500"},{"v":112612.5,"d":"112,613"},null,{"$f":"VLOOKUP(B1113,'[1]2018.7 '!A:C,3,)","v":"Active"},{"$f":"VLOOKUP(B1113,'[1]2018.7 '!A:M,13,)","v":"Ambient"},{"$f":"VLOOKUP(B1113,'[1]2018.7 '!A:N,14,)","v":"Reviewing"}]
[1113,"CFP-1-E-2U","11000551","CFP-1-E-2U","021","93","BIOPROCESS MEMBRANES","290","Hollow Fiber Cartridges",295,{"v":2657.655,"d":"2,658"},null,{"$f":"VLOOKUP(B1114,'[1]2018.7 '!A:C,3,)","v":"Active"},{"$f":"VLOOKUP(B1114,'[1]2018.7 '!A:M,13,)","v":"Ambient"},{"$f":"VLOOKUP(B1114,'[1]2018.7 '!A:N,14,)","v":"No"}]
[1114,"CFP-1-E-35A","56410331","CFP-1-E-35A","021","93","BIOPROCESS MEMBRANES","290","Hollow Fiber Cartridges",{"v":2550,"d":"2,550"},{"v":22972.95,"d":"22,973"},null,{"$f":"VLOOKUP(B1115,'[1]2018.7 '!A:C,3,)","v":"Active"},{"$f":"VLOOKUP(B1115,'[1]2018.7 '!A:M,13,)","v":"Ambient"},{"$f":"VLOOKUP(B1115,'[1]2018.7 '!A:N,14,)","v":"No"}]
[1115,"CFP-1-E-35SMO","56410435","CFP-1-E-35SMO","021","93","BIOPROCESS MEMBRANES","290","Hollow Fiber Cartridges",{"v":3450,"d":"3,450"},{"v":31081.050000000003,"d":"31,081"},null,{"$f":"VLOOKUP(B1116,'[1]2018.7 '!A:C,3,)","v":"Active"},{"$f":"VLOOKUP(B1116,'[1]2018.7 '!A:M,13,)","v":"Ambient"},{"$f":"VLOOKUP(B1116,'[1]2018.7 '!A:N,14,)","v":"No"}]
[1116,"CFP-1-E-3MA","56410141","CFP-1-E-3MA","021","93","BIOPROCESS MEMBRANES","290","Hollow Fiber Cartridges",530,{"v":4774.77,"d":"4,775"},null,{"$f":"VLOOKUP(B1117,'[1]2018.7 '!A:C,3,)","v":"Active"},{"$f":"VLOOKUP(B1117,'[1]2018.7 '!A:M,13,)","v":"Ambient"},{"$f":"VLOOKUP(B1117,'[1]2018.7 '!A:N,14,)","v":"No"}]
[1117,"CFP-1-E-3X2MA","56410156","CFP-1-E-3X2MA","021","93","BIOPROCESS MEMBRANES","290","Hollow Fiber Cartridges",730,{"v":6576.570000000001,"d":"6,577"},null,{"$f":"VLOOKUP(B1118,'[1]2018.7 '!A:C,3,)","v":"Active"},{"$f":"VLOOKUP(B1118,'[1]2018.7 '!A:M,13,)","v":"Ambient"},{"$f":"VLOOKUP(B1118,'[1]2018.7 '!A:N,14,)","v":"No"}]
[1118,"CFP-1-E-45","56410471","CFP-1-E-45","021","93","BIOPROCESS MEMBRANES","290","Hollow Fiber Cartridges",{"v":3990.0000000000005,"d":"3,990"},{"v":35945.91,"d":"35,946"},null,{"$f":"VLOOKUP(B1119,'[1]2018.7 '!A:C,3,)","v":"Active"},{"$f":"VLOOKUP(B1119,'[1]2018.7 '!A:M,13,)","v":"Ambient"},{"$f":"VLOOKUP(B1119,'[1]2018.7 '!A:N,14,)","v":"No"}]
[1119,"CFP-1-E-45MSM","56410449",{"$error":"#N/A"},"021","93","BIOPROCESS MEMBRANES","290","Hollow Fiber Cartridges",{"v":5500,"d":"5,500"},{"v":49549.5,"d":"49,550"},null,{"$f":"VLOOKUP(B1120,'[1]2018.7 '!A:C,3,)","v":"Active"},{"$f":"VLOOKUP(B1120,'[1]2018.7 '!A:M,13,)","v":"Ambient"},{"$f":"VLOOKUP(B1120,'[1]2018.7 '!A:N,14,)","v":"No"}]
[1120,"CFP-1-E-4A","56410205","CFP-1-E-4A","021","93","BIOPROCESS MEMBRANES","290","Hollow Fiber Cartridges",860,{"v":7747.740000000001,"d":"7,748"},null,{"$f":"VLOOKUP(B1121,'[1]2018.7 '!A:C,3,)","v":"Active"},{"$f":"VLOOKUP(B1121,'[1]2018.7 '!A:M,13,)","v":"Ambient"},{"$f":"VLOOKUP(B1121,'[1]2018.7 '!A:N,14,)","v":"No"}]
[1121,"CFP-1-E-4MA","56410180","CFP-1-E-4MA","021","93","BIOPROCESS MEMBRANES","290","Hollow Fiber Cartridges",860,{"v":7747.740000000001,"d":"7,748"},null,{"$f":"VLOOKUP(B1122,'[1]2018.7 '!A:C,3,)","v":"Active"},{"$f":"VLOOKUP(B1122,'[1]2018.7 '!A:M,13,)","v":"Ambient"},{"$f":"VLOOKUP(B1122,'[1]2018.7 '!A:N,14,)","v":"No"}]
[1122,"CFP-1-E-4X2MA","56410222","CFP-1-E-4X2MA","021","93","BIOPROCESS MEMBRANES","290","Hollow Fiber Cartridges",{"v":1100,"d":"1,100"},{"v":9909.9,"d":"9,910"},null,{"$f":"VLOOKUP(B1123,'[1]2018.7 '!A:C,3,)","v":"Active"},{"$f":"VLOOKUP(B1123,'[1]2018.7 '!A:M,13,)","v":"Ambient"},{"$f":"VLOOKUP(B1123,'[1]2018.7 '!A:N,14,)","v":"No"}]
[1123,"CFP-1-E-55","56410370","CFP-1-E-55","021","93","BIOPROCESS MEMBRANES","290","Hollow Fiber Cartridges",{"v":3800.0000000000005,"d":"3,800"},{"v":34234.200000000004,"d":"34,234"},null,{"$f":"VLOOKUP(B1124,'[1]2018.7 '!A:C,3,)","v":"Active"},{"$f":"VLOOKUP(B1124,'[1]2018.7 '!A:M,13,)","v":"Ambient"},{"$f":"VLOOKUP(B1124,'[1]2018.7 '!A:N,14,)","v":"No"}]
[1124,"CFP-1-E-55A","56410372","CFP-1-E-55A","021","93","BIOPROCESS MEMBRANES","290","Hollow Fiber Cartridges",{"v":4170,"d":"4,170"},{"v":37567.53,"d":"37,568"},null,{"$f":"VLOOKUP(B1125,'[1]2018.7 '!A:C,3,)","v":"Active"},{"$f":"VLOOKUP(B1125,'[1]2018.7 '!A:M,13,)","v":"Ambient"},{"$f":"VLOOKUP(B1125,'[1]2018.7 '!A:N,14,)","v":"No"}]
[1125,"CFP-1-E-55SMO","56410442","CFP-1-E-55SMO","021","93","BIOPROCESS MEMBRANES","290","Hollow Fiber Cartridges",{"v":5100,"d":"5,100"},{"v":45945.9,"d":"45,946"},null,{"$f":"VLOOKUP(B1126,'[1]2018.7 '!A:C,3,)","v":"Active"},{"$f":"VLOOKUP(B1126,'[1]2018.7 '!A:M,13,)","v":"Ambient"},{"$f":"VLOOKUP(B1126,'[1]2018.7 '!A:N,14,)","v":"No"}]
[1126,"CFP-1-E-55STM","56410428","CFP-1-E-55STM","021","93","BIOPROCESS MEMBRANES","290","Hollow Fiber Cartridges",{"v":5100,"d":"5,100"},{"v":45945.9,"d":"45,946"},null,{"$f":"VLOOKUP(B1127,'[1]2018.7 '!A:C,3,)","v":"Active"},{"$f":"VLOOKUP(B1127,'[1]2018.7 '!A:M,13,)","v":"Ambient"},{"$f":"VLOOKUP(B1127,'[1]2018.7 '!A:N,14,)","v":"Reviewing"}]
[1127,"CFP-1-E-5A","56410247","CFP-1-E-5A","021","93","BIOPROCESS MEMBRANES","290","Hollow Fiber Cartridges",{"v":1240,"d":"1,240"},{"v":11171.16,"d":"11,171"},null,{"$f":"VLOOKUP(B1128,'[1]2018.7 '!A:C,3,)","v":"Active"},{"$f":"VLOOKUP(B1128,'[1]2018.7 '!A:M,13,)","v":"Ambient"},{"$f":"VLOOKUP(B1128,'[1]2018.7 '!A:N,14,)","v":"No"}]
[1128,"CFP-1-E-65","56410492","CFP-1-E-65","021","93","BIOPROCESS MEMBRANES","290","Hollow Fiber Cartridges",{"v":6600,"d":"6,600"},{"v":59459.4,"d":"59,459"},null,{"$f":"VLOOKUP(B1129,'[1]2018.7 '!A:C,3,)","v":"Active"},{"$f":"VLOOKUP(B1129,'[1]2018.7 '!A:M,13,)","v":"Ambient"},{"$f":"VLOOKUP(B1129,'[1]2018.7 '!A:N,14,)","v":"No"}]
[1129,"CFP-1-E-65MSM","56410459","CFP-1-E-65MSM","021","93","BIOPROCESS MEMBRANES","290","Hollow Fiber Cartridges",{"v":8850,"d":"8,850"},{"v":79729.65000000001,"d":"79,730"},null,{"$f":"VLOOKUP(B1130,'[1]2018.7 '!A:C,3,)","v":"Active"},{"$f":"VLOOKUP(B1130,'[1]2018.7 '!A:M,13,)","v":"Ambient"},{"$f":"VLOOKUP(B1130,'[1]2018.7 '!A:N,14,)","v":"Reviewing"}]
[1130,"CFP-1-E-6A","56410270","CFP-1-E-6A","021","93","BIOPROCESS MEMBRANES","290","Hollow Fiber Cartridges",{"v":1650,"d":"1,650"},{"v":14864.85,"d":"14,865"},null,{"$f":"VLOOKUP(B1131,'[1]2018.7 '!A:C,3,)","v":"Active"},{"$f":"VLOOKUP(B1131,'[1]2018.7 '!A:M,13,)","v":"Ambient"},{"$f":"VLOOKUP(B1131,'[1]2018.7 '!A:N,14,)","v":"No"}]
[1131,"CFP-1-E-75R","11000569","CFP-1-E-75R","021","93","BIOPROCESS MEMBRANES","290","Hollow Fiber Cartridges",{"v":4700,"d":"4,700"},{"v":42342.3,"d":"42,342"},null,{"$f":"VLOOKUP(B1132,'[1]2018.7 '!A:C,3,)","v":"Active"},{"$f":"VLOOKUP(B1132,'[1]2018.7 '!A:M,13,)","v":"Ambient"},{"$f":"VLOOKUP(B1132,'[1]2018.7 '!A:N,14,)","v":"No"}]
[1132,"CFP-1-E-85","56411177","CFP-1-E-85","021","93","BIOPROCESS MEMBRANES","290","Hollow Fiber Cartridges",{"v":7900,"d":"7,900"},{"v":71171.1,"d":"71,171"},null,{"$f":"VLOOKUP(B1133,'[1]2018.7 '!A:C,3,)","v":"Active"},{"$f":"VLOOKUP(B1133,'[1]2018.7 '!A:M,13,)","v":"Ambient"},{"$f":"VLOOKUP(B1133,'[1]2018.7 '!A:N,14,)","v":"No"}]
[1133,"CFP-1-E-8A","56410287","CFP-1-E-8A","021","93","BIOPROCESS MEMBRANES","290","Hollow Fiber Cartridges",{"v":1735,"d":"1,735"},{"v":15630.615,"d":"15,631"},null,{"$f":"VLOOKUP(B1134,'[1]2018.7 '!A:C,3,)","v":"Active"},{"$f":"VLOOKUP(B1134,'[1]2018.7 '!A:M,13,)","v":"Ambient"},{"$f":"VLOOKUP(B1134,'[1]2018.7 '!A:N,14,)","v":"No"}]
[1134,"CFP-1-E-9A","56410310","CFP-1-E-9A","021","93","BIOPROCESS MEMBRANES","290","Hollow Fiber Cartridges",{"v":2300,"d":"2,300"},{"v":20720.7,"d":"20,721"},null,{"$f":"VLOOKUP(B1135,'[1]2018.7 '!A:C,3,)","v":"Active"},{"$f":"VLOOKUP(B1135,'[1]2018.7 '!A:M,13,)","v":"Ambient"},{"$f":"VLOOKUP(B1135,'[1]2018.7 '!A:N,14,)","v":"No"}]
[1135,"CFP-1-E-H22LA","56410096","CFP-1-E-H22LA","021","93","BIOPROCESS MEMBRANES","290","Hollow Fiber Cartridges",295,{"v":2657.655,"d":"2,658"},null,{"$f":"VLOOKUP(B1136,'[1]2018.7 '!A:C,3,)","v":"Active"},{"$f":"VLOOKUP(B1136,'[1]2018.7 '!A:M,13,)","v":"Ambient"},{"$f":"VLOOKUP(B1136,'[1]2018.7 '!A:N,14,)","v":"No"}]
[1136,"CFP-1-E-H22U","56411028","CFP-1-E-H22U","021","93","BIOPROCESS MEMBRANES","290","Hollow Fiber Cartridges",290,{"v":2612.61,"d":"2,613"},null,{"$f":"VLOOKUP(B1137,'[1]2018.7 '!A:C,3,)","v":"Active"},{"$f":"VLOOKUP(B1137,'[1]2018.7 '!A:M,13,)","v":"Ambient"},{"$f":"VLOOKUP(B1137,'[1]2018.7 '!A:N,14,)","v":"No"}]
[1137,"CFP-1-E-MM01A","56410064","CFP-1-E-MM01A","021","93","BIOPROCESS MEMBRANES","290","Hollow Fiber Cartridges",200,{"v":1801.8000000000002,"d":"1,802"},null,{"$f":"VLOOKUP(B1138,'[1]2018.7 '!A:C,3,)","v":"Active"},{"$f":"VLOOKUP(B1138,'[1]2018.7 '!A:M,13,)","v":"Ambient"},{"$f":"VLOOKUP(B1138,'[1]2018.7 '!A:N,14,)","v":"No"}]
[1138,"CFP-1-E-MM06A","56410065","CFP-1-E-MM06A","021","93","BIOPROCESS MEMBRANES","290","Hollow Fiber Cartridges",{"v":969.9999999999999,"d":"970"},{"v":8738.73,"d":"8,739"},null,{"$f":"VLOOKUP(B1139,'[1]2018.7 '!A:C,3,)","v":"Active"},{"$f":"VLOOKUP(B1139,'[1]2018.7 '!A:M,13,)","v":"Ambient"},{"$f":"VLOOKUP(B1139,'[1]2018.7 '!A:N,14,)","v":"Reviewing"}]
[1139,"CFP-2-E-152M","56410512","CFP-2-E-152M","021","93","BIOPROCESS MEMBRANES","290","Hollow Fiber Cartridges",{"v":12400,"d":"12,400"},{"v":111711.6,"d":"111,712"},null,{"$f":"VLOOKUP(B1140,'[1]2018.7 '!A:C,3,)","v":"Active"},{"$f":"VLOOKUP(B1140,'[1]2018.7 '!A:M,13,)","v":"Ambient"},{"$f":"VLOOKUP(B1140,'[1]2018.7 '!A:N,14,)","v":"No"}]
[1140,"CFP-2-E-152SB","29010110","CFP-2-E-152SB","021","93","BIOPROCESS MEMBRANES","290","Hollow Fiber Cartridges",{"v":12500,"d":"12,500"},{"v":112612.5,"d":"112,613"},null,{"$f":"VLOOKUP(B1141,'[1]2018.7 '!A:C,3,)","v":"Active"},{"$f":"VLOOKUP(B1141,'[1]2018.7 '!A:M,13,)","v":"Ambient"},{"$f":"VLOOKUP(B1141,'[1]2018.7 '!A:N,14,)","v":"No"}]
[1141,"CFP-2-E-154M","56410515","CFP-2-E-154M","021","93","BIOPROCESS MEMBRANES","290","Hollow Fiber Cartridges",{"v":14500,"d":"14,500"},{"v":130630.5,"d":"130,631"},null,{"$f":"VLOOKUP(B1142,'[1]2018.7 '!A:C,3,)","v":"Active"},{"$f":"VLOOKUP(B1142,'[1]2018.7 '!A:M,13,)","v":"Ambient"},{"$f":"VLOOKUP(B1142,'[1]2018.7 '!A:N,14,)","v":"Reviewing"}]
[1142,"CFP-2-E-2U","11000552","CFP-2-E-2U","021","93","BIOPROCESS MEMBRANES","290","Hollow Fiber Cartridges",295,{"v":2657.655,"d":"2,658"},null,{"$f":"VLOOKUP(B1143,'[1]2018.7 '!A:C,3,)","v":"Active"},{"$f":"VLOOKUP(B1143,'[1]2018.7 '!A:M,13,)","v":"Ambient"},{"$f":"VLOOKUP(B1143,'[1]2018.7 '!A:N,14,)","v":"No"}]
[1143,"CFP-2-E-35A","56410332","CFP-2-E-35A","021","93","BIOPROCESS MEMBRANES","290","Hollow Fiber Cartridges",{"v":2550,"d":"2,550"},{"v":22972.95,"d":"22,973"},null,{"$f":"VLOOKUP(B1144,'[1]2018.7 '!A:C,3,)","v":"Active"},{"$f":"VLOOKUP(B1144,'[1]2018.7 '!A:M,13,)","v":"Ambient"},{"$f":"VLOOKUP(B1144,'[1]2018.7 '!A:N,14,)","v":"No"}]
[1144,"CFP-2-E-35STM","56410417","CFP-2-E-35STM","021","93","BIOPROCESS MEMBRANES","290","Hollow Fiber Cartridges",{"v":3450,"d":"3,450"},{"v":31081.050000000003,"d":"31,081"},null,{"$f":"VLOOKUP(B1145,'[1]2018.7 '!A:C,3,)","v":"Active"},{"$f":"VLOOKUP(B1145,'[1]2018.7 '!A:M,13,)","v":"Ambient"},{"$f":"VLOOKUP(B1145,'[1]2018.7 '!A:N,14,)","v":"No"}]
[1145,"CFP-2-E-3A","56410952","CFP-2-E-3A","021","93","BIOPROCESS MEMBRANES","290","Hollow Fiber Cartridges",450,{"v":4054.05,"d":"4,054"},null,{"$f":"VLOOKUP(B1146,'[1]2018.7 '!A:C,3,)","v":"Active"},{"$f":"VLOOKUP(B1146,'[1]2018.7 '!A:M,13,)","v":"Ambient"},{"$f":"VLOOKUP(B1146,'[1]2018.7 '!A:N,14,)","v":"Reviewing"}]
[1146,"CFP-2-E-3MA","56410142","CFP-2-E-3MA","021","93","BIOPROCESS MEMBRANES","290","Hollow Fiber Cartridges",530,{"v":4774.77,"d":"4,775"},null,{"$f":"VLOOKUP(B1147,'[1]2018.7 '!A:C,3,)","v":"Active"},{"$f":"VLOOKUP(B1147,'[1]2018.7 '!A:M,13,)","v":"Ambient"},{"$f":"VLOOKUP(B1147,'[1]2018.7 '!A:N,14,)","v":"No"}]
[1147,"CFP-2-E-3X2MA","56410157","CFP-2-E-3X2MA","021","93","BIOPROCESS MEMBRANES","290","Hollow Fiber Cartridges",730,{"v":6576.570000000001,"d":"6,577"},null,{"$f":"VLOOKUP(B1148,'[1]2018.7 '!A:C,3,)","v":"Active"},{"$f":"VLOOKUP(B1148,'[1]2018.7 '!A:M,13,)","v":"Ambient"},{"$f":"VLOOKUP(B1148,'[1]2018.7 '!A:N,14,)","v":"No"}]
[1148,"CFP-2-E-45","56410472","CFP-2-E-45","021","93","BIOPROCESS MEMBRANES","290","Hollow Fiber Cartridges",{"v":3990.0000000000005,"d":"3,990"},{"v":35945.91,"d":"35,946"},null,{"$f":"VLOOKUP(B1149,'[1]2018.7 '!A:C,3,)","v":"Active"},{"$f":"VLOOKUP(B1149,'[1]2018.7 '!A:M,13,)","v":"Ambient"},{"$f":"VLOOKUP(B1149,'[1]2018.7 '!A:N,14,)","v":"Reviewing"}]
[1149,"CFP-2-E-45MSM","56410450",{"$error":"#N/A"},"021","93","BIOPROCESS MEMBRANES","290","Hollow Fiber Cartridges",{"v":5500,"d":"5,500"},{"v":49549.5,"d":"49,550"},null,{"$f":"VLOOKUP(B1150,'[1]2018.7 '!A:C,3,)","v":"Active"},{"$f":"VLOOKUP(B1150,'[1]2018.7 '!A:M,13,)","v":"Ambient"},{"$f":"VLOOKUP(B1150,'[1]2018.7 '!A:N,14,)","v":"No"}]
[1150,"CFP-2-E-4A","56410206","CFP-2-E-4A","021","93","BIOPROCESS MEMBRANES","290","Hollow Fiber Cartridges",860,{"v":7747.740000000001,"d":"7,748"},null,{"$f":"VLOOKUP(B1151,'[1]2018.7 '!A:C,3,)","v":"Active"},{"$f":"VLOOKUP(B1151,'[1]2018.7 '!A:M,13,)","v":"Ambient"},{"$f":"VLOOKUP(B1151,'[1]2018.7 '!A:N,14,)","v":"No"}]
[1151,"CFP-2-E-4MA","56410181","CFP-2-E-4MA","021","93","BIOPROCESS MEMBRANES","290","Hollow Fiber Cartridges",860,{"v":7747.740000000001,"d":"7,748"},null,{"$f":"VLOOKUP(B1152,'[1]2018.7 '!A:C,3,)","v":"Active"},{"$f":"VLOOKUP(B1152,'[1]2018.7 '!A:M,13,)","v":"Ambient"},{"$f":"VLOOKUP(B1152,'[1]2018.7 '!A:N,14,)","v":"No"}]
[1152,"CFP-2-E-4X2MA","56410223","CFP-2-E-4X2MA","021","93","BIOPROCESS MEMBRANES","290","Hollow Fiber Cartridges",{"v":1100,"d":"1,100"},{"v":9909.9,"d":"9,910"},null,{"$f":"VLOOKUP(B1153,'[1]2018.7 '!A:C,3,)","v":"Active"},{"$f":"VLOOKUP(B1153,'[1]2018.7 '!A:M,13,)","v":"Ambient"},{"$f":"VLOOKUP(B1153,'[1]2018.7 '!A:N,14,)","v":"No"}]
[1153,"CFP-2-E-55","56410373","CFP-2-E-55","021","93","BIOPROCESS MEMBRANES","290","Hollow Fiber Cartridges",{"v":3800.0000000000005,"d":"3,800"},{"v":34234.200000000004,"d":"34,234"},null,{"$f":"VLOOKUP(B1154,'[1]2018.7 '!A:C,3,)","v":"Active"},{"$f":"VLOOKUP(B1154,'[1]2018.7 '!A:M,13,)","v":"Ambient"},{"$f":"VLOOKUP(B1154,'[1]2018.7 '!A:N,14,)","v":"No"}]
[1154,"CFP-2-E-55A","56410375","CFP-2-E-55A","021","93","BIOPROCESS MEMBRANES","290","Hollow Fiber Cartridges",{"v":4170,"d":"4,170"},{"v":37567.53,"d":"37,568"},null,{"$f":"VLOOKUP(B1155,'[1]2018.7 '!A:C,3,)","v":"Active"},{"$f":"VLOOKUP(B1155,'[1]2018.7 '!A:M,13,)","v":"Ambient"},{"$f":"VLOOKUP(B1155,'[1]2018.7 '!A:N,14,)","v":"No"}]
[1155,"CFP-2-E-55R","56410374","CFP-2-E-55R","021","93","BIOPROCESS MEMBRANES","290","Hollow Fiber Cartridges",{"v":3800.0000000000005,"d":"3,800"},{"v":34234.200000000004,"d":"34,234"},null,{"$f":"VLOOKUP(B1156,'[1]2018.7 '!A:C,3,)","v":"Active"},{"$f":"VLOOKUP(B1156,'[1]2018.7 '!A:M,13,)","v":"Ambient"},{"$f":"VLOOKUP(B1156,'[1]2018.7 '!A:N,14,)","v":"Reviewing"}]
[1156,"CFP-2-E-55SMO","56410443","CFP-2-E-55SMO","021","93","BIOPROCESS MEMBRANES","290","Hollow Fiber Cartridges",{"$f":"K1157/9.009","v":{"v":5100,"d":"5,100"}},{"v":45945.9,"d":"45,946"},null,{"$f":"VLOOKUP(B1157,'[1]2018.7 '!A:C,3,)","v":"Active"},{"$f":"VLOOKUP(B1157,'[1]2018.7 '!A:M,13,)","v":"Ambient"},{"$f":"VLOOKUP(B1157,'[1]2018.7 '!A:N,14,)","v":"No"}]
[1157,"CFP-2-E-55STM","56410429","CFP-2-E-55STM","021","93","BIOPROCESS MEMBRANES","290","Hollow Fiber Cartridges",{"v":5100,"d":"5,100"},{"v":45945.9,"d":"45,946"},null,{"$f":"VLOOKUP(B1158,'[1]2018.7 '!A:C,3,)","v":"Active"},{"$f":"VLOOKUP(B1158,'[1]2018.7 '!A:M,13,)","v":"Ambient"},{"$f":"VLOOKUP(B1158,'[1]2018.7 '!A:N,14,)","v":"No"}]
[1158,"CFP-2-E-5A","56410248","CFP-2-E-5A","021","93","BIOPROCESS MEMBRANES","290","Hollow Fiber Cartridges",{"v":1240,"d":"1,240"},{"v":11171.16,"d":"11,171"},null,{"$f":"VLOOKUP(B1159,'[1]2018.7 '!A:C,3,)","v":"Active"},{"$f":"VLOOKUP(B1159,'[1]2018.7 '!A:M,13,)","v":"Ambient"},{"$f":"VLOOKUP(B1159,'[1]2018.7 '!A:N,14,)","v":"No"}]
[1159,"CFP-2-E-65","56410493","CFP-2-E-65","021","93","BIOPROCESS MEMBRANES","290","Hollow Fiber Cartridges",{"v":6600,"d":"6,600"},{"v":59459.4,"d":"59,459"},null,{"$f":"VLOOKUP(B1160,'[1]2018.7 '!A:C,3,)","v":"Active"},{"$f":"VLOOKUP(B1160,'[1]2018.7 '!A:M,13,)","v":"Ambient"},{"$f":"VLOOKUP(B1160,'[1]2018.7 '!A:N,14,)","v":"No"}]
[1160,"CFP-2-E-65MSM","56410460","CFP-2-E-65MSM","021","93","BIOPROCESS MEMBRANES","290","Hollow Fiber Cartridges",{"v":8850,"d":"8,850"},{"v":79729.65000000001,"d":"79,730"},null,{"$f":"VLOOKUP(B1161,'[1]2018.7 '!A:C,3,)","v":"Active"},{"$f":"VLOOKUP(B1161,'[1]2018.7 '!A:M,13,)","v":"Ambient"},{"$f":"VLOOKUP(B1161,'[1]2018.7 '!A:N,14,)","v":"No"}]
[1161,"CFP-2-E-6A","56410271","CFP-2-E-6A","021","93","BIOPROCESS MEMBRANES","290","Hollow Fiber Cartridges",{"v":1650,"d":"1,650"},{"v":14864.85,"d":"14,865"},null,{"$f":"VLOOKUP(B1162,'[1]2018.7 '!A:C,3,)","v":"Active"},{"$f":"VLOOKUP(B1162,'[1]2018.7 '!A:M,13,)","v":"Ambient"},{"$f":"VLOOKUP(B1162,'[1]2018.7 '!A:N,14,)","v":"No"}]
[1162,"CFP-2-E-75R","11000570","CFP-2-E-75R","021","93","BIOPROCESS MEMBRANES","290","Hollow Fiber Cartridges",{"v":4700,"d":"4,700"},{"v":42342.3,"d":"42,342"},null,{"$f":"VLOOKUP(B1163,'[1]2018.7 '!A:C,3,)","v":"Active"},{"$f":"VLOOKUP(B1163,'[1]2018.7 '!A:M,13,)","v":"Ambient"},{"$f":"VLOOKUP(B1163,'[1]2018.7 '!A:N,14,)","v":"Reviewing"}]
[1163,"CFP-2-E-85","56410612","CFP-2-E-85","021","93","BIOPROCESS MEMBRANES","290","Hollow Fiber Cartridges",{"v":7900,"d":"7,900"},{"v":71171.1,"d":"71,171"},null,{"$f":"VLOOKUP(B1164,'[1]2018.7 '!A:C,3,)","v":"Active"},{"$f":"VLOOKUP(B1164,'[1]2018.7 '!A:M,13,)","v":"Ambient"},{"$f":"VLOOKUP(B1164,'[1]2018.7 '!A:N,14,)","v":"No"}]
[1164,"CFP-2-E-8A","56410288","CFP-2-E-8A","021","93","BIOPROCESS MEMBRANES","290","Hollow Fiber Cartridges",{"v":1735,"d":"1,735"},{"v":15630.615,"d":"15,631"},null,{"$f":"VLOOKUP(B1165,'[1]2018.7 '!A:C,3,)","v":"Active"},{"$f":"VLOOKUP(B1165,'[1]2018.7 '!A:M,13,)","v":"Ambient"},{"$f":"VLOOKUP(B1165,'[1]2018.7 '!A:N,14,)","v":"No"}]
[1165,"CFP-2-E-8SIP","56410560","CFP-2-E-8SIP","021","93","BIOPROCESS MEMBRANES","290","Hollow Fiber Cartridges",{"v":1900.0000000000002,"d":"1,900"},{"v":17117.100000000002,"d":"17,117"},null,{"$f":"VLOOKUP(B1166,'[1]2018.7 '!A:C,3,)","v":"Active"},{"$f":"VLOOKUP(B1166,'[1]2018.7 '!A:M,13,)","v":"Ambient"},{"$f":"VLOOKUP(B1166,'[1]2018.7 '!A:N,14,)","v":"No"}]
[1166,"CFP-2-E-9A","56410311","CFP-2-E-9A","021","93","BIOPROCESS MEMBRANES","290","Hollow Fiber Cartridges",{"v":2300,"d":"2,300"},{"v":20720.7,"d":"20,721"},null,{"$f":"VLOOKUP(B1167,'[1]2018.7 '!A:C,3,)","v":"Active"},{"$f":"VLOOKUP(B1167,'[1]2018.7 '!A:M,13,)","v":"Ambient"},{"$f":"VLOOKUP(B1167,'[1]2018.7 '!A:N,14,)","v":"No"}]
[1167,"CFP-2-E-H22LA","56410097","CFP-2-E-H22LA","021","93","BIOPROCESS MEMBRANES","290","Hollow Fiber Cartridges",295,{"v":2657.655,"d":"2,658"},null,{"$f":"VLOOKUP(B1168,'[1]2018.7 '!A:C,3,)","v":"Active"},{"$f":"VLOOKUP(B1168,'[1]2018.7 '!A:M,13,)","v":"Ambient"},{"$f":"VLOOKUP(B1168,'[1]2018.7 '!A:N,14,)","v":"No"}]
[1168,"CFP-2-E-MM01A","56410072","CFP-2-E-MM01A","021","93","BIOPROCESS MEMBRANES","290","Hollow Fiber Cartridges",200,{"v":1801.8000000000002,"d":"1,802"},null,{"$f":"VLOOKUP(B1169,'[1]2018.7 '!A:C,3,)","v":"Active"},{"$f":"VLOOKUP(B1169,'[1]2018.7 '!A:M,13,)","v":"Ambient"},{"$f":"VLOOKUP(B1169,'[1]2018.7 '!A:N,14,)","v":"No"}]
[1169,"CFP-2-E-MM06A","56410073","CFP-2-E-MM06A","021","93","BIOPROCESS MEMBRANES","290","Hollow Fiber Cartridges",{"v":969.9999999999999,"d":"970"},{"v":8738.73,"d":"8,739"},null,{"$f":"VLOOKUP(B1170,'[1]2018.7 '!A:C,3,)","v":"Active"},{"$f":"VLOOKUP(B1170,'[1]2018.7 '!A:M,13,)","v":"Ambient"},{"$f":"VLOOKUP(B1170,'[1]2018.7 '!A:N,14,)","v":"Reviewing"}]
[1170,"CFP-2-G-4X2MA","11000508","CFP-2-G-4X2MA","021","93","BIOPROCESS MEMBRANES","290","Hollow Fiber Cartridges",{"v":1100,"d":"1,100"},{"v":9909.9,"d":"9,910"},null,{"$f":"VLOOKUP(B1171,'[1]2018.7 '!A:C,3,)","v":"Active"},{"$f":"VLOOKUP(B1171,'[1]2018.7 '!A:M,13,)","v":"Ambient"},{"$f":"VLOOKUP(B1171,'[1]2018.7 '!A:N,14,)","v":"No"}]
[1171,"CFP-2-G-55","56410563","CFP-2-G-55","021","93","BIOPROCESS MEMBRANES","290","Hollow Fiber Cartridges",{"v":3280,"d":"3,280"},{"v":29549.52,"d":"29,550"},null,{"$f":"VLOOKUP(B1172,'[1]2018.7 '!A:C,3,)","v":"Active"},{"$f":"VLOOKUP(B1172,'[1]2018.7 '!A:M,13,)","v":"Ambient"},{"$f":"VLOOKUP(B1172,'[1]2018.7 '!A:N,14,)","v":"No"}]
[1172,"CFP-2-G-6A","56410561","CFP-2-G-6A","021","93","BIOPROCESS MEMBRANES","290","Hollow Fiber Cartridges",{"v":1650,"d":"1,650"},{"v":14864.85,"d":"14,865"},null,{"$f":"VLOOKUP(B1173,'[1]2018.7 '!A:C,3,)","v":"Active"},{"$f":"VLOOKUP(B1173,'[1]2018.7 '!A:M,13,)","v":"Ambient"},{"$f":"VLOOKUP(B1173,'[1]2018.7 '!A:N,14,)","v":"Reviewing"}]
[1173,"CFP-2-G-9A","56410562","CFP-2-G-9A","021","93","BIOPROCESS MEMBRANES","290","Hollow Fiber Cartridges",{"v":2300,"d":"2,300"},{"v":20720.7,"d":"20,721"},null,{"$f":"VLOOKUP(B1174,'[1]2018.7 '!A:C,3,)","v":"Active"},{"$f":"VLOOKUP(B1174,'[1]2018.7 '!A:M,13,)","v":"Ambient"},{"$f":"VLOOKUP(B1174,'[1]2018.7 '!A:N,14,)","v":"No"}]
[1174,"CFP-4-E-2U","11000553","CFP-4-E-2U","021","93","BIOPROCESS MEMBRANES","290","Hollow Fiber Cartridges",295,{"v":2657.655,"d":"2,658"},null,{"$f":"VLOOKUP(B1175,'[1]2018.7 '!A:C,3,)","v":"Active"},{"$f":"VLOOKUP(B1175,'[1]2018.7 '!A:M,13,)","v":"Ambient"},{"$f":"VLOOKUP(B1175,'[1]2018.7 '!A:N,14,)","v":"No"}]
[1175,"CFP-4-E-35A","56410333","CFP-4-E-35A","021","93","BIOPROCESS MEMBRANES","290","Hollow Fiber Cartridges",{"v":2550,"d":"2,550"},{"v":22972.95,"d":"22,973"},null,{"$f":"VLOOKUP(B1176,'[1]2018.7 '!A:C,3,)","v":"Active"},{"$f":"VLOOKUP(B1176,'[1]2018.7 '!A:M,13,)","v":"Ambient"},{"$f":"VLOOKUP(B1176,'[1]2018.7 '!A:N,14,)","v":"No"}]
[1176,"CFP-4-E-3MA","56410143","CFP-4-E-3MA","021","93","BIOPROCESS MEMBRANES","290","Hollow Fiber Cartridges",530,{"v":4774.77,"d":"4,775"},null,{"$f":"VLOOKUP(B1177,'[1]2018.7 '!A:C,3,)","v":"Active"},{"$f":"VLOOKUP(B1177,'[1]2018.7 '!A:M,13,)","v":"Ambient"},{"$f":"VLOOKUP(B1177,'[1]2018.7 '!A:N,14,)","v":"No"}]
[1177,"CFP-4-E-3X2MA","56410158","CFP-4-E-3X2MA","021","93","BIOPROCESS MEMBRANES","290","Hollow Fiber Cartridges",730,{"v":6576.570000000001,"d":"6,577"},null,{"$f":"VLOOKUP(B1178,'[1]2018.7 '!A:C,3,)","v":"Active"},{"$f":"VLOOKUP(B1178,'[1]2018.7 '!A:M,13,)","v":"Ambient"},{"$f":"VLOOKUP(B1178,'[1]2018.7 '!A:N,14,)","v":"No"}]
[1178,"CFP-4-E-45","56410473","CFP-4-E-45","021","93","BIOPROCESS MEMBRANES","290","Hollow Fiber Cartridges",{"v":3990.0000000000005,"d":"3,990"},{"v":35945.91,"d":"35,946"},null,{"$f":"VLOOKUP(B1179,'[1]2018.7 '!A:C,3,)","v":"Active"},{"$f":"VLOOKUP(B1179,'[1]2018.7 '!A:M,13,)","v":"Ambient"},{"$f":"VLOOKUP(B1179,'[1]2018.7 '!A:N,14,)","v":"No"}]
[1179,"CFP-4-E-4A","56410207","CFP-4-E-4A","021","93","BIOPROCESS MEMBRANES","290","Hollow Fiber Cartridges",860,{"v":7747.740000000001,"d":"7,748"},null,{"$f":"VLOOKUP(B1180,'[1]2018.7 '!A:C,3,)","v":"Active"},{"$f":"VLOOKUP(B1180,'[1]2018.7 '!A:M,13,)","v":"Ambient"},{"$f":"VLOOKUP(B1180,'[1]2018.7 '!A:N,14,)","v":"No"}]
[1180,"CFP-4-E-4MA","56410182","CFP-4-E-4MA","021","93","BIOPROCESS MEMBRANES","290","Hollow Fiber Cartridges",860,{"v":7747.740000000001,"d":"7,748"},null,{"$f":"VLOOKUP(B1181,'[1]2018.7 '!A:C,3,)","v":"Active"},{"$f":"VLOOKUP(B1181,'[1]2018.7 '!A:M,13,)","v":"Ambient"},{"$f":"VLOOKUP(B1181,'[1]2018.7 '!A:N,14,)","v":"No"}]
[1181,"CFP-4-E-4X2MA","56410224","CFP-4-E-4X2MA","021","93","BIOPROCESS MEMBRANES","290","Hollow Fiber Cartridges",{"v":1100,"d":"1,100"},{"v":9909.9,"d":"9,910"},null,{"$f":"VLOOKUP(B1182,'[1]2018.7 '!A:C,3,)","v":"Active"},{"$f":"VLOOKUP(B1182,'[1]2018.7 '!A:M,13,)","v":"Ambient"},{"$f":"VLOOKUP(B1182,'[1]2018.7 '!A:N,14,)","v":"No"}]
[1182,"CFP-4-E-55","56410376","CFP-4-E-55","021","93","BIOPROCESS MEMBRANES","290","Hollow Fiber Cartridges",{"v":3800.0000000000005,"d":"3,800"},{"v":34234.200000000004,"d":"34,234"},null,{"$f":"VLOOKUP(B1183,'[1]2018.7 '!A:C,3,)","v":"Active"},{"$f":"VLOOKUP(B1183,'[1]2018.7 '!A:M,13,)","v":"Ambient"},{"$f":"VLOOKUP(B1183,'[1]2018.7 '!A:N,14,)","v":"No"}]
[1183,"CFP-4-E-55A","56410378","CFP-4-E-55A","021","93","BIOPROCESS MEMBRANES","290","Hollow Fiber Cartridges",{"v":4170,"d":"4,170"},{"v":37567.53,"d":"37,568"},null,{"$f":"VLOOKUP(B1184,'[1]2018.7 '!A:C,3,)","v":"Active"},{"$f":"VLOOKUP(B1184,'[1]2018.7 '!A:M,13,)","v":"Ambient"},{"$f":"VLOOKUP(B1184,'[1]2018.7 '!A:N,14,)","v":"No"}]
[1184,"CFP-4-E-55R","56410377","CFP-4-E-55R","021","93","BIOPROCESS MEMBRANES","290","Hollow Fiber Cartridges",{"v":3800.0000000000005,"d":"3,800"},{"v":34234.200000000004,"d":"34,234"},null,{"$f":"VLOOKUP(B1185,'[1]2018.7 '!A:C,3,)","v":"Active"},{"$f":"VLOOKUP(B1185,'[1]2018.7 '!A:M,13,)","v":"Ambient"},{"$f":"VLOOKUP(B1185,'[1]2018.7 '!A:N,14,)","v":"Reviewing"}]
[1185,"CFP-4-E-55SMO","56410444","CFP-4-E-55SMO","021","93","BIOPROCESS MEMBRANES","290","Hollow Fiber Cartridges",{"v":5100,"d":"5,100"},{"v":45945.9,"d":"45,946"},null,{"$f":"VLOOKUP(B1186,'[1]2018.7 '!A:C,3,)","v":"Active"},{"$f":"VLOOKUP(B1186,'[1]2018.7 '!A:M,13,)","v":"Ambient"},{"$f":"VLOOKUP(B1186,'[1]2018.7 '!A:N,14,)","v":"No"}]
[1186,"CFP-4-E-55STM","56410430","CFP-4-E-55STM","021","93","BIOPROCESS MEMBRANES","290","Hollow Fiber Cartridges",{"v":5100,"d":"5,100"},{"v":45945.9,"d":"45,946"},null,{"$f":"VLOOKUP(B1187,'[1]2018.7 '!A:C,3,)","v":"Active"},{"$f":"VLOOKUP(B1187,'[1]2018.7 '!A:M,13,)","v":"Ambient"},{"$f":"VLOOKUP(B1187,'[1]2018.7 '!A:N,14,)","v":"Reviewing"}]
[1187,"CFP-4-E-5A","56410249","CFP-4-E-5A","021","93","BIOPROCESS MEMBRANES","290","Hollow Fiber Cartridges",{"v":1240,"d":"1,240"},{"v":11171.16,"d":"11,171"},null,{"$f":"VLOOKUP(B1188,'[1]2018.7 '!A:C,3,)","v":"Active"},{"$f":"VLOOKUP(B1188,'[1]2018.7 '!A:M,13,)","v":"Ambient"},{"$f":"VLOOKUP(B1188,'[1]2018.7 '!A:N,14,)","v":"No"}]
[1188,"CFP-4-E-65","56410494","CFP-4-E-65","021","93","BIOPROCESS MEMBRANES","290","Hollow Fiber Cartridges",{"v":6600,"d":"6,600"},{"v":59459.4,"d":"59,459"},null,{"$f":"VLOOKUP(B1189,'[1]2018.7 '!A:C,3,)","v":"Active"},{"$f":"VLOOKUP(B1189,'[1]2018.7 '!A:M,13,)","v":"Ambient"},{"$f":"VLOOKUP(B1189,'[1]2018.7 '!A:N,14,)","v":"No"}]
[1189,"CFP-4-E-65MSM","56410461","CFP-4-E-65MSM","021","93","BIOPROCESS MEMBRANES","290","Hollow Fiber Cartridges",{"v":8850,"d":"8,850"},{"v":79729.65000000001,"d":"79,730"},null,{"$f":"VLOOKUP(B1190,'[1]2018.7 '!A:C,3,)","v":"Active"},{"$f":"VLOOKUP(B1190,'[1]2018.7 '!A:M,13,)","v":"Ambient"},{"$f":"VLOOKUP(B1190,'[1]2018.7 '!A:N,14,)","v":"No"}]
[1190,"CFP-4-E-6A","56410272","CFP-4-E-6A","021","93","BIOPROCESS MEMBRANES","290","Hollow Fiber Cartridges",{"v":1650,"d":"1,650"},{"v":14864.85,"d":"14,865"},null,{"$f":"VLOOKUP(B1191,'[1]2018.7 '!A:C,3,)","v":"Active"},{"$f":"VLOOKUP(B1191,'[1]2018.7 '!A:M,13,)","v":"Ambient"},{"$f":"VLOOKUP(B1191,'[1]2018.7 '!A:N,14,)","v":"No"}]
[1191,"CFP-4-E-8A","56410289","CFP-4-E-8A","021","93","BIOPROCESS MEMBRANES","290","Hollow Fiber Cartridges",{"v":1735,"d":"1,735"},{"v":15630.615,"d":"15,631"},null,{"$f":"VLOOKUP(B1192,'[1]2018.7 '!A:C,3,)","v":"Active"},{"$f":"VLOOKUP(B1192,'[1]2018.7 '!A:M,13,)","v":"Ambient"},{"$f":"VLOOKUP(B1192,'[1]2018.7 '!A:N,14,)","v":"No"}]
[1192,"CFP-4-E-8SIP","29010706","CFP-4-E-8SIP","021","93","BIOPROCESS MEMBRANES","290","Hollow Fiber Cartridges",{"v":1900.0000000000002,"d":"1,900"},{"v":17117.100000000002,"d":"17,117"},null,{"$f":"VLOOKUP(B1193,'[1]2018.7 '!A:C,3,)","v":"Active"},{"$f":"VLOOKUP(B1193,'[1]2018.7 '!A:M,13,)","v":"Ambient"},{"$f":"VLOOKUP(B1193,'[1]2018.7 '!A:N,14,)","v":"Reviewing"}]
[1193,"CFP-4-E-9A","56410312","CFP-4-E-9A","021","93","BIOPROCESS MEMBRANES","290","Hollow Fiber Cartridges",{"v":2300,"d":"2,300"},{"v":20720.7,"d":"20,721"},null,{"$f":"VLOOKUP(B1194,'[1]2018.7 '!A:C,3,)","v":"Active"},{"$f":"VLOOKUP(B1194,'[1]2018.7 '!A:M,13,)","v":"Ambient"},{"$f":"VLOOKUP(B1194,'[1]2018.7 '!A:N,14,)","v":"No"}]
[1194,"CFP-4-E-H22LA","56410098","CFP-4-E-H22LA","021","93","BIOPROCESS MEMBRANES","290","Hollow Fiber Cartridges",295,{"v":2657.655,"d":"2,658"},null,{"$f":"VLOOKUP(B1195,'[1]2018.7 '!A:C,3,)","v":"Active"},{"$f":"VLOOKUP(B1195,'[1]2018.7 '!A:M,13,)","v":"Ambient"},{"$f":"VLOOKUP(B1195,'[1]2018.7 '!A:N,14,)","v":"No"}]
[1195,"CFP-4-E-MM01A","56410080","CFP-4-E-MM01A","021","93","BIOPROCESS MEMBRANES","290","Hollow Fiber Cartridges",200,{"v":1801.8000000000002,"d":"1,802"},null,{"$f":"VLOOKUP(B1196,'[1]2018.7 '!A:C,3,)","v":"Active"},{"$f":"VLOOKUP(B1196,'[1]2018.7 '!A:M,13,)","v":"Ambient"},{"$f":"VLOOKUP(B1196,'[1]2018.7 '!A:N,14,)","v":"No"}]
[1196,"CFP-4-E-MM06A","56410081","CFP-4-E-MM06A","021","93","BIOPROCESS MEMBRANES","290","Hollow Fiber Cartridges",{"v":969.9999999999999,"d":"970"},{"v":8738.73,"d":"8,739"},null,{"$f":"VLOOKUP(B1197,'[1]2018.7 '!A:C,3,)","v":"Active"},{"$f":"VLOOKUP(B1197,'[1]2018.7 '!A:M,13,)","v":"Ambient"},{"$f":"VLOOKUP(B1197,'[1]2018.7 '!A:N,14,)","v":"Reviewing"}]
[1197,"CFP-4-E-MM12A","56410082","CFP-4-E-MM12A","021","93","BIOPROCESS MEMBRANES","290","Hollow Fiber Cartridges",{"v":1460,"d":"1,460"},{"v":13153.140000000001,"d":"13,153"},null,{"$f":"VLOOKUP(B1198,'[1]2018.7 '!A:C,3,)","v":"Active"},{"$f":"VLOOKUP(B1198,'[1]2018.7 '!A:M,13,)","v":"Ambient"},{"$f":"VLOOKUP(B1198,'[1]2018.7 '!A:N,14,)","v":"Reviewing"}]
[1198,"CFP-6-D-2U","11000554","CFP-6-D-2U","021","93","BIOPROCESS MEMBRANES","290","Hollow Fiber Cartridges",295,{"v":2657.655,"d":"2,658"},null,{"$f":"VLOOKUP(B1199,'[1]2018.7 '!A:C,3,)","v":"Active"},{"$f":"VLOOKUP(B1199,'[1]2018.7 '!A:M,13,)","v":"Ambient"},{"$f":"VLOOKUP(B1199,'[1]2018.7 '!A:N,14,)","v":"No"}]
[1199,"CFP-6-D-35A","56410334","CFP-6-D-35A","021","93","BIOPROCESS MEMBRANES","290","Hollow Fiber Cartridges",{"v":2657,"d":"2,657"},{"v":23936.913,"d":"23,937"},null,{"$f":"VLOOKUP(B1200,'[1]2018.7 '!A:C,3,)","v":"Active"},{"$f":"VLOOKUP(B1200,'[1]2018.7 '!A:M,13,)","v":"Ambient"},{"$f":"VLOOKUP(B1200,'[1]2018.7 '!A:N,14,)","v":"Reviewing"}]
[1200,"CFP-6-D-3A","56410953","CFP-6-D-3A","021","93","BIOPROCESS MEMBRANES","290","Hollow Fiber Cartridges",450,{"v":4054.05,"d":"4,054"},null,{"$f":"VLOOKUP(B1201,'[1]2018.7 '!A:C,3,)","v":"Active"},{"$f":"VLOOKUP(B1201,'[1]2018.7 '!A:M,13,)","v":"Ambient"},{"$f":"VLOOKUP(B1201,'[1]2018.7 '!A:N,14,)","v":"Reviewing"}]
[1201,"CFP-6-D-3MA","56410144","CFP-6-D-3MA","021","93","BIOPROCESS MEMBRANES","290","Hollow Fiber Cartridges",530,{"v":4774.77,"d":"4,775"},null,{"$f":"VLOOKUP(B1202,'[1]2018.7 '!A:C,3,)","v":"Active"},{"$f":"VLOOKUP(B1202,'[1]2018.7 '!A:M,13,)","v":"Ambient"},{"$f":"VLOOKUP(B1202,'[1]2018.7 '!A:N,14,)","v":"No"}]
[1202,"CFP-6-D-3X2MA","28991384","CFP-6-D-3X2MA","021","93","BIOPROCESS MEMBRANES","290","Hollow Fiber Cartridges",730,{"v":6576.570000000001,"d":"6,577"},null,{"$f":"VLOOKUP(B1203,'[1]2018.7 '!A:C,3,)","v":"Active"},{"$f":"VLOOKUP(B1203,'[1]2018.7 '!A:M,13,)","v":"Ambient"},{"$f":"VLOOKUP(B1203,'[1]2018.7 '!A:N,14,)","v":"No"}]
[1203,"CFP-6-D-45","56410474","CFP-6-D-45","021","93","BIOPROCESS MEMBRANES","290","Hollow Fiber Cartridges",{"v":4130,"d":"4,130"},{"v":37207.17,"d":"37,207"},null,{"$f":"VLOOKUP(B1204,'[1]2018.7 '!A:C,3,)","v":"Active"},{"$f":"VLOOKUP(B1204,'[1]2018.7 '!A:M,13,)","v":"Ambient"},{"$f":"VLOOKUP(B1204,'[1]2018.7 '!A:N,14,)","v":"No"}]
[1204,"CFP-6-D-4A","56410208","CFP-6-D-4A","021","93","BIOPROCESS MEMBRANES","290","Hollow Fiber Cartridges",860,{"v":7747.740000000001,"d":"7,748"},null,{"$f":"VLOOKUP(B1205,'[1]2018.7 '!A:C,3,)","v":"Active"},{"$f":"VLOOKUP(B1205,'[1]2018.7 '!A:M,13,)","v":"Ambient"},{"$f":"VLOOKUP(B1205,'[1]2018.7 '!A:N,14,)","v":"No"}]
[1205,"CFP-6-D-4MA","56410183","CFP-6-D-4MA","021","93","BIOPROCESS MEMBRANES","290","Hollow Fiber Cartridges",860,{"v":7747.740000000001,"d":"7,748"},null,{"$f":"VLOOKUP(B1206,'[1]2018.7 '!A:C,3,)","v":"Active"},{"$f":"VLOOKUP(B1206,'[1]2018.7 '!A:M,13,)","v":"Ambient"},{"$f":"VLOOKUP(B1206,'[1]2018.7 '!A:N,14,)","v":"No"}]
[1206,"CFP-6-D-4X2MA","56410225","CFP-6-D-4X2MA","021","93","BIOPROCESS MEMBRANES","290","Hollow Fiber Cartridges",{"v":1100,"d":"1,100"},{"v":9909.9,"d":"9,910"},null,{"$f":"VLOOKUP(B1207,'[1]2018.7 '!A:C,3,)","v":"Active"},{"$f":"VLOOKUP(B1207,'[1]2018.7 '!A:M,13,)","v":"Ambient"},{"$f":"VLOOKUP(B1207,'[1]2018.7 '!A:N,14,)","v":"No"}]
[1207,"CFP-6-D-55A","56410379","CFP-6-D-55A","021","93","BIOPROCESS MEMBRANES","290","Hollow Fiber Cartridges",{"v":4589,"d":"4,589"},{"v":41342.301,"d":"41,342"},null,{"$f":"VLOOKUP(B1208,'[1]2018.7 '!A:C,3,)","v":"Active"},{"$f":"VLOOKUP(B1208,'[1]2018.7 '!A:M,13,)","v":"Ambient"},{"$f":"VLOOKUP(B1208,'[1]2018.7 '!A:N,14,)","v":"No"}]
[1208,"CFP-6-D-55STM","56410925","CFP-6-D-55STM","021","93","BIOPROCESS MEMBRANES","290","Hollow Fiber Cartridges",{"v":5187,"d":"5,187"},{"v":46729.683000000005,"d":"46,730"},null,{"$f":"VLOOKUP(B1209,'[1]2018.7 '!A:C,3,)","v":"Active"},{"$f":"VLOOKUP(B1209,'[1]2018.7 '!A:M,13,)","v":"Ambient"},{"$f":"VLOOKUP(B1209,'[1]2018.7 '!A:N,14,)","v":"Reviewing"}]
[1209,"CFP-6-D-5A","56410250","CFP-6-D-5A","021","93","BIOPROCESS MEMBRANES","290","Hollow Fiber Cartridges",{"v":1240,"d":"1,240"},{"v":11171.16,"d":"11,171"},null,{"$f":"VLOOKUP(B1210,'[1]2018.7 '!A:C,3,)","v":"Active"},{"$f":"VLOOKUP(B1210,'[1]2018.7 '!A:M,13,)","v":"Ambient"},{"$f":"VLOOKUP(B1210,'[1]2018.7 '!A:N,14,)","v":"No"}]
[1210,"CFP-6-D-6A","56410273","CFP-6-D-6A","021","93","BIOPROCESS MEMBRANES","290","Hollow Fiber Cartridges",{"v":1650,"d":"1,650"},{"v":14864.85,"d":"14,865"},null,{"$f":"VLOOKUP(B1211,'[1]2018.7 '!A:C,3,)","v":"Active"},{"$f":"VLOOKUP(B1211,'[1]2018.7 '!A:M,13,)","v":"Ambient"},{"$f":"VLOOKUP(B1211,'[1]2018.7 '!A:N,14,)","v":"No"}]
[1211,"CFP-6-D-8A","56410290","CFP-6-D-8A","021","93","BIOPROCESS MEMBRANES","290","Hollow Fiber Cartridges",{"v":1735,"d":"1,735"},{"v":15630.615,"d":"15,631"},null,{"$f":"VLOOKUP(B1212,'[1]2018.7 '!A:C,3,)","v":"Active"},{"$f":"VLOOKUP(B1212,'[1]2018.7 '!A:M,13,)","v":"Ambient"},{"$f":"VLOOKUP(B1212,'[1]2018.7 '!A:N,14,)","v":"No"}]
[1212,"CFP-6-D-8SIP","56410955","CFP-6-D-8SIP","021","93","BIOPROCESS MEMBRANES","290","Hollow Fiber Cartridges",{"v":1900.0000000000002,"d":"1,900"},{"v":17117.100000000002,"d":"17,117"},null,{"$f":"VLOOKUP(B1213,'[1]2018.7 '!A:C,3,)","v":"Active"},{"$f":"VLOOKUP(B1213,'[1]2018.7 '!A:M,13,)","v":"Ambient"},{"$f":"VLOOKUP(B1213,'[1]2018.7 '!A:N,14,)","v":"Reviewing"}]
[1213,"CFP-6-D-9A","56410313","CFP-6-D-9A","021","93","BIOPROCESS MEMBRANES","290","Hollow Fiber Cartridges",{"v":2300,"d":"2,300"},{"v":20720.7,"d":"20,721"},null,{"$f":"VLOOKUP(B1214,'[1]2018.7 '!A:C,3,)","v":"Active"},{"$f":"VLOOKUP(B1214,'[1]2018.7 '!A:M,13,)","v":"Ambient"},{"$f":"VLOOKUP(B1214,'[1]2018.7 '!A:N,14,)","v":"No"}]
[1214,"CFP-6-D-BC22L","56410978","CFP-6-D-BC22L","021","93","BIOPROCESS MEMBRANES","290","Hollow Fiber Cartridges",350,{"v":3153.15,"d":"3,153"},null,{"$f":"VLOOKUP(B1215,'[1]2018.7 '!A:C,3,)","v":"Active"},{"$f":"VLOOKUP(B1215,'[1]2018.7 '!A:M,13,)","v":"Ambient"},{"$f":"VLOOKUP(B1215,'[1]2018.7 '!A:N,14,)","v":"Reviewing"}]
[1215,"CFP-6-D-BC22LA","56410793","CFP-6-D-BC22LA","021","93","BIOPROCESS MEMBRANES","290","Hollow Fiber Cartridges",350,{"v":3153.15,"d":"3,153"},null,{"$f":"VLOOKUP(B1216,'[1]2018.7 '!A:C,3,)","v":"Active"},{"$f":"VLOOKUP(B1216,'[1]2018.7 '!A:M,13,)","v":"Ambient"},{"$f":"VLOOKUP(B1216,'[1]2018.7 '!A:N,14,)","v":"Reviewing"}]
[1216,"CFP-6-D-H22LA","56410099","CFP-6-D-H22LA","021","93","BIOPROCESS MEMBRANES","290","Hollow Fiber Cartridges",295,{"v":2657.655,"d":"2,658"},null,{"$f":"VLOOKUP(B1217,'[1]2018.7 '!A:C,3,)","v":"Active"},{"$f":"VLOOKUP(B1217,'[1]2018.7 '!A:M,13,)","v":"Ambient"},{"$f":"VLOOKUP(B1217,'[1]2018.7 '!A:N,14,)","v":"No"}]
[1217,"CFP-6-D-MM01A","56410084","CFP-6-D-MM01A","021","93","BIOPROCESS MEMBRANES","290","Hollow Fiber Cartridges",200,{"v":1801.8000000000002,"d":"1,802"},null,{"$f":"VLOOKUP(B1218,'[1]2018.7 '!A:C,3,)","v":"Active"},{"$f":"VLOOKUP(B1218,'[1]2018.7 '!A:M,13,)","v":"Ambient"},{"$f":"VLOOKUP(B1218,'[1]2018.7 '!A:N,14,)","v":"No"}]
[1218,"CFP-6-D-MM06A","56410085","CFP-6-D-MM06A","021","93","BIOPROCESS MEMBRANES","290","Hollow Fiber Cartridges",{"v":969.9999999999999,"d":"970"},{"v":8738.73,"d":"8,739"},null,{"$f":"VLOOKUP(B1219,'[1]2018.7 '!A:C,3,)","v":"Active"},{"$f":"VLOOKUP(B1219,'[1]2018.7 '!A:M,13,)","v":"Ambient"},{"$f":"VLOOKUP(B1219,'[1]2018.7 '!A:N,14,)","v":"Reviewing"}]
[1219,"CFP-CELL-KIT-2U","11000565","CFP-CELL-KIT-2U","021","93","BIOPROCESS MEMBRANES","290","Hollow Fiber Cartridges",{"v":1150,"d":"1,150"},{"v":10360.35,"d":"10,360"},null,{"$f":"VLOOKUP(B1220,'[1]2018.7 '!A:C,3,)","v":"Active"},{"$f":"VLOOKUP(B1220,'[1]2018.7 '!A:M,13,)","v":"Ambient"},{"$f":"VLOOKUP(B1220,'[1]2018.7 '!A:N,14,)","v":"No"}]
[1220,"CFP6D65","56410812","CFP-6-D-65","021","93","BIOPROCESS MEMBRANES","290","Hollow Fiber Cartridges",{"$f":"K1221/9.009","v":{"v":6700,"d":"6,700"}},{"v":60360.3,"d":"60,360"},null,{"$f":"VLOOKUP(B1221,'[1]2018.7 '!A:C,3,)","v":"Active"},{"$f":"VLOOKUP(B1221,'[1]2018.7 '!A:M,13,)","v":"Ambient"},{"$f":"VLOOKUP(B1221,'[1]2018.7 '!A:N,14,)","v":"No"}]
[1221,"CLF-2-E-1-10","56410802","LOOSE MF FIBER","021","93","BIOPROCESS MEMBRANES","290","Hollow Fiber Cartridges",255,{"v":2297.295,"d":"2,297"},null,{"$f":"VLOOKUP(B1222,'[1]2018.7 '!A:C,3,)","v":"Active"},{"$f":"VLOOKUP(B1222,'[1]2018.7 '!A:M,13,)","v":"Ambient"},{"$f":"VLOOKUP(B1222,'[1]2018.7 '!A:N,14,)","v":"Reviewing"}]
[1222,"CLF-2-E-3-34","56411585","0.2 MICRON, 1MM, LOOSE FIBER","021","93","BIOPROCESS MEMBRANES","290","Hollow Fiber Cartridges",305,{"v":2747.745,"d":"2,748"},null,{"$f":"VLOOKUP(B1223,'[1]2018.7 '!A:C,3,)","v":"Active"},{"$f":"VLOOKUP(B1223,'[1]2018.7 '!A:M,13,)","v":"Ambient"},{"$f":"VLOOKUP(B1223,'[1]2018.7 '!A:N,14,)","v":"Reviewing"}]
[1223,"CNCFP-2-E-4X2MA","56411121","CNCFP-2-E-4X2MA","021","93","BIOPROCESS MEMBRANES","290","Hollow Fiber Cartridges",{"v":1350,"d":"1,350"},{"v":12162.15,"d":"12,162"},null,{"$f":"VLOOKUP(B1224,'[1]2018.7 '!A:C,3,)","v":"Active"},{"$f":"VLOOKUP(B1224,'[1]2018.7 '!A:M,13,)","v":"Ambient"},{"$f":"VLOOKUP(B1224,'[1]2018.7 '!A:N,14,)","v":"Reviewing"}]
[1224,"CNCFP-2-E-9A","11000568","CNCFP-2-E-9A","021","93","BIOPROCESS MEMBRANES","290","Hollow Fiber Cartridges",{"v":2700,"d":"2,700"},{"v":24324.3,"d":"24,324"},null,{"$f":"VLOOKUP(B1225,'[1]2018.7 '!A:C,3,)","v":"Active"},{"$f":"VLOOKUP(B1225,'[1]2018.7 '!A:M,13,)","v":"Ambient"},{"$f":"VLOOKUP(B1225,'[1]2018.7 '!A:N,14,)","v":"Reviewing"}]
[1225,"F10:RF02PS","28993724","F10 RF02PS Custom HF for Refine Technology","021","93","BIOPROCESS MEMBRANES","290","Hollow Fiber Cartridges",{"v":9456,"d":"9,456"},{"v":85189.104,"d":"85,189"},null,{"$f":"VLOOKUP(B1226,'[1]2018.7 '!A:C,3,)","v":"Active"},{"$f":"VLOOKUP(B1226,'[1]2018.7 '!A:M,13,)","v":"Ambient"},{"$f":"VLOOKUP(B1226,'[1]2018.7 '!A:N,14,)","v":"No"}]
[1226,"F2:RF02PS","28993720","F2 RF02PS Custom HF for Refine Technology","021","93","BIOPROCESS MEMBRANES","290","Hollow Fiber Cartridges",678,{"v":6108.102,"d":"6,108"},null,{"$f":"VLOOKUP(B1227,'[1]2018.7 '!A:C,3,)","v":"Active"},{"$f":"VLOOKUP(B1227,'[1]2018.7 '!A:M,13,)","v":"Ambient"},{"$f":"VLOOKUP(B1227,'[1]2018.7 '!A:N,14,)","v":"No"}]
[1227,"F2:RF030PS","28993725","F2 RF030PS Custom HF for Refine Technology","021","93","BIOPROCESS MEMBRANES","290","Hollow Fiber Cartridges",678,{"v":6108.102,"d":"6,108"},null,{"$f":"VLOOKUP(B1228,'[1]2018.7 '!A:C,3,)","v":"Active"},{"$f":"VLOOKUP(B1228,'[1]2018.7 '!A:M,13,)","v":"Ambient"},{"$f":"VLOOKUP(B1228,'[1]2018.7 '!A:N,14,)","v":"No"}]
[1228,"F4:RF02PS","28993721","F4 RF02PS Custom HF for Refine Technology","021","93","BIOPROCESS MEMBRANES","290","Hollow Fiber Cartridges",{"v":1038,"d":"1,038"},{"v":9351.342,"d":"9,351"},null,{"$f":"VLOOKUP(B1229,'[1]2018.7 '!A:C,3,)","v":"Active"},{"$f":"VLOOKUP(B1229,'[1]2018.7 '!A:M,13,)","v":"Ambient"},{"$f":"VLOOKUP(B1229,'[1]2018.7 '!A:N,14,)","v":"No"}]
[1229,"F4:RF030PS","28993726","F4 RF030PS Custom HF for Refine Technology","021","93","BIOPROCESS MEMBRANES","290","Hollow Fiber Cartridges",{"v":1038,"d":"1,038"},{"v":9351.342,"d":"9,351"},null,{"$f":"VLOOKUP(B1230,'[1]2018.7 '!A:C,3,)","v":"Active"},{"$f":"VLOOKUP(B1230,'[1]2018.7 '!A:M,13,)","v":"Ambient"},{"$f":"VLOOKUP(B1230,'[1]2018.7 '!A:N,14,)","v":"Reviewing"}]
[1230,"F6:RF02PS","28993722","F6 RF02PS Custom HF for Refine Technology","021","93","BIOPROCESS MEMBRANES","290","Hollow Fiber Cartridges",{"v":3540,"d":"3,540"},{"v":31891.86,"d":"31,892"},null,{"$f":"VLOOKUP(B1231,'[1]2018.7 '!A:C,3,)","v":"Active"},{"$f":"VLOOKUP(B1231,'[1]2018.7 '!A:M,13,)","v":"Ambient"},{"$f":"VLOOKUP(B1231,'[1]2018.7 '!A:N,14,)","v":"Reviewing"}]
[1231,"F6:RF030PS","28993727","F6 RF030PS Custom HF for Refine Technology","021","93","BIOPROCESS MEMBRANES","290","Hollow Fiber Cartridges",{"v":3540,"d":"3,540"},{"v":31891.86,"d":"31,892"},null,{"$f":"VLOOKUP(B1232,'[1]2018.7 '!A:C,3,)","v":"Active"},{"$f":"VLOOKUP(B1232,'[1]2018.7 '!A:M,13,)","v":"Ambient"},{"$f":"VLOOKUP(B1232,'[1]2018.7 '!A:N,14,)","v":"Reviewing"}]
[1232,"F8:RF02PS","28993723","F8 RF02PS Custom HF for Refine Technology","021","93","BIOPROCESS MEMBRANES","290","Hollow Fiber Cartridges",{"v":6492,"d":"6,492"},{"v":58486.428,"d":"58,486"},null,{"$f":"VLOOKUP(B1233,'[1]2018.7 '!A:C,3,)","v":"Active"},{"$f":"VLOOKUP(B1233,'[1]2018.7 '!A:M,13,)","v":"Ambient"},{"$f":"VLOOKUP(B1233,'[1]2018.7 '!A:N,14,)","v":"Reviewing"}]
[1233,"F8:RF030PS","28993728","F8 RF030PS Custom HF for Refine Technology","021","93","BIOPROCESS MEMBRANES","290","Hollow Fiber Cartridges",{"v":6492,"d":"6,492"},{"v":58486.428,"d":"58,486"},null,{"$f":"VLOOKUP(B1234,'[1]2018.7 '!A:C,3,)","v":"Active"},{"$f":"VLOOKUP(B1234,'[1]2018.7 '!A:M,13,)","v":"Ambient"},{"$f":"VLOOKUP(B1234,'[1]2018.7 '!A:N,14,)","v":"Reviewing"}]
[1234,"FDCFP-1-E-55","11000476","0.1 MICRON, 1MM, 2.1SQ M","021","93","BIOPROCESS MEMBRANES","290","Hollow Fiber Cartridges",{"v":4200,"d":"4,200"},{"v":37837.8,"d":"37,838"},null,{"$f":"VLOOKUP(B1235,'[1]2018.7 '!A:C,3,)","v":"Active"},{"$f":"VLOOKUP(B1235,'[1]2018.7 '!A:M,13,)","v":"Ambient"},{"$f":"VLOOKUP(B1235,'[1]2018.7 '!A:N,14,)","v":"Reviewing"}]
[1235,"FDCFP-2-E-55","11000477","0.2 MICRON, 1MM, 2.1SQ M","021","93","BIOPROCESS MEMBRANES","290","Hollow Fiber Cartridges",{"v":4200,"d":"4,200"},{"v":37837.8,"d":"37,838"},null,{"$f":"VLOOKUP(B1236,'[1]2018.7 '!A:C,3,)","v":"Active"},{"$f":"VLOOKUP(B1236,'[1]2018.7 '!A:M,13,)","v":"Ambient"},{"$f":"VLOOKUP(B1236,'[1]2018.7 '!A:N,14,)","v":"Reviewing"}]
[1236,"FDCFP-4-E-55","11000478","0.45 MCIRON, 1MM, 2.1SQ M","021","93","BIOPROCESS MEMBRANES","290","Hollow Fiber Cartridges",{"v":4200,"d":"4,200"},{"v":37837.8,"d":"37,838"},null,{"$f":"VLOOKUP(B1237,'[1]2018.7 '!A:C,3,)","v":"Active"},{"$f":"VLOOKUP(B1237,'[1]2018.7 '!A:M,13,)","v":"Ambient"},{"$f":"VLOOKUP(B1237,'[1]2018.7 '!A:N,14,)","v":"Reviewing"}]
[1237,"FDUFP-10-C-55","11000483","10,000 NMWC, 0.5MM, 3.25 SQ M","021","93","BIOPROCESS MEMBRANES","290","Hollow Fiber Cartridges",{"v":4000,"d":"4,000"},{"v":36036,"d":"36,036"},null,{"$f":"VLOOKUP(B1238,'[1]2018.7 '!A:C,3,)","v":"Active"},{"$f":"VLOOKUP(B1238,'[1]2018.7 '!A:M,13,)","v":"Ambient"},{"$f":"VLOOKUP(B1238,'[1]2018.7 '!A:N,14,)","v":"Reviewing"}]
[1238,"FDUFP-10-C-6A","11000484","10,000 NMWC, 0.5MM, 4800 SQ CM","021","93","BIOPROCESS MEMBRANES","290","Hollow Fiber Cartridges",{"v":1875,"d":"1,875"},{"v":16891.875,"d":"16,892"},null,{"$f":"VLOOKUP(B1239,'[1]2018.7 '!A:C,3,)","v":"Active"},{"$f":"VLOOKUP(B1239,'[1]2018.7 '!A:M,13,)","v":"Ambient"},{"$f":"VLOOKUP(B1239,'[1]2018.7 '!A:N,14,)","v":"Reviewing"}]
[1239,"FDUFP-10-C-9A","11000485","10,000 NMWC, 0.5MM, 1.15 SQ M","021","93","BIOPROCESS MEMBRANES","290","Hollow Fiber Cartridges",{"v":2700,"d":"2,700"},{"v":24324.3,"d":"24,324"},null,{"$f":"VLOOKUP(B1240,'[1]2018.7 '!A:C,3,)","v":"Active"},{"$f":"VLOOKUP(B1240,'[1]2018.7 '!A:M,13,)","v":"Ambient"},{"$f":"VLOOKUP(B1240,'[1]2018.7 '!A:N,14,)","v":"Reviewing"}]
[1240,"FDUFP-10-E-55","11000486","10,000 NMWC, 1MM, 2.1 SQ M","021","93","BIOPROCESS MEMBRANES","290","Hollow Fiber Cartridges",{"v":3850,"d":"3,850"},{"v":34684.65,"d":"34,685"},null,{"$f":"VLOOKUP(B1241,'[1]2018.7 '!A:C,3,)","v":"Active"},{"$f":"VLOOKUP(B1241,'[1]2018.7 '!A:M,13,)","v":"Ambient"},{"$f":"VLOOKUP(B1241,'[1]2018.7 '!A:N,14,)","v":"Reviewing"}]
[1241,"FDUFP-10-E-55STM","56411006","HF CARTRIDGE, 10KD, STEAMABLE","021","93","BIOPROCESS MEMBRANES","290","Hollow Fiber Cartridges",{"v":5845,"d":"5,845"},{"v":52657.605,"d":"52,658"},null,{"$f":"VLOOKUP(B1242,'[1]2018.7 '!A:C,3,)","v":"Active"},{"$f":"VLOOKUP(B1242,'[1]2018.7 '!A:M,13,)","v":"Ambient"},{"$f":"VLOOKUP(B1242,'[1]2018.7 '!A:N,14,)","v":"Reviewing"}]
[1242,"FDUFP-10-E-65MSM","11000488","10,000 NMWC, 1MM, 4.2 SQ M","021","93","BIOPROCESS MEMBRANES","290","Hollow Fiber Cartridges",{"v":9190,"d":"9,190"},{"v":82792.71,"d":"82,793"},null,{"$f":"VLOOKUP(B1243,'[1]2018.7 '!A:C,3,)","v":"Active"},{"$f":"VLOOKUP(B1243,'[1]2018.7 '!A:M,13,)","v":"Ambient"},{"$f":"VLOOKUP(B1243,'[1]2018.7 '!A:N,14,)","v":"Reviewing"}]
[1243,"FDUFP-100-C-55","11000479","100,000 NMWC, 0.5MM, 3.25SQ M","021","93","BIOPROCESS MEMBRANES","290","Hollow Fiber Cartridges",{"v":4000,"d":"4,000"},{"v":36036,"d":"36,036"},null,{"$f":"VLOOKUP(B1244,'[1]2018.7 '!A:C,3,)","v":"Active"},{"$f":"VLOOKUP(B1244,'[1]2018.7 '!A:M,13,)","v":"Ambient"},{"$f":"VLOOKUP(B1244,'[1]2018.7 '!A:N,14,)","v":"Reviewing"}]
[1244,"FDUFP-100-E-55","11000480","100,000 NMWC, 1MM, 2.1SQ M","021","93","BIOPROCESS MEMBRANES","290","Hollow Fiber Cartridges",{"v":3850,"d":"3,850"},{"v":34684.65,"d":"34,685"},null,{"$f":"VLOOKUP(B1245,'[1]2018.7 '!A:C,3,)","v":"Active"},{"$f":"VLOOKUP(B1245,'[1]2018.7 '!A:M,13,)","v":"Ambient"},{"$f":"VLOOKUP(B1245,'[1]2018.7 '!A:N,14,)","v":"Reviewing"}]
[1245,"FDUFP-100-E-55STM","11000481","100,000 NMWC, 1MM, 2.1SQ M","021","93","BIOPROCESS MEMBRANES","290","Hollow Fiber Cartridges",{"v":5845,"d":"5,845"},{"v":52657.605,"d":"52,658"},null,{"$f":"VLOOKUP(B1246,'[1]2018.7 '!A:C,3,)","v":"Active"},{"$f":"VLOOKUP(B1246,'[1]2018.7 '!A:M,13,)","v":"Ambient"},{"$f":"VLOOKUP(B1246,'[1]2018.7 '!A:N,14,)","v":"Reviewing"}]
[1246,"FDUFP-100-E-65MSM","11000482","100,000 NMWC, 1MM, 4.2SQ M","021","93","BIOPROCESS MEMBRANES","290","Hollow Fiber Cartridges",{"v":9190,"d":"9,190"},{"v":82792.71,"d":"82,793"},null,{"$f":"VLOOKUP(B1247,'[1]2018.7 '!A:C,3,)","v":"Active"},{"$f":"VLOOKUP(B1247,'[1]2018.7 '!A:M,13,)","v":"Ambient"},{"$f":"VLOOKUP(B1247,'[1]2018.7 '!A:N,14,)","v":"Reviewing"}]
[1247,"FDUFP-3-C-75","11000491","3,000 NMWC, 0.5MM, 6 SQ M","021","93","BIOPROCESS MEMBRANES","290","Hollow Fiber Cartridges",{"v":6000,"d":"6,000"},{"v":54054,"d":"54,054"},null,{"$f":"VLOOKUP(B1248,'[1]2018.7 '!A:C,3,)","v":"Active"},{"$f":"VLOOKUP(B1248,'[1]2018.7 '!A:M,13,)","v":"Ambient"},{"$f":"VLOOKUP(B1248,'[1]2018.7 '!A:N,14,)","v":"Reviewing"}]
[1248,"FDUFP-30-E-55","11000490","30,000 NMWC, 1MM, 2.1 SQ M","021","93","BIOPROCESS MEMBRANES","290","Hollow Fiber Cartridges",{"v":3850,"d":"3,850"},{"v":34684.65,"d":"34,685"},null,{"$f":"VLOOKUP(B1249,'[1]2018.7 '!A:C,3,)","v":"Active"},{"$f":"VLOOKUP(B1249,'[1]2018.7 '!A:M,13,)","v":"Ambient"},{"$f":"VLOOKUP(B1249,'[1]2018.7 '!A:N,14,)","v":"Reviewing"}]
[1249,"FDUFP-300-C-55","11000489","300,000 NMWC, 0.5MM, 3.25 SQ M","021","93","BIOPROCESS MEMBRANES","290","Hollow Fiber Cartridges",{"v":4000,"d":"4,000"},{"v":36036,"d":"36,036"},null,{"$f":"VLOOKUP(B1250,'[1]2018.7 '!A:C,3,)","v":"Active"},{"$f":"VLOOKUP(B1250,'[1]2018.7 '!A:M,13,)","v":"Ambient"},{"$f":"VLOOKUP(B1250,'[1]2018.7 '!A:N,14,)","v":"Reviewing"}]
[1250,"FDUFP-5-C-55","11000495","5,000 NMWC, 0.5MM, 3.25 SQ M","021","93","BIOPROCESS MEMBRANES","290","Hollow Fiber Cartridges",{"v":4000,"d":"4,000"},{"v":36036,"d":"36,036"},null,{"$f":"VLOOKUP(B1251,'[1]2018.7 '!A:C,3,)","v":"Active"},{"$f":"VLOOKUP(B1251,'[1]2018.7 '!A:M,13,)","v":"Ambient"},{"$f":"VLOOKUP(B1251,'[1]2018.7 '!A:N,14,)","v":"Reviewing"}]
[1251,"FDUFP-500-C-55STM","56411030","FDUFP-500-C-55STM, 500 kD, 0.5 mm, 3.25 m2, 60 cm","021","93","BIOPROCESS MEMBRANES","290","Hollow Fiber Cartridges",{"v":7585,"d":"7,585"},{"v":68333.265,"d":"68,333"},null,{"$f":"VLOOKUP(B1252,'[1]2018.7 '!A:C,3,)","v":"Active"},{"$f":"VLOOKUP(B1252,'[1]2018.7 '!A:M,13,)","v":"Ambient"},{"$f":"VLOOKUP(B1252,'[1]2018.7 '!A:N,14,)","v":"Reviewing"}]
[1252,"FDUFP-500-E-55","11000492","500,000 NMWC, 1MM, 2.1 SQ M","021","93","BIOPROCESS MEMBRANES","290","Hollow Fiber Cartridges",{"v":3850,"d":"3,850"},{"v":34684.65,"d":"34,685"},null,{"$f":"VLOOKUP(B1253,'[1]2018.7 '!A:C,3,)","v":"Active"},{"$f":"VLOOKUP(B1253,'[1]2018.7 '!A:M,13,)","v":"Ambient"},{"$f":"VLOOKUP(B1253,'[1]2018.7 '!A:N,14,)","v":"Reviewing"}]
[1253,"FDUFP-500-E-55STM","11000493","500,000 NMWC, 1MM, 2.1 SQ M","021","93","BIOPROCESS MEMBRANES","290","Hollow Fiber Cartridges",{"v":5845,"d":"5,845"},{"v":52657.605,"d":"52,658"},null,{"$f":"VLOOKUP(B1254,'[1]2018.7 '!A:C,3,)","v":"Active"},{"$f":"VLOOKUP(B1254,'[1]2018.7 '!A:M,13,)","v":"Ambient"},{"$f":"VLOOKUP(B1254,'[1]2018.7 '!A:N,14,)","v":"Reviewing"}]
[1254,"FDUFP-500-E-65MSM","11000494","500,000 NMWC, 1MM, 4.2 SQ M","021","93","BIOPROCESS MEMBRANES","290","Hollow Fiber Cartridges",{"v":9190,"d":"9,190"},{"v":82792.71,"d":"82,793"},null,{"$f":"VLOOKUP(B1255,'[1]2018.7 '!A:C,3,)","v":"Active"},{"$f":"VLOOKUP(B1255,'[1]2018.7 '!A:M,13,)","v":"Ambient"},{"$f":"VLOOKUP(B1255,'[1]2018.7 '!A:N,14,)","v":"Reviewing"}]
[1255,"MKCFP-1-D-6A","56411097","MKCFP-1-D-6A, Merck 59633","021","93","BIOPROCESS MEMBRANES","290","Hollow Fiber Cartridges",{"v":1875,"d":"1,875"},{"v":16891.875,"d":"16,892"},null,{"$f":"VLOOKUP(B1256,'[1]2018.7 '!A:C,3,)","v":"Active"},{"$f":"VLOOKUP(B1256,'[1]2018.7 '!A:M,13,)","v":"Ambient"},{"$f":"VLOOKUP(B1256,'[1]2018.7 '!A:N,14,)","v":"Reviewing"}]
[1256,"MKCFP-1-E-55STM","56411098","MKCFP-1-E-55STM, Merck 59586","021","93","BIOPROCESS MEMBRANES","290","Hollow Fiber Cartridges",{"v":5700,"d":"5,700"},{"v":51351.3,"d":"51,351"},null,{"$f":"VLOOKUP(B1257,'[1]2018.7 '!A:C,3,)","v":"Active"},{"$f":"VLOOKUP(B1257,'[1]2018.7 '!A:M,13,)","v":"Ambient"},{"$f":"VLOOKUP(B1257,'[1]2018.7 '!A:N,14,)","v":"Reviewing"}]
[1257,"MKCFP-6-D-35A","56411094","MKCFP-6-D-35A, Merck W0015","021","93","BIOPROCESS MEMBRANES","290","Hollow Fiber Cartridges",{"v":3290,"d":"3,290"},{"v":29639.61,"d":"29,640"},null,{"$f":"VLOOKUP(B1258,'[1]2018.7 '!A:C,3,)","v":"Active"},{"$f":"VLOOKUP(B1258,'[1]2018.7 '!A:M,13,)","v":"Ambient"},{"$f":"VLOOKUP(B1258,'[1]2018.7 '!A:N,14,)","v":"Reviewing"}]
[1258,"MKUFP-100-C-55R","56411102","MKUFP-100-C-55R, Merck 57076","021","93","BIOPROCESS MEMBRANES","290","Hollow Fiber Cartridges",{"v":4200,"d":"4,200"},{"v":37837.8,"d":"37,838"},null,{"$f":"VLOOKUP(B1259,'[1]2018.7 '!A:C,3,)","v":"Active"},{"$f":"VLOOKUP(B1259,'[1]2018.7 '!A:M,13,)","v":"Ambient"},{"$f":"VLOOKUP(B1259,'[1]2018.7 '!A:N,14,)","v":"No"}]
[1259,"MKUFP-100-C-75R","56411101","MKUFP-100-C-75R, Merck 57077","021","93","BIOPROCESS MEMBRANES","290","Hollow Fiber Cartridges",{"v":5600,"d":"5,600"},{"v":50450.4,"d":"50,450"},null,{"$f":"VLOOKUP(B1260,'[1]2018.7 '!A:C,3,)","v":"Active"},{"$f":"VLOOKUP(B1260,'[1]2018.7 '!A:M,13,)","v":"Ambient"},{"$f":"VLOOKUP(B1260,'[1]2018.7 '!A:N,14,)","v":"No"}]
[1260,"MKUFP-500-C-3M","56411104","MKUFP-500-C-3M","021","93","BIOPROCESS MEMBRANES","290","Hollow Fiber Cartridges",625,{"v":5630.625,"d":"5,631"},null,{"$f":"VLOOKUP(B1261,'[1]2018.7 '!A:C,3,)","v":"Active"},{"$f":"VLOOKUP(B1261,'[1]2018.7 '!A:M,13,)","v":"Ambient"},{"$f":"VLOOKUP(B1261,'[1]2018.7 '!A:N,14,)","v":"Reviewing"}]
[1261,"MKUFP-500-C-3X2M","56411105","MKUFP-500-C-3X2M","021","93","BIOPROCESS MEMBRANES","290","Hollow Fiber Cartridges",855,{"v":7702.695000000001,"d":"7,703"},null,{"$f":"VLOOKUP(B1262,'[1]2018.7 '!A:C,3,)","v":"Active"},{"$f":"VLOOKUP(B1262,'[1]2018.7 '!A:M,13,)","v":"Ambient"},{"$f":"VLOOKUP(B1262,'[1]2018.7 '!A:N,14,)","v":"Reviewing"}]
[1262,"MKUFP-500-C-4X2M","56411103","MKUFP-500-C-4X2M","021","93","BIOPROCESS MEMBRANES","290","Hollow Fiber Cartridges",{"v":1350,"d":"1,350"},{"v":12162.15,"d":"12,162"},null,{"$f":"VLOOKUP(B1263,'[1]2018.7 '!A:C,3,)","v":"Active"},{"$f":"VLOOKUP(B1263,'[1]2018.7 '!A:M,13,)","v":"Ambient"},{"$f":"VLOOKUP(B1263,'[1]2018.7 '!A:N,14,)","v":"Reviewing"}]
[1263,"MKUFP-500-C-55","56411095","MKUFP-500-C-55, Merck W0016","021","93","BIOPROCESS MEMBRANES","290","Hollow Fiber Cartridges",{"v":4800,"d":"4,800"},{"v":43243.200000000004,"d":"43,243"},null,{"$f":"VLOOKUP(B1264,'[1]2018.7 '!A:C,3,)","v":"Active"},{"$f":"VLOOKUP(B1264,'[1]2018.7 '!A:M,13,)","v":"Ambient"},{"$f":"VLOOKUP(B1264,'[1]2018.7 '!A:N,14,)","v":"Reviewing"}]
[1264,"MKUFP-500-C-65","56411096","MKUFP-500-C-65, Merck W0062","021","93","BIOPROCESS MEMBRANES","290","Hollow Fiber Cartridges",{"v":8100.000000000001,"d":"8,100"},{"v":72972.90000000001,"d":"72,973"},null,{"$f":"VLOOKUP(B1265,'[1]2018.7 '!A:C,3,)","v":"Active"},{"$f":"VLOOKUP(B1265,'[1]2018.7 '!A:M,13,)","v":"Ambient"},{"$f":"VLOOKUP(B1265,'[1]2018.7 '!A:N,14,)","v":"No"}]
[1265,"MKUFP-500-E-55STM","56411099","MKUFP-500-E-55STM, Merck 59634","021","93","BIOPROCESS MEMBRANES","290","Hollow Fiber Cartridges",{"v":5700,"d":"5,700"},{"v":51351.3,"d":"51,351"},null,{"$f":"VLOOKUP(B1266,'[1]2018.7 '!A:C,3,)","v":"Active"},{"$f":"VLOOKUP(B1266,'[1]2018.7 '!A:M,13,)","v":"Ambient"},{"$f":"VLOOKUP(B1266,'[1]2018.7 '!A:N,14,)","v":"No"}]
[1266,"MKUFP-500-E-9A","56411100","MKUFP-500-E-9A, Merck 59591","021","93","BIOPROCESS MEMBRANES","290","Hollow Fiber Cartridges",{"v":2700,"d":"2,700"},{"v":24324.3,"d":"24,324"},null,{"$f":"VLOOKUP(B1267,'[1]2018.7 '!A:C,3,)","v":"Active"},{"$f":"VLOOKUP(B1267,'[1]2018.7 '!A:M,13,)","v":"Ambient"},{"$f":"VLOOKUP(B1267,'[1]2018.7 '!A:N,14,)","v":"No"}]
[1267,"SPUFP-500-E-65MSM","56411093","SPUFP-500-E-65MSM","021","93","BIOPROCESS MEMBRANES","290","Hollow Fiber Cartridges",{"v":10675,"d":"10,675"},{"v":96171.075,"d":"96,171"},null,{"$f":"VLOOKUP(B1268,'[1]2018.7 '!A:C,3,)","v":"Active"},{"$f":"VLOOKUP(B1268,'[1]2018.7 '!A:M,13,)","v":"Ambient"},{"$f":"VLOOKUP(B1268,'[1]2018.7 '!A:N,14,)","v":"Reviewing"}]
[1268,"UFP-1-C-3M","56410120","UFP-1-C-3M","021","93","BIOPROCESS MEMBRANES","290","Hollow Fiber Cartridges",530,{"v":4774.77,"d":"4,775"},null,{"$f":"VLOOKUP(B1269,'[1]2018.7 '!A:C,3,)","v":"Active"},{"$f":"VLOOKUP(B1269,'[1]2018.7 '!A:M,13,)","v":"Ambient"},{"$f":"VLOOKUP(B1269,'[1]2018.7 '!A:N,14,)","v":"No"}]
[1269,"UFP-1-C-4","56410184","UFP-1-C-4","021","93","BIOPROCESS MEMBRANES","290","Hollow Fiber Cartridges",860,{"v":7747.740000000001,"d":"7,748"},null,{"$f":"VLOOKUP(B1270,'[1]2018.7 '!A:C,3,)","v":"Active"},{"$f":"VLOOKUP(B1270,'[1]2018.7 '!A:M,13,)","v":"Ambient"},{"$f":"VLOOKUP(B1270,'[1]2018.7 '!A:N,14,)","v":"No"}]
[1270,"UFP-1-C-4M","56410159","UFP-1-C-4M","021","93","BIOPROCESS MEMBRANES","290","Hollow Fiber Cartridges",860,{"v":7747.740000000001,"d":"7,748"},null,{"$f":"VLOOKUP(B1271,'[1]2018.7 '!A:C,3,)","v":"Active"},{"$f":"VLOOKUP(B1271,'[1]2018.7 '!A:M,13,)","v":"Ambient"},{"$f":"VLOOKUP(B1271,'[1]2018.7 '!A:N,14,)","v":"No"}]
[1271,"UFP-1-C-4X2M","11000497","UFP-1-C-4X2M","021","93","BIOPROCESS MEMBRANES","290","Hollow Fiber Cartridges",{"v":1100,"d":"1,100"},{"v":9909.9,"d":"9,910"},null,{"$f":"VLOOKUP(B1272,'[1]2018.7 '!A:C,3,)","v":"Active"},{"$f":"VLOOKUP(B1272,'[1]2018.7 '!A:M,13,)","v":"Ambient"},{"$f":"VLOOKUP(B1272,'[1]2018.7 '!A:N,14,)","v":"No"}]
[1272,"UFP-1-C-5","56410226","UFP-1-C-5","021","93","BIOPROCESS MEMBRANES","290","Hollow Fiber Cartridges",{"v":1200,"d":"1,200"},{"v":10810.800000000001,"d":"10,811"},null,{"$f":"VLOOKUP(B1273,'[1]2018.7 '!A:C,3,)","v":"Active"},{"$f":"VLOOKUP(B1273,'[1]2018.7 '!A:M,13,)","v":"Ambient"},{"$f":"VLOOKUP(B1273,'[1]2018.7 '!A:N,14,)","v":"No"}]
[1273,"UFP-1-C-55","56410959","UFP-1-C-55","021","93","BIOPROCESS MEMBRANES","290","Hollow Fiber Cartridges",{"v":4175,"d":"4,175"},{"v":37612.575000000004,"d":"37,613"},null,{"$f":"VLOOKUP(B1274,'[1]2018.7 '!A:C,3,)","v":"Active"},{"$f":"VLOOKUP(B1274,'[1]2018.7 '!A:M,13,)","v":"Ambient"},{"$f":"VLOOKUP(B1274,'[1]2018.7 '!A:N,14,)","v":"No"}]
[1274,"UFP-1-C-55R","11000536","UFP-1-C-55R","021","93","BIOPROCESS MEMBRANES","290","Hollow Fiber Cartridges",{"v":4175,"d":"4,175"},{"v":37612.575000000004,"d":"37,613"},null,{"$f":"VLOOKUP(B1275,'[1]2018.7 '!A:C,3,)","v":"Active"},{"$f":"VLOOKUP(B1275,'[1]2018.7 '!A:M,13,)","v":"Ambient"},{"$f":"VLOOKUP(B1275,'[1]2018.7 '!A:N,14,)","v":"Reviewing"}]
[1275,"UFP-1-C-6","56410251","UFP-1-C-6","021","93","BIOPROCESS MEMBRANES","290","Hollow Fiber Cartridges",{"v":1650,"d":"1,650"},{"v":14864.85,"d":"14,865"},null,{"$f":"VLOOKUP(B1276,'[1]2018.7 '!A:C,3,)","v":"Active"},{"$f":"VLOOKUP(B1276,'[1]2018.7 '!A:M,13,)","v":"Ambient"},{"$f":"VLOOKUP(B1276,'[1]2018.7 '!A:N,14,)","v":"No"}]
[1276,"UFP-1-C-9","56410291","UFP-1-C-9","021","93","BIOPROCESS MEMBRANES","290","Hollow Fiber Cartridges",{"v":2300,"d":"2,300"},{"v":20720.7,"d":"20,721"},null,{"$f":"VLOOKUP(B1277,'[1]2018.7 '!A:C,3,)","v":"Active"},{"$f":"VLOOKUP(B1277,'[1]2018.7 '!A:M,13,)","v":"Ambient"},{"$f":"VLOOKUP(B1277,'[1]2018.7 '!A:N,14,)","v":"No"}]
[1277,"UFP-1-C-MM01","56410000","UFP-1-C-MM01","021","93","BIOPROCESS MEMBRANES","290","Hollow Fiber Cartridges",200,{"v":1801.8000000000002,"d":"1,802"},null,{"$f":"VLOOKUP(B1278,'[1]2018.7 '!A:C,3,)","v":"Active"},{"$f":"VLOOKUP(B1278,'[1]2018.7 '!A:M,13,)","v":"Ambient"},{"$f":"VLOOKUP(B1278,'[1]2018.7 '!A:N,14,)","v":"No"}]
[1278,"UFP-1-C-MM06","56410001","UFP-1-C-MM06","021","93","BIOPROCESS MEMBRANES","290","Hollow Fiber Cartridges",{"v":969.9999999999999,"d":"970"},{"v":8738.73,"d":"8,739"},null,{"$f":"VLOOKUP(B1279,'[1]2018.7 '!A:C,3,)","v":"Active"},{"$f":"VLOOKUP(B1279,'[1]2018.7 '!A:M,13,)","v":"Ambient"},{"$f":"VLOOKUP(B1279,'[1]2018.7 '!A:N,14,)","v":"Reviewing"}]
[1279,"UFP-10-C-154M","56410513","UFP-10-C-154M","021","93","BIOPROCESS MEMBRANES","290","Hollow Fiber Cartridges",{"v":17100,"d":"17,100"},{"v":154053.9,"d":"154,054"},null,{"$f":"VLOOKUP(B1280,'[1]2018.7 '!A:C,3,)","v":"Active"},{"$f":"VLOOKUP(B1280,'[1]2018.7 '!A:M,13,)","v":"Ambient"},{"$f":"VLOOKUP(B1280,'[1]2018.7 '!A:N,14,)","v":"Reviewing"}]
[1280,"UFP-10-C-2U","11000544","UFP-10-C-2U","021","93","BIOPROCESS MEMBRANES","290","Hollow Fiber Cartridges",295,{"v":2657.655,"d":"2,658"},null,{"$f":"VLOOKUP(B1281,'[1]2018.7 '!A:C,3,)","v":"Active"},{"$f":"VLOOKUP(B1281,'[1]2018.7 '!A:M,13,)","v":"Ambient"},{"$f":"VLOOKUP(B1281,'[1]2018.7 '!A:N,14,)","v":"No"}]
[1281,"UFP-10-C-35","56410319","UFP-10-C-35","021","93","BIOPROCESS MEMBRANES","290","Hollow Fiber Cartridges",{"v":2700,"d":"2,700"},{"v":24324.3,"d":"24,324"},null,{"$f":"VLOOKUP(B1282,'[1]2018.7 '!A:C,3,)","v":"Active"},{"$f":"VLOOKUP(B1282,'[1]2018.7 '!A:M,13,)","v":"Ambient"},{"$f":"VLOOKUP(B1282,'[1]2018.7 '!A:N,14,)","v":"No"}]
[1282,"UFP-10-C-3MA","56410127","UFP-10-C-3MA","021","93","BIOPROCESS MEMBRANES","290","Hollow Fiber Cartridges",530,{"v":4774.77,"d":"4,775"},null,{"$f":"VLOOKUP(B1283,'[1]2018.7 '!A:C,3,)","v":"Active"},{"$f":"VLOOKUP(B1283,'[1]2018.7 '!A:M,13,)","v":"Ambient"},{"$f":"VLOOKUP(B1283,'[1]2018.7 '!A:N,14,)","v":"No"}]
[1283,"UFP-10-C-3X2MA","56410146","UFP-10-C-3X2MA","021","93","BIOPROCESS MEMBRANES","290","Hollow Fiber Cartridges",700,{"v":6306.3,"d":"6,306"},null,{"$f":"VLOOKUP(B1284,'[1]2018.7 '!A:C,3,)","v":"Active"},{"$f":"VLOOKUP(B1284,'[1]2018.7 '!A:M,13,)","v":"Ambient"},{"$f":"VLOOKUP(B1284,'[1]2018.7 '!A:N,14,)","v":"No"}]
[1284,"UFP-10-C-45","56410469","UFP-10-C-45","021","93","BIOPROCESS MEMBRANES","290","Hollow Fiber Cartridges",{"$f":"K1285/9.009","v":{"v":4600,"d":"4,600"}},{"v":41441.4,"d":"41,441"},null,{"$f":"VLOOKUP(B1285,'[1]2018.7 '!A:C,3,)","v":"Active"},{"$f":"VLOOKUP(B1285,'[1]2018.7 '!A:M,13,)","v":"Ambient"},{"$f":"VLOOKUP(B1285,'[1]2018.7 '!A:N,14,)","v":"Reviewing"}]
[1285,"UFP-10-C-4A","56410191","UFP-10-C-4A","021","93","BIOPROCESS MEMBRANES","290","Hollow Fiber Cartridges",860,{"v":7747.740000000001,"d":"7,748"},null,{"$f":"VLOOKUP(B1286,'[1]2018.7 '!A:C,3,)","v":"Active"},{"$f":"VLOOKUP(B1286,'[1]2018.7 '!A:M,13,)","v":"Ambient"},{"$f":"VLOOKUP(B1286,'[1]2018.7 '!A:N,14,)","v":"No"}]
[1286,"UFP-10-C-4MA","56410166","UFP-10-C-4MA","021","93","BIOPROCESS MEMBRANES","290","Hollow Fiber Cartridges",860,{"v":7747.740000000001,"d":"7,748"},null,{"$f":"VLOOKUP(B1287,'[1]2018.7 '!A:C,3,)","v":"Active"},{"$f":"VLOOKUP(B1287,'[1]2018.7 '!A:M,13,)","v":"Ambient"},{"$f":"VLOOKUP(B1287,'[1]2018.7 '!A:N,14,)","v":"No"}]
[1287,"UFP-10-C-4X2MA","56410211","UFP-10-C-4X2MA","021","93","BIOPROCESS MEMBRANES","290","Hollow Fiber Cartridges",{"v":1100,"d":"1,100"},{"v":9909.9,"d":"9,910"},null,{"$f":"VLOOKUP(B1288,'[1]2018.7 '!A:C,3,)","v":"Active"},{"$f":"VLOOKUP(B1288,'[1]2018.7 '!A:M,13,)","v":"Ambient"},{"$f":"VLOOKUP(B1288,'[1]2018.7 '!A:N,14,)","v":"No"}]
[1288,"UFP-10-C-55","56410343","UFP-10-C-55","021","93","BIOPROCESS MEMBRANES","290","Hollow Fiber Cartridges",{"v":4175,"d":"4,175"},{"v":37612.575000000004,"d":"37,613"},null,{"$f":"VLOOKUP(B1289,'[1]2018.7 '!A:C,3,)","v":"Active"},{"$f":"VLOOKUP(B1289,'[1]2018.7 '!A:M,13,)","v":"Ambient"},{"$f":"VLOOKUP(B1289,'[1]2018.7 '!A:N,14,)","v":"No"}]
[1289,"UFP-10-C-55A","56410781","UFP-10-C-55A","021","93","BIOPROCESS MEMBRANES","290","Hollow Fiber Cartridges",{"v":4500,"d":"4,500"},{"v":40540.5,"d":"40,541"},null,{"$f":"VLOOKUP(B1290,'[1]2018.7 '!A:C,3,)","v":"Active"},{"$f":"VLOOKUP(B1290,'[1]2018.7 '!A:M,13,)","v":"Ambient"},{"$f":"VLOOKUP(B1290,'[1]2018.7 '!A:N,14,)","v":"No"}]
[1290,"UFP-10-C-55R","56410344","UFP-10-C-55R","021","93","BIOPROCESS MEMBRANES","290","Hollow Fiber Cartridges",{"v":4175,"d":"4,175"},{"v":37612.575000000004,"d":"37,613"},null,{"$f":"VLOOKUP(B1291,'[1]2018.7 '!A:C,3,)","v":"Active"},{"$f":"VLOOKUP(B1291,'[1]2018.7 '!A:M,13,)","v":"Ambient"},{"$f":"VLOOKUP(B1291,'[1]2018.7 '!A:N,14,)","v":"Reviewing"}]
[1291,"UFP-10-C-55STM","56410420","UFP-10-C-55STM","021","93","BIOPROCESS MEMBRANES","290","Hollow Fiber Cartridges",{"v":6200,"d":"6,200"},{"v":55855.8,"d":"55,856"},null,{"$f":"VLOOKUP(B1292,'[1]2018.7 '!A:C,3,)","v":"Active"},{"$f":"VLOOKUP(B1292,'[1]2018.7 '!A:M,13,)","v":"Ambient"},{"$f":"VLOOKUP(B1292,'[1]2018.7 '!A:N,14,)","v":"Reviewing"}]
[1292,"UFP-10-C-5A","56410233","UFP-10-C-5A","021","93","BIOPROCESS MEMBRANES","290","Hollow Fiber Cartridges",{"v":1200,"d":"1,200"},{"v":10810.800000000001,"d":"10,811"},null,{"$f":"VLOOKUP(B1293,'[1]2018.7 '!A:C,3,)","v":"Active"},{"$f":"VLOOKUP(B1293,'[1]2018.7 '!A:M,13,)","v":"Ambient"},{"$f":"VLOOKUP(B1293,'[1]2018.7 '!A:N,14,)","v":"No"}]
[1293,"UFP-10-C-65","56410479","UFP-10-C-65","021","93","BIOPROCESS MEMBRANES","290","Hollow Fiber Cartridges",{"v":6700,"d":"6,700"},{"v":60360.3,"d":"60,360"},null,{"$f":"VLOOKUP(B1294,'[1]2018.7 '!A:C,3,)","v":"Active"},{"$f":"VLOOKUP(B1294,'[1]2018.7 '!A:M,13,)","v":"Ambient"},{"$f":"VLOOKUP(B1294,'[1]2018.7 '!A:N,14,)","v":"No"}]
[1294,"UFP-10-C-65MSM","56410452","UFP-10-C-65MSM","021","93","BIOPROCESS MEMBRANES","290","Hollow Fiber Cartridges",{"v":10100,"d":"10,100"},{"v":90990.90000000001,"d":"90,991"},null,{"$f":"VLOOKUP(B1295,'[1]2018.7 '!A:C,3,)","v":"Active"},{"$f":"VLOOKUP(B1295,'[1]2018.7 '!A:M,13,)","v":"Ambient"},{"$f":"VLOOKUP(B1295,'[1]2018.7 '!A:N,14,)","v":"No"}]
[1295,"UFP-10-C-6A","56410256","UFP-10-C-6A","021","93","BIOPROCESS MEMBRANES","290","Hollow Fiber Cartridges",{"v":1650,"d":"1,650"},{"v":14864.85,"d":"14,865"},null,{"$f":"VLOOKUP(B1296,'[1]2018.7 '!A:C,3,)","v":"Active"},{"$f":"VLOOKUP(B1296,'[1]2018.7 '!A:M,13,)","v":"Ambient"},{"$f":"VLOOKUP(B1296,'[1]2018.7 '!A:N,14,)","v":"No"}]
[1296,"UFP-10-C-75","56410388","UFP-10-C-75","021","93","BIOPROCESS MEMBRANES","290","Hollow Fiber Cartridges",{"v":5775,"d":"5,775"},{"v":52026.975,"d":"52,027"},null,{"$f":"VLOOKUP(B1297,'[1]2018.7 '!A:C,3,)","v":"Active"},{"$f":"VLOOKUP(B1297,'[1]2018.7 '!A:M,13,)","v":"Ambient"},{"$f":"VLOOKUP(B1297,'[1]2018.7 '!A:N,14,)","v":"Reviewing"}]
[1297,"UFP-10-C-75R","56410389","UFP-10-C-75R","021","93","BIOPROCESS MEMBRANES","290","Hollow Fiber Cartridges",{"v":5775,"d":"5,775"},{"v":52026.975,"d":"52,027"},null,{"$f":"VLOOKUP(B1298,'[1]2018.7 '!A:C,3,)","v":"Active"},{"$f":"VLOOKUP(B1298,'[1]2018.7 '!A:M,13,)","v":"Ambient"},{"$f":"VLOOKUP(B1298,'[1]2018.7 '!A:N,14,)","v":"Reviewing"}]
[1298,"UFP-10-C-85","56410499","UFP-10-C-85","021","93","BIOPROCESS MEMBRANES","290","Hollow Fiber Cartridges",{"v":9900,"d":"9,900"},{"v":89189.1,"d":"89,189"},null,{"$f":"VLOOKUP(B1299,'[1]2018.7 '!A:C,3,)","v":"Active"},{"$f":"VLOOKUP(B1299,'[1]2018.7 '!A:M,13,)","v":"Ambient"},{"$f":"VLOOKUP(B1299,'[1]2018.7 '!A:N,14,)","v":"No"}]
[1299,"UFP-10-C-8A","56410276","UFP-10-C-8A","021","93","BIOPROCESS MEMBRANES","290","Hollow Fiber Cartridges",{"v":1735,"d":"1,735"},{"v":15630.615,"d":"15,631"},null,{"$f":"VLOOKUP(B1300,'[1]2018.7 '!A:C,3,)","v":"Active"},{"$f":"VLOOKUP(B1300,'[1]2018.7 '!A:M,13,)","v":"Ambient"},{"$f":"VLOOKUP(B1300,'[1]2018.7 '!A:N,14,)","v":"No"}]
[1300,"UFP-10-C-9A","56410296","UFP-10-C-9A","021","93","BIOPROCESS MEMBRANES","290","Hollow Fiber Cartridges",{"v":2300,"d":"2,300"},{"v":20720.7,"d":"20,721"},null,{"$f":"VLOOKUP(B1301,'[1]2018.7 '!A:C,3,)","v":"Active"},{"$f":"VLOOKUP(B1301,'[1]2018.7 '!A:M,13,)","v":"Ambient"},{"$f":"VLOOKUP(B1301,'[1]2018.7 '!A:N,14,)","v":"No"}]
[1301,"UFP-10-C-H24LA","56410101","UFP-10-C-H24LA","021","93","BIOPROCESS MEMBRANES","290","Hollow Fiber Cartridges",295,{"v":2657.655,"d":"2,658"},null,{"$f":"VLOOKUP(B1302,'[1]2018.7 '!A:C,3,)","v":"Active"},{"$f":"VLOOKUP(B1302,'[1]2018.7 '!A:M,13,)","v":"Ambient"},{"$f":"VLOOKUP(B1302,'[1]2018.7 '!A:N,14,)","v":"No"}]
[1302,"UFP-10-C-H24U","11000538","UFP-10-C-H24U","021","93","BIOPROCESS MEMBRANES","290","Hollow Fiber Cartridges",275,{"v":2477.475,"d":"2,477"},null,{"$f":"VLOOKUP(B1303,'[1]2018.7 '!A:C,3,)","v":"Active"},{"$f":"VLOOKUP(B1303,'[1]2018.7 '!A:M,13,)","v":"Ambient"},{"$f":"VLOOKUP(B1303,'[1]2018.7 '!A:N,14,)","v":"No"}]
[1303,"UFP-10-C-H42LA","56410108","UFP-10-C-H42LA","021","93","BIOPROCESS MEMBRANES","290","Hollow Fiber Cartridges",295,{"v":2657.655,"d":"2,658"},null,{"$f":"VLOOKUP(B1304,'[1]2018.7 '!A:C,3,)","v":"Active"},{"$f":"VLOOKUP(B1304,'[1]2018.7 '!A:M,13,)","v":"Ambient"},{"$f":"VLOOKUP(B1304,'[1]2018.7 '!A:N,14,)","v":"No"}]
[1304,"UFP-10-C-MM01A","56410012","UFP-10-C-MM01A","021","93","BIOPROCESS MEMBRANES","290","Hollow Fiber Cartridges",200,{"v":1801.8000000000002,"d":"1,802"},null,{"$f":"VLOOKUP(B1305,'[1]2018.7 '!A:C,3,)","v":"Active"},{"$f":"VLOOKUP(B1305,'[1]2018.7 '!A:M,13,)","v":"Ambient"},{"$f":"VLOOKUP(B1305,'[1]2018.7 '!A:N,14,)","v":"No"}]
[1305,"UFP-10-C-MM06A","56410013","UFP-10-C-MM06A","021","93","BIOPROCESS MEMBRANES","290","Hollow Fiber Cartridges",{"v":969.9999999999999,"d":"970"},{"v":8738.73,"d":"8,739"},null,{"$f":"VLOOKUP(B1306,'[1]2018.7 '!A:C,3,)","v":"Active"},{"$f":"VLOOKUP(B1306,'[1]2018.7 '!A:M,13,)","v":"Ambient"},{"$f":"VLOOKUP(B1306,'[1]2018.7 '!A:N,14,)","v":"No"}]
[1306,"UFP-10-C-MM12A","56410014","UFP-10-C-MM12A","021","93","BIOPROCESS MEMBRANES","290","Hollow Fiber Cartridges",{"v":1460,"d":"1,460"},{"v":13153.140000000001,"d":"13,153"},null,{"$f":"VLOOKUP(B1307,'[1]2018.7 '!A:C,3,)","v":"Active"},{"$f":"VLOOKUP(B1307,'[1]2018.7 '!A:M,13,)","v":"Ambient"},{"$f":"VLOOKUP(B1307,'[1]2018.7 '!A:N,14,)","v":"No"}]
[1307,"UFP-10-E-35","56410320","UFP-10-E-35","021","93","BIOPROCESS MEMBRANES","290","Hollow Fiber Cartridges",{"v":2350,"d":"2,350"},{"v":21171.15,"d":"21,171"},null,{"$f":"VLOOKUP(B1308,'[1]2018.7 '!A:C,3,)","v":"Active"},{"$f":"VLOOKUP(B1308,'[1]2018.7 '!A:M,13,)","v":"Ambient"},{"$f":"VLOOKUP(B1308,'[1]2018.7 '!A:N,14,)","v":"No"}]
[1308,"UFP-10-E-3MA","56410128","UFP-10-E-3MA","021","93","BIOPROCESS MEMBRANES","290","Hollow Fiber Cartridges",530,{"v":4774.77,"d":"4,775"},null,{"$f":"VLOOKUP(B1309,'[1]2018.7 '!A:C,3,)","v":"Active"},{"$f":"VLOOKUP(B1309,'[1]2018.7 '!A:M,13,)","v":"Ambient"},{"$f":"VLOOKUP(B1309,'[1]2018.7 '!A:N,14,)","v":"No"}]
[1309,"UFP-10-E-4A","56410192","UFP-10-E-4A","021","93","BIOPROCESS MEMBRANES","290","Hollow Fiber Cartridges",860,{"v":7747.740000000001,"d":"7,748"},null,{"$f":"VLOOKUP(B1310,'[1]2018.7 '!A:C,3,)","v":"Active"},{"$f":"VLOOKUP(B1310,'[1]2018.7 '!A:M,13,)","v":"Ambient"},{"$f":"VLOOKUP(B1310,'[1]2018.7 '!A:N,14,)","v":"No"}]
[1310,"UFP-10-E-4MA","56410167","UFP-10-E-4MA","021","93","BIOPROCESS MEMBRANES","290","Hollow Fiber Cartridges",860,{"v":7747.740000000001,"d":"7,748"},null,{"$f":"VLOOKUP(B1311,'[1]2018.7 '!A:C,3,)","v":"Active"},{"$f":"VLOOKUP(B1311,'[1]2018.7 '!A:M,13,)","v":"Ambient"},{"$f":"VLOOKUP(B1311,'[1]2018.7 '!A:N,14,)","v":"No"}]
[1311,"UFP-10-E-4X2MA","56411004","UFP-10-E-4X2MA","021","93","BIOPROCESS MEMBRANES","290","Hollow Fiber Cartridges",{"v":1100,"d":"1,100"},{"v":9909.9,"d":"9,910"},null,{"$f":"VLOOKUP(B1312,'[1]2018.7 '!A:C,3,)","v":"Active"},{"$f":"VLOOKUP(B1312,'[1]2018.7 '!A:M,13,)","v":"Ambient"},{"$f":"VLOOKUP(B1312,'[1]2018.7 '!A:N,14,)","v":"No"}]
[1312,"UFP-10-E-55","56410345","UFP-10-E-55","021","93","BIOPROCESS MEMBRANES","290","Hollow Fiber Cartridges",{"v":3400,"d":"3,400"},{"v":30630.600000000002,"d":"30,631"},null,{"$f":"VLOOKUP(B1313,'[1]2018.7 '!A:C,3,)","v":"Active"},{"$f":"VLOOKUP(B1313,'[1]2018.7 '!A:M,13,)","v":"Ambient"},{"$f":"VLOOKUP(B1313,'[1]2018.7 '!A:N,14,)","v":"No"}]
[1313,"UFP-10-E-55R","56410346","UFP-10-E-55R","021","93","BIOPROCESS MEMBRANES","290","Hollow Fiber Cartridges",{"v":3600,"d":"3,600"},{"v":32432.4,"d":"32,432"},null,{"$f":"VLOOKUP(B1314,'[1]2018.7 '!A:C,3,)","v":"Active"},{"$f":"VLOOKUP(B1314,'[1]2018.7 '!A:M,13,)","v":"Ambient"},{"$f":"VLOOKUP(B1314,'[1]2018.7 '!A:N,14,)","v":"Reviewing"}]
[1314,"UFP-10-E-55SMO","56410438","UFP-10-E-55SMO","021","93","BIOPROCESS MEMBRANES","290","Hollow Fiber Cartridges",{"v":5100,"d":"5,100"},{"v":45945.9,"d":"45,946"},null,{"$f":"VLOOKUP(B1315,'[1]2018.7 '!A:C,3,)","v":"Active"},{"$f":"VLOOKUP(B1315,'[1]2018.7 '!A:M,13,)","v":"Ambient"},{"$f":"VLOOKUP(B1315,'[1]2018.7 '!A:N,14,)","v":"No"}]
[1315,"UFP-10-E-55STM","56410421","UFP-10-E-55STM","021","93","BIOPROCESS MEMBRANES","290","Hollow Fiber Cartridges",{"v":5100,"d":"5,100"},{"v":45945.9,"d":"45,946"},null,{"$f":"VLOOKUP(B1316,'[1]2018.7 '!A:C,3,)","v":"Active"},{"$f":"VLOOKUP(B1316,'[1]2018.7 '!A:M,13,)","v":"Ambient"},{"$f":"VLOOKUP(B1316,'[1]2018.7 '!A:N,14,)","v":"Reviewing"}]
[1316,"UFP-10-E-5A","56410234","UFP-10-E-5A","021","93","BIOPROCESS MEMBRANES","290","Hollow Fiber Cartridges",{"v":1200,"d":"1,200"},{"v":10810.800000000001,"d":"10,811"},null,{"$f":"VLOOKUP(B1317,'[1]2018.7 '!A:C,3,)","v":"Active"},{"$f":"VLOOKUP(B1317,'[1]2018.7 '!A:M,13,)","v":"Ambient"},{"$f":"VLOOKUP(B1317,'[1]2018.7 '!A:N,14,)","v":"No"}]
[1317,"UFP-10-E-65","56410480","UFP-10-E-65","021","93","BIOPROCESS MEMBRANES","290","Hollow Fiber Cartridges",{"v":5590,"d":"5,590"},{"v":50360.310000000005,"d":"50,360"},null,{"$f":"VLOOKUP(B1318,'[1]2018.7 '!A:C,3,)","v":"Active"},{"$f":"VLOOKUP(B1318,'[1]2018.7 '!A:M,13,)","v":"Ambient"},{"$f":"VLOOKUP(B1318,'[1]2018.7 '!A:N,14,)","v":"No"}]
[1318,"UFP-10-E-65MSM","56410453","UFP-10-E-65MSM","021","93","BIOPROCESS MEMBRANES","290","Hollow Fiber Cartridges",{"v":8850,"d":"8,850"},{"v":79729.65000000001,"d":"79,730"},null,{"$f":"VLOOKUP(B1319,'[1]2018.7 '!A:C,3,)","v":"Active"},{"$f":"VLOOKUP(B1319,'[1]2018.7 '!A:M,13,)","v":"Ambient"},{"$f":"VLOOKUP(B1319,'[1]2018.7 '!A:N,14,)","v":"Reviewing"}]
[1319,"UFP-10-E-6A","56410257","UFP-10-E-6A","021","93","BIOPROCESS MEMBRANES","290","Hollow Fiber Cartridges",{"v":1650,"d":"1,650"},{"v":14864.85,"d":"14,865"},null,{"$f":"VLOOKUP(B1320,'[1]2018.7 '!A:C,3,)","v":"Active"},{"$f":"VLOOKUP(B1320,'[1]2018.7 '!A:M,13,)","v":"Ambient"},{"$f":"VLOOKUP(B1320,'[1]2018.7 '!A:N,14,)","v":"No"}]
[1320,"UFP-10-E-75","56410390","UFP-10-E-75","021","93","BIOPROCESS MEMBRANES","290","Hollow Fiber Cartridges",{"v":4700,"d":"4,700"},{"v":42342.3,"d":"42,342"},null,{"$f":"VLOOKUP(B1321,'[1]2018.7 '!A:C,3,)","v":"Active"},{"$f":"VLOOKUP(B1321,'[1]2018.7 '!A:M,13,)","v":"Ambient"},{"$f":"VLOOKUP(B1321,'[1]2018.7 '!A:N,14,)","v":"No"}]
[1321,"UFP-10-E-75R","56410391","UFP-10-E-75R","021","93","BIOPROCESS MEMBRANES","290","Hollow Fiber Cartridges",{"v":4700,"d":"4,700"},{"v":42342.3,"d":"42,342"},null,{"$f":"VLOOKUP(B1322,'[1]2018.7 '!A:C,3,)","v":"Active"},{"$f":"VLOOKUP(B1322,'[1]2018.7 '!A:M,13,)","v":"Ambient"},{"$f":"VLOOKUP(B1322,'[1]2018.7 '!A:N,14,)","v":"No"}]
[1322,"UFP-10-E-85","56410500","UFP-10-E-85","021","93","BIOPROCESS MEMBRANES","290","Hollow Fiber Cartridges",{"v":8200,"d":"8,200"},{"v":73873.8,"d":"73,874"},null,{"$f":"VLOOKUP(B1323,'[1]2018.7 '!A:C,3,)","v":"Active"},{"$f":"VLOOKUP(B1323,'[1]2018.7 '!A:M,13,)","v":"Ambient"},{"$f":"VLOOKUP(B1323,'[1]2018.7 '!A:N,14,)","v":"No"}]
[1323,"UFP-10-E-8SIP","29010707","UFP-10-E-8SIP","021","93","BIOPROCESS MEMBRANES","290","Hollow Fiber Cartridges",{"v":1900.0000000000002,"d":"1,900"},{"v":17117.100000000002,"d":"17,117"},null,{"$f":"VLOOKUP(B1324,'[1]2018.7 '!A:C,3,)","v":"Active"},{"$f":"VLOOKUP(B1324,'[1]2018.7 '!A:M,13,)","v":"Ambient"},{"$f":"VLOOKUP(B1324,'[1]2018.7 '!A:N,14,)","v":"Reviewing"}]
[1324,"UFP-10-E-9A","56410297","UFP-10-E-9A","021","93","BIOPROCESS MEMBRANES","290","Hollow Fiber Cartridges",{"v":2300,"d":"2,300"},{"v":20720.7,"d":"20,721"},null,{"$f":"VLOOKUP(B1325,'[1]2018.7 '!A:C,3,)","v":"Active"},{"$f":"VLOOKUP(B1325,'[1]2018.7 '!A:M,13,)","v":"Ambient"},{"$f":"VLOOKUP(B1325,'[1]2018.7 '!A:N,14,)","v":"No"}]
[1325,"UFP-10-E-H22LA","56410089","UFP-10-E-H22LA","021","93","BIOPROCESS MEMBRANES","290","Hollow Fiber Cartridges",295,{"v":2657.655,"d":"2,658"},null,{"$f":"VLOOKUP(B1326,'[1]2018.7 '!A:C,3,)","v":"Active"},{"$f":"VLOOKUP(B1326,'[1]2018.7 '!A:M,13,)","v":"Ambient"},{"$f":"VLOOKUP(B1326,'[1]2018.7 '!A:N,14,)","v":"No"}]
[1326,"UFP-10-E-H42LA","56410109","UFP-10-E-H42LA","021","93","BIOPROCESS MEMBRANES","290","Hollow Fiber Cartridges",295,{"v":2657.655,"d":"2,658"},null,{"$f":"VLOOKUP(B1327,'[1]2018.7 '!A:C,3,)","v":"Active"},{"$f":"VLOOKUP(B1327,'[1]2018.7 '!A:M,13,)","v":"Ambient"},{"$f":"VLOOKUP(B1327,'[1]2018.7 '!A:N,14,)","v":"No"}]
[1327,"UFP-10-E-MM01A","56410016","UFP-10-E-MM01A","021","93","BIOPROCESS MEMBRANES","290","Hollow Fiber Cartridges",200,{"v":1801.8000000000002,"d":"1,802"},null,{"$f":"VLOOKUP(B1328,'[1]2018.7 '!A:C,3,)","v":"Active"},{"$f":"VLOOKUP(B1328,'[1]2018.7 '!A:M,13,)","v":"Ambient"},{"$f":"VLOOKUP(B1328,'[1]2018.7 '!A:N,14,)","v":"No"}]
[1328,"UFP-10-E-MM06A","56410017","UFP-10-E-MM06A","021","93","BIOPROCESS MEMBRANES","290","Hollow Fiber Cartridges",{"v":969.9999999999999,"d":"970"},{"v":8738.73,"d":"8,739"},null,{"$f":"VLOOKUP(B1329,'[1]2018.7 '!A:C,3,)","v":"Active"},{"$f":"VLOOKUP(B1329,'[1]2018.7 '!A:M,13,)","v":"Ambient"},{"$f":"VLOOKUP(B1329,'[1]2018.7 '!A:N,14,)","v":"No"}]
[1329,"UFP-100-C-2U","11000546","UFP-100-C-2U","021","93","BIOPROCESS MEMBRANES","290","Hollow Fiber Cartridges",295,{"v":2657.655,"d":"2,658"},null,{"$f":"VLOOKUP(B1330,'[1]2018.7 '!A:C,3,)","v":"Active"},{"$f":"VLOOKUP(B1330,'[1]2018.7 '!A:M,13,)","v":"Ambient"},{"$f":"VLOOKUP(B1330,'[1]2018.7 '!A:N,14,)","v":"No"}]
[1330,"UFP-100-C-35","56410323","UFP-100-C-35","021","93","BIOPROCESS MEMBRANES","290","Hollow Fiber Cartridges",{"v":2700,"d":"2,700"},{"v":24324.3,"d":"24,324"},null,{"$f":"VLOOKUP(B1331,'[1]2018.7 '!A:C,3,)","v":"Active"},{"$f":"VLOOKUP(B1331,'[1]2018.7 '!A:M,13,)","v":"Ambient"},{"$f":"VLOOKUP(B1331,'[1]2018.7 '!A:N,14,)","v":"No"}]
[1331,"UFP-100-C-3MA","56410133","UFP-100-C-3MA","021","93","BIOPROCESS MEMBRANES","290","Hollow Fiber Cartridges",530,{"v":4774.77,"d":"4,775"},null,{"$f":"VLOOKUP(B1332,'[1]2018.7 '!A:C,3,)","v":"Active"},{"$f":"VLOOKUP(B1332,'[1]2018.7 '!A:M,13,)","v":"Ambient"},{"$f":"VLOOKUP(B1332,'[1]2018.7 '!A:N,14,)","v":"No"}]
[1332,"UFP-100-C-3X2MA","56410149","UFP-100-C-3X2MA","021","93","BIOPROCESS MEMBRANES","290","Hollow Fiber Cartridges",700,{"v":6306.3,"d":"6,306"},null,{"$f":"VLOOKUP(B1333,'[1]2018.7 '!A:C,3,)","v":"Active"},{"$f":"VLOOKUP(B1333,'[1]2018.7 '!A:M,13,)","v":"Ambient"},{"$f":"VLOOKUP(B1333,'[1]2018.7 '!A:N,14,)","v":"No"}]
[1333,"UFP-100-C-4A","56410197","UFP-100-C-4A","021","93","BIOPROCESS MEMBRANES","290","Hollow Fiber Cartridges",860,{"v":7747.740000000001,"d":"7,748"},null,{"$f":"VLOOKUP(B1334,'[1]2018.7 '!A:C,3,)","v":"Active"},{"$f":"VLOOKUP(B1334,'[1]2018.7 '!A:M,13,)","v":"Ambient"},{"$f":"VLOOKUP(B1334,'[1]2018.7 '!A:N,14,)","v":"No"}]
[1334,"UFP-100-C-4MA","56410172","UFP-100-C-4MA","021","93","BIOPROCESS MEMBRANES","290","Hollow Fiber Cartridges",860,{"v":7747.740000000001,"d":"7,748"},null,{"$f":"VLOOKUP(B1335,'[1]2018.7 '!A:C,3,)","v":"Active"},{"$f":"VLOOKUP(B1335,'[1]2018.7 '!A:M,13,)","v":"Ambient"},{"$f":"VLOOKUP(B1335,'[1]2018.7 '!A:N,14,)","v":"No"}]
[1335,"UFP-100-C-4X2MA","56410214","UFP-100-C-4X2MA","021","93","BIOPROCESS MEMBRANES","290","Hollow Fiber Cartridges",{"v":1100,"d":"1,100"},{"v":9909.9,"d":"9,910"},null,{"$f":"VLOOKUP(B1336,'[1]2018.7 '!A:C,3,)","v":"Active"},{"$f":"VLOOKUP(B1336,'[1]2018.7 '!A:M,13,)","v":"Ambient"},{"$f":"VLOOKUP(B1336,'[1]2018.7 '!A:N,14,)","v":"No"}]
[1336,"UFP-100-C-55","56410355","UFP-100-C-55","021","93","BIOPROCESS MEMBRANES","290","Hollow Fiber Cartridges",{"v":4175,"d":"4,175"},{"v":37612.575000000004,"d":"37,613"},null,{"$f":"VLOOKUP(B1337,'[1]2018.7 '!A:C,3,)","v":"Active"},{"$f":"VLOOKUP(B1337,'[1]2018.7 '!A:M,13,)","v":"Ambient"},{"$f":"VLOOKUP(B1337,'[1]2018.7 '!A:N,14,)","v":"No"}]
[1337,"UFP-100-C-55A","56410784","UFP-100-C-55A","021","93","BIOPROCESS MEMBRANES","290","Hollow Fiber Cartridges",{"v":4500,"d":"4,500"},{"v":40540.5,"d":"40,541"},null,{"$f":"VLOOKUP(B1338,'[1]2018.7 '!A:C,3,)","v":"Active"},{"$f":"VLOOKUP(B1338,'[1]2018.7 '!A:M,13,)","v":"Ambient"},{"$f":"VLOOKUP(B1338,'[1]2018.7 '!A:N,14,)","v":"No"}]
[1338,"UFP-100-C-55R","56410356","UFP-100-C-55R","021","93","BIOPROCESS MEMBRANES","290","Hollow Fiber Cartridges",{"v":4175,"d":"4,175"},{"v":37612.575000000004,"d":"37,613"},null,{"$f":"VLOOKUP(B1339,'[1]2018.7 '!A:C,3,)","v":"Active"},{"$f":"VLOOKUP(B1339,'[1]2018.7 '!A:M,13,)","v":"Ambient"},{"$f":"VLOOKUP(B1339,'[1]2018.7 '!A:N,14,)","v":"Reviewing"}]
[1339,"UFP-100-C-55STM","56410425","UFP-100-C-55STM","021","93","BIOPROCESS MEMBRANES","290","Hollow Fiber Cartridges",{"v":6200,"d":"6,200"},{"v":55855.8,"d":"55,856"},null,{"$f":"VLOOKUP(B1340,'[1]2018.7 '!A:C,3,)","v":"Active"},{"$f":"VLOOKUP(B1340,'[1]2018.7 '!A:M,13,)","v":"Ambient"},{"$f":"VLOOKUP(B1340,'[1]2018.7 '!A:N,14,)","v":"No"}]
[1340,"UFP-100-C-5A","56410239","UFP-100-C-5A","021","93","BIOPROCESS MEMBRANES","290","Hollow Fiber Cartridges",{"v":1200,"d":"1,200"},{"v":10810.800000000001,"d":"10,811"},null,{"$f":"VLOOKUP(B1341,'[1]2018.7 '!A:C,3,)","v":"Active"},{"$f":"VLOOKUP(B1341,'[1]2018.7 '!A:M,13,)","v":"Ambient"},{"$f":"VLOOKUP(B1341,'[1]2018.7 '!A:N,14,)","v":"No"}]
[1341,"UFP-100-C-65","56410485","UFP-100-C-65","021","93","BIOPROCESS MEMBRANES","290","Hollow Fiber Cartridges",{"v":6700,"d":"6,700"},{"v":60360.3,"d":"60,360"},null,{"$f":"VLOOKUP(B1342,'[1]2018.7 '!A:C,3,)","v":"Active"},{"$f":"VLOOKUP(B1342,'[1]2018.7 '!A:M,13,)","v":"Ambient"},{"$f":"VLOOKUP(B1342,'[1]2018.7 '!A:N,14,)","v":"No"}]
[1342,"UFP-100-C-6A","56410262","UFP-100-C-6A","021","93","BIOPROCESS MEMBRANES","290","Hollow Fiber Cartridges",{"v":1650,"d":"1,650"},{"v":14864.85,"d":"14,865"},null,{"$f":"VLOOKUP(B1343,'[1]2018.7 '!A:C,3,)","v":"Active"},{"$f":"VLOOKUP(B1343,'[1]2018.7 '!A:M,13,)","v":"Ambient"},{"$f":"VLOOKUP(B1343,'[1]2018.7 '!A:N,14,)","v":"No"}]
[1343,"UFP-100-C-75","56410398","UFP-100-C-75","021","93","BIOPROCESS MEMBRANES","290","Hollow Fiber Cartridges",{"v":5775,"d":"5,775"},{"v":52026.975,"d":"52,027"},null,{"$f":"VLOOKUP(B1344,'[1]2018.7 '!A:C,3,)","v":"Active"},{"$f":"VLOOKUP(B1344,'[1]2018.7 '!A:M,13,)","v":"Ambient"},{"$f":"VLOOKUP(B1344,'[1]2018.7 '!A:N,14,)","v":"Reviewing"}]
[1344,"UFP-100-C-75R","56410399","UFP-100-C-75R","021","93","BIOPROCESS MEMBRANES","290","Hollow Fiber Cartridges",{"v":5775,"d":"5,775"},{"v":52026.975,"d":"52,027"},null,{"$f":"VLOOKUP(B1345,'[1]2018.7 '!A:C,3,)","v":"Active"},{"$f":"VLOOKUP(B1345,'[1]2018.7 '!A:M,13,)","v":"Ambient"},{"$f":"VLOOKUP(B1345,'[1]2018.7 '!A:N,14,)","v":"No"}]
[1345,"UFP-100-C-85","56410505","UFP-100-C-85","021","93","BIOPROCESS MEMBRANES","290","Hollow Fiber Cartridges",{"v":9900,"d":"9,900"},{"v":89189.1,"d":"89,189"},null,{"$f":"VLOOKUP(B1346,'[1]2018.7 '!A:C,3,)","v":"Active"},{"$f":"VLOOKUP(B1346,'[1]2018.7 '!A:M,13,)","v":"Ambient"},{"$f":"VLOOKUP(B1346,'[1]2018.7 '!A:N,14,)","v":"No"}]
[1346,"UFP-100-C-85MSM","56410939","UFP-100-C-85MSM","021","93","BIOPROCESS MEMBRANES","290","Hollow Fiber Cartridges",{"v":13858,"d":"13,858"},{"v":124846.72200000001,"d":"124,847"},null,{"$f":"VLOOKUP(B1347,'[1]2018.7 '!A:C,3,)","v":"Active"},{"$f":"VLOOKUP(B1347,'[1]2018.7 '!A:M,13,)","v":"Ambient"},{"$f":"VLOOKUP(B1347,'[1]2018.7 '!A:N,14,)","v":"No"}]
[1347,"UFP-100-C-8A","56410279","UFP-100-C-8A","021","93","BIOPROCESS MEMBRANES","290","Hollow Fiber Cartridges",{"v":1735,"d":"1,735"},{"v":15630.615,"d":"15,631"},null,{"$f":"VLOOKUP(B1348,'[1]2018.7 '!A:C,3,)","v":"Active"},{"$f":"VLOOKUP(B1348,'[1]2018.7 '!A:M,13,)","v":"Ambient"},{"$f":"VLOOKUP(B1348,'[1]2018.7 '!A:N,14,)","v":"No"}]
[1348,"UFP-100-C-9A","56410302","UFP-100-C-9A","021","93","BIOPROCESS MEMBRANES","290","Hollow Fiber Cartridges",{"$f":"K1349/9.009","v":{"v":2300,"d":"2,300"}},{"v":20720.7,"d":"20,721"},null,{"$f":"VLOOKUP(B1349,'[1]2018.7 '!A:C,3,)","v":"Active"},{"$f":"VLOOKUP(B1349,'[1]2018.7 '!A:M,13,)","v":"Ambient"},{"$f":"VLOOKUP(B1349,'[1]2018.7 '!A:N,14,)","v":"No"}]
[1349,"UFP-100-C-H24LA","56410103","UFP-100-C-H24LA","021","93","BIOPROCESS MEMBRANES","290","Hollow Fiber Cartridges",295,{"v":2657.655,"d":"2,658"},null,{"$f":"VLOOKUP(B1350,'[1]2018.7 '!A:C,3,)","v":"Active"},{"$f":"VLOOKUP(B1350,'[1]2018.7 '!A:M,13,)","v":"Ambient"},{"$f":"VLOOKUP(B1350,'[1]2018.7 '!A:N,14,)","v":"No"}]
[1350,"UFP-100-C-H24U","11000540","UFP-100-C-H24U","021","93","BIOPROCESS MEMBRANES","290","Hollow Fiber Cartridges",275,{"v":2477.475,"d":"2,477"},null,{"$f":"VLOOKUP(B1351,'[1]2018.7 '!A:C,3,)","v":"Active"},{"$f":"VLOOKUP(B1351,'[1]2018.7 '!A:M,13,)","v":"Ambient"},{"$f":"VLOOKUP(B1351,'[1]2018.7 '!A:N,14,)","v":"No"}]
[1351,"UFP-100-C-H42LA","56410113","UFP-100-C-H42LA","021","93","BIOPROCESS MEMBRANES","290","Hollow Fiber Cartridges",295,{"v":2657.655,"d":"2,658"},null,{"$f":"VLOOKUP(B1352,'[1]2018.7 '!A:C,3,)","v":"Active"},{"$f":"VLOOKUP(B1352,'[1]2018.7 '!A:M,13,)","v":"Ambient"},{"$f":"VLOOKUP(B1352,'[1]2018.7 '!A:N,14,)","v":"No"}]
[1352,"UFP-100-C-MM01A","56410036","UFP-100-C-MM01A","021","93","BIOPROCESS MEMBRANES","290","Hollow Fiber Cartridges",200,{"v":1801.8000000000002,"d":"1,802"},null,{"$f":"VLOOKUP(B1353,'[1]2018.7 '!A:C,3,)","v":"Active"},{"$f":"VLOOKUP(B1353,'[1]2018.7 '!A:M,13,)","v":"Ambient"},{"$f":"VLOOKUP(B1353,'[1]2018.7 '!A:N,14,)","v":"No"}]
[1353,"UFP-100-C-MM06A","56410037","UFP-100-C-MM06A","021","93","BIOPROCESS MEMBRANES","290","Hollow Fiber Cartridges",{"v":969.9999999999999,"d":"970"},{"v":8738.73,"d":"8,739"},null,{"$f":"VLOOKUP(B1354,'[1]2018.7 '!A:C,3,)","v":"Active"},{"$f":"VLOOKUP(B1354,'[1]2018.7 '!A:M,13,)","v":"Ambient"},{"$f":"VLOOKUP(B1354,'[1]2018.7 '!A:N,14,)","v":"No"}]
[1354,"UFP-100-E-35","56410324","UFP-100-E-35","021","93","BIOPROCESS MEMBRANES","290","Hollow Fiber Cartridges",{"v":2350,"d":"2,350"},{"v":21171.15,"d":"21,171"},null,{"$f":"VLOOKUP(B1355,'[1]2018.7 '!A:C,3,)","v":"Active"},{"$f":"VLOOKUP(B1355,'[1]2018.7 '!A:M,13,)","v":"Ambient"},{"$f":"VLOOKUP(B1355,'[1]2018.7 '!A:N,14,)","v":"No"}]
[1355,"UFP-100-E-35STM","56410414","UFP-100-E-35STM","021","93","BIOPROCESS MEMBRANES","290","Hollow Fiber Cartridges",{"v":3450,"d":"3,450"},{"v":31081.050000000003,"d":"31,081"},null,{"$f":"VLOOKUP(B1356,'[1]2018.7 '!A:C,3,)","v":"Active"},{"$f":"VLOOKUP(B1356,'[1]2018.7 '!A:M,13,)","v":"Ambient"},{"$f":"VLOOKUP(B1356,'[1]2018.7 '!A:N,14,)","v":"Reviewing"}]
[1356,"UFP-100-E-3MA","56410134","UFP-100-E-3MA","021","93","BIOPROCESS MEMBRANES","290","Hollow Fiber Cartridges",530,{"v":4774.77,"d":"4,775"},null,{"$f":"VLOOKUP(B1357,'[1]2018.7 '!A:C,3,)","v":"Active"},{"$f":"VLOOKUP(B1357,'[1]2018.7 '!A:M,13,)","v":"Ambient"},{"$f":"VLOOKUP(B1357,'[1]2018.7 '!A:N,14,)","v":"No"}]
[1357,"UFP-100-E-3X2MA","56410150","UFP-100-E-3X2MA","021","93","BIOPROCESS MEMBRANES","290","Hollow Fiber Cartridges",700,{"v":6306.3,"d":"6,306"},null,{"$f":"VLOOKUP(B1358,'[1]2018.7 '!A:C,3,)","v":"Active"},{"$f":"VLOOKUP(B1358,'[1]2018.7 '!A:M,13,)","v":"Ambient"},{"$f":"VLOOKUP(B1358,'[1]2018.7 '!A:N,14,)","v":"No"}]
[1358,"UFP-100-E-4A","56410198","UFP-100-E-4A","021","93","BIOPROCESS MEMBRANES","290","Hollow Fiber Cartridges",860,{"v":7747.740000000001,"d":"7,748"},null,{"$f":"VLOOKUP(B1359,'[1]2018.7 '!A:C,3,)","v":"Active"},{"$f":"VLOOKUP(B1359,'[1]2018.7 '!A:M,13,)","v":"Ambient"},{"$f":"VLOOKUP(B1359,'[1]2018.7 '!A:N,14,)","v":"No"}]
[1359,"UFP-100-E-4MA","56410173","UFP-100-E-4MA","021","93","BIOPROCESS MEMBRANES","290","Hollow Fiber Cartridges",860,{"v":7747.740000000001,"d":"7,748"},null,{"$f":"VLOOKUP(B1360,'[1]2018.7 '!A:C,3,)","v":"Active"},{"$f":"VLOOKUP(B1360,'[1]2018.7 '!A:M,13,)","v":"Ambient"},{"$f":"VLOOKUP(B1360,'[1]2018.7 '!A:N,14,)","v":"No"}]
[1360,"UFP-100-E-4X2MA","56410215","UFP-100-E-4X2MA","021","93","BIOPROCESS MEMBRANES","290","Hollow Fiber Cartridges",{"v":1100,"d":"1,100"},{"v":9909.9,"d":"9,910"},null,{"$f":"VLOOKUP(B1361,'[1]2018.7 '!A:C,3,)","v":"Active"},{"$f":"VLOOKUP(B1361,'[1]2018.7 '!A:M,13,)","v":"Ambient"},{"$f":"VLOOKUP(B1361,'[1]2018.7 '!A:N,14,)","v":"No"}]
[1361,"UFP-100-E-55","56410357","UFP-100-E-55","021","93","BIOPROCESS MEMBRANES","290","Hollow Fiber Cartridges",{"v":3400,"d":"3,400"},{"v":30630.600000000002,"d":"30,631"},null,{"$f":"VLOOKUP(B1362,'[1]2018.7 '!A:C,3,)","v":"Active"},{"$f":"VLOOKUP(B1362,'[1]2018.7 '!A:M,13,)","v":"Ambient"},{"$f":"VLOOKUP(B1362,'[1]2018.7 '!A:N,14,)","v":"No"}]
[1362,"UFP-100-E-55A","56410786","UFP-100-E-55A","021","93","BIOPROCESS MEMBRANES","290","Hollow Fiber Cartridges",{"v":3725,"d":"3,725"},{"v":33558.525,"d":"33,559"},null,{"$f":"VLOOKUP(B1363,'[1]2018.7 '!A:C,3,)","v":"Active"},{"$f":"VLOOKUP(B1363,'[1]2018.7 '!A:M,13,)","v":"Ambient"},{"$f":"VLOOKUP(B1363,'[1]2018.7 '!A:N,14,)","v":"No"}]
[1363,"UFP-100-E-55R","56410358","UFP-100-E-55R","021","93","BIOPROCESS MEMBRANES","290","Hollow Fiber Cartridges",{"v":3600,"d":"3,600"},{"v":32432.4,"d":"32,432"},null,{"$f":"VLOOKUP(B1364,'[1]2018.7 '!A:C,3,)","v":"Active"},{"$f":"VLOOKUP(B1364,'[1]2018.7 '!A:M,13,)","v":"Ambient"},{"$f":"VLOOKUP(B1364,'[1]2018.7 '!A:N,14,)","v":"No"}]
[1364,"UFP-100-E-55SMO","56410440","UFP-100-E-55SMO","021","93","BIOPROCESS MEMBRANES","290","Hollow Fiber Cartridges",{"v":5100,"d":"5,100"},{"v":45945.9,"d":"45,946"},null,{"$f":"VLOOKUP(B1365,'[1]2018.7 '!A:C,3,)","v":"Active"},{"$f":"VLOOKUP(B1365,'[1]2018.7 '!A:M,13,)","v":"Ambient"},{"$f":"VLOOKUP(B1365,'[1]2018.7 '!A:N,14,)","v":"No"}]
[1365,"UFP-100-E-5A","56410240","UFP-100-E-5A","021","93","BIOPROCESS MEMBRANES","290","Hollow Fiber Cartridges",{"v":1200,"d":"1,200"},{"v":10810.800000000001,"d":"10,811"},null,{"$f":"VLOOKUP(B1366,'[1]2018.7 '!A:C,3,)","v":"Active"},{"$f":"VLOOKUP(B1366,'[1]2018.7 '!A:M,13,)","v":"Ambient"},{"$f":"VLOOKUP(B1366,'[1]2018.7 '!A:N,14,)","v":"No"}]
[1366,"UFP-100-E-65","56410486","UFP-100-E-65","021","93","BIOPROCESS MEMBRANES","290","Hollow Fiber Cartridges",{"v":5590,"d":"5,590"},{"v":50360.310000000005,"d":"50,360"},null,{"$f":"VLOOKUP(B1367,'[1]2018.7 '!A:C,3,)","v":"Active"},{"$f":"VLOOKUP(B1367,'[1]2018.7 '!A:M,13,)","v":"Ambient"},{"$f":"VLOOKUP(B1367,'[1]2018.7 '!A:N,14,)","v":"No"}]
[1367,"UFP-100-E-65MSM","56410457","UFP-100-E-65MSM","021","93","BIOPROCESS MEMBRANES","290","Hollow Fiber Cartridges",{"v":8850,"d":"8,850"},{"v":79729.65000000001,"d":"79,730"},null,{"$f":"VLOOKUP(B1368,'[1]2018.7 '!A:C,3,)","v":"Active"},{"$f":"VLOOKUP(B1368,'[1]2018.7 '!A:M,13,)","v":"Ambient"},{"$f":"VLOOKUP(B1368,'[1]2018.7 '!A:N,14,)","v":"No"}]
[1368,"UFP-100-E-6A","56410263","UFP-100-E-6A","021","93","BIOPROCESS MEMBRANES","290","Hollow Fiber Cartridges",{"v":1650,"d":"1,650"},{"v":14864.85,"d":"14,865"},null,{"$f":"VLOOKUP(B1369,'[1]2018.7 '!A:C,3,)","v":"Active"},{"$f":"VLOOKUP(B1369,'[1]2018.7 '!A:M,13,)","v":"Ambient"},{"$f":"VLOOKUP(B1369,'[1]2018.7 '!A:N,14,)","v":"No"}]
[1369,"UFP-100-E-75","56410400","UFP-100-E-75","021","93","BIOPROCESS MEMBRANES","290","Hollow Fiber Cartridges",{"v":4700,"d":"4,700"},{"v":42342.3,"d":"42,342"},null,{"$f":"VLOOKUP(B1370,'[1]2018.7 '!A:C,3,)","v":"Active"},{"$f":"VLOOKUP(B1370,'[1]2018.7 '!A:M,13,)","v":"Ambient"},{"$f":"VLOOKUP(B1370,'[1]2018.7 '!A:N,14,)","v":"No"}]
[1370,"UFP-100-E-75R","56410401","UFP-100-E-75R","021","93","BIOPROCESS MEMBRANES","290","Hollow Fiber Cartridges",{"v":4700,"d":"4,700"},{"v":42342.3,"d":"42,342"},null,{"$f":"VLOOKUP(B1371,'[1]2018.7 '!A:C,3,)","v":"Active"},{"$f":"VLOOKUP(B1371,'[1]2018.7 '!A:M,13,)","v":"Ambient"},{"$f":"VLOOKUP(B1371,'[1]2018.7 '!A:N,14,)","v":"No"}]
[1371,"UFP-100-E-85","56410506","UFP-100-E-85","021","93","BIOPROCESS MEMBRANES","290","Hollow Fiber Cartridges",{"v":8200,"d":"8,200"},{"v":73873.8,"d":"73,874"},null,{"$f":"VLOOKUP(B1372,'[1]2018.7 '!A:C,3,)","v":"Active"},{"$f":"VLOOKUP(B1372,'[1]2018.7 '!A:M,13,)","v":"Ambient"},{"$f":"VLOOKUP(B1372,'[1]2018.7 '!A:N,14,)","v":"No"}]
[1372,"UFP-100-E-85MSM","56410464",{"$error":"#N/A"},"021","93","BIOPROCESS MEMBRANES","290","Hollow Fiber Cartridges",{"v":12500,"d":"12,500"},{"v":112612.5,"d":"112,613"},null,{"$f":"VLOOKUP(B1373,'[1]2018.7 '!A:C,3,)","v":"Active"},{"$f":"VLOOKUP(B1373,'[1]2018.7 '!A:M,13,)","v":"Ambient"},{"$f":"VLOOKUP(B1373,'[1]2018.7 '!A:N,14,)","v":"No"}]
[1373,"UFP-100-E-8A","56410280","UFP-100-E-8A","021","93","BIOPROCESS MEMBRANES","290","Hollow Fiber Cartridges",{"v":1735,"d":"1,735"},{"v":15630.615,"d":"15,631"},null,{"$f":"VLOOKUP(B1374,'[1]2018.7 '!A:C,3,)","v":"Active"},{"$f":"VLOOKUP(B1374,'[1]2018.7 '!A:M,13,)","v":"Ambient"},{"$f":"VLOOKUP(B1374,'[1]2018.7 '!A:N,14,)","v":"Reviewing"}]
[1374,"UFP-100-E-8SIP","29010710","UFP-100-E-8SIP","021","93","BIOPROCESS MEMBRANES","290","Hollow Fiber Cartridges",{"v":1900.0000000000002,"d":"1,900"},{"v":17117.100000000002,"d":"17,117"},null,{"$f":"VLOOKUP(B1375,'[1]2018.7 '!A:C,3,)","v":"Active"},{"$f":"VLOOKUP(B1375,'[1]2018.7 '!A:M,13,)","v":"Ambient"},{"$f":"VLOOKUP(B1375,'[1]2018.7 '!A:N,14,)","v":"Reviewing"}]
[1375,"UFP-100-E-9A","56410303","UFP-100-E-9A","021","93","BIOPROCESS MEMBRANES","290","Hollow Fiber Cartridges",{"v":2300,"d":"2,300"},{"v":20720.7,"d":"20,721"},null,{"$f":"VLOOKUP(B1376,'[1]2018.7 '!A:C,3,)","v":"Active"},{"$f":"VLOOKUP(B1376,'[1]2018.7 '!A:M,13,)","v":"Ambient"},{"$f":"VLOOKUP(B1376,'[1]2018.7 '!A:N,14,)","v":"No"}]
[1376,"UFP-100-E-H22LA","56410092","UFP-100-E-H22LA","021","93","BIOPROCESS MEMBRANES","290","Hollow Fiber Cartridges",295,{"v":2657.655,"d":"2,658"},null,{"$f":"VLOOKUP(B1377,'[1]2018.7 '!A:C,3,)","v":"Active"},{"$f":"VLOOKUP(B1377,'[1]2018.7 '!A:M,13,)","v":"Ambient"},{"$f":"VLOOKUP(B1377,'[1]2018.7 '!A:N,14,)","v":"No"}]
[1377,"UFP-100-E-H42LA","56410114","UFP-100-E-H42LA","021","93","BIOPROCESS MEMBRANES","290","Hollow Fiber Cartridges",295,{"v":2657.655,"d":"2,658"},null,{"$f":"VLOOKUP(B1378,'[1]2018.7 '!A:C,3,)","v":"Active"},{"$f":"VLOOKUP(B1378,'[1]2018.7 '!A:M,13,)","v":"Ambient"},{"$f":"VLOOKUP(B1378,'[1]2018.7 '!A:N,14,)","v":"No"}]
[1378,"UFP-100-E-MM01A","56410040","UFP-100-E-MM01A","021","93","BIOPROCESS MEMBRANES","290","Hollow Fiber Cartridges",200,{"v":1801.8000000000002,"d":"1,802"},null,{"$f":"VLOOKUP(B1379,'[1]2018.7 '!A:C,3,)","v":"Active"},{"$f":"VLOOKUP(B1379,'[1]2018.7 '!A:M,13,)","v":"Ambient"},{"$f":"VLOOKUP(B1379,'[1]2018.7 '!A:N,14,)","v":"No"}]
[1379,"UFP-100-E-MM06A","56410041","UFP-100-E-MM06A","021","93","BIOPROCESS MEMBRANES","290","Hollow Fiber Cartridges",{"v":969.9999999999999,"d":"970"},{"v":8738.73,"d":"8,739"},null,{"$f":"VLOOKUP(B1380,'[1]2018.7 '!A:C,3,)","v":"Active"},{"$f":"VLOOKUP(B1380,'[1]2018.7 '!A:M,13,)","v":"Ambient"},{"$f":"VLOOKUP(B1380,'[1]2018.7 '!A:N,14,)","v":"No"}]
[1380,"UFP-100-E-MM12A","56410042","UFP-100-E-MM12A","021","93","BIOPROCESS MEMBRANES","290","Hollow Fiber Cartridges",{"v":1460,"d":"1,460"},{"v":13153.140000000001,"d":"13,153"},null,{"$f":"VLOOKUP(B1381,'[1]2018.7 '!A:C,3,)","v":"Active"},{"$f":"VLOOKUP(B1381,'[1]2018.7 '!A:M,13,)","v":"Ambient"},{"$f":"VLOOKUP(B1381,'[1]2018.7 '!A:N,14,)","v":"Reviewing"}]
[1381,"UFP-3-C-2U","11000543","UFP-3-C-2U","021","93","BIOPROCESS MEMBRANES","290","Hollow Fiber Cartridges",295,{"v":2657.655,"d":"2,658"},null,{"$f":"VLOOKUP(B1382,'[1]2018.7 '!A:C,3,)","v":"Active"},{"$f":"VLOOKUP(B1382,'[1]2018.7 '!A:M,13,)","v":"Ambient"},{"$f":"VLOOKUP(B1382,'[1]2018.7 '!A:N,14,)","v":"No"}]
[1382,"UFP-3-C-35","56410314","UFP-3-C-35","021","93","BIOPROCESS MEMBRANES","290","Hollow Fiber Cartridges",{"v":2700,"d":"2,700"},{"v":24324.3,"d":"24,324"},null,{"$f":"VLOOKUP(B1383,'[1]2018.7 '!A:C,3,)","v":"Active"},{"$f":"VLOOKUP(B1383,'[1]2018.7 '!A:M,13,)","v":"Ambient"},{"$f":"VLOOKUP(B1383,'[1]2018.7 '!A:N,14,)","v":"No"}]
[1383,"UFP-3-C-3MA","56410122","UFP-3-C-3MA","021","93","BIOPROCESS MEMBRANES","290","Hollow Fiber Cartridges",530,{"v":4774.77,"d":"4,775"},null,{"$f":"VLOOKUP(B1384,'[1]2018.7 '!A:C,3,)","v":"Active"},{"$f":"VLOOKUP(B1384,'[1]2018.7 '!A:M,13,)","v":"Ambient"},{"$f":"VLOOKUP(B1384,'[1]2018.7 '!A:N,14,)","v":"No"}]
[1384,"UFP-3-C-3X2MA","56410145","UFP-3-C-3X2MA","021","93","BIOPROCESS MEMBRANES","290","Hollow Fiber Cartridges",700,{"v":6306.3,"d":"6,306"},null,{"$f":"VLOOKUP(B1385,'[1]2018.7 '!A:C,3,)","v":"Active"},{"$f":"VLOOKUP(B1385,'[1]2018.7 '!A:M,13,)","v":"Ambient"},{"$f":"VLOOKUP(B1385,'[1]2018.7 '!A:N,14,)","v":"No"}]
[1385,"UFP-3-C-4A","56410186","UFP-3-C-4A","021","93","BIOPROCESS MEMBRANES","290","Hollow Fiber Cartridges",860,{"v":7747.740000000001,"d":"7,748"},null,{"$f":"VLOOKUP(B1386,'[1]2018.7 '!A:C,3,)","v":"Active"},{"$f":"VLOOKUP(B1386,'[1]2018.7 '!A:M,13,)","v":"Ambient"},{"$f":"VLOOKUP(B1386,'[1]2018.7 '!A:N,14,)","v":"Reviewing"}]
[1386,"UFP-3-C-4MA","56410161","UFP-3-C-4MA","021","93","BIOPROCESS MEMBRANES","290","Hollow Fiber Cartridges",860,{"v":7747.740000000001,"d":"7,748"},null,{"$f":"VLOOKUP(B1387,'[1]2018.7 '!A:C,3,)","v":"Active"},{"$f":"VLOOKUP(B1387,'[1]2018.7 '!A:M,13,)","v":"Ambient"},{"$f":"VLOOKUP(B1387,'[1]2018.7 '!A:N,14,)","v":"No"}]
[1387,"UFP-3-C-4X2MA","56410209","UFP-3-C-4X2MA","021","93","BIOPROCESS MEMBRANES","290","Hollow Fiber Cartridges",{"v":1100,"d":"1,100"},{"v":9909.9,"d":"9,910"},null,{"$f":"VLOOKUP(B1388,'[1]2018.7 '!A:C,3,)","v":"Active"},{"$f":"VLOOKUP(B1388,'[1]2018.7 '!A:M,13,)","v":"Ambient"},{"$f":"VLOOKUP(B1388,'[1]2018.7 '!A:N,14,)","v":"No"}]
[1388,"UFP-3-C-55","56410335","UFP-3-C-55","021","93","BIOPROCESS MEMBRANES","290","Hollow Fiber Cartridges",{"v":4175,"d":"4,175"},{"v":37612.575000000004,"d":"37,613"},null,{"$f":"VLOOKUP(B1389,'[1]2018.7 '!A:C,3,)","v":"Active"},{"$f":"VLOOKUP(B1389,'[1]2018.7 '!A:M,13,)","v":"Ambient"},{"$f":"VLOOKUP(B1389,'[1]2018.7 '!A:N,14,)","v":"No"}]
[1389,"UFP-3-C-5A","56410228","UFP-3-C-5A","021","93","BIOPROCESS MEMBRANES","290","Hollow Fiber Cartridges",{"v":1200,"d":"1,200"},{"v":10810.800000000001,"d":"10,811"},null,{"$f":"VLOOKUP(B1390,'[1]2018.7 '!A:C,3,)","v":"Active"},{"$f":"VLOOKUP(B1390,'[1]2018.7 '!A:M,13,)","v":"Ambient"},{"$f":"VLOOKUP(B1390,'[1]2018.7 '!A:N,14,)","v":"No"}]
[1390,"UFP-3-C-65","56410475","UFP-3-C-65","021","93","BIOPROCESS MEMBRANES","290","Hollow Fiber Cartridges",{"v":6700,"d":"6,700"},{"v":60360.3,"d":"60,360"},null,{"$f":"VLOOKUP(B1391,'[1]2018.7 '!A:C,3,)","v":"Active"},{"$f":"VLOOKUP(B1391,'[1]2018.7 '!A:M,13,)","v":"Ambient"},{"$f":"VLOOKUP(B1391,'[1]2018.7 '!A:N,14,)","v":"Reviewing"}]
[1391,"UFP-3-C-6A","56410252","UFP-3-C-6A","021","93","BIOPROCESS MEMBRANES","290","Hollow Fiber Cartridges",{"v":1650,"d":"1,650"},{"v":14864.85,"d":"14,865"},null,{"$f":"VLOOKUP(B1392,'[1]2018.7 '!A:C,3,)","v":"Active"},{"$f":"VLOOKUP(B1392,'[1]2018.7 '!A:M,13,)","v":"Ambient"},{"$f":"VLOOKUP(B1392,'[1]2018.7 '!A:N,14,)","v":"No"}]
[1392,"UFP-3-C-75","56410380","UFP-3-C-75","021","93","BIOPROCESS MEMBRANES","290","Hollow Fiber Cartridges",{"v":5775,"d":"5,775"},{"v":52026.975,"d":"52,027"},null,{"$f":"VLOOKUP(B1393,'[1]2018.7 '!A:C,3,)","v":"Active"},{"$f":"VLOOKUP(B1393,'[1]2018.7 '!A:M,13,)","v":"Ambient"},{"$f":"VLOOKUP(B1393,'[1]2018.7 '!A:N,14,)","v":"No"}]
[1393,"UFP-3-C-85","56410495","UFP-3-C-85","021","93","BIOPROCESS MEMBRANES","290","Hollow Fiber Cartridges",{"v":9900,"d":"9,900"},{"v":89189.1,"d":"89,189"},null,{"$f":"VLOOKUP(B1394,'[1]2018.7 '!A:C,3,)","v":"Active"},{"$f":"VLOOKUP(B1394,'[1]2018.7 '!A:M,13,)","v":"Ambient"},{"$f":"VLOOKUP(B1394,'[1]2018.7 '!A:N,14,)","v":"No"}]
[1394,"UFP-3-C-8A","56410274","UFP-3-C-8A","021","93","BIOPROCESS MEMBRANES","290","Hollow Fiber Cartridges",{"v":1735,"d":"1,735"},{"v":15630.615,"d":"15,631"},null,{"$f":"VLOOKUP(B1395,'[1]2018.7 '!A:C,3,)","v":"Active"},{"$f":"VLOOKUP(B1395,'[1]2018.7 '!A:M,13,)","v":"Ambient"},{"$f":"VLOOKUP(B1395,'[1]2018.7 '!A:N,14,)","v":"No"}]
[1395,"UFP-3-C-9A","56410292","UFP-3-C-9A","021","93","BIOPROCESS MEMBRANES","290","Hollow Fiber Cartridges",{"v":2300,"d":"2,300"},{"v":20720.7,"d":"20,721"},null,{"$f":"VLOOKUP(B1396,'[1]2018.7 '!A:C,3,)","v":"Active"},{"$f":"VLOOKUP(B1396,'[1]2018.7 '!A:M,13,)","v":"Ambient"},{"$f":"VLOOKUP(B1396,'[1]2018.7 '!A:N,14,)","v":"Reviewing"}]
[1396,"UFP-3-C-H24LA","56410100","UFP-3-C-H24LA","021","93","BIOPROCESS MEMBRANES","290","Hollow Fiber Cartridges",295,{"v":2657.655,"d":"2,658"},null,{"$f":"VLOOKUP(B1397,'[1]2018.7 '!A:C,3,)","v":"Active"},{"$f":"VLOOKUP(B1397,'[1]2018.7 '!A:M,13,)","v":"Ambient"},{"$f":"VLOOKUP(B1397,'[1]2018.7 '!A:N,14,)","v":"No"}]
[1397,"UFP-3-C-H24U","11000537","UFP-3-C-H24U","021","93","BIOPROCESS MEMBRANES","290","Hollow Fiber Cartridges",275,{"v":2477.475,"d":"2,477"},null,{"$f":"VLOOKUP(B1398,'[1]2018.7 '!A:C,3,)","v":"Active"},{"$f":"VLOOKUP(B1398,'[1]2018.7 '!A:M,13,)","v":"Ambient"},{"$f":"VLOOKUP(B1398,'[1]2018.7 '!A:N,14,)","v":"No"}]
[1398,"UFP-3-C-H42LA","56410106","UFP-3-C-H42LA","021","93","BIOPROCESS MEMBRANES","290","Hollow Fiber Cartridges",295,{"v":2657.655,"d":"2,658"},null,{"$f":"VLOOKUP(B1399,'[1]2018.7 '!A:C,3,)","v":"Active"},{"$f":"VLOOKUP(B1399,'[1]2018.7 '!A:M,13,)","v":"Ambient"},{"$f":"VLOOKUP(B1399,'[1]2018.7 '!A:N,14,)","v":"Reviewing"}]
[1399,"UFP-3-C-MM01A","56410004","UFP-3-C-MM01A","021","93","BIOPROCESS MEMBRANES","290","Hollow Fiber Cartridges",200,{"v":1801.8000000000002,"d":"1,802"},null,{"$f":"VLOOKUP(B1400,'[1]2018.7 '!A:C,3,)","v":"Active"},{"$f":"VLOOKUP(B1400,'[1]2018.7 '!A:M,13,)","v":"Ambient"},{"$f":"VLOOKUP(B1400,'[1]2018.7 '!A:N,14,)","v":"No"}]
[1400,"UFP-3-C-MM06A","56410005","UFP-3-C-MM06A","021","93","BIOPROCESS MEMBRANES","290","Hollow Fiber Cartridges",{"v":969.9999999999999,"d":"970"},{"v":8738.73,"d":"8,739"},null,{"$f":"VLOOKUP(B1401,'[1]2018.7 '!A:C,3,)","v":"Active"},{"$f":"VLOOKUP(B1401,'[1]2018.7 '!A:M,13,)","v":"Ambient"},{"$f":"VLOOKUP(B1401,'[1]2018.7 '!A:N,14,)","v":"No"}]
[1401,"UFP-3-E-H42LA","56410107","UFP-3-E-H42LA","021","93","BIOPROCESS MEMBRANES","290","Hollow Fiber Cartridges",295,{"v":2657.655,"d":"2,658"},null,{"$f":"VLOOKUP(B1402,'[1]2018.7 '!A:C,3,)","v":"Phase Out"},{"$f":"VLOOKUP(B1402,'[1]2018.7 '!A:M,13,)","v":"Ambient"},{"$f":"VLOOKUP(B1402,'[1]2018.7 '!A:N,14,)","v":"reviewing"}]
[1402,"UFP-30-C-2U","11000545","UFP-30-C-2U","021","93","BIOPROCESS MEMBRANES","290","Hollow Fiber Cartridges",295,{"v":2657.655,"d":"2,658"},null,{"$f":"VLOOKUP(B1403,'[1]2018.7 '!A:C,3,)","v":"Active"},{"$f":"VLOOKUP(B1403,'[1]2018.7 '!A:M,13,)","v":"Ambient"},{"$f":"VLOOKUP(B1403,'[1]2018.7 '!A:N,14,)","v":"No"}]
[1403,"UFP-30-C-35","56410321","UFP-30-C-35","021","93","BIOPROCESS MEMBRANES","290","Hollow Fiber Cartridges",{"v":2700,"d":"2,700"},{"v":24324.3,"d":"24,324"},null,{"$f":"VLOOKUP(B1404,'[1]2018.7 '!A:C,3,)","v":"Active"},{"$f":"VLOOKUP(B1404,'[1]2018.7 '!A:M,13,)","v":"Ambient"},{"$f":"VLOOKUP(B1404,'[1]2018.7 '!A:N,14,)","v":"No"}]
[1404,"UFP-30-C-3MA","56410129","UFP-30-C-3MA","021","93","BIOPROCESS MEMBRANES","290","Hollow Fiber Cartridges",530,{"v":4774.77,"d":"4,775"},null,{"$f":"VLOOKUP(B1405,'[1]2018.7 '!A:C,3,)","v":"Active"},{"$f":"VLOOKUP(B1405,'[1]2018.7 '!A:M,13,)","v":"Ambient"},{"$f":"VLOOKUP(B1405,'[1]2018.7 '!A:N,14,)","v":"No"}]
[1405,"UFP-30-C-3X2MA","56410147","UFP-30-C-3X2MA","021","93","BIOPROCESS MEMBRANES","290","Hollow Fiber Cartridges",700,{"v":6306.3,"d":"6,306"},null,{"$f":"VLOOKUP(B1406,'[1]2018.7 '!A:C,3,)","v":"Active"},{"$f":"VLOOKUP(B1406,'[1]2018.7 '!A:M,13,)","v":"Ambient"},{"$f":"VLOOKUP(B1406,'[1]2018.7 '!A:N,14,)","v":"No"}]
[1406,"UFP-30-C-45","56410470","UFP-30-C-45","021","93","BIOPROCESS MEMBRANES","290","Hollow Fiber Cartridges",{"v":4600,"d":"4,600"},{"v":41441.4,"d":"41,441"},null,{"$f":"VLOOKUP(B1407,'[1]2018.7 '!A:C,3,)","v":"Active"},{"$f":"VLOOKUP(B1407,'[1]2018.7 '!A:M,13,)","v":"Ambient"},{"$f":"VLOOKUP(B1407,'[1]2018.7 '!A:N,14,)","v":"Reviewing"}]
[1407,"UFP-30-C-4A","56410193","UFP-30-C-4A","021","93","BIOPROCESS MEMBRANES","290","Hollow Fiber Cartridges",860,{"v":7747.740000000001,"d":"7,748"},null,{"$f":"VLOOKUP(B1408,'[1]2018.7 '!A:C,3,)","v":"Active"},{"$f":"VLOOKUP(B1408,'[1]2018.7 '!A:M,13,)","v":"Ambient"},{"$f":"VLOOKUP(B1408,'[1]2018.7 '!A:N,14,)","v":"No"}]
[1408,"UFP-30-C-4MA","56410168","UFP-30-C-4MA","021","93","BIOPROCESS MEMBRANES","290","Hollow Fiber Cartridges",860,{"v":7747.740000000001,"d":"7,748"},null,{"$f":"VLOOKUP(B1409,'[1]2018.7 '!A:C,3,)","v":"Active"},{"$f":"VLOOKUP(B1409,'[1]2018.7 '!A:M,13,)","v":"Ambient"},{"$f":"VLOOKUP(B1409,'[1]2018.7 '!A:N,14,)","v":"No"}]
[1409,"UFP-30-C-4X2MA","56410212","UFP-30-C-4X2MA","021","93","BIOPROCESS MEMBRANES","290","Hollow Fiber Cartridges",{"v":1100,"d":"1,100"},{"v":9909.9,"d":"9,910"},null,{"$f":"VLOOKUP(B1410,'[1]2018.7 '!A:C,3,)","v":"Active"},{"$f":"VLOOKUP(B1410,'[1]2018.7 '!A:M,13,)","v":"Ambient"},{"$f":"VLOOKUP(B1410,'[1]2018.7 '!A:N,14,)","v":"No"}]
[1410,"UFP-30-C-55","56410347","UFP-30-C-55","021","93","BIOPROCESS MEMBRANES","290","Hollow Fiber Cartridges",{"v":4175,"d":"4,175"},{"v":37612.575000000004,"d":"37,613"},null,{"$f":"VLOOKUP(B1411,'[1]2018.7 '!A:C,3,)","v":"Active"},{"$f":"VLOOKUP(B1411,'[1]2018.7 '!A:M,13,)","v":"Ambient"},{"$f":"VLOOKUP(B1411,'[1]2018.7 '!A:N,14,)","v":"No"}]
[1411,"UFP-30-C-55STM","56410422","UFP-30-C-55STM","021","93","BIOPROCESS MEMBRANES","290","Hollow Fiber Cartridges",{"v":6200,"d":"6,200"},{"v":55855.8,"d":"55,856"},null,{"$f":"VLOOKUP(B1412,'[1]2018.7 '!A:C,3,)","v":"Active"},{"$f":"VLOOKUP(B1412,'[1]2018.7 '!A:M,13,)","v":"Ambient"},{"$f":"VLOOKUP(B1412,'[1]2018.7 '!A:N,14,)","v":"Reviewing"}]
[1412,"UFP-30-C-5A","56410235","UFP-30-C-5A","021","93","BIOPROCESS MEMBRANES","290","Hollow Fiber Cartridges",{"$f":"K1413/9.009","v":{"v":1200,"d":"1,200"}},{"v":10810.800000000001,"d":"10,811"},null,{"$f":"VLOOKUP(B1413,'[1]2018.7 '!A:C,3,)","v":"Active"},{"$f":"VLOOKUP(B1413,'[1]2018.7 '!A:M,13,)","v":"Ambient"},{"$f":"VLOOKUP(B1413,'[1]2018.7 '!A:N,14,)","v":"No"}]
[1413,"UFP-30-C-65","56410481","UFP-30-C-65","021","93","BIOPROCESS MEMBRANES","290","Hollow Fiber Cartridges",{"v":6700,"d":"6,700"},{"v":60360.3,"d":"60,360"},null,{"$f":"VLOOKUP(B1414,'[1]2018.7 '!A:C,3,)","v":"Active"},{"$f":"VLOOKUP(B1414,'[1]2018.7 '!A:M,13,)","v":"Ambient"},{"$f":"VLOOKUP(B1414,'[1]2018.7 '!A:N,14,)","v":"No"}]
[1414,"UFP-30-C-65MSM","56410454","UFP-30-C-65MSM","021","93","BIOPROCESS MEMBRANES","290","Hollow Fiber Cartridges",{"v":10100,"d":"10,100"},{"v":90990.90000000001,"d":"90,991"},null,{"$f":"VLOOKUP(B1415,'[1]2018.7 '!A:C,3,)","v":"Active"},{"$f":"VLOOKUP(B1415,'[1]2018.7 '!A:M,13,)","v":"Ambient"},{"$f":"VLOOKUP(B1415,'[1]2018.7 '!A:N,14,)","v":"Reviewing"}]
[1415,"UFP-30-C-6A","56410258","UFP-30-C-6A","021","93","BIOPROCESS MEMBRANES","290","Hollow Fiber Cartridges",{"v":1650,"d":"1,650"},{"v":14864.85,"d":"14,865"},null,{"$f":"VLOOKUP(B1416,'[1]2018.7 '!A:C,3,)","v":"Active"},{"$f":"VLOOKUP(B1416,'[1]2018.7 '!A:M,13,)","v":"Ambient"},{"$f":"VLOOKUP(B1416,'[1]2018.7 '!A:N,14,)","v":"No"}]
[1416,"UFP-30-C-75","56410392","UFP-30-C-75","021","93","BIOPROCESS MEMBRANES","290","Hollow Fiber Cartridges",{"v":5775,"d":"5,775"},{"v":52026.975,"d":"52,027"},null,{"$f":"VLOOKUP(B1417,'[1]2018.7 '!A:C,3,)","v":"Active"},{"$f":"VLOOKUP(B1417,'[1]2018.7 '!A:M,13,)","v":"Ambient"},{"$f":"VLOOKUP(B1417,'[1]2018.7 '!A:N,14,)","v":"No"}]
[1417,"UFP-30-C-75R","56410393","UFP-30-C-75R","021","93","BIOPROCESS MEMBRANES","290","Hollow Fiber Cartridges",{"v":5775,"d":"5,775"},{"v":52026.975,"d":"52,027"},null,{"$f":"VLOOKUP(B1418,'[1]2018.7 '!A:C,3,)","v":"Active"},{"$f":"VLOOKUP(B1418,'[1]2018.7 '!A:M,13,)","v":"Ambient"},{"$f":"VLOOKUP(B1418,'[1]2018.7 '!A:N,14,)","v":"Reviewing"}]
[1418,"UFP-30-C-85","56410501","UFP-30-C-85","021","93","BIOPROCESS MEMBRANES","290","Hollow Fiber Cartridges",{"v":9900,"d":"9,900"},{"v":89189.1,"d":"89,189"},null,{"$f":"VLOOKUP(B1419,'[1]2018.7 '!A:C,3,)","v":"Active"},{"$f":"VLOOKUP(B1419,'[1]2018.7 '!A:M,13,)","v":"Ambient"},{"$f":"VLOOKUP(B1419,'[1]2018.7 '!A:N,14,)","v":"No"}]
[1419,"UFP-30-C-85MSM","56410938","UFP-30-C-85MSM","021","93","BIOPROCESS MEMBRANES","290","Hollow Fiber Cartridges",{"v":13858,"d":"13,858"},{"v":124846.72200000001,"d":"124,847"},null,{"$f":"VLOOKUP(B1420,'[1]2018.7 '!A:C,3,)","v":"Active"},{"$f":"VLOOKUP(B1420,'[1]2018.7 '!A:M,13,)","v":"Ambient"},{"$f":"VLOOKUP(B1420,'[1]2018.7 '!A:N,14,)","v":"Reviewing"}]
[1420,"UFP-30-C-8A","56410277","UFP-30-C-8A","021","93","BIOPROCESS MEMBRANES","290","Hollow Fiber Cartridges",{"v":1735,"d":"1,735"},{"v":15630.615,"d":"15,631"},null,{"$f":"VLOOKUP(B1421,'[1]2018.7 '!A:C,3,)","v":"Active"},{"$f":"VLOOKUP(B1421,'[1]2018.7 '!A:M,13,)","v":"Ambient"},{"$f":"VLOOKUP(B1421,'[1]2018.7 '!A:N,14,)","v":"No"}]
[1421,"UFP-30-C-9A","56410298","UFP-30-C-9A","021","93","BIOPROCESS MEMBRANES","290","Hollow Fiber Cartridges",{"v":2300,"d":"2,300"},{"v":20720.7,"d":"20,721"},null,{"$f":"VLOOKUP(B1422,'[1]2018.7 '!A:C,3,)","v":"Active"},{"$f":"VLOOKUP(B1422,'[1]2018.7 '!A:M,13,)","v":"Ambient"},{"$f":"VLOOKUP(B1422,'[1]2018.7 '!A:N,14,)","v":"No"}]
[1422,"UFP-30-C-H24LA","56410102","UFP-30-C-H24LA","021","93","BIOPROCESS MEMBRANES","290","Hollow Fiber Cartridges",295,{"v":2657.655,"d":"2,658"},null,{"$f":"VLOOKUP(B1423,'[1]2018.7 '!A:C,3,)","v":"Active"},{"$f":"VLOOKUP(B1423,'[1]2018.7 '!A:M,13,)","v":"Ambient"},{"$f":"VLOOKUP(B1423,'[1]2018.7 '!A:N,14,)","v":"No"}]
[1423,"UFP-30-C-H24U","11000539","UFP-30-C-H24U","021","93","BIOPROCESS MEMBRANES","290","Hollow Fiber Cartridges",275,{"v":2477.475,"d":"2,477"},null,{"$f":"VLOOKUP(B1424,'[1]2018.7 '!A:C,3,)","v":"Active"},{"$f":"VLOOKUP(B1424,'[1]2018.7 '!A:M,13,)","v":"Ambient"},{"$f":"VLOOKUP(B1424,'[1]2018.7 '!A:N,14,)","v":"No"}]
[1424,"UFP-30-C-H42LA","56410110","UFP-30-C-H42LA","021","93","BIOPROCESS MEMBRANES","290","Hollow Fiber Cartridges",295,{"v":2657.655,"d":"2,658"},null,{"$f":"VLOOKUP(B1425,'[1]2018.7 '!A:C,3,)","v":"Active"},{"$f":"VLOOKUP(B1425,'[1]2018.7 '!A:M,13,)","v":"Ambient"},{"$f":"VLOOKUP(B1425,'[1]2018.7 '!A:N,14,)","v":"Reviewing"}]
[1425,"UFP-30-C-MM01A","56410020","UFP-30-C-MM01A","021","93","BIOPROCESS MEMBRANES","290","Hollow Fiber Cartridges",200,{"v":1801.8000000000002,"d":"1,802"},null,{"$f":"VLOOKUP(B1426,'[1]2018.7 '!A:C,3,)","v":"Active"},{"$f":"VLOOKUP(B1426,'[1]2018.7 '!A:M,13,)","v":"Ambient"},{"$f":"VLOOKUP(B1426,'[1]2018.7 '!A:N,14,)","v":"No"}]
[1426,"UFP-30-C-MM06A","56410021","UFP-30-C-MM06A","021","93","BIOPROCESS MEMBRANES","290","Hollow Fiber Cartridges",{"v":969.9999999999999,"d":"970"},{"v":8738.73,"d":"8,739"},null,{"$f":"VLOOKUP(B1427,'[1]2018.7 '!A:C,3,)","v":"Active"},{"$f":"VLOOKUP(B1427,'[1]2018.7 '!A:M,13,)","v":"Ambient"},{"$f":"VLOOKUP(B1427,'[1]2018.7 '!A:N,14,)","v":"No"}]
[1427,"UFP-30-E-152M","11000574","UFP-30-E-152M","021","93","BIOPROCESS MEMBRANES","290","Hollow Fiber Cartridges",{"v":10750,"d":"10,750"},{"v":96846.75,"d":"96,847"},null,{"$f":"VLOOKUP(B1428,'[1]2018.7 '!A:C,3,)","v":"Active"},{"$f":"VLOOKUP(B1428,'[1]2018.7 '!A:M,13,)","v":"Ambient"},{"$f":"VLOOKUP(B1428,'[1]2018.7 '!A:N,14,)","v":"Reviewing"}]
[1428,"UFP-30-E-152SB","29010107","UFP-30-E-152SB","021","93","BIOPROCESS MEMBRANES","290","Hollow Fiber Cartridges",{"v":12500,"d":"12,500"},{"v":112612.5,"d":"112,613"},null,{"$f":"VLOOKUP(B1429,'[1]2018.7 '!A:C,3,)","v":"Active"},{"$f":"VLOOKUP(B1429,'[1]2018.7 '!A:M,13,)","v":"Ambient"},{"$f":"VLOOKUP(B1429,'[1]2018.7 '!A:N,14,)","v":"No"}]
[1429,"UFP-30-E-35","56410322","UFP-30-E-35","021","93","BIOPROCESS MEMBRANES","290","Hollow Fiber Cartridges",{"v":2350,"d":"2,350"},{"v":21171.15,"d":"21,171"},null,{"$f":"VLOOKUP(B1430,'[1]2018.7 '!A:C,3,)","v":"Active"},{"$f":"VLOOKUP(B1430,'[1]2018.7 '!A:M,13,)","v":"Ambient"},{"$f":"VLOOKUP(B1430,'[1]2018.7 '!A:N,14,)","v":"Reviewing"}]
[1430,"UFP-30-E-35STM","56410413","UFP-30-E-35STM","021","93","BIOPROCESS MEMBRANES","290","Hollow Fiber Cartridges",{"v":3450,"d":"3,450"},{"v":31081.050000000003,"d":"31,081"},null,{"$f":"VLOOKUP(B1431,'[1]2018.7 '!A:C,3,)","v":"Active"},{"$f":"VLOOKUP(B1431,'[1]2018.7 '!A:M,13,)","v":"Ambient"},{"$f":"VLOOKUP(B1431,'[1]2018.7 '!A:N,14,)","v":"Reviewing"}]
[1431,"UFP-30-E-3MA","56410130","UFP-30-E-3MA","021","93","BIOPROCESS MEMBRANES","290","Hollow Fiber Cartridges",530,{"v":4774.77,"d":"4,775"},null,{"$f":"VLOOKUP(B1432,'[1]2018.7 '!A:C,3,)","v":"Active"},{"$f":"VLOOKUP(B1432,'[1]2018.7 '!A:M,13,)","v":"Ambient"},{"$f":"VLOOKUP(B1432,'[1]2018.7 '!A:N,14,)","v":"No"}]
[1432,"UFP-30-E-4A","56410194","UFP-30-E-4A","021","93","BIOPROCESS MEMBRANES","290","Hollow Fiber Cartridges",860,{"v":7747.740000000001,"d":"7,748"},null,{"$f":"VLOOKUP(B1433,'[1]2018.7 '!A:C,3,)","v":"Active"},{"$f":"VLOOKUP(B1433,'[1]2018.7 '!A:M,13,)","v":"Ambient"},{"$f":"VLOOKUP(B1433,'[1]2018.7 '!A:N,14,)","v":"No"}]
[1433,"UFP-30-E-4MA","56410169","UFP-30-E-4MA","021","93","BIOPROCESS MEMBRANES","290","Hollow Fiber Cartridges",860,{"v":7747.740000000001,"d":"7,748"},null,{"$f":"VLOOKUP(B1434,'[1]2018.7 '!A:C,3,)","v":"Active"},{"$f":"VLOOKUP(B1434,'[1]2018.7 '!A:M,13,)","v":"Ambient"},{"$f":"VLOOKUP(B1434,'[1]2018.7 '!A:N,14,)","v":"No"}]
[1434,"UFP-30-E-4X2MA","56411018","UFP-30-E-4X2MA","021","93","BIOPROCESS MEMBRANES","290","Hollow Fiber Cartridges",{"v":1100,"d":"1,100"},{"v":9909.9,"d":"9,910"},null,{"$f":"VLOOKUP(B1435,'[1]2018.7 '!A:C,3,)","v":"Active"},{"$f":"VLOOKUP(B1435,'[1]2018.7 '!A:M,13,)","v":"Ambient"},{"$f":"VLOOKUP(B1435,'[1]2018.7 '!A:N,14,)","v":"No"}]
[1435,"UFP-30-E-55","56410349","UFP-30-E-55","021","93","BIOPROCESS MEMBRANES","290","Hollow Fiber Cartridges",{"v":3400,"d":"3,400"},{"v":30630.600000000002,"d":"30,631"},null,{"$f":"VLOOKUP(B1436,'[1]2018.7 '!A:C,3,)","v":"Active"},{"$f":"VLOOKUP(B1436,'[1]2018.7 '!A:M,13,)","v":"Ambient"},{"$f":"VLOOKUP(B1436,'[1]2018.7 '!A:N,14,)","v":"No"}]
[1436,"UFP-30-E-55A","56410999","UFP-30-E-55A","021","93","BIOPROCESS MEMBRANES","290","Hollow Fiber Cartridges",{"v":3725,"d":"3,725"},{"v":33558.525,"d":"33,559"},null,{"$f":"VLOOKUP(B1437,'[1]2018.7 '!A:C,3,)","v":"Active"},{"$f":"VLOOKUP(B1437,'[1]2018.7 '!A:M,13,)","v":"Ambient"},{"$f":"VLOOKUP(B1437,'[1]2018.7 '!A:N,14,)","v":"Reviewing"}]
[1437,"UFP-30-E-55SMO","56410439","UFP-30-E-55SMO","021","93","BIOPROCESS MEMBRANES","290","Hollow Fiber Cartridges",{"v":5100,"d":"5,100"},{"v":45945.9,"d":"45,946"},null,{"$f":"VLOOKUP(B1438,'[1]2018.7 '!A:C,3,)","v":"Active"},{"$f":"VLOOKUP(B1438,'[1]2018.7 '!A:M,13,)","v":"Ambient"},{"$f":"VLOOKUP(B1438,'[1]2018.7 '!A:N,14,)","v":"No"}]
[1438,"UFP-30-E-5A","56410236","UFP-30-E-5A","021","93","BIOPROCESS MEMBRANES","290","Hollow Fiber Cartridges",{"v":1200,"d":"1,200"},{"v":10810.800000000001,"d":"10,811"},null,{"$f":"VLOOKUP(B1439,'[1]2018.7 '!A:C,3,)","v":"Active"},{"$f":"VLOOKUP(B1439,'[1]2018.7 '!A:M,13,)","v":"Ambient"},{"$f":"VLOOKUP(B1439,'[1]2018.7 '!A:N,14,)","v":"No"}]
[1439,"UFP-30-E-65","56410482","UFP-30-E-65","021","93","BIOPROCESS MEMBRANES","290","Hollow Fiber Cartridges",{"v":5590,"d":"5,590"},{"v":50360.310000000005,"d":"50,360"},null,{"$f":"VLOOKUP(B1440,'[1]2018.7 '!A:C,3,)","v":"Active"},{"$f":"VLOOKUP(B1440,'[1]2018.7 '!A:M,13,)","v":"Ambient"},{"$f":"VLOOKUP(B1440,'[1]2018.7 '!A:N,14,)","v":"No"}]
[1440,"UFP-30-E-65MSM","56410455","UFP-30-E-65MSM","021","93","BIOPROCESS MEMBRANES","290","Hollow Fiber Cartridges",{"v":8850,"d":"8,850"},{"v":79729.65000000001,"d":"79,730"},null,{"$f":"VLOOKUP(B1441,'[1]2018.7 '!A:C,3,)","v":"Active"},{"$f":"VLOOKUP(B1441,'[1]2018.7 '!A:M,13,)","v":"Ambient"},{"$f":"VLOOKUP(B1441,'[1]2018.7 '!A:N,14,)","v":"Reviewing"}]
[1441,"UFP-30-E-6A","56410259","UFP-30-E-6A","021","93","BIOPROCESS MEMBRANES","290","Hollow Fiber Cartridges",{"v":1650,"d":"1,650"},{"v":14864.85,"d":"14,865"},null,{"$f":"VLOOKUP(B1442,'[1]2018.7 '!A:C,3,)","v":"Active"},{"$f":"VLOOKUP(B1442,'[1]2018.7 '!A:M,13,)","v":"Ambient"},{"$f":"VLOOKUP(B1442,'[1]2018.7 '!A:N,14,)","v":"No"}]
[1442,"UFP-30-E-75","56410394","UFP-30-E-75","021","93","BIOPROCESS MEMBRANES","290","Hollow Fiber Cartridges",{"v":4700,"d":"4,700"},{"v":42342.3,"d":"42,342"},null,{"$f":"VLOOKUP(B1443,'[1]2018.7 '!A:C,3,)","v":"Active"},{"$f":"VLOOKUP(B1443,'[1]2018.7 '!A:M,13,)","v":"Ambient"},{"$f":"VLOOKUP(B1443,'[1]2018.7 '!A:N,14,)","v":"No"}]
[1443,"UFP-30-E-75R","56410395","UFP-30-E-75R","021","93","BIOPROCESS MEMBRANES","290","Hollow Fiber Cartridges",{"v":4700,"d":"4,700"},{"v":42342.3,"d":"42,342"},null,{"$f":"VLOOKUP(B1444,'[1]2018.7 '!A:C,3,)","v":"Active"},{"$f":"VLOOKUP(B1444,'[1]2018.7 '!A:M,13,)","v":"Ambient"},{"$f":"VLOOKUP(B1444,'[1]2018.7 '!A:N,14,)","v":"No"}]
[1444,"UFP-30-E-85","56410502","UFP-30-E-85","021","93","BIOPROCESS MEMBRANES","290","Hollow Fiber Cartridges",{"v":8200,"d":"8,200"},{"v":73873.8,"d":"73,874"},null,{"$f":"VLOOKUP(B1445,'[1]2018.7 '!A:C,3,)","v":"Active"},{"$f":"VLOOKUP(B1445,'[1]2018.7 '!A:M,13,)","v":"Ambient"},{"$f":"VLOOKUP(B1445,'[1]2018.7 '!A:N,14,)","v":"No"}]
[1445,"UFP-30-E-85MSM","56410463","UFP-30-E-85MSM","021","93","BIOPROCESS MEMBRANES","290","Hollow Fiber Cartridges",{"v":12500,"d":"12,500"},{"v":112612.5,"d":"112,613"},null,{"$f":"VLOOKUP(B1446,'[1]2018.7 '!A:C,3,)","v":"Active"},{"$f":"VLOOKUP(B1446,'[1]2018.7 '!A:M,13,)","v":"Ambient"},{"$f":"VLOOKUP(B1446,'[1]2018.7 '!A:N,14,)","v":"No"}]
[1446,"UFP-30-E-8SIP","29010708","UFP-30-E-8SIP","021","93","BIOPROCESS MEMBRANES","290","Hollow Fiber Cartridges",{"v":1900.0000000000002,"d":"1,900"},{"v":17117.100000000002,"d":"17,117"},null,{"$f":"VLOOKUP(B1447,'[1]2018.7 '!A:C,3,)","v":"Active"},{"$f":"VLOOKUP(B1447,'[1]2018.7 '!A:M,13,)","v":"Ambient"},{"$f":"VLOOKUP(B1447,'[1]2018.7 '!A:N,14,)","v":"No"}]
[1447,"UFP-30-E-9A","56410299","UFP-30-E-9A","021","93","BIOPROCESS MEMBRANES","290","Hollow Fiber Cartridges",{"v":2300,"d":"2,300"},{"v":20720.7,"d":"20,721"},null,{"$f":"VLOOKUP(B1448,'[1]2018.7 '!A:C,3,)","v":"Active"},{"$f":"VLOOKUP(B1448,'[1]2018.7 '!A:M,13,)","v":"Ambient"},{"$f":"VLOOKUP(B1448,'[1]2018.7 '!A:N,14,)","v":"No"}]
[1448,"UFP-30-E-H22LA","56410090","UFP-30-E-H22LA","021","93","BIOPROCESS MEMBRANES","290","Hollow Fiber Cartridges",295,{"v":2657.655,"d":"2,658"},null,{"$f":"VLOOKUP(B1449,'[1]2018.7 '!A:C,3,)","v":"Active"},{"$f":"VLOOKUP(B1449,'[1]2018.7 '!A:M,13,)","v":"Ambient"},{"$f":"VLOOKUP(B1449,'[1]2018.7 '!A:N,14,)","v":"No"}]
[1449,"UFP-30-E-H42LA","56410111","UFP-30-E-H42LA","021","93","BIOPROCESS MEMBRANES","290","Hollow Fiber Cartridges",295,{"v":2657.655,"d":"2,658"},null,{"$f":"VLOOKUP(B1450,'[1]2018.7 '!A:C,3,)","v":"Active"},{"$f":"VLOOKUP(B1450,'[1]2018.7 '!A:M,13,)","v":"Ambient"},{"$f":"VLOOKUP(B1450,'[1]2018.7 '!A:N,14,)","v":"No"}]
[1450,"UFP-30-E-MM01A","56410024","UFP-30-E-MM01A","021","93","BIOPROCESS MEMBRANES","290","Hollow Fiber Cartridges",200,{"v":1801.8000000000002,"d":"1,802"},null,{"$f":"VLOOKUP(B1451,'[1]2018.7 '!A:C,3,)","v":"Active"},{"$f":"VLOOKUP(B1451,'[1]2018.7 '!A:M,13,)","v":"Ambient"},{"$f":"VLOOKUP(B1451,'[1]2018.7 '!A:N,14,)","v":"No"}]
[1451,"UFP-30-E-MM06A","56410025","UFP-30-E-MM06A","021","93","BIOPROCESS MEMBRANES","290","Hollow Fiber Cartridges",{"v":969.9999999999999,"d":"970"},{"v":8738.73,"d":"8,739"},null,{"$f":"VLOOKUP(B1452,'[1]2018.7 '!A:C,3,)","v":"Active"},{"$f":"VLOOKUP(B1452,'[1]2018.7 '!A:M,13,)","v":"Ambient"},{"$f":"VLOOKUP(B1452,'[1]2018.7 '!A:N,14,)","v":"Reviewing"}]
[1452,"UFP-300-C-2U","11000547","UFP-300-C-2U","021","93","BIOPROCESS MEMBRANES","290","Hollow Fiber Cartridges",295,{"v":2657.655,"d":"2,658"},null,{"$f":"VLOOKUP(B1453,'[1]2018.7 '!A:C,3,)","v":"Active"},{"$f":"VLOOKUP(B1453,'[1]2018.7 '!A:M,13,)","v":"Ambient"},{"$f":"VLOOKUP(B1453,'[1]2018.7 '!A:N,14,)","v":"No"}]
[1453,"UFP-300-C-35","56410325","UFP-300-C-35","021","93","BIOPROCESS MEMBRANES","290","Hollow Fiber Cartridges",{"v":2700,"d":"2,700"},{"v":24324.3,"d":"24,324"},null,{"$f":"VLOOKUP(B1454,'[1]2018.7 '!A:C,3,)","v":"Active"},{"$f":"VLOOKUP(B1454,'[1]2018.7 '!A:M,13,)","v":"Ambient"},{"$f":"VLOOKUP(B1454,'[1]2018.7 '!A:N,14,)","v":"No"}]
[1454,"UFP-300-C-3MA","56410135","UFP-300-C-3MA","021","93","BIOPROCESS MEMBRANES","290","Hollow Fiber Cartridges",530,{"v":4774.77,"d":"4,775"},null,{"$f":"VLOOKUP(B1455,'[1]2018.7 '!A:C,3,)","v":"Active"},{"$f":"VLOOKUP(B1455,'[1]2018.7 '!A:M,13,)","v":"Ambient"},{"$f":"VLOOKUP(B1455,'[1]2018.7 '!A:N,14,)","v":"No"}]
[1455,"UFP-300-C-3X2MA","56410151","UFP-300-C-3X2MA","021","93","BIOPROCESS MEMBRANES","290","Hollow Fiber Cartridges",700,{"v":6306.3,"d":"6,306"},null,{"$f":"VLOOKUP(B1456,'[1]2018.7 '!A:C,3,)","v":"Active"},{"$f":"VLOOKUP(B1456,'[1]2018.7 '!A:M,13,)","v":"Ambient"},{"$f":"VLOOKUP(B1456,'[1]2018.7 '!A:N,14,)","v":"No"}]
[1456,"UFP-300-C-4A","56410199","UFP-300-C-4A","021","93","BIOPROCESS MEMBRANES","290","Hollow Fiber Cartridges",860,{"v":7747.740000000001,"d":"7,748"},null,{"$f":"VLOOKUP(B1457,'[1]2018.7 '!A:C,3,)","v":"Active"},{"$f":"VLOOKUP(B1457,'[1]2018.7 '!A:M,13,)","v":"Ambient"},{"$f":"VLOOKUP(B1457,'[1]2018.7 '!A:N,14,)","v":"No"}]
[1457,"UFP-300-C-4MA","56410174","UFP-300-C-4MA","021","93","BIOPROCESS MEMBRANES","290","Hollow Fiber Cartridges",860,{"v":7747.740000000001,"d":"7,748"},null,{"$f":"VLOOKUP(B1458,'[1]2018.7 '!A:C,3,)","v":"Active"},{"$f":"VLOOKUP(B1458,'[1]2018.7 '!A:M,13,)","v":"Ambient"},{"$f":"VLOOKUP(B1458,'[1]2018.7 '!A:N,14,)","v":"No"}]
[1458,"UFP-300-C-4X2MA","56410216","UFP-300-C-4X2MA","021","93","BIOPROCESS MEMBRANES","290","Hollow Fiber Cartridges",{"v":1100,"d":"1,100"},{"v":9909.9,"d":"9,910"},null,{"$f":"VLOOKUP(B1459,'[1]2018.7 '!A:C,3,)","v":"Active"},{"$f":"VLOOKUP(B1459,'[1]2018.7 '!A:M,13,)","v":"Ambient"},{"$f":"VLOOKUP(B1459,'[1]2018.7 '!A:N,14,)","v":"No"}]
[1459,"UFP-300-C-55","56410359","UFP-300-C-55","021","93","BIOPROCESS MEMBRANES","290","Hollow Fiber Cartridges",{"v":4175,"d":"4,175"},{"v":37612.575000000004,"d":"37,613"},null,{"$f":"VLOOKUP(B1460,'[1]2018.7 '!A:C,3,)","v":"Active"},{"$f":"VLOOKUP(B1460,'[1]2018.7 '!A:M,13,)","v":"Ambient"},{"$f":"VLOOKUP(B1460,'[1]2018.7 '!A:N,14,)","v":"No"}]
[1460,"UFP-300-C-5A","56410241","UFP-300-C-5A","021","93","BIOPROCESS MEMBRANES","290","Hollow Fiber Cartridges",{"v":1200,"d":"1,200"},{"v":10810.800000000001,"d":"10,811"},null,{"$f":"VLOOKUP(B1461,'[1]2018.7 '!A:C,3,)","v":"Active"},{"$f":"VLOOKUP(B1461,'[1]2018.7 '!A:M,13,)","v":"Ambient"},{"$f":"VLOOKUP(B1461,'[1]2018.7 '!A:N,14,)","v":"No"}]
[1461,"UFP-300-C-65","56410487","UFP-300-C-65","021","93","BIOPROCESS MEMBRANES","290","Hollow Fiber Cartridges",{"v":6700,"d":"6,700"},{"v":60360.3,"d":"60,360"},null,{"$f":"VLOOKUP(B1462,'[1]2018.7 '!A:C,3,)","v":"Active"},{"$f":"VLOOKUP(B1462,'[1]2018.7 '!A:M,13,)","v":"Ambient"},{"$f":"VLOOKUP(B1462,'[1]2018.7 '!A:N,14,)","v":"Reviewing"}]
[1462,"UFP-300-C-6A","56410264","UFP-300-C-6A","021","93","BIOPROCESS MEMBRANES","290","Hollow Fiber Cartridges",{"v":1650,"d":"1,650"},{"v":14864.85,"d":"14,865"},null,{"$f":"VLOOKUP(B1463,'[1]2018.7 '!A:C,3,)","v":"Active"},{"$f":"VLOOKUP(B1463,'[1]2018.7 '!A:M,13,)","v":"Ambient"},{"$f":"VLOOKUP(B1463,'[1]2018.7 '!A:N,14,)","v":"No"}]
[1463,"UFP-300-C-75R","56410403","UFP-300-C-75R","021","93","BIOPROCESS MEMBRANES","290","Hollow Fiber Cartridges",{"v":5775,"d":"5,775"},{"v":52026.975,"d":"52,027"},null,{"$f":"VLOOKUP(B1464,'[1]2018.7 '!A:C,3,)","v":"Active"},{"$f":"VLOOKUP(B1464,'[1]2018.7 '!A:M,13,)","v":"Ambient"},{"$f":"VLOOKUP(B1464,'[1]2018.7 '!A:N,14,)","v":"Reviewing"}]
[1464,"UFP-300-C-8A","56410281","UFP-300-C-8A","021","93","BIOPROCESS MEMBRANES","290","Hollow Fiber Cartridges",{"v":1735,"d":"1,735"},{"v":15630.615,"d":"15,631"},null,{"$f":"VLOOKUP(B1465,'[1]2018.7 '!A:C,3,)","v":"Active"},{"$f":"VLOOKUP(B1465,'[1]2018.7 '!A:M,13,)","v":"Ambient"},{"$f":"VLOOKUP(B1465,'[1]2018.7 '!A:N,14,)","v":"No"}]
[1465,"UFP-300-C-9A","56410304","UFP-300-C-9A","021","93","BIOPROCESS MEMBRANES","290","Hollow Fiber Cartridges",{"v":2300,"d":"2,300"},{"v":20720.7,"d":"20,721"},null,{"$f":"VLOOKUP(B1466,'[1]2018.7 '!A:C,3,)","v":"Active"},{"$f":"VLOOKUP(B1466,'[1]2018.7 '!A:M,13,)","v":"Ambient"},{"$f":"VLOOKUP(B1466,'[1]2018.7 '!A:N,14,)","v":"No"}]
[1466,"UFP-300-C-H24LA","56410104","UFP-300-C-H24LA","021","93","BIOPROCESS MEMBRANES","290","Hollow Fiber Cartridges",295,{"v":2657.655,"d":"2,658"},null,{"$f":"VLOOKUP(B1467,'[1]2018.7 '!A:C,3,)","v":"Active"},{"$f":"VLOOKUP(B1467,'[1]2018.7 '!A:M,13,)","v":"Ambient"},{"$f":"VLOOKUP(B1467,'[1]2018.7 '!A:N,14,)","v":"No"}]
[1467,"UFP-300-C-H24U","11000541","UFP-300-C-H24U","021","93","BIOPROCESS MEMBRANES","290","Hollow Fiber Cartridges",275,{"v":2477.475,"d":"2,477"},null,{"$f":"VLOOKUP(B1468,'[1]2018.7 '!A:C,3,)","v":"Active"},{"$f":"VLOOKUP(B1468,'[1]2018.7 '!A:M,13,)","v":"Ambient"},{"$f":"VLOOKUP(B1468,'[1]2018.7 '!A:N,14,)","v":"No"}]
[1468,"UFP-300-C-H42LA","56410115","UFP-300-C-H42LA","021","93","BIOPROCESS MEMBRANES","290","Hollow Fiber Cartridges",295,{"v":2657.655,"d":"2,658"},null,{"$f":"VLOOKUP(B1469,'[1]2018.7 '!A:C,3,)","v":"Active"},{"$f":"VLOOKUP(B1469,'[1]2018.7 '!A:M,13,)","v":"Ambient"},{"$f":"VLOOKUP(B1469,'[1]2018.7 '!A:N,14,)","v":"No"}]
[1469,"UFP-300-C-MM01A","56410044","UFP-300-C-MM01A","021","93","BIOPROCESS MEMBRANES","290","Hollow Fiber Cartridges",200,{"v":1801.8000000000002,"d":"1,802"},null,{"$f":"VLOOKUP(B1470,'[1]2018.7 '!A:C,3,)","v":"Active"},{"$f":"VLOOKUP(B1470,'[1]2018.7 '!A:M,13,)","v":"Ambient"},{"$f":"VLOOKUP(B1470,'[1]2018.7 '!A:N,14,)","v":"No"}]
[1470,"UFP-300-C-MM06A","56410045","UFP-300-C-MM06A","021","93","BIOPROCESS MEMBRANES","290","Hollow Fiber Cartridges",{"v":969.9999999999999,"d":"970"},{"v":8738.73,"d":"8,739"},null,{"$f":"VLOOKUP(B1471,'[1]2018.7 '!A:C,3,)","v":"Active"},{"$f":"VLOOKUP(B1471,'[1]2018.7 '!A:M,13,)","v":"Ambient"},{"$f":"VLOOKUP(B1471,'[1]2018.7 '!A:N,14,)","v":"No"}]
[1471,"UFP-300-C-MM12A","56410046","UFP-300-C-MM12A","021","93","BIOPROCESS MEMBRANES","290","Hollow Fiber Cartridges",{"v":1460,"d":"1,460"},{"v":13153.140000000001,"d":"13,153"},null,{"$f":"VLOOKUP(B1472,'[1]2018.7 '!A:C,3,)","v":"Active"},{"$f":"VLOOKUP(B1472,'[1]2018.7 '!A:M,13,)","v":"Ambient"},{"$f":"VLOOKUP(B1472,'[1]2018.7 '!A:N,14,)","v":"Reviewing"}]
[1472,"UFP-300-E-3MA","56410136","UFP-300-E-3MA","021","93","BIOPROCESS MEMBRANES","290","Hollow Fiber Cartridges",530,{"v":4774.77,"d":"4,775"},null,{"$f":"VLOOKUP(B1473,'[1]2018.7 '!A:C,3,)","v":"Active"},{"$f":"VLOOKUP(B1473,'[1]2018.7 '!A:M,13,)","v":"Ambient"},{"$f":"VLOOKUP(B1473,'[1]2018.7 '!A:N,14,)","v":"No"}]
[1473,"UFP-300-E-3X2MA","56410152","UFP-300-E-3X2MA","021","93","BIOPROCESS MEMBRANES","290","Hollow Fiber Cartridges",700,{"v":6306.3,"d":"6,306"},null,{"$f":"VLOOKUP(B1474,'[1]2018.7 '!A:C,3,)","v":"Active"},{"$f":"VLOOKUP(B1474,'[1]2018.7 '!A:M,13,)","v":"Ambient"},{"$f":"VLOOKUP(B1474,'[1]2018.7 '!A:N,14,)","v":"No"}]
[1474,"UFP-300-E-4A","56410200","UFP-300-E-4A","021","93","BIOPROCESS MEMBRANES","290","Hollow Fiber Cartridges",860,{"v":7747.740000000001,"d":"7,748"},null,{"$f":"VLOOKUP(B1475,'[1]2018.7 '!A:C,3,)","v":"Active"},{"$f":"VLOOKUP(B1475,'[1]2018.7 '!A:M,13,)","v":"Ambient"},{"$f":"VLOOKUP(B1475,'[1]2018.7 '!A:N,14,)","v":"Reviewing"}]
[1475,"UFP-300-E-4MA","56410175","UFP-300-E-4MA","021","93","BIOPROCESS MEMBRANES","290","Hollow Fiber Cartridges",860,{"v":7747.740000000001,"d":"7,748"},null,{"$f":"VLOOKUP(B1476,'[1]2018.7 '!A:C,3,)","v":"Active"},{"$f":"VLOOKUP(B1476,'[1]2018.7 '!A:M,13,)","v":"Ambient"},{"$f":"VLOOKUP(B1476,'[1]2018.7 '!A:N,14,)","v":"No"}]
[1476,"UFP-300-E-4X2MA","56410217","UFP-300-E-4X2MA","021","93","BIOPROCESS MEMBRANES","290","Hollow Fiber Cartridges",{"$f":"K1477/9.009","v":{"v":1100,"d":"1,100"}},{"v":9909.9,"d":"9,910"},null,{"$f":"VLOOKUP(B1477,'[1]2018.7 '!A:C,3,)","v":"Active"},{"$f":"VLOOKUP(B1477,'[1]2018.7 '!A:M,13,)","v":"Ambient"},{"$f":"VLOOKUP(B1477,'[1]2018.7 '!A:N,14,)","v":"No"}]
[1477,"UFP-300-E-55","56410361","UFP-300-E-55","021","93","BIOPROCESS MEMBRANES","290","Hollow Fiber Cartridges",{"v":3400,"d":"3,400"},{"v":30630.600000000002,"d":"30,631"},null,{"$f":"VLOOKUP(B1478,'[1]2018.7 '!A:C,3,)","v":"Active"},{"$f":"VLOOKUP(B1478,'[1]2018.7 '!A:M,13,)","v":"Ambient"},{"$f":"VLOOKUP(B1478,'[1]2018.7 '!A:N,14,)","v":"Reviewing"}]
[1478,"UFP-300-E-55A","11000596","300k, 1.0mm, 2.1m2, 60cm","021","93","BIOPROCESS MEMBRANES","290","Hollow Fiber Cartridges",{"v":3725,"d":"3,725"},{"v":33558.525,"d":"33,559"},null,{"$f":"VLOOKUP(B1479,'[1]2018.7 '!A:C,3,)","v":"Active"},{"$f":"VLOOKUP(B1479,'[1]2018.7 '!A:M,13,)","v":"Ambient"},{"$f":"VLOOKUP(B1479,'[1]2018.7 '!A:N,14,)","v":"Reviewing"}]
[1479,"UFP-300-E-55SMO","11000583","UFP-300-E-55SMO, 300kD, 1mm, 2.1m2, 60cm, SIP","021","93","BIOPROCESS MEMBRANES","290","Hollow Fiber Cartridges",{"v":5100,"d":"5,100"},{"v":45945.9,"d":"45,946"},null,{"$f":"VLOOKUP(B1480,'[1]2018.7 '!A:C,3,)","v":"Active"},{"$f":"VLOOKUP(B1480,'[1]2018.7 '!A:M,13,)","v":"Ambient"},{"$f":"VLOOKUP(B1480,'[1]2018.7 '!A:N,14,)","v":"Reviewing"}]
[1480,"UFP-300-E-55STM","11000581","UFP-300-E-55STM","021","93","BIOPROCESS MEMBRANES","290","Hollow Fiber Cartridges",{"v":5100,"d":"5,100"},{"v":45945.9,"d":"45,946"},null,{"$f":"VLOOKUP(B1481,'[1]2018.7 '!A:C,3,)","v":"Active"},{"$f":"VLOOKUP(B1481,'[1]2018.7 '!A:M,13,)","v":"Ambient"},{"$f":"VLOOKUP(B1481,'[1]2018.7 '!A:N,14,)","v":"Reviewing"}]
[1481,"UFP-300-E-5A","56410242","UFP-300-E-5A","021","93","BIOPROCESS MEMBRANES","290","Hollow Fiber Cartridges",{"v":1200,"d":"1,200"},{"v":10810.800000000001,"d":"10,811"},null,{"$f":"VLOOKUP(B1482,'[1]2018.7 '!A:C,3,)","v":"Active"},{"$f":"VLOOKUP(B1482,'[1]2018.7 '!A:M,13,)","v":"Ambient"},{"$f":"VLOOKUP(B1482,'[1]2018.7 '!A:N,14,)","v":"No"}]
[1482,"UFP-300-E-65","56410488","UFP-300-E-65","021","93","BIOPROCESS MEMBRANES","290","Hollow Fiber Cartridges",{"v":5590,"d":"5,590"},{"v":50360.310000000005,"d":"50,360"},null,{"$f":"VLOOKUP(B1483,'[1]2018.7 '!A:C,3,)","v":"Active"},{"$f":"VLOOKUP(B1483,'[1]2018.7 '!A:M,13,)","v":"Ambient"},{"$f":"VLOOKUP(B1483,'[1]2018.7 '!A:N,14,)","v":"Reviewing"}]
[1483,"UFP-300-E-65MSM","56411136","UFP-300-E-65MSM","021","93","BIOPROCESS MEMBRANES","290","Hollow Fiber Cartridges",{"v":8850,"d":"8,850"},{"v":79729.65000000001,"d":"79,730"},null,{"$f":"VLOOKUP(B1484,'[1]2018.7 '!A:C,3,)","v":"Active"},{"$f":"VLOOKUP(B1484,'[1]2018.7 '!A:M,13,)","v":"Ambient"},{"$f":"VLOOKUP(B1484,'[1]2018.7 '!A:N,14,)","v":"No"}]
[1484,"UFP-300-E-6A","56410265","UFP-300-E-6A","021","93","BIOPROCESS MEMBRANES","290","Hollow Fiber Cartridges",{"v":1650,"d":"1,650"},{"v":14864.85,"d":"14,865"},null,{"$f":"VLOOKUP(B1485,'[1]2018.7 '!A:C,3,)","v":"Active"},{"$f":"VLOOKUP(B1485,'[1]2018.7 '!A:M,13,)","v":"Ambient"},{"$f":"VLOOKUP(B1485,'[1]2018.7 '!A:N,14,)","v":"No"}]
[1485,"UFP-300-E-75","56410404","UFP-300-E-75","021","93","BIOPROCESS MEMBRANES","290","Hollow Fiber Cartridges",{"v":4700,"d":"4,700"},{"v":42342.3,"d":"42,342"},null,{"$f":"VLOOKUP(B1486,'[1]2018.7 '!A:C,3,)","v":"Active"},{"$f":"VLOOKUP(B1486,'[1]2018.7 '!A:M,13,)","v":"Ambient"},{"$f":"VLOOKUP(B1486,'[1]2018.7 '!A:N,14,)","v":"Reviewing"}]
[1486,"UFP-300-E-85","56410507","UFP-300-E-85","021","93","BIOPROCESS MEMBRANES","290","Hollow Fiber Cartridges",{"v":8200,"d":"8,200"},{"v":73873.8,"d":"73,874"},null,{"$f":"VLOOKUP(B1487,'[1]2018.7 '!A:C,3,)","v":"Active"},{"$f":"VLOOKUP(B1487,'[1]2018.7 '!A:M,13,)","v":"Ambient"},{"$f":"VLOOKUP(B1487,'[1]2018.7 '!A:N,14,)","v":"No"}]
[1487,"UFP-300-E-8A","56410282","UFP-300-E-8A","021","93","BIOPROCESS MEMBRANES","290","Hollow Fiber Cartridges",{"v":1735,"d":"1,735"},{"v":15630.615,"d":"15,631"},null,{"$f":"VLOOKUP(B1488,'[1]2018.7 '!A:C,3,)","v":"Active"},{"$f":"VLOOKUP(B1488,'[1]2018.7 '!A:M,13,)","v":"Ambient"},{"$f":"VLOOKUP(B1488,'[1]2018.7 '!A:N,14,)","v":"No"}]
[1488,"UFP-300-E-8SIP","29010711","UFP-300-E-8SIP","021","93","BIOPROCESS MEMBRANES","290","Hollow Fiber Cartridges",{"v":1900.0000000000002,"d":"1,900"},{"v":17117.100000000002,"d":"17,117"},null,{"$f":"VLOOKUP(B1489,'[1]2018.7 '!A:C,3,)","v":"Active"},{"$f":"VLOOKUP(B1489,'[1]2018.7 '!A:M,13,)","v":"Ambient"},{"$f":"VLOOKUP(B1489,'[1]2018.7 '!A:N,14,)","v":"Reviewing"}]
[1489,"UFP-300-E-9A","56410305","UFP-300-E-9A","021","93","BIOPROCESS MEMBRANES","290","Hollow Fiber Cartridges",{"v":2300,"d":"2,300"},{"v":20720.7,"d":"20,721"},null,{"$f":"VLOOKUP(B1490,'[1]2018.7 '!A:C,3,)","v":"Active"},{"$f":"VLOOKUP(B1490,'[1]2018.7 '!A:M,13,)","v":"Ambient"},{"$f":"VLOOKUP(B1490,'[1]2018.7 '!A:N,14,)","v":"No"}]
[1490,"UFP-300-E-H22LA","56410093","UFP-300-E-H22LA","021","93","BIOPROCESS MEMBRANES","290","Hollow Fiber Cartridges",295,{"v":2657.655,"d":"2,658"},null,{"$f":"VLOOKUP(B1491,'[1]2018.7 '!A:C,3,)","v":"Active"},{"$f":"VLOOKUP(B1491,'[1]2018.7 '!A:M,13,)","v":"Ambient"},{"$f":"VLOOKUP(B1491,'[1]2018.7 '!A:N,14,)","v":"No"}]
[1491,"UFP-300-E-H42LA","56410116","UFP-300-E-H42LA","021","93","BIOPROCESS MEMBRANES","290","Hollow Fiber Cartridges",295,{"v":2657.655,"d":"2,658"},null,{"$f":"VLOOKUP(B1492,'[1]2018.7 '!A:C,3,)","v":"Active"},{"$f":"VLOOKUP(B1492,'[1]2018.7 '!A:M,13,)","v":"Ambient"},{"$f":"VLOOKUP(B1492,'[1]2018.7 '!A:N,14,)","v":"No"}]
[1492,"UFP-300-E-MM01A","56410048","UFP-300-E-MM01A","021","93","BIOPROCESS MEMBRANES","290","Hollow Fiber Cartridges",200,{"v":1801.8000000000002,"d":"1,802"},null,{"$f":"VLOOKUP(B1493,'[1]2018.7 '!A:C,3,)","v":"Active"},{"$f":"VLOOKUP(B1493,'[1]2018.7 '!A:M,13,)","v":"Ambient"},{"$f":"VLOOKUP(B1493,'[1]2018.7 '!A:N,14,)","v":"No"}]
[1493,"UFP-300-E-MM06A","56410049","UFP-300-E-MM06A","021","93","BIOPROCESS MEMBRANES","290","Hollow Fiber Cartridges",{"v":969.9999999999999,"d":"970"},{"v":8738.73,"d":"8,739"},null,{"$f":"VLOOKUP(B1494,'[1]2018.7 '!A:C,3,)","v":"Active"},{"$f":"VLOOKUP(B1494,'[1]2018.7 '!A:M,13,)","v":"Ambient"},{"$f":"VLOOKUP(B1494,'[1]2018.7 '!A:N,14,)","v":"Reviewing"}]
[1494,"UFP-300-E-MM12A","56410050","UFP-300-E-MM12A","021","93","BIOPROCESS MEMBRANES","290","Hollow Fiber Cartridges",{"v":1460,"d":"1,460"},{"v":13153.140000000001,"d":"13,153"},null,{"$f":"VLOOKUP(B1495,'[1]2018.7 '!A:C,3,)","v":"Active"},{"$f":"VLOOKUP(B1495,'[1]2018.7 '!A:M,13,)","v":"Ambient"},{"$f":"VLOOKUP(B1495,'[1]2018.7 '!A:N,14,)","v":"Reviewing"}]
[1495,"UFP-5-C-35","56410316","UFP-5-C-35","021","93","BIOPROCESS MEMBRANES","290","Hollow Fiber Cartridges",{"v":2700,"d":"2,700"},{"v":24324.3,"d":"24,324"},null,{"$f":"VLOOKUP(B1496,'[1]2018.7 '!A:C,3,)","v":"Active"},{"$f":"VLOOKUP(B1496,'[1]2018.7 '!A:M,13,)","v":"Ambient"},{"$f":"VLOOKUP(B1496,'[1]2018.7 '!A:N,14,)","v":"No"}]
[1496,"UFP-5-C-3MA","56410124","UFP-5-C-3MA","021","93","BIOPROCESS MEMBRANES","290","Hollow Fiber Cartridges",530,{"v":4774.77,"d":"4,775"},null,{"$f":"VLOOKUP(B1497,'[1]2018.7 '!A:C,3,)","v":"Active"},{"$f":"VLOOKUP(B1497,'[1]2018.7 '!A:M,13,)","v":"Ambient"},{"$f":"VLOOKUP(B1497,'[1]2018.7 '!A:N,14,)","v":"No"}]
[1497,"UFP-5-C-3X2MA","11000577","UFP-5-C-3X2MA","021","93","BIOPROCESS MEMBRANES","290","Hollow Fiber Cartridges",700,{"v":6306.3,"d":"6,306"},null,{"$f":"VLOOKUP(B1498,'[1]2018.7 '!A:C,3,)","v":"Active"},{"$f":"VLOOKUP(B1498,'[1]2018.7 '!A:M,13,)","v":"Ambient"},{"$f":"VLOOKUP(B1498,'[1]2018.7 '!A:N,14,)","v":"No"}]
[1498,"UFP-5-C-4A","56410188","UFP-5-C-4A","021","93","BIOPROCESS MEMBRANES","290","Hollow Fiber Cartridges",860,{"v":7747.740000000001,"d":"7,748"},null,{"$f":"VLOOKUP(B1499,'[1]2018.7 '!A:C,3,)","v":"Active"},{"$f":"VLOOKUP(B1499,'[1]2018.7 '!A:M,13,)","v":"Ambient"},{"$f":"VLOOKUP(B1499,'[1]2018.7 '!A:N,14,)","v":"No"}]
[1499,"UFP-5-C-4MA","56410163","UFP-5-C-4MA","021","93","BIOPROCESS MEMBRANES","290","Hollow Fiber Cartridges",860,{"v":7747.740000000001,"d":"7,748"},null,{"$f":"VLOOKUP(B1500,'[1]2018.7 '!A:C,3,)","v":"Active"},{"$f":"VLOOKUP(B1500,'[1]2018.7 '!A:M,13,)","v":"Ambient"},{"$f":"VLOOKUP(B1500,'[1]2018.7 '!A:N,14,)","v":"No"}]
[1500,"UFP-5-C-4X2MA","56410210","UFP-5-C-4X2MA","021","93","BIOPROCESS MEMBRANES","290","Hollow Fiber Cartridges",{"v":1100,"d":"1,100"},{"v":9909.9,"d":"9,910"},null,{"$f":"VLOOKUP(B1501,'[1]2018.7 '!A:C,3,)","v":"Active"},{"$f":"VLOOKUP(B1501,'[1]2018.7 '!A:M,13,)","v":"Ambient"},{"$f":"VLOOKUP(B1501,'[1]2018.7 '!A:N,14,)","v":"No"}]
[1501,"UFP-5-C-55","56410339","UFP-5-C-55","021","93","BIOPROCESS MEMBRANES","290","Hollow Fiber Cartridges",{"v":4175,"d":"4,175"},{"v":37612.575000000004,"d":"37,613"},null,{"$f":"VLOOKUP(B1502,'[1]2018.7 '!A:C,3,)","v":"Active"},{"$f":"VLOOKUP(B1502,'[1]2018.7 '!A:M,13,)","v":"Ambient"},{"$f":"VLOOKUP(B1502,'[1]2018.7 '!A:N,14,)","v":"No"}]
[1502,"UFP-5-C-5A","56410230","UFP-5-C-5A","021","93","BIOPROCESS MEMBRANES","290","Hollow Fiber Cartridges",{"v":1200,"d":"1,200"},{"v":10810.800000000001,"d":"10,811"},null,{"$f":"VLOOKUP(B1503,'[1]2018.7 '!A:C,3,)","v":"Active"},{"$f":"VLOOKUP(B1503,'[1]2018.7 '!A:M,13,)","v":"Ambient"},{"$f":"VLOOKUP(B1503,'[1]2018.7 '!A:N,14,)","v":"No"}]
[1503,"UFP-5-C-65","56410477","UFP-5-C-65","021","93","BIOPROCESS MEMBRANES","290","Hollow Fiber Cartridges",{"v":6700,"d":"6,700"},{"v":60360.3,"d":"60,360"},null,{"$f":"VLOOKUP(B1504,'[1]2018.7 '!A:C,3,)","v":"Active"},{"$f":"VLOOKUP(B1504,'[1]2018.7 '!A:M,13,)","v":"Ambient"},{"$f":"VLOOKUP(B1504,'[1]2018.7 '!A:N,14,)","v":"No"}]
[1504,"UFP-5-C-6A","56410254","UFP-5-C-6A","021","93","BIOPROCESS MEMBRANES","290","Hollow Fiber Cartridges",{"v":1650,"d":"1,650"},{"v":14864.85,"d":"14,865"},null,{"$f":"VLOOKUP(B1505,'[1]2018.7 '!A:C,3,)","v":"Active"},{"$f":"VLOOKUP(B1505,'[1]2018.7 '!A:M,13,)","v":"Ambient"},{"$f":"VLOOKUP(B1505,'[1]2018.7 '!A:N,14,)","v":"No"}]
[1505,"UFP-5-C-75","56410384","UFP-5-C-75","021","93","BIOPROCESS MEMBRANES","290","Hollow Fiber Cartridges",{"v":5775,"d":"5,775"},{"v":52026.975,"d":"52,027"},null,{"$f":"VLOOKUP(B1506,'[1]2018.7 '!A:C,3,)","v":"Active"},{"$f":"VLOOKUP(B1506,'[1]2018.7 '!A:M,13,)","v":"Ambient"},{"$f":"VLOOKUP(B1506,'[1]2018.7 '!A:N,14,)","v":"No"}]
[1506,"UFP-5-C-85","56410497","UFP-5-C-85","021","93","BIOPROCESS MEMBRANES","290","Hollow Fiber Cartridges",{"v":9900,"d":"9,900"},{"v":89189.1,"d":"89,189"},null,{"$f":"VLOOKUP(B1507,'[1]2018.7 '!A:C,3,)","v":"Active"},{"$f":"VLOOKUP(B1507,'[1]2018.7 '!A:M,13,)","v":"Ambient"},{"$f":"VLOOKUP(B1507,'[1]2018.7 '!A:N,14,)","v":"Reviewing"}]
[1507,"UFP-5-C-8A","56411027","UFP-5-C-8A","021","93","BIOPROCESS MEMBRANES","290","Hollow Fiber Cartridges",{"v":1735,"d":"1,735"},{"v":15630.615,"d":"15,631"},null,{"$f":"VLOOKUP(B1508,'[1]2018.7 '!A:C,3,)","v":"Active"},{"$f":"VLOOKUP(B1508,'[1]2018.7 '!A:M,13,)","v":"Ambient"},{"$f":"VLOOKUP(B1508,'[1]2018.7 '!A:N,14,)","v":"No"}]
[1508,"UFP-5-C-9A","56410294","UFP-5-C-9A","021","93","BIOPROCESS MEMBRANES","290","Hollow Fiber Cartridges",{"v":2300,"d":"2,300"},{"v":20720.7,"d":"20,721"},null,{"$f":"VLOOKUP(B1509,'[1]2018.7 '!A:C,3,)","v":"Active"},{"$f":"VLOOKUP(B1509,'[1]2018.7 '!A:M,13,)","v":"Ambient"},{"$f":"VLOOKUP(B1509,'[1]2018.7 '!A:N,14,)","v":"No"}]
[1509,"UFP-5-C-MM01A","11000504","UFP-5-C-MM01A","021","93","BIOPROCESS MEMBRANES","290","Hollow Fiber Cartridges",200,{"v":1801.8000000000002,"d":"1,802"},null,{"$f":"VLOOKUP(B1510,'[1]2018.7 '!A:C,3,)","v":"Active"},{"$f":"VLOOKUP(B1510,'[1]2018.7 '!A:M,13,)","v":"Ambient"},{"$f":"VLOOKUP(B1510,'[1]2018.7 '!A:N,14,)","v":"No"}]
[1510,"UFP-5-C-MM06A","11000505","UFP-5-C-MM06A","021","93","BIOPROCESS MEMBRANES","290","Hollow Fiber Cartridges",{"v":969.9999999999999,"d":"970"},{"v":8738.73,"d":"8,739"},null,{"$f":"VLOOKUP(B1511,'[1]2018.7 '!A:C,3,)","v":"Active"},{"$f":"VLOOKUP(B1511,'[1]2018.7 '!A:M,13,)","v":"Ambient"},{"$f":"VLOOKUP(B1511,'[1]2018.7 '!A:N,14,)","v":"Reviewing"}]
[1511,"UFP-5-E-35","56410317","UFP-5-E-35","021","93","BIOPROCESS MEMBRANES","290","Hollow Fiber Cartridges",{"v":2350,"d":"2,350"},{"v":21171.15,"d":"21,171"},null,{"$f":"VLOOKUP(B1512,'[1]2018.7 '!A:C,3,)","v":"Active"},{"$f":"VLOOKUP(B1512,'[1]2018.7 '!A:M,13,)","v":"Ambient"},{"$f":"VLOOKUP(B1512,'[1]2018.7 '!A:N,14,)","v":"No"}]
[1512,"UFP-5-E-3MA","56410125","UFP-5-E-3MA","021","93","BIOPROCESS MEMBRANES","290","Hollow Fiber Cartridges",530,{"v":4774.77,"d":"4,775"},null,{"$f":"VLOOKUP(B1513,'[1]2018.7 '!A:C,3,)","v":"Active"},{"$f":"VLOOKUP(B1513,'[1]2018.7 '!A:M,13,)","v":"Ambient"},{"$f":"VLOOKUP(B1513,'[1]2018.7 '!A:N,14,)","v":"No"}]
[1513,"UFP-5-E-4A","56410189","UFP-5-E-4A","021","93","BIOPROCESS MEMBRANES","290","Hollow Fiber Cartridges",860,{"v":7747.740000000001,"d":"7,748"},null,{"$f":"VLOOKUP(B1514,'[1]2018.7 '!A:C,3,)","v":"Active"},{"$f":"VLOOKUP(B1514,'[1]2018.7 '!A:M,13,)","v":"Ambient"},{"$f":"VLOOKUP(B1514,'[1]2018.7 '!A:N,14,)","v":"Reviewing"}]
[1514,"UFP-5-E-4MA","56410164","UFP-5-E-4MA","021","93","BIOPROCESS MEMBRANES","290","Hollow Fiber Cartridges",860,{"v":7747.740000000001,"d":"7,748"},null,{"$f":"VLOOKUP(B1515,'[1]2018.7 '!A:C,3,)","v":"Active"},{"$f":"VLOOKUP(B1515,'[1]2018.7 '!A:M,13,)","v":"Ambient"},{"$f":"VLOOKUP(B1515,'[1]2018.7 '!A:N,14,)","v":"No"}]
[1515,"UFP-5-E-4X2MA","56411017","UFP-5-E-4X2MA","021","93","BIOPROCESS MEMBRANES","290","Hollow Fiber Cartridges",{"v":1100,"d":"1,100"},{"v":9909.9,"d":"9,910"},null,{"$f":"VLOOKUP(B1516,'[1]2018.7 '!A:C,3,)","v":"Active"},{"$f":"VLOOKUP(B1516,'[1]2018.7 '!A:M,13,)","v":"Ambient"},{"$f":"VLOOKUP(B1516,'[1]2018.7 '!A:N,14,)","v":"No"}]
[1516,"UFP-5-E-55","56410341","UFP-5-E-55","021","93","BIOPROCESS MEMBRANES","290","Hollow Fiber Cartridges",{"v":3400,"d":"3,400"},{"v":30630.600000000002,"d":"30,631"},null,{"$f":"VLOOKUP(B1517,'[1]2018.7 '!A:C,3,)","v":"Active"},{"$f":"VLOOKUP(B1517,'[1]2018.7 '!A:M,13,)","v":"Ambient"},{"$f":"VLOOKUP(B1517,'[1]2018.7 '!A:N,14,)","v":"Reviewing"}]
[1517,"UFP-5-E-5A","56410231","UFP-5-E-5A","021","93","BIOPROCESS MEMBRANES","290","Hollow Fiber Cartridges",{"v":1200,"d":"1,200"},{"v":10810.800000000001,"d":"10,811"},null,{"$f":"VLOOKUP(B1518,'[1]2018.7 '!A:C,3,)","v":"Active"},{"$f":"VLOOKUP(B1518,'[1]2018.7 '!A:M,13,)","v":"Ambient"},{"$f":"VLOOKUP(B1518,'[1]2018.7 '!A:N,14,)","v":"No"}]
[1518,"UFP-5-E-65","56410478","UFP-5-E-65","021","93","BIOPROCESS MEMBRANES","290","Hollow Fiber Cartridges",{"v":5590,"d":"5,590"},{"v":50360.310000000005,"d":"50,360"},null,{"$f":"VLOOKUP(B1519,'[1]2018.7 '!A:C,3,)","v":"Active"},{"$f":"VLOOKUP(B1519,'[1]2018.7 '!A:M,13,)","v":"Ambient"},{"$f":"VLOOKUP(B1519,'[1]2018.7 '!A:N,14,)","v":"Reviewing"}]
[1519,"UFP-5-E-6A","56410255","UFP-5-E-6A","021","93","BIOPROCESS MEMBRANES","290","Hollow Fiber Cartridges",{"v":1650,"d":"1,650"},{"v":14864.85,"d":"14,865"},null,{"$f":"VLOOKUP(B1520,'[1]2018.7 '!A:C,3,)","v":"Active"},{"$f":"VLOOKUP(B1520,'[1]2018.7 '!A:M,13,)","v":"Ambient"},{"$f":"VLOOKUP(B1520,'[1]2018.7 '!A:N,14,)","v":"No"}]
[1520,"UFP-5-E-85","56410498","UFP-5-E-85","021","93","BIOPROCESS MEMBRANES","290","Hollow Fiber Cartridges",{"v":8200,"d":"8,200"},{"v":73873.8,"d":"73,874"},null,{"$f":"VLOOKUP(B1521,'[1]2018.7 '!A:C,3,)","v":"Active"},{"$f":"VLOOKUP(B1521,'[1]2018.7 '!A:M,13,)","v":"Ambient"},{"$f":"VLOOKUP(B1521,'[1]2018.7 '!A:N,14,)","v":"No"}]
[1521,"UFP-5-E-MM01A","11000506","UFP-5-E-MM01A","021","93","BIOPROCESS MEMBRANES","290","Hollow Fiber Cartridges",200,{"v":1801.8000000000002,"d":"1,802"},null,{"$f":"VLOOKUP(B1522,'[1]2018.7 '!A:C,3,)","v":"Active"},{"$f":"VLOOKUP(B1522,'[1]2018.7 '!A:M,13,)","v":"Ambient"},{"$f":"VLOOKUP(B1522,'[1]2018.7 '!A:N,14,)","v":"No"}]
[1522,"UFP-5-E-MM06A","11000507","UFP-5-E-MM06A","021","93","BIOPROCESS MEMBRANES","290","Hollow Fiber Cartridges",{"v":969.9999999999999,"d":"970"},{"v":8738.73,"d":"8,739"},null,{"$f":"VLOOKUP(B1523,'[1]2018.7 '!A:C,3,)","v":"Active"},{"$f":"VLOOKUP(B1523,'[1]2018.7 '!A:M,13,)","v":"Ambient"},{"$f":"VLOOKUP(B1523,'[1]2018.7 '!A:N,14,)","v":"Reviewing"}]
[1523,"UFP-50-C-3MA","56410131","UFP-50-C-3MA","021","93","BIOPROCESS MEMBRANES","290","Hollow Fiber Cartridges",530,{"v":4774.77,"d":"4,775"},null,{"$f":"VLOOKUP(B1524,'[1]2018.7 '!A:C,3,)","v":"Active"},{"$f":"VLOOKUP(B1524,'[1]2018.7 '!A:M,13,)","v":"Ambient"},{"$f":"VLOOKUP(B1524,'[1]2018.7 '!A:N,14,)","v":"No"}]
[1524,"UFP-50-C-3X2MA","56410148","UFP-50-C-3X2MA","021","93","BIOPROCESS MEMBRANES","290","Hollow Fiber Cartridges",700,{"v":6306.3,"d":"6,306"},null,{"$f":"VLOOKUP(B1525,'[1]2018.7 '!A:C,3,)","v":"Active"},{"$f":"VLOOKUP(B1525,'[1]2018.7 '!A:M,13,)","v":"Ambient"},{"$f":"VLOOKUP(B1525,'[1]2018.7 '!A:N,14,)","v":"No"}]
[1525,"UFP-50-C-4A","56410195","UFP-50-C-4A","021","93","BIOPROCESS MEMBRANES","290","Hollow Fiber Cartridges",860,{"v":7747.740000000001,"d":"7,748"},null,{"$f":"VLOOKUP(B1526,'[1]2018.7 '!A:C,3,)","v":"Active"},{"$f":"VLOOKUP(B1526,'[1]2018.7 '!A:M,13,)","v":"Ambient"},{"$f":"VLOOKUP(B1526,'[1]2018.7 '!A:N,14,)","v":"No"}]
[1526,"UFP-50-C-4MA","56410170","UFP-50-C-4MA","021","93","BIOPROCESS MEMBRANES","290","Hollow Fiber Cartridges",860,{"v":7747.740000000001,"d":"7,748"},null,{"$f":"VLOOKUP(B1527,'[1]2018.7 '!A:C,3,)","v":"Active"},{"$f":"VLOOKUP(B1527,'[1]2018.7 '!A:M,13,)","v":"Ambient"},{"$f":"VLOOKUP(B1527,'[1]2018.7 '!A:N,14,)","v":"No"}]
[1527,"UFP-50-C-4X2MA","56410213","UFP-50-C-4X2MA","021","93","BIOPROCESS MEMBRANES","290","Hollow Fiber Cartridges",{"v":1100,"d":"1,100"},{"v":9909.9,"d":"9,910"},null,{"$f":"VLOOKUP(B1528,'[1]2018.7 '!A:C,3,)","v":"Active"},{"$f":"VLOOKUP(B1528,'[1]2018.7 '!A:M,13,)","v":"Ambient"},{"$f":"VLOOKUP(B1528,'[1]2018.7 '!A:N,14,)","v":"No"}]
[1528,"UFP-50-C-55","56410351","UFP-50-C-55","021","93","BIOPROCESS MEMBRANES","290","Hollow Fiber Cartridges",{"v":4175,"d":"4,175"},{"v":37612.575000000004,"d":"37,613"},null,{"$f":"VLOOKUP(B1529,'[1]2018.7 '!A:C,3,)","v":"Active"},{"$f":"VLOOKUP(B1529,'[1]2018.7 '!A:M,13,)","v":"Ambient"},{"$f":"VLOOKUP(B1529,'[1]2018.7 '!A:N,14,)","v":"No"}]
[1529,"UFP-50-C-55STM","56410424","UFP-50-C-55STM","021","93","BIOPROCESS MEMBRANES","290","Hollow Fiber Cartridges",{"v":6200,"d":"6,200"},{"v":55855.8,"d":"55,856"},null,{"$f":"VLOOKUP(B1530,'[1]2018.7 '!A:C,3,)","v":"Active"},{"$f":"VLOOKUP(B1530,'[1]2018.7 '!A:M,13,)","v":"Ambient"},{"$f":"VLOOKUP(B1530,'[1]2018.7 '!A:N,14,)","v":"Reviewing"}]
[1530,"UFP-50-C-5A","56410237","UFP-50-C-5A","021","93","BIOPROCESS MEMBRANES","290","Hollow Fiber Cartridges",{"v":1200,"d":"1,200"},{"v":10810.800000000001,"d":"10,811"},null,{"$f":"VLOOKUP(B1531,'[1]2018.7 '!A:C,3,)","v":"Active"},{"$f":"VLOOKUP(B1531,'[1]2018.7 '!A:M,13,)","v":"Ambient"},{"$f":"VLOOKUP(B1531,'[1]2018.7 '!A:N,14,)","v":"No"}]
[1531,"UFP-50-C-65","56410483","UFP-50-C-65","021","93","BIOPROCESS MEMBRANES","290","Hollow Fiber Cartridges",{"v":6700,"d":"6,700"},{"v":60360.3,"d":"60,360"},null,{"$f":"VLOOKUP(B1532,'[1]2018.7 '!A:C,3,)","v":"Active"},{"$f":"VLOOKUP(B1532,'[1]2018.7 '!A:M,13,)","v":"Ambient"},{"$f":"VLOOKUP(B1532,'[1]2018.7 '!A:N,14,)","v":"No"}]
[1532,"UFP-50-C-6A","56410260","UFP-50-C-6A","021","93","BIOPROCESS MEMBRANES","290","Hollow Fiber Cartridges",{"v":1650,"d":"1,650"},{"v":14864.85,"d":"14,865"},null,{"$f":"VLOOKUP(B1533,'[1]2018.7 '!A:C,3,)","v":"Active"},{"$f":"VLOOKUP(B1533,'[1]2018.7 '!A:M,13,)","v":"Ambient"},{"$f":"VLOOKUP(B1533,'[1]2018.7 '!A:N,14,)","v":"No"}]
[1533,"UFP-50-C-85","56410503","UFP-50-C-85","021","93","BIOPROCESS MEMBRANES","290","Hollow Fiber Cartridges",{"v":9900,"d":"9,900"},{"v":89189.1,"d":"89,189"},null,{"$f":"VLOOKUP(B1534,'[1]2018.7 '!A:C,3,)","v":"Active"},{"$f":"VLOOKUP(B1534,'[1]2018.7 '!A:M,13,)","v":"Ambient"},{"$f":"VLOOKUP(B1534,'[1]2018.7 '!A:N,14,)","v":"Reviewing"}]
[1534,"UFP-50-C-8A","56410278","UFP-50-C-8A","021","93","BIOPROCESS MEMBRANES","290","Hollow Fiber Cartridges",{"v":1735,"d":"1,735"},{"v":15630.615,"d":"15,631"},null,{"$f":"VLOOKUP(B1535,'[1]2018.7 '!A:C,3,)","v":"Active"},{"$f":"VLOOKUP(B1535,'[1]2018.7 '!A:M,13,)","v":"Ambient"},{"$f":"VLOOKUP(B1535,'[1]2018.7 '!A:N,14,)","v":"No"}]
[1535,"UFP-50-C-9A","56410300","UFP-50-C-9A","021","93","BIOPROCESS MEMBRANES","290","Hollow Fiber Cartridges",{"v":2300,"d":"2,300"},{"v":20720.7,"d":"20,721"},null,{"$f":"VLOOKUP(B1536,'[1]2018.7 '!A:C,3,)","v":"Active"},{"$f":"VLOOKUP(B1536,'[1]2018.7 '!A:M,13,)","v":"Ambient"},{"$f":"VLOOKUP(B1536,'[1]2018.7 '!A:N,14,)","v":"No"}]
[1536,"UFP-50-C-MM01A","56410028","UFP-50-C-MM01A","021","93","BIOPROCESS MEMBRANES","290","Hollow Fiber Cartridges",200,{"v":1801.8000000000002,"d":"1,802"},null,{"$f":"VLOOKUP(B1537,'[1]2018.7 '!A:C,3,)","v":"Active"},{"$f":"VLOOKUP(B1537,'[1]2018.7 '!A:M,13,)","v":"Ambient"},{"$f":"VLOOKUP(B1537,'[1]2018.7 '!A:N,14,)","v":"No"}]
[1537,"UFP-50-C-MM06A","56410029","UFP-50-C-MM06A","021","93","BIOPROCESS MEMBRANES","290","Hollow Fiber Cartridges",{"v":969.9999999999999,"d":"970"},{"v":8738.73,"d":"8,739"},null,{"$f":"VLOOKUP(B1538,'[1]2018.7 '!A:C,3,)","v":"Active"},{"$f":"VLOOKUP(B1538,'[1]2018.7 '!A:M,13,)","v":"Ambient"},{"$f":"VLOOKUP(B1538,'[1]2018.7 '!A:N,14,)","v":"No"}]
[1538,"UFP-50-E-3MA","56410132","UFP-50-E-3MA","021","93","BIOPROCESS MEMBRANES","290","Hollow Fiber Cartridges",530,{"v":4774.77,"d":"4,775"},null,{"$f":"VLOOKUP(B1539,'[1]2018.7 '!A:C,3,)","v":"Active"},{"$f":"VLOOKUP(B1539,'[1]2018.7 '!A:M,13,)","v":"Ambient"},{"$f":"VLOOKUP(B1539,'[1]2018.7 '!A:N,14,)","v":"No"}]
[1539,"UFP-50-E-4MA","56410171","UFP-50-E-4MA","021","93","BIOPROCESS MEMBRANES","290","Hollow Fiber Cartridges",860,{"v":7747.740000000001,"d":"7,748"},null,{"$f":"VLOOKUP(B1540,'[1]2018.7 '!A:C,3,)","v":"Active"},{"$f":"VLOOKUP(B1540,'[1]2018.7 '!A:M,13,)","v":"Ambient"},{"$f":"VLOOKUP(B1540,'[1]2018.7 '!A:N,14,)","v":"No"}]
[1540,"UFP-50-E-4X2MA","56411019","UFP-50-E-4X2MA","021","93","BIOPROCESS MEMBRANES","290","Hollow Fiber Cartridges",{"$f":"K1541/9.009","v":{"v":1100,"d":"1,100"}},{"v":9909.9,"d":"9,910"},null,{"$f":"VLOOKUP(B1541,'[1]2018.7 '!A:C,3,)","v":"Active"},{"$f":"VLOOKUP(B1541,'[1]2018.7 '!A:M,13,)","v":"Ambient"},{"$f":"VLOOKUP(B1541,'[1]2018.7 '!A:N,14,)","v":"No"}]
[1541,"UFP-50-E-55","56410353","UFP-50-E-55","021","93","BIOPROCESS MEMBRANES","290","Hollow Fiber Cartridges",{"v":3400,"d":"3,400"},{"v":30630.600000000002,"d":"30,631"},null,{"$f":"VLOOKUP(B1542,'[1]2018.7 '!A:C,3,)","v":"Active"},{"$f":"VLOOKUP(B1542,'[1]2018.7 '!A:M,13,)","v":"Ambient"},{"$f":"VLOOKUP(B1542,'[1]2018.7 '!A:N,14,)","v":"No"}]
[1542,"UFP-50-E-55SMO","29011821","UFP-50-E-55SMO","021","93","BIOPROCESS MEMBRANES","290","Hollow Fiber Cartridges",{"v":5100,"d":"5,100"},{"v":45945.9,"d":"45,946"},null,{"$f":"VLOOKUP(B1543,'[1]2018.7 '!A:C,3,)","v":"Active"},{"$f":"VLOOKUP(B1543,'[1]2018.7 '!A:M,13,)","v":"Ambient"},{"$f":"VLOOKUP(B1543,'[1]2018.7 '!A:N,14,)","v":"No"}]
[1543,"UFP-50-E-5A","56410238","UFP-50-E-5A","021","93","BIOPROCESS MEMBRANES","290","Hollow Fiber Cartridges",{"v":1200,"d":"1,200"},{"v":10810.800000000001,"d":"10,811"},null,{"$f":"VLOOKUP(B1544,'[1]2018.7 '!A:C,3,)","v":"Active"},{"$f":"VLOOKUP(B1544,'[1]2018.7 '!A:M,13,)","v":"Ambient"},{"$f":"VLOOKUP(B1544,'[1]2018.7 '!A:N,14,)","v":"No"}]
[1544,"UFP-50-E-65","56410484","UFP-50-E-65","021","93","BIOPROCESS MEMBRANES","290","Hollow Fiber Cartridges",{"v":5590,"d":"5,590"},{"v":50360.310000000005,"d":"50,360"},null,{"$f":"VLOOKUP(B1545,'[1]2018.7 '!A:C,3,)","v":"Active"},{"$f":"VLOOKUP(B1545,'[1]2018.7 '!A:M,13,)","v":"Ambient"},{"$f":"VLOOKUP(B1545,'[1]2018.7 '!A:N,14,)","v":"No"}]
[1545,"UFP-50-E-6A","56410261","UFP-50-E-6A","021","93","BIOPROCESS MEMBRANES","290","Hollow Fiber Cartridges",{"v":1650,"d":"1,650"},{"v":14864.85,"d":"14,865"},null,{"$f":"VLOOKUP(B1546,'[1]2018.7 '!A:C,3,)","v":"Active"},{"$f":"VLOOKUP(B1546,'[1]2018.7 '!A:M,13,)","v":"Ambient"},{"$f":"VLOOKUP(B1546,'[1]2018.7 '!A:N,14,)","v":"No"}]
[1546,"UFP-50-E-75","56410396","UFP-50-E-75","021","93","BIOPROCESS MEMBRANES","290","Hollow Fiber Cartridges",{"v":4700,"d":"4,700"},{"v":42342.3,"d":"42,342"},null,{"$f":"VLOOKUP(B1547,'[1]2018.7 '!A:C,3,)","v":"Active"},{"$f":"VLOOKUP(B1547,'[1]2018.7 '!A:M,13,)","v":"Ambient"},{"$f":"VLOOKUP(B1547,'[1]2018.7 '!A:N,14,)","v":"No"}]
[1547,"UFP-50-E-85","56410504","UFP-50-E-85","021","93","BIOPROCESS MEMBRANES","290","Hollow Fiber Cartridges",{"v":8200,"d":"8,200"},{"v":73873.8,"d":"73,874"},null,{"$f":"VLOOKUP(B1548,'[1]2018.7 '!A:C,3,)","v":"Active"},{"$f":"VLOOKUP(B1548,'[1]2018.7 '!A:M,13,)","v":"Ambient"},{"$f":"VLOOKUP(B1548,'[1]2018.7 '!A:N,14,)","v":"No"}]
[1548,"UFP-50-E-8SIP","29010709","UFP-50-E-8SIP","021","93","BIOPROCESS MEMBRANES","290","Hollow Fiber Cartridges",{"v":1900.0000000000002,"d":"1,900"},{"v":17117.100000000002,"d":"17,117"},null,{"$f":"VLOOKUP(B1549,'[1]2018.7 '!A:C,3,)","v":"Active"},{"$f":"VLOOKUP(B1549,'[1]2018.7 '!A:M,13,)","v":"Ambient"},{"$f":"VLOOKUP(B1549,'[1]2018.7 '!A:N,14,)","v":"Reviewing"}]
[1549,"UFP-50-E-9A","56410301","UFP-50-E-9A","021","93","BIOPROCESS MEMBRANES","290","Hollow Fiber Cartridges",{"v":2300,"d":"2,300"},{"v":20720.7,"d":"20,721"},null,{"$f":"VLOOKUP(B1550,'[1]2018.7 '!A:C,3,)","v":"Active"},{"$f":"VLOOKUP(B1550,'[1]2018.7 '!A:M,13,)","v":"Ambient"},{"$f":"VLOOKUP(B1550,'[1]2018.7 '!A:N,14,)","v":"No"}]
[1550,"UFP-50-E-H22LA","56410091","UFP-50-E-H22LA","021","93","BIOPROCESS MEMBRANES","290","Hollow Fiber Cartridges",295,{"v":2657.655,"d":"2,658"},null,{"$f":"VLOOKUP(B1551,'[1]2018.7 '!A:C,3,)","v":"Active"},{"$f":"VLOOKUP(B1551,'[1]2018.7 '!A:M,13,)","v":"Ambient"},{"$f":"VLOOKUP(B1551,'[1]2018.7 '!A:N,14,)","v":"No"}]
[1551,"UFP-50-E-H42LA","56410112","UFP-50-E-H42LA","021","93","BIOPROCESS MEMBRANES","290","Hollow Fiber Cartridges",295,{"v":2657.655,"d":"2,658"},null,{"$f":"VLOOKUP(B1552,'[1]2018.7 '!A:C,3,)","v":"Active"},{"$f":"VLOOKUP(B1552,'[1]2018.7 '!A:M,13,)","v":"Ambient"},{"$f":"VLOOKUP(B1552,'[1]2018.7 '!A:N,14,)","v":"Reviewing"}]
[1552,"UFP-50-E-MM01A","56410032","UFP-50-E-MM01A","021","93","BIOPROCESS MEMBRANES","290","Hollow Fiber Cartridges",200,{"v":1801.8000000000002,"d":"1,802"},null,{"$f":"VLOOKUP(B1553,'[1]2018.7 '!A:C,3,)","v":"Active"},{"$f":"VLOOKUP(B1553,'[1]2018.7 '!A:M,13,)","v":"Ambient"},{"$f":"VLOOKUP(B1553,'[1]2018.7 '!A:N,14,)","v":"No"}]
[1553,"UFP-50-E-MM06A","56410033","UFP-50-E-MM06A","021","93","BIOPROCESS MEMBRANES","290","Hollow Fiber Cartridges",{"v":969.9999999999999,"d":"970"},{"v":8738.73,"d":"8,739"},null,{"$f":"VLOOKUP(B1554,'[1]2018.7 '!A:C,3,)","v":"Active"},{"$f":"VLOOKUP(B1554,'[1]2018.7 '!A:M,13,)","v":"Ambient"},{"$f":"VLOOKUP(B1554,'[1]2018.7 '!A:N,14,)","v":"Reviewing"}]
[1554,"UFP-500-C-2U","11000548","UFP-500-C-2U","021","93","BIOPROCESS MEMBRANES","290","Hollow Fiber Cartridges",295,{"v":2657.655,"d":"2,658"},null,{"$f":"VLOOKUP(B1555,'[1]2018.7 '!A:C,3,)","v":"Active"},{"$f":"VLOOKUP(B1555,'[1]2018.7 '!A:M,13,)","v":"Ambient"},{"$f":"VLOOKUP(B1555,'[1]2018.7 '!A:N,14,)","v":"No"}]
[1555,"UFP-500-C-3M","11000571","UFP-500-C-3M","021","93","BIOPROCESS MEMBRANES","290","Hollow Fiber Cartridges",450,{"v":4054.05,"d":"4,054"},null,{"$f":"VLOOKUP(B1556,'[1]2018.7 '!A:C,3,)","v":"Active"},{"$f":"VLOOKUP(B1556,'[1]2018.7 '!A:M,13,)","v":"Ambient"},{"$f":"VLOOKUP(B1556,'[1]2018.7 '!A:N,14,)","v":"Reviewing"}]
[1556,"UFP-500-C-3MA","56410137","UFP-500-C-3MA","021","93","BIOPROCESS MEMBRANES","290","Hollow Fiber Cartridges",530,{"v":4774.77,"d":"4,775"},null,{"$f":"VLOOKUP(B1557,'[1]2018.7 '!A:C,3,)","v":"Active"},{"$f":"VLOOKUP(B1557,'[1]2018.7 '!A:M,13,)","v":"Ambient"},{"$f":"VLOOKUP(B1557,'[1]2018.7 '!A:N,14,)","v":"No"}]
[1557,"UFP-500-C-3X2MA","56410153","UFP-500-C-3X2MA","021","93","BIOPROCESS MEMBRANES","290","Hollow Fiber Cartridges",700,{"v":6306.3,"d":"6,306"},null,{"$f":"VLOOKUP(B1558,'[1]2018.7 '!A:C,3,)","v":"Active"},{"$f":"VLOOKUP(B1558,'[1]2018.7 '!A:M,13,)","v":"Ambient"},{"$f":"VLOOKUP(B1558,'[1]2018.7 '!A:N,14,)","v":"No"}]
[1558,"UFP-500-C-4A","56410201","UFP-500-C-4A","021","93","BIOPROCESS MEMBRANES","290","Hollow Fiber Cartridges",860,{"v":7747.740000000001,"d":"7,748"},null,{"$f":"VLOOKUP(B1559,'[1]2018.7 '!A:C,3,)","v":"Active"},{"$f":"VLOOKUP(B1559,'[1]2018.7 '!A:M,13,)","v":"Ambient"},{"$f":"VLOOKUP(B1559,'[1]2018.7 '!A:N,14,)","v":"No"}]
[1559,"UFP-500-C-4MA","56410176","UFP-500-C-4MA","021","93","BIOPROCESS MEMBRANES","290","Hollow Fiber Cartridges",860,{"v":7747.740000000001,"d":"7,748"},null,{"$f":"VLOOKUP(B1560,'[1]2018.7 '!A:C,3,)","v":"Active"},{"$f":"VLOOKUP(B1560,'[1]2018.7 '!A:M,13,)","v":"Ambient"},{"$f":"VLOOKUP(B1560,'[1]2018.7 '!A:N,14,)","v":"No"}]
[1560,"UFP-500-C-4X2M","11000572","UFP-500-C-4X2M","021","93","BIOPROCESS MEMBRANES","290","Hollow Fiber Cartridges",{"v":1100,"d":"1,100"},{"v":9909.9,"d":"9,910"},null,{"$f":"VLOOKUP(B1561,'[1]2018.7 '!A:C,3,)","v":"Active"},{"$f":"VLOOKUP(B1561,'[1]2018.7 '!A:M,13,)","v":"Ambient"},{"$f":"VLOOKUP(B1561,'[1]2018.7 '!A:N,14,)","v":"Reviewing"}]
[1561,"UFP-500-C-4X2MA","56410218","UFP-500-C-4X2MA","021","93","BIOPROCESS MEMBRANES","290","Hollow Fiber Cartridges",{"v":1100,"d":"1,100"},{"v":9909.9,"d":"9,910"},null,{"$f":"VLOOKUP(B1562,'[1]2018.7 '!A:C,3,)","v":"Active"},{"$f":"VLOOKUP(B1562,'[1]2018.7 '!A:M,13,)","v":"Ambient"},{"$f":"VLOOKUP(B1562,'[1]2018.7 '!A:N,14,)","v":"No"}]
[1562,"UFP-500-C-55","56410363","UFP-500-C-55","021","93","BIOPROCESS MEMBRANES","290","Hollow Fiber Cartridges",{"v":4175,"d":"4,175"},{"v":37612.575000000004,"d":"37,613"},null,{"$f":"VLOOKUP(B1563,'[1]2018.7 '!A:C,3,)","v":"Active"},{"$f":"VLOOKUP(B1563,'[1]2018.7 '!A:M,13,)","v":"Ambient"},{"$f":"VLOOKUP(B1563,'[1]2018.7 '!A:N,14,)","v":"No"}]
[1563,"UFP-500-C-55A","56410789","UFP-500-C-55A","021","93","BIOPROCESS MEMBRANES","290","Hollow Fiber Cartridges",{"v":4500,"d":"4,500"},{"v":40540.5,"d":"40,541"},null,{"$f":"VLOOKUP(B1564,'[1]2018.7 '!A:C,3,)","v":"Active"},{"$f":"VLOOKUP(B1564,'[1]2018.7 '!A:M,13,)","v":"Ambient"},{"$f":"VLOOKUP(B1564,'[1]2018.7 '!A:N,14,)","v":"No"}]
[1564,"UFP-500-C-5A","56410243","UFP-500-C-5A","021","93","BIOPROCESS MEMBRANES","290","Hollow Fiber Cartridges",{"v":1200,"d":"1,200"},{"v":10810.800000000001,"d":"10,811"},null,{"$f":"VLOOKUP(B1565,'[1]2018.7 '!A:C,3,)","v":"Active"},{"$f":"VLOOKUP(B1565,'[1]2018.7 '!A:M,13,)","v":"Ambient"},{"$f":"VLOOKUP(B1565,'[1]2018.7 '!A:N,14,)","v":"No"}]
[1565,"UFP-500-C-65","56410489","UFP-500-C-65","021","93","BIOPROCESS MEMBRANES","290","Hollow Fiber Cartridges",{"v":6700,"d":"6,700"},{"v":60360.3,"d":"60,360"},null,{"$f":"VLOOKUP(B1566,'[1]2018.7 '!A:C,3,)","v":"Active"},{"$f":"VLOOKUP(B1566,'[1]2018.7 '!A:M,13,)","v":"Ambient"},{"$f":"VLOOKUP(B1566,'[1]2018.7 '!A:N,14,)","v":"No"}]
[1566,"UFP-500-C-65MSM","11000501","UFP-500-C-65MSM","021","93","BIOPROCESS MEMBRANES","290","Hollow Fiber Cartridges",{"v":10100,"d":"10,100"},{"v":90990.90000000001,"d":"90,991"},null,{"$f":"VLOOKUP(B1567,'[1]2018.7 '!A:C,3,)","v":"Active"},{"$f":"VLOOKUP(B1567,'[1]2018.7 '!A:M,13,)","v":"Ambient"},{"$f":"VLOOKUP(B1567,'[1]2018.7 '!A:N,14,)","v":"No"}]
[1567,"UFP-500-C-6A","56410266","UFP-500-C-6A","021","93","BIOPROCESS MEMBRANES","290","Hollow Fiber Cartridges",{"v":1650,"d":"1,650"},{"v":14864.85,"d":"14,865"},null,{"$f":"VLOOKUP(B1568,'[1]2018.7 '!A:C,3,)","v":"Active"},{"$f":"VLOOKUP(B1568,'[1]2018.7 '!A:M,13,)","v":"Ambient"},{"$f":"VLOOKUP(B1568,'[1]2018.7 '!A:N,14,)","v":"No"}]
[1568,"UFP-500-C-75","56410406","UFP-500-C-75","021","93","BIOPROCESS MEMBRANES","290","Hollow Fiber Cartridges",{"v":5775,"d":"5,775"},{"v":52026.975,"d":"52,027"},null,{"$f":"VLOOKUP(B1569,'[1]2018.7 '!A:C,3,)","v":"Active"},{"$f":"VLOOKUP(B1569,'[1]2018.7 '!A:M,13,)","v":"Ambient"},{"$f":"VLOOKUP(B1569,'[1]2018.7 '!A:N,14,)","v":"No"}]
[1569,"UFP-500-C-75R","56410407","UFP-500-C-75R","021","93","BIOPROCESS MEMBRANES","290","Hollow Fiber Cartridges",{"v":5775,"d":"5,775"},{"v":52026.975,"d":"52,027"},null,{"$f":"VLOOKUP(B1570,'[1]2018.7 '!A:C,3,)","v":"Active"},{"$f":"VLOOKUP(B1570,'[1]2018.7 '!A:M,13,)","v":"Ambient"},{"$f":"VLOOKUP(B1570,'[1]2018.7 '!A:N,14,)","v":"No"}]
[1570,"UFP-500-C-85","56410508","UFP-500-C-85","021","93","BIOPROCESS MEMBRANES","290","Hollow Fiber Cartridges",{"v":9900,"d":"9,900"},{"v":89189.1,"d":"89,189"},null,{"$f":"VLOOKUP(B1571,'[1]2018.7 '!A:C,3,)","v":"Active"},{"$f":"VLOOKUP(B1571,'[1]2018.7 '!A:M,13,)","v":"Ambient"},{"$f":"VLOOKUP(B1571,'[1]2018.7 '!A:N,14,)","v":"No"}]
[1571,"UFP-500-C-8A","56410283","UFP-500-C-8A","021","93","BIOPROCESS MEMBRANES","290","Hollow Fiber Cartridges",{"v":1735,"d":"1,735"},{"v":15630.615,"d":"15,631"},null,{"$f":"VLOOKUP(B1572,'[1]2018.7 '!A:C,3,)","v":"Active"},{"$f":"VLOOKUP(B1572,'[1]2018.7 '!A:M,13,)","v":"Ambient"},{"$f":"VLOOKUP(B1572,'[1]2018.7 '!A:N,14,)","v":"No"}]
[1572,"UFP-500-C-9A","56410306","UFP-500-C-9A","021","93","BIOPROCESS MEMBRANES","290","Hollow Fiber Cartridges",{"v":2300,"d":"2,300"},{"v":20720.7,"d":"20,721"},null,{"$f":"VLOOKUP(B1573,'[1]2018.7 '!A:C,3,)","v":"Active"},{"$f":"VLOOKUP(B1573,'[1]2018.7 '!A:M,13,)","v":"Ambient"},{"$f":"VLOOKUP(B1573,'[1]2018.7 '!A:N,14,)","v":"No"}]
[1573,"UFP-500-C-H24LA","56410105","UFP-500-C-H24LA","021","93","BIOPROCESS MEMBRANES","290","Hollow Fiber Cartridges",295,{"v":2657.655,"d":"2,658"},null,{"$f":"VLOOKUP(B1574,'[1]2018.7 '!A:C,3,)","v":"Active"},{"$f":"VLOOKUP(B1574,'[1]2018.7 '!A:M,13,)","v":"Ambient"},{"$f":"VLOOKUP(B1574,'[1]2018.7 '!A:N,14,)","v":"No"}]
[1574,"UFP-500-C-H24U","11000542","UFP-500-C-H24U","021","93","BIOPROCESS MEMBRANES","290","Hollow Fiber Cartridges",275,{"v":2477.475,"d":"2,477"},null,{"$f":"VLOOKUP(B1575,'[1]2018.7 '!A:C,3,)","v":"Active"},{"$f":"VLOOKUP(B1575,'[1]2018.7 '!A:M,13,)","v":"Ambient"},{"$f":"VLOOKUP(B1575,'[1]2018.7 '!A:N,14,)","v":"No"}]
[1575,"UFP-500-C-H42LA","56410117","UFP-500-C-H42LA","021","93","BIOPROCESS MEMBRANES","290","Hollow Fiber Cartridges",295,{"v":2657.655,"d":"2,658"},null,{"$f":"VLOOKUP(B1576,'[1]2018.7 '!A:C,3,)","v":"Active"},{"$f":"VLOOKUP(B1576,'[1]2018.7 '!A:M,13,)","v":"Ambient"},{"$f":"VLOOKUP(B1576,'[1]2018.7 '!A:N,14,)","v":"No"}]
[1576,"UFP-500-C-MM01A","56410052","UFP-500-C-MM01A","021","93","BIOPROCESS MEMBRANES","290","Hollow Fiber Cartridges",200,{"v":1801.8000000000002,"d":"1,802"},null,{"$f":"VLOOKUP(B1577,'[1]2018.7 '!A:C,3,)","v":"Active"},{"$f":"VLOOKUP(B1577,'[1]2018.7 '!A:M,13,)","v":"Ambient"},{"$f":"VLOOKUP(B1577,'[1]2018.7 '!A:N,14,)","v":"No"}]
[1577,"UFP-500-C-MM06A","56410053","UFP-500-C-MM06A","021","93","BIOPROCESS MEMBRANES","290","Hollow Fiber Cartridges",{"v":969.9999999999999,"d":"970"},{"v":8738.73,"d":"8,739"},null,{"$f":"VLOOKUP(B1578,'[1]2018.7 '!A:C,3,)","v":"Active"},{"$f":"VLOOKUP(B1578,'[1]2018.7 '!A:M,13,)","v":"Ambient"},{"$f":"VLOOKUP(B1578,'[1]2018.7 '!A:N,14,)","v":"No"}]
[1578,"UFP-500-E-152M","56410511","UFP-500-E-152M","021","93","BIOPROCESS MEMBRANES","290","Hollow Fiber Cartridges",{"v":10750,"d":"10,750"},{"v":96846.75,"d":"96,847"},null,{"$f":"VLOOKUP(B1579,'[1]2018.7 '!A:C,3,)","v":"Active"},{"$f":"VLOOKUP(B1579,'[1]2018.7 '!A:M,13,)","v":"Ambient"},{"$f":"VLOOKUP(B1579,'[1]2018.7 '!A:N,14,)","v":"Reviewing"}]
[1579,"UFP-500-E-152SB","29010108","UFP-500-E-152SB","021","93","BIOPROCESS MEMBRANES","290","Hollow Fiber Cartridges",{"v":12500,"d":"12,500"},{"v":112612.5,"d":"112,613"},null,{"$f":"VLOOKUP(B1580,'[1]2018.7 '!A:C,3,)","v":"Active"},{"$f":"VLOOKUP(B1580,'[1]2018.7 '!A:M,13,)","v":"Ambient"},{"$f":"VLOOKUP(B1580,'[1]2018.7 '!A:N,14,)","v":"No"}]
[1580,"UFP-500-E-154M","56410514","UFP-500-E-154M","021","93","BIOPROCESS MEMBRANES","290","Hollow Fiber Cartridges",{"v":14500,"d":"14,500"},{"v":130630.5,"d":"130,631"},null,{"$f":"VLOOKUP(B1581,'[1]2018.7 '!A:C,3,)","v":"Active"},{"$f":"VLOOKUP(B1581,'[1]2018.7 '!A:M,13,)","v":"Ambient"},{"$f":"VLOOKUP(B1581,'[1]2018.7 '!A:N,14,)","v":"Reviewing"}]
[1581,"UFP-500-E-2U","11000549","UFP-500-E-2U","021","93","BIOPROCESS MEMBRANES","290","Hollow Fiber Cartridges",295,{"v":2657.655,"d":"2,658"},null,{"$f":"VLOOKUP(B1582,'[1]2018.7 '!A:C,3,)","v":"Active"},{"$f":"VLOOKUP(B1582,'[1]2018.7 '!A:M,13,)","v":"Ambient"},{"$f":"VLOOKUP(B1582,'[1]2018.7 '!A:N,14,)","v":"No"}]
[1582,"UFP-500-E-35","56410328","UFP-500-E-35","021","93","BIOPROCESS MEMBRANES","290","Hollow Fiber Cartridges",{"v":2350,"d":"2,350"},{"v":21171.15,"d":"21,171"},null,{"$f":"VLOOKUP(B1583,'[1]2018.7 '!A:C,3,)","v":"Active"},{"$f":"VLOOKUP(B1583,'[1]2018.7 '!A:M,13,)","v":"Ambient"},{"$f":"VLOOKUP(B1583,'[1]2018.7 '!A:N,14,)","v":"No"}]
[1583,"UFP-500-E-3MA","56410138","UFP-500-E-3MA","021","93","BIOPROCESS MEMBRANES","290","Hollow Fiber Cartridges",530,{"v":4774.77,"d":"4,775"},null,{"$f":"VLOOKUP(B1584,'[1]2018.7 '!A:C,3,)","v":"Active"},{"$f":"VLOOKUP(B1584,'[1]2018.7 '!A:M,13,)","v":"Ambient"},{"$f":"VLOOKUP(B1584,'[1]2018.7 '!A:N,14,)","v":"No"}]
[1584,"UFP-500-E-3X2MA","56410154","UFP-500-E-3X2MA","021","93","BIOPROCESS MEMBRANES","290","Hollow Fiber Cartridges",700,{"v":6306.3,"d":"6,306"},null,{"$f":"VLOOKUP(B1585,'[1]2018.7 '!A:C,3,)","v":"Active"},{"$f":"VLOOKUP(B1585,'[1]2018.7 '!A:M,13,)","v":"Ambient"},{"$f":"VLOOKUP(B1585,'[1]2018.7 '!A:N,14,)","v":"No"}]
[1585,"UFP-500-E-45","28991382","UFP-500-E-45","021","93","BIOPROCESS MEMBRANES","290","Hollow Fiber Cartridges",{"v":3990.0000000000005,"d":"3,990"},{"v":35945.91,"d":"35,946"},null,{"$f":"VLOOKUP(B1586,'[1]2018.7 '!A:C,3,)","v":"Active"},{"$f":"VLOOKUP(B1586,'[1]2018.7 '!A:M,13,)","v":"Ambient"},{"$f":"VLOOKUP(B1586,'[1]2018.7 '!A:N,14,)","v":"Reviewing"}]
[1586,"UFP-500-E-4A","56410202","UFP-500-E-4A","021","93","BIOPROCESS MEMBRANES","290","Hollow Fiber Cartridges",860,{"v":7747.740000000001,"d":"7,748"},null,{"$f":"VLOOKUP(B1587,'[1]2018.7 '!A:C,3,)","v":"Active"},{"$f":"VLOOKUP(B1587,'[1]2018.7 '!A:M,13,)","v":"Ambient"},{"$f":"VLOOKUP(B1587,'[1]2018.7 '!A:N,14,)","v":"Reviewing"}]
[1587,"UFP-500-E-4MA","56410177","UFP-500-E-4MA","021","93","BIOPROCESS MEMBRANES","290","Hollow Fiber Cartridges",860,{"v":7747.740000000001,"d":"7,748"},null,{"$f":"VLOOKUP(B1588,'[1]2018.7 '!A:C,3,)","v":"Active"},{"$f":"VLOOKUP(B1588,'[1]2018.7 '!A:M,13,)","v":"Ambient"},{"$f":"VLOOKUP(B1588,'[1]2018.7 '!A:N,14,)","v":"No"}]
[1588,"UFP-500-E-4X2MA","56410219","UFP-500-E-4X2MA","021","93","BIOPROCESS MEMBRANES","290","Hollow Fiber Cartridges",{"v":1100,"d":"1,100"},{"v":9909.9,"d":"9,910"},null,{"$f":"VLOOKUP(B1589,'[1]2018.7 '!A:C,3,)","v":"Active"},{"$f":"VLOOKUP(B1589,'[1]2018.7 '!A:M,13,)","v":"Ambient"},{"$f":"VLOOKUP(B1589,'[1]2018.7 '!A:N,14,)","v":"No"}]
[1589,"UFP-500-E-55","56410365","UFP-500-E-55","021","93","BIOPROCESS MEMBRANES","290","Hollow Fiber Cartridges",{"v":3400,"d":"3,400"},{"v":30630.600000000002,"d":"30,631"},null,{"$f":"VLOOKUP(B1590,'[1]2018.7 '!A:C,3,)","v":"Active"},{"$f":"VLOOKUP(B1590,'[1]2018.7 '!A:M,13,)","v":"Ambient"},{"$f":"VLOOKUP(B1590,'[1]2018.7 '!A:N,14,)","v":"No"}]
[1590,"UFP-500-E-55R","56410366","UFP-500-E-55R","021","93","BIOPROCESS MEMBRANES","290","Hollow Fiber Cartridges",{"v":3600,"d":"3,600"},{"v":32432.4,"d":"32,432"},null,{"$f":"VLOOKUP(B1591,'[1]2018.7 '!A:C,3,)","v":"Active"},{"$f":"VLOOKUP(B1591,'[1]2018.7 '!A:M,13,)","v":"Ambient"},{"$f":"VLOOKUP(B1591,'[1]2018.7 '!A:N,14,)","v":"No"}]
[1591,"UFP-500-E-55SMO","56410441","UFP-500-E-55SMO","021","93","BIOPROCESS MEMBRANES","290","Hollow Fiber Cartridges",{"v":5100,"d":"5,100"},{"v":45945.9,"d":"45,946"},null,{"$f":"VLOOKUP(B1592,'[1]2018.7 '!A:C,3,)","v":"Active"},{"$f":"VLOOKUP(B1592,'[1]2018.7 '!A:M,13,)","v":"Ambient"},{"$f":"VLOOKUP(B1592,'[1]2018.7 '!A:N,14,)","v":"Reviewing"}]
[1592,"UFP-500-E-55STM","56410427","UFP-500-E-55STM","021","93","BIOPROCESS MEMBRANES","290","Hollow Fiber Cartridges",{"v":5100,"d":"5,100"},{"v":45945.9,"d":"45,946"},null,{"$f":"VLOOKUP(B1593,'[1]2018.7 '!A:C,3,)","v":"Active"},{"$f":"VLOOKUP(B1593,'[1]2018.7 '!A:M,13,)","v":"Ambient"},{"$f":"VLOOKUP(B1593,'[1]2018.7 '!A:N,14,)","v":"No"}]
[1593,"UFP-500-E-5A","56410244","UFP-500-E-5A","021","93","BIOPROCESS MEMBRANES","290","Hollow Fiber Cartridges",{"v":1200,"d":"1,200"},{"v":10810.800000000001,"d":"10,811"},null,{"$f":"VLOOKUP(B1594,'[1]2018.7 '!A:C,3,)","v":"Active"},{"$f":"VLOOKUP(B1594,'[1]2018.7 '!A:M,13,)","v":"Ambient"},{"$f":"VLOOKUP(B1594,'[1]2018.7 '!A:N,14,)","v":"No"}]
[1594,"UFP-500-E-65","56410490","UFP-500-E-65","021","93","BIOPROCESS MEMBRANES","290","Hollow Fiber Cartridges",{"v":5590,"d":"5,590"},{"v":50360.310000000005,"d":"50,360"},null,{"$f":"VLOOKUP(B1595,'[1]2018.7 '!A:C,3,)","v":"Active"},{"$f":"VLOOKUP(B1595,'[1]2018.7 '!A:M,13,)","v":"Ambient"},{"$f":"VLOOKUP(B1595,'[1]2018.7 '!A:N,14,)","v":"No"}]
[1595,"UFP-500-E-65MSM","56410458","UFP-500-E-65MSM","021","93","BIOPROCESS MEMBRANES","290","Hollow Fiber Cartridges",{"v":8850,"d":"8,850"},{"v":79729.65000000001,"d":"79,730"},null,{"$f":"VLOOKUP(B1596,'[1]2018.7 '!A:C,3,)","v":"Active"},{"$f":"VLOOKUP(B1596,'[1]2018.7 '!A:M,13,)","v":"Ambient"},{"$f":"VLOOKUP(B1596,'[1]2018.7 '!A:N,14,)","v":"No"}]
[1596,"UFP-500-E-6A","56410267","UFP-500-E-6A","021","93","BIOPROCESS MEMBRANES","290","Hollow Fiber Cartridges",{"v":1650,"d":"1,650"},{"v":14864.85,"d":"14,865"},null,{"$f":"VLOOKUP(B1597,'[1]2018.7 '!A:C,3,)","v":"Active"},{"$f":"VLOOKUP(B1597,'[1]2018.7 '!A:M,13,)","v":"Ambient"},{"$f":"VLOOKUP(B1597,'[1]2018.7 '!A:N,14,)","v":"No"}]
[1597,"UFP-500-E-75","56410408","UFP-500-E-75","021","93","BIOPROCESS MEMBRANES","290","Hollow Fiber Cartridges",{"v":4700,"d":"4,700"},{"v":42342.3,"d":"42,342"},null,{"$f":"VLOOKUP(B1598,'[1]2018.7 '!A:C,3,)","v":"Active"},{"$f":"VLOOKUP(B1598,'[1]2018.7 '!A:M,13,)","v":"Ambient"},{"$f":"VLOOKUP(B1598,'[1]2018.7 '!A:N,14,)","v":"No"}]
[1598,"UFP-500-E-75R","56410409","UFP-500-E-75R","021","93","BIOPROCESS MEMBRANES","290","Hollow Fiber Cartridges",{"v":4700,"d":"4,700"},{"v":42342.3,"d":"42,342"},null,{"$f":"VLOOKUP(B1599,'[1]2018.7 '!A:C,3,)","v":"Active"},{"$f":"VLOOKUP(B1599,'[1]2018.7 '!A:M,13,)","v":"Ambient"},{"$f":"VLOOKUP(B1599,'[1]2018.7 '!A:N,14,)","v":"Reviewing"}]
[1599,"UFP-500-E-85","56410509","UFP-500-E-85","021","93","BIOPROCESS MEMBRANES","290","Hollow Fiber Cartridges",{"v":8200,"d":"8,200"},{"v":73873.8,"d":"73,874"},null,{"$f":"VLOOKUP(B1600,'[1]2018.7 '!A:C,3,)","v":"Active"},{"$f":"VLOOKUP(B1600,'[1]2018.7 '!A:M,13,)","v":"Ambient"},{"$f":"VLOOKUP(B1600,'[1]2018.7 '!A:N,14,)","v":"No"}]
[1600,"UFP-500-E-85MSM","56410466","UFP-500-E-85MSM","021","93","BIOPROCESS MEMBRANES","290","Hollow Fiber Cartridges",{"v":12500,"d":"12,500"},{"v":112612.5,"d":"112,613"},null,{"$f":"VLOOKUP(B1601,'[1]2018.7 '!A:C,3,)","v":"Active"},{"$f":"VLOOKUP(B1601,'[1]2018.7 '!A:M,13,)","v":"Ambient"},{"$f":"VLOOKUP(B1601,'[1]2018.7 '!A:N,14,)","v":"No"}]
[1601,"UFP-500-E-8A","56410284","UFP-500-E-8A","021","93","BIOPROCESS MEMBRANES","290","Hollow Fiber Cartridges",{"v":1735,"d":"1,735"},{"v":15630.615,"d":"15,631"},null,{"$f":"VLOOKUP(B1602,'[1]2018.7 '!A:C,3,)","v":"Active"},{"$f":"VLOOKUP(B1602,'[1]2018.7 '!A:M,13,)","v":"Ambient"},{"$f":"VLOOKUP(B1602,'[1]2018.7 '!A:N,14,)","v":"No"}]
[1602,"UFP-500-E-8SIP","29010712","UFP-500-E-8SIP","021","93","BIOPROCESS MEMBRANES","290","Hollow Fiber Cartridges",{"v":1900.0000000000002,"d":"1,900"},{"v":17117.100000000002,"d":"17,117"},null,{"$f":"VLOOKUP(B1603,'[1]2018.7 '!A:C,3,)","v":"Active"},{"$f":"VLOOKUP(B1603,'[1]2018.7 '!A:M,13,)","v":"Ambient"},{"$f":"VLOOKUP(B1603,'[1]2018.7 '!A:N,14,)","v":"Reviewing"}]
[1603,"UFP-500-E-9A","56410307","UFP-500-E-9A","021","93","BIOPROCESS MEMBRANES","290","Hollow Fiber Cartridges",{"v":2300,"d":"2,300"},{"v":20720.7,"d":"20,721"},null,{"$f":"VLOOKUP(B1604,'[1]2018.7 '!A:C,3,)","v":"Active"},{"$f":"VLOOKUP(B1604,'[1]2018.7 '!A:M,13,)","v":"Ambient"},{"$f":"VLOOKUP(B1604,'[1]2018.7 '!A:N,14,)","v":"No"}]
[1604,"UFP-500-E-H22LA","56410094","UFP-500-E-H22LA","021","93","BIOPROCESS MEMBRANES","290","Hollow Fiber Cartridges",{"$f":"K1605/9.009","v":295},{"v":2657.655,"d":"2,658"},null,{"$f":"VLOOKUP(B1605,'[1]2018.7 '!A:C,3,)","v":"Active"},{"$f":"VLOOKUP(B1605,'[1]2018.7 '!A:M,13,)","v":"Ambient"},{"$f":"VLOOKUP(B1605,'[1]2018.7 '!A:N,14,)","v":"No"}]
[1605,"UFP-500-E-H42LA","56410118","UFP-500-E-H42LA","021","93","BIOPROCESS MEMBRANES","290","Hollow Fiber Cartridges",295,{"v":2657.655,"d":"2,658"},null,{"$f":"VLOOKUP(B1606,'[1]2018.7 '!A:C,3,)","v":"Active"},{"$f":"VLOOKUP(B1606,'[1]2018.7 '!A:M,13,)","v":"Ambient"},{"$f":"VLOOKUP(B1606,'[1]2018.7 '!A:N,14,)","v":"No"}]
[1606,"UFP-500-E-MM01A","56410056","UFP-500-E-MM01A","021","93","BIOPROCESS MEMBRANES","290","Hollow Fiber Cartridges",200,{"v":1801.8000000000002,"d":"1,802"},null,{"$f":"VLOOKUP(B1607,'[1]2018.7 '!A:C,3,)","v":"Active"},{"$f":"VLOOKUP(B1607,'[1]2018.7 '!A:M,13,)","v":"Ambient"},{"$f":"VLOOKUP(B1607,'[1]2018.7 '!A:N,14,)","v":"No"}]
[1607,"UFP-500-E-MM06A","56410057","UFP-500-E-MM06A","021","93","BIOPROCESS MEMBRANES","290","Hollow Fiber Cartridges",{"v":969.9999999999999,"d":"970"},{"v":8738.73,"d":"8,739"},null,{"$f":"VLOOKUP(B1608,'[1]2018.7 '!A:C,3,)","v":"Active"},{"$f":"VLOOKUP(B1608,'[1]2018.7 '!A:M,13,)","v":"Ambient"},{"$f":"VLOOKUP(B1608,'[1]2018.7 '!A:N,14,)","v":"Reviewing"}]
[1608,"UFP-750-C-152M","29011049","UFP-750-C-152M","021","93","BIOPROCESS MEMBRANES","290","Hollow Fiber Cartridges",{"v":12500,"d":"12,500"},{"v":112612.5,"d":"112,613"},null,{"$f":"VLOOKUP(B1609,'[1]2018.7 '!A:C,3,)","v":"Active"},{"$f":"VLOOKUP(B1609,'[1]2018.7 '!A:M,13,)","v":"Ambient"},{"$f":"VLOOKUP(B1609,'[1]2018.7 '!A:N,14,)","v":"Reviewing"}]
[1609,"UFP-750-C-154M","29011050","UFP-750-C-154M","021","93","BIOPROCESS MEMBRANES","290","Hollow Fiber Cartridges",{"v":17100,"d":"17,100"},{"v":154053.9,"d":"154,054"},null,{"$f":"VLOOKUP(B1610,'[1]2018.7 '!A:C,3,)","v":"Active"},{"$f":"VLOOKUP(B1610,'[1]2018.7 '!A:M,13,)","v":"Ambient"},{"$f":"VLOOKUP(B1610,'[1]2018.7 '!A:N,14,)","v":"Reviewing"}]
[1610,"UFP-750-C-2U","29008269","UFP-750-C-2U","021","93","BIOPROCESS MEMBRANES","290","Hollow Fiber Cartridges",295,{"v":2657.655,"d":"2,658"},null,{"$f":"VLOOKUP(B1611,'[1]2018.7 '!A:C,3,)","v":"Active"},{"$f":"VLOOKUP(B1611,'[1]2018.7 '!A:M,13,)","v":"Ambient"},{"$f":"VLOOKUP(B1611,'[1]2018.7 '!A:N,14,)","v":"No"}]
[1611,"UFP-750-C-35","29008230","UFP-750-C-35","021","93","BIOPROCESS MEMBRANES","290","Hollow Fiber Cartridges",{"v":2700,"d":"2,700"},{"v":24324.3,"d":"24,324"},null,{"$f":"VLOOKUP(B1612,'[1]2018.7 '!A:C,3,)","v":"Active"},{"$f":"VLOOKUP(B1612,'[1]2018.7 '!A:M,13,)","v":"Ambient"},{"$f":"VLOOKUP(B1612,'[1]2018.7 '!A:N,14,)","v":"Reviewing"}]
[1612,"UFP-750-C-35A","29031599","UFP-750-C-35A","021","93","BIOPROCESS MEMBRANES","290","Hollow Fiber Cartridges",{"v":2900,"d":"2,900"},{"v":26126.100000000002,"d":"26,126"},null,{"$f":"VLOOKUP(B1613,'[1]2018.7 '!A:C,3,)","v":"Active"},{"$f":"VLOOKUP(B1613,'[1]2018.7 '!A:M,13,)","v":"Ambient"},{"$f":"VLOOKUP(B1613,'[1]2018.7 '!A:N,14,)","v":"Reviewing"}]
[1613,"UFP-750-C-35SMO","29031803","UFP-750-C-35SMO","021","93","BIOPROCESS MEMBRANES","290","Hollow Fiber Cartridges",{"v":4000,"d":"4,000"},{"v":36036,"d":"36,036"},null,{"$f":"VLOOKUP(B1614,'[1]2018.7 '!A:C,3,)","v":"Active"},{"$f":"VLOOKUP(B1614,'[1]2018.7 '!A:M,13,)","v":"Ambient"},{"$f":"VLOOKUP(B1614,'[1]2018.7 '!A:N,14,)","v":"Reviewing"}]
[1614,"UFP-750-C-35STM","29009856","UFP-750-C-35STM","021","93","BIOPROCESS MEMBRANES","290","Hollow Fiber Cartridges",{"v":4000,"d":"4,000"},{"v":36036,"d":"36,036"},null,{"$f":"VLOOKUP(B1615,'[1]2018.7 '!A:C,3,)","v":"Active"},{"$f":"VLOOKUP(B1615,'[1]2018.7 '!A:M,13,)","v":"Ambient"},{"$f":"VLOOKUP(B1615,'[1]2018.7 '!A:N,14,)","v":"Reviewing"}]
[1615,"UFP-750-C-3MA","29005791","UFP-750-C-3MA","021","93","BIOPROCESS MEMBRANES","290","Hollow Fiber Cartridges",530,{"v":4774.77,"d":"4,775"},null,{"$f":"VLOOKUP(B1616,'[1]2018.7 '!A:C,3,)","v":"Active"},{"$f":"VLOOKUP(B1616,'[1]2018.7 '!A:M,13,)","v":"Ambient"},{"$f":"VLOOKUP(B1616,'[1]2018.7 '!A:N,14,)","v":"No"}]
[1616,"UFP-750-C-3X2MA","29011051","UFP-750-C-3X2MA","021","93","BIOPROCESS MEMBRANES","290","Hollow Fiber Cartridges",700,{"v":6306.3,"d":"6,306"},null,{"$f":"VLOOKUP(B1617,'[1]2018.7 '!A:C,3,)","v":"Active"},{"$f":"VLOOKUP(B1617,'[1]2018.7 '!A:M,13,)","v":"Ambient"},{"$f":"VLOOKUP(B1617,'[1]2018.7 '!A:N,14,)","v":"No"}]
[1617,"UFP-750-C-45","29009857","UFP-750-C-45","021","93","BIOPROCESS MEMBRANES","290","Hollow Fiber Cartridges",{"v":4600,"d":"4,600"},{"v":41441.4,"d":"41,441"},null,{"$f":"VLOOKUP(B1618,'[1]2018.7 '!A:C,3,)","v":"Active"},{"$f":"VLOOKUP(B1618,'[1]2018.7 '!A:M,13,)","v":"Ambient"},{"$f":"VLOOKUP(B1618,'[1]2018.7 '!A:N,14,)","v":"No"}]
[1618,"UFP-750-C-45MSM","29009860","UFP-750-C-45MSM","021","93","BIOPROCESS MEMBRANES","290","Hollow Fiber Cartridges",{"v":6700,"d":"6,700"},{"v":60360.3,"d":"60,360"},null,{"$f":"VLOOKUP(B1619,'[1]2018.7 '!A:C,3,)","v":"Active"},{"$f":"VLOOKUP(B1619,'[1]2018.7 '!A:M,13,)","v":"Ambient"},{"$f":"VLOOKUP(B1619,'[1]2018.7 '!A:N,14,)","v":"Reviewing"}]
[1619,"UFP-750-C-4A","29005853","UFP-750-C-4A","021","93","BIOPROCESS MEMBRANES","290","Hollow Fiber Cartridges",860,{"v":7747.740000000001,"d":"7,748"},null,{"$f":"VLOOKUP(B1620,'[1]2018.7 '!A:C,3,)","v":"Active"},{"$f":"VLOOKUP(B1620,'[1]2018.7 '!A:M,13,)","v":"Ambient"},{"$f":"VLOOKUP(B1620,'[1]2018.7 '!A:N,14,)","v":"No"}]
[1620,"UFP-750-C-4MA","29008000","UFP-750-C-4MA","021","93","BIOPROCESS MEMBRANES","290","Hollow Fiber Cartridges",860,{"v":7747.740000000001,"d":"7,748"},null,{"$f":"VLOOKUP(B1621,'[1]2018.7 '!A:C,3,)","v":"Active"},{"$f":"VLOOKUP(B1621,'[1]2018.7 '!A:M,13,)","v":"Ambient"},{"$f":"VLOOKUP(B1621,'[1]2018.7 '!A:N,14,)","v":"No"}]
[1621,"UFP-750-C-4X2MA","29011052","UFP-750-C-4X2MA","021","93","BIOPROCESS MEMBRANES","290","Hollow Fiber Cartridges",{"v":1100,"d":"1,100"},{"v":9909.9,"d":"9,910"},null,{"$f":"VLOOKUP(B1622,'[1]2018.7 '!A:C,3,)","v":"Active"},{"$f":"VLOOKUP(B1622,'[1]2018.7 '!A:M,13,)","v":"Ambient"},{"$f":"VLOOKUP(B1622,'[1]2018.7 '!A:N,14,)","v":"No"}]
[1622,"UFP-750-C-55","29008239","UFP-750-C-55","021","93","BIOPROCESS MEMBRANES","290","Hollow Fiber Cartridges",{"v":4175,"d":"4,175"},{"v":37612.575000000004,"d":"37,613"},null,{"$f":"VLOOKUP(B1623,'[1]2018.7 '!A:C,3,)","v":"Active"},{"$f":"VLOOKUP(B1623,'[1]2018.7 '!A:M,13,)","v":"Ambient"},{"$f":"VLOOKUP(B1623,'[1]2018.7 '!A:N,14,)","v":"Reviewing"}]
[1623,"UFP-750-C-55A","29031600","UFP-750-C-55A","021","93","BIOPROCESS MEMBRANES","290","Hollow Fiber Cartridges",{"v":4500,"d":"4,500"},{"v":40540.5,"d":"40,541"},null,{"$f":"VLOOKUP(B1624,'[1]2018.7 '!A:C,3,)","v":"Active"},{"$f":"VLOOKUP(B1624,'[1]2018.7 '!A:M,13,)","v":"Ambient"},{"$f":"VLOOKUP(B1624,'[1]2018.7 '!A:N,14,)","v":"Reviewing"}]
[1624,"UFP-750-C-55SMO","29031811","UFP-750-C-55SMO","021","93","BIOPROCESS MEMBRANES","290","Hollow Fiber Cartridges",{"v":6200,"d":"6,200"},{"v":55855.8,"d":"55,856"},null,{"$f":"VLOOKUP(B1625,'[1]2018.7 '!A:C,3,)","v":"Active"},{"$f":"VLOOKUP(B1625,'[1]2018.7 '!A:M,13,)","v":"Ambient"},{"$f":"VLOOKUP(B1625,'[1]2018.7 '!A:N,14,)","v":"No"}]
[1625,"UFP-750-C-55STM","29011048","UFP-750-C-55STM","021","93","BIOPROCESS MEMBRANES","290","Hollow Fiber Cartridges",{"v":6200,"d":"6,200"},{"v":55855.8,"d":"55,856"},null,{"$f":"VLOOKUP(B1626,'[1]2018.7 '!A:C,3,)","v":"Active"},{"$f":"VLOOKUP(B1626,'[1]2018.7 '!A:M,13,)","v":"Ambient"},{"$f":"VLOOKUP(B1626,'[1]2018.7 '!A:N,14,)","v":"Reviewing"}]
[1626,"UFP-750-C-5A","29009825","UFP-750-C-5A","021","93","BIOPROCESS MEMBRANES","290","Hollow Fiber Cartridges",{"v":1200,"d":"1,200"},{"v":10810.800000000001,"d":"10,811"},null,{"$f":"VLOOKUP(B1627,'[1]2018.7 '!A:C,3,)","v":"Active"},{"$f":"VLOOKUP(B1627,'[1]2018.7 '!A:M,13,)","v":"Ambient"},{"$f":"VLOOKUP(B1627,'[1]2018.7 '!A:N,14,)","v":"No"}]
[1627,"UFP-750-C-65","29008250","UFP-750-C-65","021","93","BIOPROCESS MEMBRANES","290","Hollow Fiber Cartridges",{"v":6700,"d":"6,700"},{"v":60360.3,"d":"60,360"},null,{"$f":"VLOOKUP(B1628,'[1]2018.7 '!A:C,3,)","v":"Active"},{"$f":"VLOOKUP(B1628,'[1]2018.7 '!A:M,13,)","v":"Ambient"},{"$f":"VLOOKUP(B1628,'[1]2018.7 '!A:N,14,)","v":"No"}]
[1628,"UFP-750-C-65MSM","29008251","UFP-750-C-65MSM","021","93","BIOPROCESS MEMBRANES","290","Hollow Fiber Cartridges",{"v":10100,"d":"10,100"},{"v":90990.90000000001,"d":"90,991"},null,{"$f":"VLOOKUP(B1629,'[1]2018.7 '!A:C,3,)","v":"Active"},{"$f":"VLOOKUP(B1629,'[1]2018.7 '!A:M,13,)","v":"Ambient"},{"$f":"VLOOKUP(B1629,'[1]2018.7 '!A:N,14,)","v":"Reviewing"}]
[1629,"UFP-750-C-6A","29009826","UFP-750-C-6A","021","93","BIOPROCESS MEMBRANES","290","Hollow Fiber Cartridges",{"v":1650,"d":"1,650"},{"v":14864.85,"d":"14,865"},null,{"$f":"VLOOKUP(B1630,'[1]2018.7 '!A:C,3,)","v":"Active"},{"$f":"VLOOKUP(B1630,'[1]2018.7 '!A:M,13,)","v":"Ambient"},{"$f":"VLOOKUP(B1630,'[1]2018.7 '!A:N,14,)","v":"No"}]
[1630,"UFP-750-C-75","29008253","UFP-750-C-75","021","93","BIOPROCESS MEMBRANES","290","Hollow Fiber Cartridges",{"v":5775,"d":"5,775"},{"v":52026.975,"d":"52,027"},null,{"$f":"VLOOKUP(B1631,'[1]2018.7 '!A:C,3,)","v":"Active"},{"$f":"VLOOKUP(B1631,'[1]2018.7 '!A:M,13,)","v":"Ambient"},{"$f":"VLOOKUP(B1631,'[1]2018.7 '!A:N,14,)","v":"Reviewing"}]
[1631,"UFP-750-C-85","29008254","UFP-750-C-85","021","93","BIOPROCESS MEMBRANES","290","Hollow Fiber Cartridges",{"v":9900,"d":"9,900"},{"v":89189.1,"d":"89,189"},null,{"$f":"VLOOKUP(B1632,'[1]2018.7 '!A:C,3,)","v":"Active"},{"$f":"VLOOKUP(B1632,'[1]2018.7 '!A:M,13,)","v":"Ambient"},{"$f":"VLOOKUP(B1632,'[1]2018.7 '!A:N,14,)","v":"Reviewing"}]
[1632,"UFP-750-C-85MSM","29008255","UFP-750-C-85MSM, 750kD, 0.5mm, 11.6m2, 120cm, SIP","021","93","BIOPROCESS MEMBRANES","290","Hollow Fiber Cartridges",{"v":13858,"d":"13,858"},{"v":124846.72200000001,"d":"124,847"},null,{"$f":"VLOOKUP(B1633,'[1]2018.7 '!A:C,3,)","v":"Active"},{"$f":"VLOOKUP(B1633,'[1]2018.7 '!A:M,13,)","v":"Ambient"},{"$f":"VLOOKUP(B1633,'[1]2018.7 '!A:N,14,)","v":"Reviewing"}]
[1633,"UFP-750-C-8A","29009827","UFP-750-C-8A","021","93","BIOPROCESS MEMBRANES","290","Hollow Fiber Cartridges",{"v":1735,"d":"1,735"},{"v":15630.615,"d":"15,631"},null,{"$f":"VLOOKUP(B1634,'[1]2018.7 '!A:C,3,)","v":"Active"},{"$f":"VLOOKUP(B1634,'[1]2018.7 '!A:M,13,)","v":"Ambient"},{"$f":"VLOOKUP(B1634,'[1]2018.7 '!A:N,14,)","v":"Reviewing"}]
[1634,"UFP-750-C-9A","29014351","UFP-750-C-9A","021","93","BIOPROCESS MEMBRANES","290","Hollow Fiber Cartridges",{"v":2300,"d":"2,300"},{"v":20720.7,"d":"20,721"},null,{"$f":"VLOOKUP(B1635,'[1]2018.7 '!A:C,3,)","v":"Active"},{"$f":"VLOOKUP(B1635,'[1]2018.7 '!A:M,13,)","v":"Ambient"},{"$f":"VLOOKUP(B1635,'[1]2018.7 '!A:N,14,)","v":"No"}]
[1635,"UFP-750-C-H24LA","29014295","UFP-750-C-H24LA","021","93","BIOPROCESS MEMBRANES","290","Hollow Fiber Cartridges",295,{"v":2657.655,"d":"2,658"},null,{"$f":"VLOOKUP(B1636,'[1]2018.7 '!A:C,3,)","v":"Active"},{"$f":"VLOOKUP(B1636,'[1]2018.7 '!A:M,13,)","v":"Ambient"},{"$f":"VLOOKUP(B1636,'[1]2018.7 '!A:N,14,)","v":"No"}]
[1636,"UFP-750-C-H24U","29008270","UFP-750-C-H24U","021","93","BIOPROCESS MEMBRANES","290","Hollow Fiber Cartridges",275,{"v":2477.475,"d":"2,477"},null,{"$f":"VLOOKUP(B1637,'[1]2018.7 '!A:C,3,)","v":"Active"},{"$f":"VLOOKUP(B1637,'[1]2018.7 '!A:M,13,)","v":"Ambient"},{"$f":"VLOOKUP(B1637,'[1]2018.7 '!A:N,14,)","v":"No"}]
[1637,"UFP-750-C-H42LA","29014301","UFP-750-C-H42LA","021","93","BIOPROCESS MEMBRANES","290","Hollow Fiber Cartridges",295,{"v":2657.655,"d":"2,658"},null,{"$f":"VLOOKUP(B1638,'[1]2018.7 '!A:C,3,)","v":"Active"},{"$f":"VLOOKUP(B1638,'[1]2018.7 '!A:M,13,)","v":"Ambient"},{"$f":"VLOOKUP(B1638,'[1]2018.7 '!A:N,14,)","v":"No"}]
[1638,"UFP-750-C-MM01A","29014304","UFP-750-C-MM01A","021","93","BIOPROCESS MEMBRANES","290","Hollow Fiber Cartridges",200,{"v":1801.8000000000002,"d":"1,802"},null,{"$f":"VLOOKUP(B1639,'[1]2018.7 '!A:C,3,)","v":"Active"},{"$f":"VLOOKUP(B1639,'[1]2018.7 '!A:M,13,)","v":"Ambient"},{"$f":"VLOOKUP(B1639,'[1]2018.7 '!A:N,14,)","v":"No"}]
[1639,"UFP-750-C-MM06A","29014308","UFP-750-C-MM06A","021","93","BIOPROCESS MEMBRANES","290","Hollow Fiber Cartridges",{"v":969.9999999999999,"d":"970"},{"v":8738.73,"d":"8,739"},null,{"$f":"VLOOKUP(B1640,'[1]2018.7 '!A:C,3,)","v":"Active"},{"$f":"VLOOKUP(B1640,'[1]2018.7 '!A:M,13,)","v":"Ambient"},{"$f":"VLOOKUP(B1640,'[1]2018.7 '!A:N,14,)","v":"Reviewing"}]
[1640,"UFP-750-E-152SB","29010113","UFP-750-E-152SB","021","93","BIOPROCESS MEMBRANES","290","Hollow Fiber Cartridges",{"v":12500,"d":"12,500"},{"v":112612.5,"d":"112,613"},null,{"$f":"VLOOKUP(B1641,'[1]2018.7 '!A:C,3,)","v":"Active"},{"$f":"VLOOKUP(B1641,'[1]2018.7 '!A:M,13,)","v":"Ambient"},{"$f":"VLOOKUP(B1641,'[1]2018.7 '!A:N,14,)","v":"No"}]
[1641,"UFP-750-E-2U","11000550","UFP-750-E-2U","021","93","BIOPROCESS MEMBRANES","290","Hollow Fiber Cartridges",295,{"v":2657.655,"d":"2,658"},null,{"$f":"VLOOKUP(B1642,'[1]2018.7 '!A:C,3,)","v":"Active"},{"$f":"VLOOKUP(B1642,'[1]2018.7 '!A:M,13,)","v":"Ambient"},{"$f":"VLOOKUP(B1642,'[1]2018.7 '!A:N,14,)","v":"No"}]
[1642,"UFP-750-E-35","56410329","UFP-750-E-35","021","93","BIOPROCESS MEMBRANES","290","Hollow Fiber Cartridges",{"v":2350,"d":"2,350"},{"v":21171.15,"d":"21,171"},null,{"$f":"VLOOKUP(B1643,'[1]2018.7 '!A:C,3,)","v":"Active"},{"$f":"VLOOKUP(B1643,'[1]2018.7 '!A:M,13,)","v":"Ambient"},{"$f":"VLOOKUP(B1643,'[1]2018.7 '!A:N,14,)","v":"No"}]
[1643,"UFP-750-E-3MA","56410139","UFP-750-E-3MA","021","93","BIOPROCESS MEMBRANES","290","Hollow Fiber Cartridges",530,{"v":4774.77,"d":"4,775"},null,{"$f":"VLOOKUP(B1644,'[1]2018.7 '!A:C,3,)","v":"Active"},{"$f":"VLOOKUP(B1644,'[1]2018.7 '!A:M,13,)","v":"Ambient"},{"$f":"VLOOKUP(B1644,'[1]2018.7 '!A:N,14,)","v":"No"}]
[1644,"UFP-750-E-3X2MA","56410155","UFP-750-E-3X2MA","021","93","BIOPROCESS MEMBRANES","290","Hollow Fiber Cartridges",700,{"v":6306.3,"d":"6,306"},null,{"$f":"VLOOKUP(B1645,'[1]2018.7 '!A:C,3,)","v":"Active"},{"$f":"VLOOKUP(B1645,'[1]2018.7 '!A:M,13,)","v":"Ambient"},{"$f":"VLOOKUP(B1645,'[1]2018.7 '!A:N,14,)","v":"No"}]
[1645,"UFP-750-E-45","56410917","UFP-750-E-45","021","93","BIOPROCESS MEMBRANES","290","Hollow Fiber Cartridges",{"v":3990.0000000000005,"d":"3,990"},{"v":35945.91,"d":"35,946"},null,{"$f":"VLOOKUP(B1646,'[1]2018.7 '!A:C,3,)","v":"Active"},{"$f":"VLOOKUP(B1646,'[1]2018.7 '!A:M,13,)","v":"Ambient"},{"$f":"VLOOKUP(B1646,'[1]2018.7 '!A:N,14,)","v":"Reviewing"}]
[1646,"UFP-750-E-4A","56410203","UFP-750-E-4A","021","93","BIOPROCESS MEMBRANES","290","Hollow Fiber Cartridges",860,{"v":7747.740000000001,"d":"7,748"},null,{"$f":"VLOOKUP(B1647,'[1]2018.7 '!A:C,3,)","v":"Active"},{"$f":"VLOOKUP(B1647,'[1]2018.7 '!A:M,13,)","v":"Ambient"},{"$f":"VLOOKUP(B1647,'[1]2018.7 '!A:N,14,)","v":"No"}]
[1647,"UFP-750-E-4MA","56410178","UFP-750-E-4MA","021","93","BIOPROCESS MEMBRANES","290","Hollow Fiber Cartridges",860,{"v":7747.740000000001,"d":"7,748"},null,{"$f":"VLOOKUP(B1648,'[1]2018.7 '!A:C,3,)","v":"Active"},{"$f":"VLOOKUP(B1648,'[1]2018.7 '!A:M,13,)","v":"Ambient"},{"$f":"VLOOKUP(B1648,'[1]2018.7 '!A:N,14,)","v":"No"}]
[1648,"UFP-750-E-4X2MA","56410220","UFP-750-E-4X2MA","021","93","BIOPROCESS MEMBRANES","290","Hollow Fiber Cartridges",{"v":1100,"d":"1,100"},{"v":9909.9,"d":"9,910"},null,{"$f":"VLOOKUP(B1649,'[1]2018.7 '!A:C,3,)","v":"Active"},{"$f":"VLOOKUP(B1649,'[1]2018.7 '!A:M,13,)","v":"Ambient"},{"$f":"VLOOKUP(B1649,'[1]2018.7 '!A:N,14,)","v":"No"}]
[1649,"UFP-750-E-55","56410367","UFP-750-E-55","021","93","BIOPROCESS MEMBRANES","290","Hollow Fiber Cartridges",{"v":3400,"d":"3,400"},{"v":30630.600000000002,"d":"30,631"},null,{"$f":"VLOOKUP(B1650,'[1]2018.7 '!A:C,3,)","v":"Active"},{"$f":"VLOOKUP(B1650,'[1]2018.7 '!A:M,13,)","v":"Ambient"},{"$f":"VLOOKUP(B1650,'[1]2018.7 '!A:N,14,)","v":"No"}]
[1650,"UFP-750-E-55A","11000522","UFP-750-E-55A","021","93","BIOPROCESS MEMBRANES","290","Hollow Fiber Cartridges",{"v":3725,"d":"3,725"},{"v":33558.525,"d":"33,559"},null,{"$f":"VLOOKUP(B1651,'[1]2018.7 '!A:C,3,)","v":"Active"},{"$f":"VLOOKUP(B1651,'[1]2018.7 '!A:M,13,)","v":"Ambient"},{"$f":"VLOOKUP(B1651,'[1]2018.7 '!A:N,14,)","v":"Reviewing"}]
[1651,"UFP-750-E-55SMO","28978282","UFP-750-E-55SMO","021","93","BIOPROCESS MEMBRANES","290","Hollow Fiber Cartridges",{"v":5100,"d":"5,100"},{"v":45945.9,"d":"45,946"},null,{"$f":"VLOOKUP(B1652,'[1]2018.7 '!A:C,3,)","v":"Active"},{"$f":"VLOOKUP(B1652,'[1]2018.7 '!A:M,13,)","v":"Ambient"},{"$f":"VLOOKUP(B1652,'[1]2018.7 '!A:N,14,)","v":"No"}]
[1652,"UFP-750-E-5A","56410245","UFP-750-E-5A","021","93","BIOPROCESS MEMBRANES","290","Hollow Fiber Cartridges",{"v":1200,"d":"1,200"},{"v":10810.800000000001,"d":"10,811"},null,{"$f":"VLOOKUP(B1653,'[1]2018.7 '!A:C,3,)","v":"Active"},{"$f":"VLOOKUP(B1653,'[1]2018.7 '!A:M,13,)","v":"Ambient"},{"$f":"VLOOKUP(B1653,'[1]2018.7 '!A:N,14,)","v":"No"}]
[1653,"UFP-750-E-65","56410491","UFP-750-E-65","021","93","BIOPROCESS MEMBRANES","290","Hollow Fiber Cartridges",{"v":5590,"d":"5,590"},{"v":50360.310000000005,"d":"50,360"},null,{"$f":"VLOOKUP(B1654,'[1]2018.7 '!A:C,3,)","v":"Active"},{"$f":"VLOOKUP(B1654,'[1]2018.7 '!A:M,13,)","v":"Ambient"},{"$f":"VLOOKUP(B1654,'[1]2018.7 '!A:N,14,)","v":"No"}]
[1654,"UFP-750-E-65MSM","29018975","UFP-750-E-65MSM","021","93","BIOPROCESS MEMBRANES","290","Hollow Fiber Cartridges",{"v":8850,"d":"8,850"},{"v":79729.65000000001,"d":"79,730"},null,{"$f":"VLOOKUP(B1655,'[1]2018.7 '!A:C,3,)","v":"Active"},{"$f":"VLOOKUP(B1655,'[1]2018.7 '!A:M,13,)","v":"Ambient"},{"$f":"VLOOKUP(B1655,'[1]2018.7 '!A:N,14,)","v":"No"}]
[1655,"UFP-750-E-6A","56410268","UFP-750-E-6A","021","93","BIOPROCESS MEMBRANES","290","Hollow Fiber Cartridges",{"v":1650,"d":"1,650"},{"v":14864.85,"d":"14,865"},null,{"$f":"VLOOKUP(B1656,'[1]2018.7 '!A:C,3,)","v":"Active"},{"$f":"VLOOKUP(B1656,'[1]2018.7 '!A:M,13,)","v":"Ambient"},{"$f":"VLOOKUP(B1656,'[1]2018.7 '!A:N,14,)","v":"No"}]
[1656,"UFP-750-E-75","56410410","UFP-750-E-75","021","93","BIOPROCESS MEMBRANES","290","Hollow Fiber Cartridges",{"v":4700,"d":"4,700"},{"v":42342.3,"d":"42,342"},null,{"$f":"VLOOKUP(B1657,'[1]2018.7 '!A:C,3,)","v":"Active"},{"$f":"VLOOKUP(B1657,'[1]2018.7 '!A:M,13,)","v":"Ambient"},{"$f":"VLOOKUP(B1657,'[1]2018.7 '!A:N,14,)","v":"Reviewing"}]
[1657,"UFP-750-E-85","56410510","UFP-750-E-85","021","93","BIOPROCESS MEMBRANES","290","Hollow Fiber Cartridges",{"v":8200,"d":"8,200"},{"v":73873.8,"d":"73,874"},null,{"$f":"VLOOKUP(B1658,'[1]2018.7 '!A:C,3,)","v":"Active"},{"$f":"VLOOKUP(B1658,'[1]2018.7 '!A:M,13,)","v":"Ambient"},{"$f":"VLOOKUP(B1658,'[1]2018.7 '!A:N,14,)","v":"No"}]
[1658,"UFP-750-E-8A","56410285","UFP-750-E-8A","021","93","BIOPROCESS MEMBRANES","290","Hollow Fiber Cartridges",{"v":1735,"d":"1,735"},{"v":15630.615,"d":"15,631"},null,{"$f":"VLOOKUP(B1659,'[1]2018.7 '!A:C,3,)","v":"Active"},{"$f":"VLOOKUP(B1659,'[1]2018.7 '!A:M,13,)","v":"Ambient"},{"$f":"VLOOKUP(B1659,'[1]2018.7 '!A:N,14,)","v":"No"}]
[1659,"UFP-750-E-8SIP","29010713","UFP-750-E-8SIP","021","93","BIOPROCESS MEMBRANES","290","Hollow Fiber Cartridges",{"v":1900.0000000000002,"d":"1,900"},{"v":17117.100000000002,"d":"17,117"},null,{"$f":"VLOOKUP(B1660,'[1]2018.7 '!A:C,3,)","v":"Active"},{"$f":"VLOOKUP(B1660,'[1]2018.7 '!A:M,13,)","v":"Ambient"},{"$f":"VLOOKUP(B1660,'[1]2018.7 '!A:N,14,)","v":"No"}]
[1660,"UFP-750-E-9A","56410308","UFP-750-E-9A","021","93","BIOPROCESS MEMBRANES","290","Hollow Fiber Cartridges",{"v":2300,"d":"2,300"},{"v":20720.7,"d":"20,721"},null,{"$f":"VLOOKUP(B1661,'[1]2018.7 '!A:C,3,)","v":"Active"},{"$f":"VLOOKUP(B1661,'[1]2018.7 '!A:M,13,)","v":"Ambient"},{"$f":"VLOOKUP(B1661,'[1]2018.7 '!A:N,14,)","v":"No"}]
[1661,"UFP-750-E-H22LA","56410095","UFP-750-E-H22LA","021","93","BIOPROCESS MEMBRANES","290","Hollow Fiber Cartridges",295,{"v":2657.655,"d":"2,658"},null,{"$f":"VLOOKUP(B1662,'[1]2018.7 '!A:C,3,)","v":"Active"},{"$f":"VLOOKUP(B1662,'[1]2018.7 '!A:M,13,)","v":"Ambient"},{"$f":"VLOOKUP(B1662,'[1]2018.7 '!A:N,14,)","v":"No"}]
[1662,"UFP-750-E-H42LA","56410119","UFP-750-E-H42LA","021","93","BIOPROCESS MEMBRANES","290","Hollow Fiber Cartridges",295,{"v":2657.655,"d":"2,658"},null,{"$f":"VLOOKUP(B1663,'[1]2018.7 '!A:C,3,)","v":"Active"},{"$f":"VLOOKUP(B1663,'[1]2018.7 '!A:M,13,)","v":"Ambient"},{"$f":"VLOOKUP(B1663,'[1]2018.7 '!A:N,14,)","v":"No"}]
[1663,"UFP-HTS-P-85","56410780","UF CARTRIDGE, 13 M2","021","93","BIOPROCESS MEMBRANES","290","Hollow Fiber Cartridges",{"v":12259,"d":"12,259"},{"v":110441.331,"d":"110,441"},null,{"$f":"VLOOKUP(B1664,'[1]2018.7 '!A:C,3,)","v":"Active"},{"$f":"VLOOKUP(B1664,'[1]2018.7 '!A:M,13,)","v":"Ambient"},{"$f":"VLOOKUP(B1664,'[1]2018.7 '!A:N,14,)","v":"No"}]
[1664,"UFP750EMM01A","56410806","UFP-750-E-MM01A","021","93","BIOPROCESS MEMBRANES","290","Hollow Fiber Cartridges",200,{"v":1801.8000000000002,"d":"1,802"},null,{"$f":"VLOOKUP(B1665,'[1]2018.7 '!A:C,3,)","v":"Active"},{"$f":"VLOOKUP(B1665,'[1]2018.7 '!A:M,13,)","v":"Ambient"},{"$f":"VLOOKUP(B1665,'[1]2018.7 '!A:N,14,)","v":"No"}]
[1665,"UFP750EMM06A","56410807","UFP-750-E-MM06A","021","93","BIOPROCESS MEMBRANES","290","Hollow Fiber Cartridges",{"v":969.9999999999999,"d":"970"},{"v":8738.73,"d":"8,739"},null,{"$f":"VLOOKUP(B1666,'[1]2018.7 '!A:C,3,)","v":"Active"},{"$f":"VLOOKUP(B1666,'[1]2018.7 '!A:M,13,)","v":"Ambient"},{"$f":"VLOOKUP(B1666,'[1]2018.7 '!A:N,14,)","v":"Reviewing"}]
[1666,"UFEFL0005050ST","56411349","KVICKFLOW 5.0 FT2, 5KD, PES","021","93","BIOPROCESS MEMBRANES","291","Flat Sheet Cassettes",{"v":1824.9999999999998,"d":"1,825"},{"v":16441.425,"d":"16,441"}]
[1667,"UFEFL0005250ST","56411337","KVICKFLOW 25 FT2, 5 KD, PES","021","93","BIOPROCESS MEMBRANES","291","Flat Sheet Cassettes",{"v":9000,"d":"9,000"},{"v":81081,"d":"81,081"}]
[1668,"UFEFL0010050SE","56411350","KVICKFLOW 5.0 FT2, 10KD SELECT","021","93","BIOPROCESS MEMBRANES","291","Flat Sheet Cassettes",{"$f":"K1669/9.009","v":{"v":1824.9999999999998,"d":"1,825"}},{"v":16441.425,"d":"16,441"},null,{"$f":"VLOOKUP(B1669,'[1]2018.7 '!A:C,3,)","v":{"$error":"#N/A"}},{"$f":"VLOOKUP(B1669,'[1]2018.7 '!A:M,13,)","v":{"$error":"#N/A"}},{"$f":"VLOOKUP(B1669,'[1]2018.7 '!A:N,14,)","v":"No"}]
[1669,"UFEFL0010050ST","56411347","KVICKFLOW 5.0 FT2, 10KD, PES","021","93","BIOPROCESS MEMBRANES","291","Flat Sheet Cassettes",{"v":1824.9999999999998,"d":"1,825"},{"v":16441.425,"d":"16,441"}]
[1670,"UFEFL0010250SE","56411339","KVICK FLOW 25FT2, 10 KDS","021","93","BIOPROCESS MEMBRANES","291","Flat Sheet Cassettes",{"v":9000,"d":"9,000"},{"v":81081,"d":"81,081"}]
[1671,"UFEFL0010250ST","56411338","KVICKFLOW 25FT2, 10KD, PES","021","93","BIOPROCESS MEMBRANES","291","Flat Sheet Cassettes",{"v":9000,"d":"9,000"},{"v":81081,"d":"81,081"}]
[1672,"UFEFL0030050ST","56411351","KVICKFLOW 5.0 FT2, 30KD, PES","021","93","BIOPROCESS MEMBRANES","291","Flat Sheet Cassettes",{"v":1824.9999999999998,"d":"1,825"},{"v":16441.425,"d":"16,441"}]
[1673,"UFEFL0030250ST","56411340","KVICKFLOW 25 FT2, 30 KD, PES","021","93","BIOPROCESS MEMBRANES","291","Flat Sheet Cassettes",{"v":9000,"d":"9,000"},{"v":81081,"d":"81,081"},null,{"$f":"VLOOKUP(B1674,'[1]2018.7 '!A:C,3,)","v":"Phase Out"},{"$f":"VLOOKUP(B1674,'[1]2018.7 '!A:M,13,)","v":"Ambient"},{"$f":"VLOOKUP(B1674,'[1]2018.7 '!A:N,14,)","v":"No"}]
[1674,"UFEFL0050050ST","56411352","KVICKFLOW 5.0 FT2, 50KD, PES","021","93","BIOPROCESS MEMBRANES","291","Flat Sheet Cassettes",{"v":1824.9999999999998,"d":"1,825"},{"v":16441.425,"d":"16,441"},null,{"$f":"VLOOKUP(B1675,'[1]2018.7 '!A:C,3,)","v":"Phase Out"},{"$f":"VLOOKUP(B1675,'[1]2018.7 '!A:M,13,)","v":"Ambient"},{"$f":"VLOOKUP(B1675,'[1]2018.7 '!A:N,14,)","v":"reviewing"}]
[1675,"UFEFL0050250ST","56411341","KVICKFLOW 25 FT2, 50 KD, PES","021","93","BIOPROCESS MEMBRANES","291","Flat Sheet Cassettes",{"v":9000,"d":"9,000"},{"v":81081,"d":"81,081"}]
[1676,"UFEFL0100050ST","56411354","KVICKFLOW 5.0 FT2, 100 KD, PES","021","93","BIOPROCESS MEMBRANES","291","Flat Sheet Cassettes",{"v":1824.9999999999998,"d":"1,825"},{"v":16441.425,"d":"16,441"}]
[1677,"UFEFL0100250ST","56411343","KVICKFLOW 25 FT2, 100 KD, PES","021","93","BIOPROCESS MEMBRANES","291","Flat Sheet Cassettes",{"v":9000,"d":"9,000"},{"v":81081,"d":"81,081"}]
[1678,"UFELA0005001ST","56411202","KVICKLAB, 0.1 FT2, 5KD, PES","021","93","BIOPROCESS MEMBRANES","291","Flat Sheet Cassettes",315,{"v":2837.835,"d":"2,838"}]
[1679,"UFELA0005010ST","56411331","KVICK LAB, 1.2 FT2, 5 KD, PES","021","93","BIOPROCESS MEMBRANES","291","Flat Sheet Cassettes",710,{"v":6396.39,"d":"6,396"}]
[1680,"UFELA0010001SE","56411206","KVICKLAB, 0.1 FT2, 10KDS, PES","021","93","BIOPROCESS MEMBRANES","291","Flat Sheet Cassettes",315,{"v":2837.835,"d":"2,838"},null,{"$f":"VLOOKUP(B1681,'[1]2018.7 '!A:C,3,)","v":"Phase Out"},{"$f":"VLOOKUP(B1681,'[1]2018.7 '!A:M,13,)","v":"Ambient"},{"$f":"VLOOKUP(B1681,'[1]2018.7 '!A:N,14,)","v":"No"}]
[1681,"UFELA0010001ST","56411204","KVICKLAB, 0.1 FT2, 10KD, PES","021","93","BIOPROCESS MEMBRANES","291","Flat Sheet Cassettes",315,{"v":2837.835,"d":"2,838"}]
[1682,"UFELA0010010SE","56411326","KVICKLAB 1.2 FT2, 10KD SELECT","021","93","BIOPROCESS MEMBRANES","291","Flat Sheet Cassettes",710,{"v":6396.39,"d":"6,396"}]
[1683,"UFELA0010010ST","56411325","KVICKLAB 1.2 FT2, 10KD, PES","021","93","BIOPROCESS MEMBRANES","291","Flat Sheet Cassettes",710,{"v":6396.39,"d":"6,396"}]
[1684,"UFELA0030001ST","56411208","KVICKLAB, 0.1 FT2, 30 KD, PES","021","93","BIOPROCESS MEMBRANES","291","Flat Sheet Cassettes",315,{"v":2837.835,"d":"2,838"},null,{"$f":"VLOOKUP(B1685,'[1]2018.7 '!A:C,3,)","v":"Phase Out"},{"$f":"VLOOKUP(B1685,'[1]2018.7 '!A:M,13,)","v":"Ambient"},{"$f":"VLOOKUP(B1685,'[1]2018.7 '!A:N,14,)","v":"reviewing"}]
[1685,"UFELA0030010ST","56411327","KVICKLAB 1.2 FT2, 30KD, PES","021","93","BIOPROCESS MEMBRANES","291","Flat Sheet Cassettes",710,{"v":6396.39,"d":"6,396"},null,{"$f":"VLOOKUP(B1686,'[1]2018.7 '!A:C,3,)","v":"Phase Out"},{"$f":"VLOOKUP(B1686,'[1]2018.7 '!A:M,13,)","v":"Ambient"},{"$f":"VLOOKUP(B1686,'[1]2018.7 '!A:N,14,)","v":"reviewing"}]
[1686,"UFELA0050001ST","56411210","KVICKLAB, 0.1 FT2, 50KD, PES","021","93","BIOPROCESS MEMBRANES","291","Flat Sheet Cassettes",315,{"v":2837.835,"d":"2,838"}]
[1687,"UFELA0050010ST","56411328","KVICKLAB 1.2FT2, 50KD, PES","021","93","BIOPROCESS MEMBRANES","291","Flat Sheet Cassettes",710,{"v":6396.39,"d":"6,396"}]
[1688,"UFELA0100001ST","56411214","KVICKLAB, 0.1 FT2, 100KD, PES","021","93","BIOPROCESS MEMBRANES","291","Flat Sheet Cassettes",315,{"v":2837.835,"d":"2,838"}]
[1689,"UFELA0100010ST","56411329","KVICKLAB 1.2FT2, 100KD, PES","021","93","BIOPROCESS MEMBRANES","291","Flat Sheet Cassettes",710,{"v":6396.39,"d":"6,396"}]
[1690,"UFESC0005010ST","11000673","KVICK SCU, 1,2FT2, 5KD, PES","021","93","BIOPROCESS MEMBRANES","291","Flat Sheet Cassettes",{"v":1120,"d":"1,120"},{"v":10090.08,"d":"10,090"}]
[1691,"UFESC0010010SE","56411530","KVICK SCU, 1.2FT2, 10KDS, PES","021","93","BIOPROCESS MEMBRANES","291","Flat Sheet Cassettes",{"v":1120,"d":"1,120"},{"v":10090.08,"d":"10,090"}]
[1692,"UFESC0010010ST","56411531","KVICK SCU, 1.2FT2, 10KD, PES","021","93","BIOPROCESS MEMBRANES","291","Flat Sheet Cassettes",{"v":1120,"d":"1,120"},{"v":10090.08,"d":"10,090"}]
[1693,"UFESC0030010ST","56411539","KVICK SCU, 1.2FT2, 30KD, PES","021","93","BIOPROCESS MEMBRANES","291","Flat Sheet Cassettes",{"v":1120,"d":"1,120"},{"v":10090.08,"d":"10,090"}]
[1694,"UFESC0050010ST","56411533","KVICK SCU, 1.2FT2, 50KD, PES","021","93","BIOPROCESS MEMBRANES","291","Flat Sheet Cassettes",{"v":1120,"d":"1,120"},{"v":10090.08,"d":"10,090"}]
[1695,"UFESC0100010ST","56411535","KVICK SCU, 1.2FT2, 100KD, PES","021","93","BIOPROCESS MEMBRANES","291","Flat Sheet Cassettes",{"v":1120,"d":"1,120"},{"v":10090.08,"d":"10,090"}]
[1696,"UFEST0005050ST","11000602","KVICK START 50CM2, 5KD, PES","021","93","BIOPROCESS MEMBRANES","291","Flat Sheet Cassettes",230,{"v":2072.07,"d":"2,072"},null,{"$f":"VLOOKUP(B1697,'[1]2018.7 '!A:C,3,)","v":"Phase Out"},{"$f":"VLOOKUP(B1697,'[1]2018.7 '!A:M,13,)","v":"Ambient"},{"$f":"VLOOKUP(B1697,'[1]2018.7 '!A:N,14,)","v":"reviewing"}]
[1697,"UFEST0010050SE","11000604","KVICK START 50CM2, 10KDS, PES","021","93","BIOPROCESS MEMBRANES","291","Flat Sheet Cassettes",230,{"v":2072.07,"d":"2,072"}]
[1698,"UFEST0010050ST","11000603","KVICK START 50CM2, 10KD, PES","021","93","BIOPROCESS MEMBRANES","291","Flat Sheet Cassettes",230,{"v":2072.07,"d":"2,072"},null,{"$f":"VLOOKUP(B1699,'[1]2018.7 '!A:C,3,)","v":"Phase Out"},{"$f":"VLOOKUP(B1699,'[1]2018.7 '!A:M,13,)","v":"Ambient"},{"$f":"VLOOKUP(B1699,'[1]2018.7 '!A:N,14,)","v":"reviewing"}]
[1699,"UFEST0030050ST","11000605","KVICK START 50CM2, 30KD, PES","021","93","BIOPROCESS MEMBRANES","291","Flat Sheet Cassettes",230,{"v":2072.07,"d":"2,072"},null,{"$f":"VLOOKUP(B1700,'[1]2018.7 '!A:C,3,)","v":"Phase Out"},{"$f":"VLOOKUP(B1700,'[1]2018.7 '!A:M,13,)","v":"Ambient"},{"$f":"VLOOKUP(B1700,'[1]2018.7 '!A:N,14,)","v":"reviewing"}]
[1700,"UFEST0050050ST","11000606","KVICK START 50CM2, 50KD, PES","021","93","BIOPROCESS MEMBRANES","291","Flat Sheet Cassettes",230,{"v":2072.07,"d":"2,072"},null,{"$f":"VLOOKUP(B1701,'[1]2018.7 '!A:C,3,)","v":"Phase Out"},{"$f":"VLOOKUP(B1701,'[1]2018.7 '!A:M,13,)","v":"Ambient"},{"$f":"VLOOKUP(B1701,'[1]2018.7 '!A:N,14,)","v":"reviewing"}]
[1701,"UFEST0100050ST","11000608","KVICK START 50CM2, 100KD, PES","021","93","BIOPROCESS MEMBRANES","291","Flat Sheet Cassettes",230,{"v":2072.07,"d":"2,072"}]
[1702,"UFESTCPAK045ST","11000661","KVICK START, 45CM2, CPAK, PES","021","93","BIOPROCESS MEMBRANES","291","Flat Sheet Cassettes",{"v":1180,"d":"1,180"},{"v":10630.62,"d":"10,631"}]
[1703,"NBCFP1H85","56410911","NBCFP-1-H-85, MF CARTRIDGE","021","93","BIOPROCESS MEMBRANES","299","Industrial Hollow Fiber Cartridges",{"v":6777.75,"d":"6,778"},{"v":61060.74975,"d":"61,061"},null,{"$f":"VLOOKUP(B1704,'[1]2018.7 '!A:C,3,)","v":"Active"},{"$f":"VLOOKUP(B1704,'[1]2018.7 '!A:M,13,)","v":"Ambient"},{"$f":"VLOOKUP(B1704,'[1]2018.7 '!A:N,14,)","v":"No"}]
[1704,"NBUFP-10-E-85","56410958","NBUFP-10-E-85, UF CARTRIDGE","021","93","BIOPROCESS MEMBRANES","299","Industrial Hollow Fiber Cartridges",{"v":5992,"d":"5,992"},{"v":53981.928,"d":"53,982"},null,{"$f":"VLOOKUP(B1705,'[1]2018.7 '!A:C,3,)","v":"Active"},{"$f":"VLOOKUP(B1705,'[1]2018.7 '!A:M,13,)","v":"Ambient"},{"$f":"VLOOKUP(B1705,'[1]2018.7 '!A:N,14,)","v":"Reviewing"}]
[1705,"NBUFP-500-C-154M","11000502","500,000NMWC, 0.5MM, 28 M2","021","93","BIOPROCESS MEMBRANES","299","Industrial Hollow Fiber Cartridges",{"v":12374.25,"d":"12,374"},{"v":111479.61825,"d":"111,480"},null,{"$f":"VLOOKUP(B1706,'[1]2018.7 '!A:C,3,)","v":"Active"},{"$f":"VLOOKUP(B1706,'[1]2018.7 '!A:M,13,)","v":"Ambient"},{"$f":"VLOOKUP(B1706,'[1]2018.7 '!A:N,14,)","v":"Reviewing"}]
[1706,"NBUFP100E55R","56410826","UF CARTRIDGE, 2,1 M2","021","93","BIOPROCESS MEMBRANES","299","Industrial Hollow Fiber Cartridges",{"v":2642.85,"d":"2,643"},{"v":23809.43565,"d":"23,809"},null,{"$f":"VLOOKUP(B1707,'[1]2018.7 '!A:C,3,)","v":"Active"},{"$f":"VLOOKUP(B1707,'[1]2018.7 '!A:M,13,)","v":"Ambient"},{"$f":"VLOOKUP(B1707,'[1]2018.7 '!A:N,14,)","v":"Reviewing"}]
[1707,"NBUFP100H55","56410895","UF CARTRIDGE","021","93","BIOPROCESS MEMBRANES","299","Industrial Hollow Fiber Cartridges",{"v":2840.25,"d":"2,840"},{"v":25587.812250000003,"d":"25,588"},null,{"$f":"VLOOKUP(B1708,'[1]2018.7 '!A:C,3,)","v":"Active"},{"$f":"VLOOKUP(B1708,'[1]2018.7 '!A:M,13,)","v":"Ambient"},{"$f":"VLOOKUP(B1708,'[1]2018.7 '!A:N,14,)","v":"Reviewing"}]
[1708,"NBUFP500E55","56410829","UF CARTRIDGE, 2,1 M2","021","93","BIOPROCESS MEMBRANES","299","Industrial Hollow Fiber Cartridges",{"v":2642.85,"d":"2,643"},{"v":23809.43565,"d":"23,809"},null,{"$f":"VLOOKUP(B1709,'[1]2018.7 '!A:C,3,)","v":"Active"},{"$f":"VLOOKUP(B1709,'[1]2018.7 '!A:M,13,)","v":"Ambient"},{"$f":"VLOOKUP(B1709,'[1]2018.7 '!A:N,14,)","v":"Reviewing"}]
[1709,"NBUFP500E75R","56410836","UF CARTRIDGE, 3,7 M2","021","93","BIOPROCESS MEMBRANES","299","Industrial Hollow Fiber Cartridges",{"v":3704.4000000000005,"d":"3,704"},{"v":33372.939600000005,"d":"33,373"},null,{"$f":"VLOOKUP(B1710,'[1]2018.7 '!A:C,3,)","v":"Active"},{"$f":"VLOOKUP(B1710,'[1]2018.7 '!A:M,13,)","v":"Ambient"},{"$f":"VLOOKUP(B1710,'[1]2018.7 '!A:N,14,)","v":"Reviewing"}]
[1710,"NBUFP500E85","56410842","NBUFP-500-E-85, UF CARTRIDGE, 9 M2","021","93","BIOPROCESS MEMBRANES","299","Industrial Hollow Fiber Cartridges",{"v":5992,"d":"5,992"},{"v":53981.928,"d":"53,982"},null,{"$f":"VLOOKUP(B1711,'[1]2018.7 '!A:C,3,)","v":"Active"},{"$f":"VLOOKUP(B1711,'[1]2018.7 '!A:M,13,)","v":"Ambient"},{"$f":"VLOOKUP(B1711,'[1]2018.7 '!A:N,14,)","v":"No"}]
[1711,"NBUFP500H154M","56410912","UF CARTRIDGE","021","93","BIOPROCESS MEMBRANES","299","Industrial Hollow Fiber Cartridges",{"v":9796.5,"d":"9,797"},{"v":88256.6685,"d":"88,257"},null,{"$f":"VLOOKUP(B1712,'[1]2018.7 '!A:C,3,)","v":"Active"},{"$f":"VLOOKUP(B1712,'[1]2018.7 '!A:M,13,)","v":"Ambient"},{"$f":"VLOOKUP(B1712,'[1]2018.7 '!A:N,14,)","v":"No"}]
[1712,"NBUFP500H55","56410896","UF CARTRIDGE","021","93","BIOPROCESS MEMBRANES","299","Industrial Hollow Fiber Cartridges",{"v":2840.25,"d":"2,840"},{"v":25587.812250000003,"d":"25,588"},null,{"$f":"VLOOKUP(B1713,'[1]2018.7 '!A:C,3,)","v":"Active"},{"$f":"VLOOKUP(B1713,'[1]2018.7 '!A:M,13,)","v":"Ambient"},{"$f":"VLOOKUP(B1713,'[1]2018.7 '!A:N,14,)","v":"Reviewing"}]
[1713,"NBUFP500H85","56410909","NBUFP-500-H-85, UF CARTRIDGE","021","93","BIOPROCESS MEMBRANES","299","Industrial Hollow Fiber Cartridges",{"v":6777.75,"d":"6,778"},{"v":61060.74975,"d":"61,061"},null,{"$f":"VLOOKUP(B1714,'[1]2018.7 '!A:C,3,)","v":"Active"},{"$f":"VLOOKUP(B1714,'[1]2018.7 '!A:M,13,)","v":"Ambient"},{"$f":"VLOOKUP(B1714,'[1]2018.7 '!A:N,14,)","v":"No"}]
[1714,"NBUFP500H9A","56410891","UF CARTRIDGE","021","93","BIOPROCESS MEMBRANES","299","Industrial Hollow Fiber Cartridges",{"v":2373,"d":"2,373"},{"v":21378.357,"d":"21,378"},null,{"$f":"VLOOKUP(B1715,'[1]2018.7 '!A:C,3,)","v":"Active"},{"$f":"VLOOKUP(B1715,'[1]2018.7 '!A:M,13,)","v":"Ambient"},{"$f":"VLOOKUP(B1715,'[1]2018.7 '!A:N,14,)","v":"Reviewing"}]
[1715,"WNCFP-1-E-85","56411023","WINE FILTER, 0.1 MICRON, 1MM","021","93","BIOPROCESS MEMBRANES","299","Industrial Hollow Fiber Cartridges",{"v":5992,"d":"5,992"},{"v":53981.928,"d":"53,982"},null,{"$f":"VLOOKUP(B1716,'[1]2018.7 '!A:C,3,)","v":"Active"},{"$f":"VLOOKUP(B1716,'[1]2018.7 '!A:M,13,)","v":"Ambient"},{"$f":"VLOOKUP(B1716,'[1]2018.7 '!A:N,14,)","v":"No"}]
[1716,"WNCFP-2-E-154M","56411190","0.2 MICRON, 1MM, 19M2, WINE","021","93","BIOPROCESS MEMBRANES","299","Industrial Hollow Fiber Cartridges",{"v":8631,"d":"8,631"},{"v":77756.679,"d":"77,757"},null,{"$f":"VLOOKUP(B1717,'[1]2018.7 '!A:C,3,)","v":"Active"},{"$f":"VLOOKUP(B1717,'[1]2018.7 '!A:M,13,)","v":"Ambient"},{"$f":"VLOOKUP(B1717,'[1]2018.7 '!A:N,14,)","v":"Reviewing"}]
[1717,"WNCFP-4-E-152M","11000498","0.45MICRON, 1MM, 14M2, WINE","021","93","BIOPROCESS MEMBRANES","299","Industrial Hollow Fiber Cartridges",{"v":5997.6,"d":"5,998"},{"v":54032.37840000001,"d":"54,032"},null,{"$f":"VLOOKUP(B1718,'[1]2018.7 '!A:C,3,)","v":"Active"},{"$f":"VLOOKUP(B1718,'[1]2018.7 '!A:M,13,)","v":"Ambient"},{"$f":"VLOOKUP(B1718,'[1]2018.7 '!A:N,14,)","v":"Reviewing"}]
[1718,"WNCFP-4-E-154M","56411195","0.45 MICRON, 1MM, 16.2M2, WINE","021","93","BIOPROCESS MEMBRANES","299","Industrial Hollow Fiber Cartridges",{"v":8631,"d":"8,631"},{"v":77756.679,"d":"77,757"},null,{"$f":"VLOOKUP(B1719,'[1]2018.7 '!A:C,3,)","v":"Phase Out"},{"$f":"VLOOKUP(B1719,'[1]2018.7 '!A:M,13,)","v":"Ambient"},{"$f":"VLOOKUP(B1719,'[1]2018.7 '!A:N,14,)","v":"reviewing"}]
[1719,"WNCFP-4-E-85","56410972","WNCFP4E85, 0.45MICRON, 1MM DIA","021","93","BIOPROCESS MEMBRANES","299","Industrial Hollow Fiber Cartridges",{"v":5992,"d":"5,992"},{"v":53981.928,"d":"53,982"},null,{"$f":"VLOOKUP(B1720,'[1]2018.7 '!A:C,3,)","v":"Active"},{"$f":"VLOOKUP(B1720,'[1]2018.7 '!A:M,13,)","v":"Ambient"},{"$f":"VLOOKUP(B1720,'[1]2018.7 '!A:N,14,)","v":"Reviewing"}]
[1720,"WNCFP2E85","56410851","WINE MF CARTRIDGE","021","93","BIOPROCESS MEMBRANES","299","Industrial Hollow Fiber Cartridges",{"v":5992,"d":"5,992"},{"v":53981.928,"d":"53,982"},null,{"$f":"VLOOKUP(B1721,'[1]2018.7 '!A:C,3,)","v":"Active"},{"$f":"VLOOKUP(B1721,'[1]2018.7 '!A:M,13,)","v":"Ambient"},{"$f":"VLOOKUP(B1721,'[1]2018.7 '!A:N,14,)","v":"Reviewing"}]
[1721,"28939567","28939567","AKTA Pilot 2 in. capsule adapter","021","93","BIOPROCESS MEMBRANES","580","Normal Flow Filters",{"v":1215.03,"d":"1,215"},{"v":10946.20527,"d":"10,946"},null,{"$f":"VLOOKUP(B1722,'[1]2018.7 '!A:C,3,)","v":"Active"},{"$f":"VLOOKUP(B1722,'[1]2018.7 '!A:M,13,)","v":"Ambient"},{"$f":"VLOOKUP(B1722,'[1]2018.7 '!A:N,14,)","v":"Reviewing"}]
[1722,"CGF-A-01170E","28908023","ULTA GF 1 um Code 7, 10in Cart EPDM","021","93","BIOPROCESS MEMBRANES","580","Normal Flow Filters",{"v":100.96,"d":"101"},{"v":909.54864,"d":"910"},null,{"$f":"VLOOKUP(B1723,'[1]2018.7 '!A:C,3,)","v":"Active"},{"$f":"VLOOKUP(B1723,'[1]2018.7 '!A:M,13,)","v":"Ambient"},{"$f":"VLOOKUP(B1723,'[1]2018.7 '!A:N,14,)","v":"Reviewing"}]
[1723,"CGF-A-01170S","28908024","ULTA GF 1 um Code 7, 10in Cart SIL","021","93","BIOPROCESS MEMBRANES","580","Normal Flow Filters",{"v":113.32,"d":"113"},{"v":1020.8998799999999,"d":"1,021"},null,{"$f":"VLOOKUP(B1724,'[1]2018.7 '!A:C,3,)","v":"Active"},{"$f":"VLOOKUP(B1724,'[1]2018.7 '!A:M,13,)","v":"Ambient"},{"$f":"VLOOKUP(B1724,'[1]2018.7 '!A:N,14,)","v":"Reviewing"}]
[1724,"CGF-A-01270E","28908029","ULTA GF 1 um Code 7, 20in Cart EPDM","021","93","BIOPROCESS MEMBRANES","580","Normal Flow Filters",{"v":200.89,"d":"201"},{"v":1809.81801,"d":"1,810"},null,{"$f":"VLOOKUP(B1725,'[1]2018.7 '!A:C,3,)","v":"Active"},{"$f":"VLOOKUP(B1725,'[1]2018.7 '!A:M,13,)","v":"Ambient"},{"$f":"VLOOKUP(B1725,'[1]2018.7 '!A:N,14,)","v":"Reviewing"}]
[1725,"CGF-A-01270S","28908030","ULTA GF 1 um Code 7, 20in Cart SIL","021","93","BIOPROCESS MEMBRANES","580","Normal Flow Filters",{"v":200.89,"d":"201"},{"v":1809.81801,"d":"1,810"},null,{"$f":"VLOOKUP(B1726,'[1]2018.7 '!A:C,3,)","v":"Active"},{"$f":"VLOOKUP(B1726,'[1]2018.7 '!A:M,13,)","v":"Ambient"},{"$f":"VLOOKUP(B1726,'[1]2018.7 '!A:N,14,)","v":"Reviewing"}]
[1726,"CGF-A-01370E","28908035","ULTA GF 1 um Code 7, 30in Cart EPDM","021","93","BIOPROCESS MEMBRANES","580","Normal Flow Filters",{"v":309.06,"d":"309"},{"v":2784.32154,"d":"2,784"},null,{"$f":"VLOOKUP(B1727,'[1]2018.7 '!A:C,3,)","v":"Active"},{"$f":"VLOOKUP(B1727,'[1]2018.7 '!A:M,13,)","v":"Ambient"},{"$f":"VLOOKUP(B1727,'[1]2018.7 '!A:N,14,)","v":"Reviewing"}]
[1727,"CGF-A-01370S","28908036","ULTA GF 1 um Code 7, 30in Cart SIL","021","93","BIOPROCESS MEMBRANES","580","Normal Flow Filters",{"v":335.32,"d":"335"},{"v":3020.89788,"d":"3,021"},null,{"$f":"VLOOKUP(B1728,'[1]2018.7 '!A:C,3,)","v":"Active"},{"$f":"VLOOKUP(B1728,'[1]2018.7 '!A:M,13,)","v":"Ambient"},{"$f":"VLOOKUP(B1728,'[1]2018.7 '!A:N,14,)","v":"Reviewing"}]
[1728,"CGF-A-01H70E","28908017","ULTA GF 1 um Code 7, 5in Cart EPDM","021","93","BIOPROCESS MEMBRANES","580","Normal Flow Filters",{"v":51.51,"d":"52"},{"v":464.05359,"d":"464"},null,{"$f":"VLOOKUP(B1729,'[1]2018.7 '!A:C,3,)","v":"Active"},{"$f":"VLOOKUP(B1729,'[1]2018.7 '!A:M,13,)","v":"Ambient"},{"$f":"VLOOKUP(B1729,'[1]2018.7 '!A:N,14,)","v":"Reviewing"}]
[1729,"CGF-A-01H70S","28908018","ULTA GF 1 um Code 7, 5in Cart SIL","021","93","BIOPROCESS MEMBRANES","580","Normal Flow Filters",{"v":51.51,"d":"52"},{"v":464.05359,"d":"464"},null,{"$f":"VLOOKUP(B1730,'[1]2018.7 '!A:C,3,)","v":"Active"},{"$f":"VLOOKUP(B1730,'[1]2018.7 '!A:M,13,)","v":"Ambient"},{"$f":"VLOOKUP(B1730,'[1]2018.7 '!A:N,14,)","v":"Reviewing"}]
[1730,"CGF-A-02170E","28908047","ULTA GF 2 um Code 7, 10in Cart EPDM","021","93","BIOPROCESS MEMBRANES","580","Normal Flow Filters",{"v":97.87,"d":"98"},{"v":881.7108300000001,"d":"882"},null,{"$f":"VLOOKUP(B1731,'[1]2018.7 '!A:C,3,)","v":"Active"},{"$f":"VLOOKUP(B1731,'[1]2018.7 '!A:M,13,)","v":"Ambient"},{"$f":"VLOOKUP(B1731,'[1]2018.7 '!A:N,14,)","v":"Reviewing"}]
[1731,"CGF-A-02170S","28908048","ULTA GF 2 um Code 7, 10in Cart SIL","021","93","BIOPROCESS MEMBRANES","580","Normal Flow Filters",{"v":101.99,"d":"102"},{"v":918.82791,"d":"919"},null,{"$f":"VLOOKUP(B1732,'[1]2018.7 '!A:C,3,)","v":"Active"},{"$f":"VLOOKUP(B1732,'[1]2018.7 '!A:M,13,)","v":"Ambient"},{"$f":"VLOOKUP(B1732,'[1]2018.7 '!A:N,14,)","v":"Reviewing"}]
[1732,"CGF-A-02270E","28908053","ULTA GF 2 um Code 7, 20in Cart EPDM","021","93","BIOPROCESS MEMBRANES","580","Normal Flow Filters",{"$f":"K1733/9.009","v":{"v":195.74,"d":"196"}},{"v":1763.4216600000002,"d":"1,763"},null,{"$f":"VLOOKUP(B1733,'[1]2018.7 '!A:C,3,)","v":"Active"},{"$f":"VLOOKUP(B1733,'[1]2018.7 '!A:M,13,)","v":"Ambient"},{"$f":"VLOOKUP(B1733,'[1]2018.7 '!A:N,14,)","v":"Reviewing"}]
[1733,"CGF-A-02270S","28908054","ULTA GF 2 um Code 7, 20in Cart SIL","021","93","BIOPROCESS MEMBRANES","580","Normal Flow Filters",{"v":195.74,"d":"196"},{"v":1763.4216600000002,"d":"1,763"},null,{"$f":"VLOOKUP(B1734,'[1]2018.7 '!A:C,3,)","v":"Active"},{"$f":"VLOOKUP(B1734,'[1]2018.7 '!A:M,13,)","v":"Ambient"},{"$f":"VLOOKUP(B1734,'[1]2018.7 '!A:N,14,)","v":"Reviewing"}]
[1734,"CGF-A-02370E","28908059","ULTA GF 2 um Code 7, 30in Cart EPDM","021","93","BIOPROCESS MEMBRANES","580","Normal Flow Filters",{"v":293.91,"d":"294"},{"v":2647.8351900000002,"d":"2,648"},null,{"$f":"VLOOKUP(B1735,'[1]2018.7 '!A:C,3,)","v":"Active"},{"$f":"VLOOKUP(B1735,'[1]2018.7 '!A:M,13,)","v":"Ambient"},{"$f":"VLOOKUP(B1735,'[1]2018.7 '!A:N,14,)","v":"Reviewing"}]
[1735,"CGF-A-02370S","28908060","ULTA GF 2 um Code 7, 30in Cart SIL","021","93","BIOPROCESS MEMBRANES","580","Normal Flow Filters",{"v":293.91,"d":"294"},{"v":2647.8351900000002,"d":"2,648"},null,{"$f":"VLOOKUP(B1736,'[1]2018.7 '!A:C,3,)","v":"Active"},{"$f":"VLOOKUP(B1736,'[1]2018.7 '!A:M,13,)","v":"Ambient"},{"$f":"VLOOKUP(B1736,'[1]2018.7 '!A:N,14,)","v":"Reviewing"}]
[1736,"CGF-A-02H70E","28908041","ULTA GF 2 um Code 7, 5in Cart EPDM","021","93","BIOPROCESS MEMBRANES","580","Normal Flow Filters",{"v":51.51,"d":"52"},{"v":464.05359,"d":"464"},null,{"$f":"VLOOKUP(B1737,'[1]2018.7 '!A:C,3,)","v":"Active"},{"$f":"VLOOKUP(B1737,'[1]2018.7 '!A:M,13,)","v":"Ambient"},{"$f":"VLOOKUP(B1737,'[1]2018.7 '!A:N,14,)","v":"Reviewing"}]
[1737,"CGF-A-02H70S","28908042","ULTA GF 2 um Code 7, 5in Cart SIL","021","93","BIOPROCESS MEMBRANES","580","Normal Flow Filters",{"v":51.51,"d":"52"},{"v":464.05359,"d":"464"},null,{"$f":"VLOOKUP(B1738,'[1]2018.7 '!A:C,3,)","v":"Active"},{"$f":"VLOOKUP(B1738,'[1]2018.7 '!A:M,13,)","v":"Ambient"},{"$f":"VLOOKUP(B1738,'[1]2018.7 '!A:N,14,)","v":"Reviewing"}]
[1738,"CGF-A-05170E","28908071","ULTA GF 5 um Code 7, 10in Cart EPDM","021","93","BIOPROCESS MEMBRANES","580","Normal Flow Filters",{"v":97.87,"d":"98"},{"v":881.7108300000001,"d":"882"},null,{"$f":"VLOOKUP(B1739,'[1]2018.7 '!A:C,3,)","v":"Active"},{"$f":"VLOOKUP(B1739,'[1]2018.7 '!A:M,13,)","v":"Ambient"},{"$f":"VLOOKUP(B1739,'[1]2018.7 '!A:N,14,)","v":"Reviewing"}]
[1739,"CGF-A-05170S","28908072","ULTA GF 5 um Code 7, 10in Cart SIL","021","93","BIOPROCESS MEMBRANES","580","Normal Flow Filters",{"v":101.99,"d":"102"},{"v":918.82791,"d":"919"},null,{"$f":"VLOOKUP(B1740,'[1]2018.7 '!A:C,3,)","v":"Active"},{"$f":"VLOOKUP(B1740,'[1]2018.7 '!A:M,13,)","v":"Ambient"},{"$f":"VLOOKUP(B1740,'[1]2018.7 '!A:N,14,)","v":"Reviewing"}]
[1740,"CGF-A-05270E","28908077","ULTA GF 5 um Code 7, 20in Cart EPDM","021","93","BIOPROCESS MEMBRANES","580","Normal Flow Filters",{"v":195.74,"d":"196"},{"v":1763.4216600000002,"d":"1,763"},null,{"$f":"VLOOKUP(B1741,'[1]2018.7 '!A:C,3,)","v":"Active"},{"$f":"VLOOKUP(B1741,'[1]2018.7 '!A:M,13,)","v":"Ambient"},{"$f":"VLOOKUP(B1741,'[1]2018.7 '!A:N,14,)","v":"Reviewing"}]
[1741,"CGF-A-05270S","28908078","ULTA GF 5 um Code 7, 20in Cart SIL","021","93","BIOPROCESS MEMBRANES","580","Normal Flow Filters",{"v":195.74,"d":"196"},{"v":1763.4216600000002,"d":"1,763"},null,{"$f":"VLOOKUP(B1742,'[1]2018.7 '!A:C,3,)","v":"Active"},{"$f":"VLOOKUP(B1742,'[1]2018.7 '!A:M,13,)","v":"Ambient"},{"$f":"VLOOKUP(B1742,'[1]2018.7 '!A:N,14,)","v":"Reviewing"}]
[1742,"CGF-A-05370E","28908083","ULTA GF 5 um Code 7, 30in Cart EPDM","021","93","BIOPROCESS MEMBRANES","580","Normal Flow Filters",{"v":293.91,"d":"294"},{"v":2647.8351900000002,"d":"2,648"},null,{"$f":"VLOOKUP(B1743,'[1]2018.7 '!A:C,3,)","v":"Active"},{"$f":"VLOOKUP(B1743,'[1]2018.7 '!A:M,13,)","v":"Ambient"},{"$f":"VLOOKUP(B1743,'[1]2018.7 '!A:N,14,)","v":"Reviewing"}]
[1743,"CGF-A-05370S","28908084","ULTA GF 5 um Code 7, 30in Cart SIL","021","93","BIOPROCESS MEMBRANES","580","Normal Flow Filters",{"v":293.91,"d":"294"},{"v":2647.8351900000002,"d":"2,648"},null,{"$f":"VLOOKUP(B1744,'[1]2018.7 '!A:C,3,)","v":"Active"},{"$f":"VLOOKUP(B1744,'[1]2018.7 '!A:M,13,)","v":"Ambient"},{"$f":"VLOOKUP(B1744,'[1]2018.7 '!A:N,14,)","v":"Reviewing"}]
[1744,"CGF-A-05H70E","28908065","ULTA GF 5 um Code 7, 5in Cart EPDM","021","93","BIOPROCESS MEMBRANES","580","Normal Flow Filters",{"v":51.51,"d":"52"},{"v":464.05359,"d":"464"},null,{"$f":"VLOOKUP(B1745,'[1]2018.7 '!A:C,3,)","v":"Active"},{"$f":"VLOOKUP(B1745,'[1]2018.7 '!A:M,13,)","v":"Ambient"},{"$f":"VLOOKUP(B1745,'[1]2018.7 '!A:N,14,)","v":"Reviewing"}]
[1745,"CGF-A-05H70S","28908066","ULTA GF 5 um Code 7, 5in Cart SIL","021","93","BIOPROCESS MEMBRANES","580","Normal Flow Filters",{"v":51.51,"d":"52"},{"v":464.05359,"d":"464"},null,{"$f":"VLOOKUP(B1746,'[1]2018.7 '!A:C,3,)","v":"Active"},{"$f":"VLOOKUP(B1746,'[1]2018.7 '!A:M,13,)","v":"Ambient"},{"$f":"VLOOKUP(B1746,'[1]2018.7 '!A:N,14,)","v":"Reviewing"}]
[1746,"CGF-A-07170E","28908095","ULTA GF 7 um Code 7, 10in Cart EPDM","021","93","BIOPROCESS MEMBRANES","580","Normal Flow Filters",{"v":97.87,"d":"98"},{"v":881.7108300000001,"d":"882"},null,{"$f":"VLOOKUP(B1747,'[1]2018.7 '!A:C,3,)","v":"Active"},{"$f":"VLOOKUP(B1747,'[1]2018.7 '!A:M,13,)","v":"Ambient"},{"$f":"VLOOKUP(B1747,'[1]2018.7 '!A:N,14,)","v":"Reviewing"}]
[1747,"CGF-A-07170S","28908096","ULTA GF 7 um Code 7, 10in Cart SIL","021","93","BIOPROCESS MEMBRANES","580","Normal Flow Filters",{"v":97.87,"d":"98"},{"v":881.7108300000001,"d":"882"},null,{"$f":"VLOOKUP(B1748,'[1]2018.7 '!A:C,3,)","v":"Active"},{"$f":"VLOOKUP(B1748,'[1]2018.7 '!A:M,13,)","v":"Ambient"},{"$f":"VLOOKUP(B1748,'[1]2018.7 '!A:N,14,)","v":"Reviewing"}]
[1748,"CGF-A-07270E","28908101","ULTA GF 7 um Code 7, 20in Cart EPDM","021","93","BIOPROCESS MEMBRANES","580","Normal Flow Filters",{"v":195.74,"d":"196"},{"v":1763.4216600000002,"d":"1,763"},null,{"$f":"VLOOKUP(B1749,'[1]2018.7 '!A:C,3,)","v":"Active"},{"$f":"VLOOKUP(B1749,'[1]2018.7 '!A:M,13,)","v":"Ambient"},{"$f":"VLOOKUP(B1749,'[1]2018.7 '!A:N,14,)","v":"Reviewing"}]
[1749,"CGF-A-07270S","28908102","ULTA GF 7 um Code 7, 20in Cart SIL","021","93","BIOPROCESS MEMBRANES","580","Normal Flow Filters",{"v":195.74,"d":"196"},{"v":1763.4216600000002,"d":"1,763"},null,{"$f":"VLOOKUP(B1750,'[1]2018.7 '!A:C,3,)","v":"Active"},{"$f":"VLOOKUP(B1750,'[1]2018.7 '!A:M,13,)","v":"Ambient"},{"$f":"VLOOKUP(B1750,'[1]2018.7 '!A:N,14,)","v":"Reviewing"}]
[1750,"CGF-A-07370E","28908107","ULTA GF 7 um Code 7, 30in Cart EPDM","021","93","BIOPROCESS MEMBRANES","580","Normal Flow Filters",{"v":293.91,"d":"294"},{"v":2647.8351900000002,"d":"2,648"},null,{"$f":"VLOOKUP(B1751,'[1]2018.7 '!A:C,3,)","v":"Active"},{"$f":"VLOOKUP(B1751,'[1]2018.7 '!A:M,13,)","v":"Ambient"},{"$f":"VLOOKUP(B1751,'[1]2018.7 '!A:N,14,)","v":"Reviewing"}]
[1751,"CGF-A-07370S","28908108","ULTA GF 7 um Code 7, 30in Cart SIL","021","93","BIOPROCESS MEMBRANES","580","Normal Flow Filters",{"v":293.91,"d":"294"},{"v":2647.8351900000002,"d":"2,648"},null,{"$f":"VLOOKUP(B1752,'[1]2018.7 '!A:C,3,)","v":"Active"},{"$f":"VLOOKUP(B1752,'[1]2018.7 '!A:M,13,)","v":"Ambient"},{"$f":"VLOOKUP(B1752,'[1]2018.7 '!A:N,14,)","v":"Reviewing"}]
[1752,"CGF-A-07H70E","28908089","ULTA GF 7 um Code 7, 5in Cart EPDM","021","93","BIOPROCESS MEMBRANES","580","Normal Flow Filters",{"v":51.51,"d":"52"},{"v":464.05359,"d":"464"},null,{"$f":"VLOOKUP(B1753,'[1]2018.7 '!A:C,3,)","v":"Active"},{"$f":"VLOOKUP(B1753,'[1]2018.7 '!A:M,13,)","v":"Ambient"},{"$f":"VLOOKUP(B1753,'[1]2018.7 '!A:N,14,)","v":"Reviewing"}]
[1753,"CGF-A-07H70S","28908090","ULTA GF 7 um Code 7, 5 Cart SIL","021","93","BIOPROCESS MEMBRANES","580","Normal Flow Filters",{"v":51.51,"d":"52"},{"v":464.05359,"d":"464"},null,{"$f":"VLOOKUP(B1754,'[1]2018.7 '!A:C,3,)","v":"Active"},{"$f":"VLOOKUP(B1754,'[1]2018.7 '!A:M,13,)","v":"Ambient"},{"$f":"VLOOKUP(B1754,'[1]2018.7 '!A:N,14,)","v":"Reviewing"}]
[1754,"CGF-A-10170E","28908119","ULTA GF 10 um Code 7, 10in Cart EPDM","021","93","BIOPROCESS MEMBRANES","580","Normal Flow Filters",{"v":97.87,"d":"98"},{"v":881.7108300000001,"d":"882"},null,{"$f":"VLOOKUP(B1755,'[1]2018.7 '!A:C,3,)","v":"Active"},{"$f":"VLOOKUP(B1755,'[1]2018.7 '!A:M,13,)","v":"Ambient"},{"$f":"VLOOKUP(B1755,'[1]2018.7 '!A:N,14,)","v":"No"}]
[1755,"CGF-A-10170S","28908120","ULTA GF 10 um Code 7, 10in Cart SIL","021","93","BIOPROCESS MEMBRANES","580","Normal Flow Filters",{"v":101.99,"d":"102"},{"v":918.82791,"d":"919"},null,{"$f":"VLOOKUP(B1756,'[1]2018.7 '!A:C,3,)","v":"Active"},{"$f":"VLOOKUP(B1756,'[1]2018.7 '!A:M,13,)","v":"Ambient"},{"$f":"VLOOKUP(B1756,'[1]2018.7 '!A:N,14,)","v":"Reviewing"}]
[1756,"CGF-A-10270E","28908125","ULTA GF 10 um Code 7, 20in Cart EPDM","021","93","BIOPROCESS MEMBRANES","580","Normal Flow Filters",{"v":195.74,"d":"196"},{"v":1763.4216600000002,"d":"1,763"},null,{"$f":"VLOOKUP(B1757,'[1]2018.7 '!A:C,3,)","v":"Active"},{"$f":"VLOOKUP(B1757,'[1]2018.7 '!A:M,13,)","v":"Ambient"},{"$f":"VLOOKUP(B1757,'[1]2018.7 '!A:N,14,)","v":"Reviewing"}]
[1757,"CGF-A-10270S","28908126","ULTA GF 10 um Code 7, 20in Cart SIL","021","93","BIOPROCESS MEMBRANES","580","Normal Flow Filters",{"v":195.74,"d":"196"},{"v":1763.4216600000002,"d":"1,763"},null,{"$f":"VLOOKUP(B1758,'[1]2018.7 '!A:C,3,)","v":"Active"},{"$f":"VLOOKUP(B1758,'[1]2018.7 '!A:M,13,)","v":"Ambient"},{"$f":"VLOOKUP(B1758,'[1]2018.7 '!A:N,14,)","v":"Reviewing"}]
[1758,"CGF-A-10370E","28908131","ULTA GF 10 um Code 7,30in Cart EPDM","021","93","BIOPROCESS MEMBRANES","580","Normal Flow Filters",{"v":293.91,"d":"294"},{"v":2647.8351900000002,"d":"2,648"},null,{"$f":"VLOOKUP(B1759,'[1]2018.7 '!A:C,3,)","v":"Active"},{"$f":"VLOOKUP(B1759,'[1]2018.7 '!A:M,13,)","v":"Ambient"},{"$f":"VLOOKUP(B1759,'[1]2018.7 '!A:N,14,)","v":"Reviewing"}]
[1759,"CGF-A-10370S","28908132","ULTA GF 10 um Code 7,30in Cart SIL","021","93","BIOPROCESS MEMBRANES","580","Normal Flow Filters",{"v":293.91,"d":"294"},{"v":2647.8351900000002,"d":"2,648"},null,{"$f":"VLOOKUP(B1760,'[1]2018.7 '!A:C,3,)","v":"Active"},{"$f":"VLOOKUP(B1760,'[1]2018.7 '!A:M,13,)","v":"Ambient"},{"$f":"VLOOKUP(B1760,'[1]2018.7 '!A:N,14,)","v":"Reviewing"}]
[1760,"CGF-A-10H70E","28908113","ULTA GF 10 um Code 7, 5in Cart EPDM","021","93","BIOPROCESS MEMBRANES","580","Normal Flow Filters",{"v":51.51,"d":"52"},{"v":464.05359,"d":"464"},null,{"$f":"VLOOKUP(B1761,'[1]2018.7 '!A:C,3,)","v":"Active"},{"$f":"VLOOKUP(B1761,'[1]2018.7 '!A:M,13,)","v":"Ambient"},{"$f":"VLOOKUP(B1761,'[1]2018.7 '!A:N,14,)","v":"Reviewing"}]
[1761,"CGF-A-10H70S","28908114","ULTA GF 10 um Code 7, 5in Cart SIL","021","93","BIOPROCESS MEMBRANES","580","Normal Flow Filters",{"v":51.51,"d":"52"},{"v":464.05359,"d":"464"},null,{"$f":"VLOOKUP(B1762,'[1]2018.7 '!A:C,3,)","v":"Active"},{"$f":"VLOOKUP(B1762,'[1]2018.7 '!A:M,13,)","v":"Ambient"},{"$f":"VLOOKUP(B1762,'[1]2018.7 '!A:N,14,)","v":"No"}]
[1762,"CGF-A-96170E","28907999","ULTA GF 0.6 um Code 7, 10in Cart EPDM","021","93","BIOPROCESS MEMBRANES","580","Normal Flow Filters",{"v":118.46999999999998,"d":"118"},{"v":1067.29623,"d":"1,067"},null,{"$f":"VLOOKUP(B1763,'[1]2018.7 '!A:C,3,)","v":"Active"},{"$f":"VLOOKUP(B1763,'[1]2018.7 '!A:M,13,)","v":"Ambient"},{"$f":"VLOOKUP(B1763,'[1]2018.7 '!A:N,14,)","v":"Reviewing"}]
[1763,"CGF-A-96170S","28908000","ULTA GF 0.6 um Code 7, 10in Cart SIL","021","93","BIOPROCESS MEMBRANES","580","Normal Flow Filters",{"v":122.38999999999999,"d":"122"},{"v":1102.61151,"d":"1,103"},null,{"$f":"VLOOKUP(B1764,'[1]2018.7 '!A:C,3,)","v":"Active"},{"$f":"VLOOKUP(B1764,'[1]2018.7 '!A:M,13,)","v":"Ambient"},{"$f":"VLOOKUP(B1764,'[1]2018.7 '!A:N,14,)","v":"Reviewing"}]
[1764,"CGF-A-96270E","28908005","ULTA GF 0.6 um Code 7, 20in Cart EPDM","021","93","BIOPROCESS MEMBRANES","580","Normal Flow Filters",{"v":244.42000000000002,"d":"244"},{"v":2201.97978,"d":"2,202"},null,{"$f":"VLOOKUP(B1765,'[1]2018.7 '!A:C,3,)","v":"Active"},{"$f":"VLOOKUP(B1765,'[1]2018.7 '!A:M,13,)","v":"Ambient"},{"$f":"VLOOKUP(B1765,'[1]2018.7 '!A:N,14,)","v":"Reviewing"}]
[1765,"CGF-A-96270S","28908006","ULTA GF 0.6 um Code 7, 20in Cart SIL","021","93","BIOPROCESS MEMBRANES","580","Normal Flow Filters",{"v":232.29999999999998,"d":"232"},{"v":2092.7907,"d":"2,093"},null,{"$f":"VLOOKUP(B1766,'[1]2018.7 '!A:C,3,)","v":"Active"},{"$f":"VLOOKUP(B1766,'[1]2018.7 '!A:M,13,)","v":"Ambient"},{"$f":"VLOOKUP(B1766,'[1]2018.7 '!A:N,14,)","v":"Reviewing"}]
[1766,"CGF-A-96370E","28908011","ULTA GF 0.6 um Code 7, 30in Cart EPDM","021","93","BIOPROCESS MEMBRANES","580","Normal Flow Filters",{"v":350.47,"d":"350"},{"v":3157.3842300000006,"d":"3,157"},null,{"$f":"VLOOKUP(B1767,'[1]2018.7 '!A:C,3,)","v":"Active"},{"$f":"VLOOKUP(B1767,'[1]2018.7 '!A:M,13,)","v":"Ambient"},{"$f":"VLOOKUP(B1767,'[1]2018.7 '!A:N,14,)","v":"Reviewing"}]
[1767,"CGF-A-96370S","28908012","ULTA GF 0.6 um Code 7, 30in Cart SIL","021","93","BIOPROCESS MEMBRANES","580","Normal Flow Filters",{"v":386.83,"d":"387"},{"v":3484.95147,"d":"3,485"},null,{"$f":"VLOOKUP(B1768,'[1]2018.7 '!A:C,3,)","v":"Active"},{"$f":"VLOOKUP(B1768,'[1]2018.7 '!A:M,13,)","v":"Ambient"},{"$f":"VLOOKUP(B1768,'[1]2018.7 '!A:N,14,)","v":"Reviewing"}]
[1768,"CGF-A-96H70E","28907993","ULTA GF 0.6 um Code 7, 5in Cart EPDM","021","93","BIOPROCESS MEMBRANES","580","Normal Flow Filters",{"v":61.81,"d":"62"},{"v":556.8462900000001,"d":"557"},null,{"$f":"VLOOKUP(B1769,'[1]2018.7 '!A:C,3,)","v":"Active"},{"$f":"VLOOKUP(B1769,'[1]2018.7 '!A:M,13,)","v":"Ambient"},{"$f":"VLOOKUP(B1769,'[1]2018.7 '!A:N,14,)","v":"Reviewing"}]
[1769,"CGF-A-96H70S","28907994","ULTA GF 0.6 um Code 7, 5in Cart SIL","021","93","BIOPROCESS MEMBRANES","580","Normal Flow Filters",{"v":61.81,"d":"62"},{"v":556.8462900000001,"d":"557"},null,{"$f":"VLOOKUP(B1770,'[1]2018.7 '!A:C,3,)","v":"Active"},{"$f":"VLOOKUP(B1770,'[1]2018.7 '!A:M,13,)","v":"Ambient"},{"$f":"VLOOKUP(B1770,'[1]2018.7 '!A:N,14,)","v":"Reviewing"}]
[1770,"CMP-CG92170E","28908311","ULTA CG 2um Code 7, 10in Cart EPDM","021","93","BIOPROCESS MEMBRANES","580","Normal Flow Filters",{"v":350.47,"d":"350"},{"v":3157.3842300000006,"d":"3,157"},null,{"$f":"VLOOKUP(B1771,'[1]2018.7 '!A:C,3,)","v":"Active"},{"$f":"VLOOKUP(B1771,'[1]2018.7 '!A:M,13,)","v":"Ambient"},{"$f":"VLOOKUP(B1771,'[1]2018.7 '!A:N,14,)","v":"No"}]
[1771,"CMP-CG92170S","28908312","ULTA CG 2um Code 7, 10in Cart SIL","021","93","BIOPROCESS MEMBRANES","580","Normal Flow Filters",{"v":350.47,"d":"350"},{"v":3157.3842300000006,"d":"3,157"},null,{"$f":"VLOOKUP(B1772,'[1]2018.7 '!A:C,3,)","v":"Active"},{"$f":"VLOOKUP(B1772,'[1]2018.7 '!A:M,13,)","v":"Ambient"},{"$f":"VLOOKUP(B1772,'[1]2018.7 '!A:N,14,)","v":"Reviewing"}]
[1772,"CMP-CG92270E","28908317","ULTA CG 2um Code 7, 20in Cart EPDM","021","93","BIOPROCESS MEMBRANES","580","Normal Flow Filters",{"v":629.23,"d":"629"},{"v":5668.73307,"d":"5,669"},null,{"$f":"VLOOKUP(B1773,'[1]2018.7 '!A:C,3,)","v":"Active"},{"$f":"VLOOKUP(B1773,'[1]2018.7 '!A:M,13,)","v":"Ambient"},{"$f":"VLOOKUP(B1773,'[1]2018.7 '!A:N,14,)","v":"Reviewing"}]
[1773,"CMP-CG92270S","28908318","ULTA CG 2um Code 7, 20in Cart SIL","021","93","BIOPROCESS MEMBRANES","580","Normal Flow Filters",{"v":685.79,"d":"686"},{"v":6178.28211,"d":"6,178"},null,{"$f":"VLOOKUP(B1774,'[1]2018.7 '!A:C,3,)","v":"Active"},{"$f":"VLOOKUP(B1774,'[1]2018.7 '!A:M,13,)","v":"Ambient"},{"$f":"VLOOKUP(B1774,'[1]2018.7 '!A:N,14,)","v":"Reviewing"}]
[1774,"CMP-CG92370E","28908323","ULTA CG 2um Code 7,30in Cart EPDM","021","93","BIOPROCESS MEMBRANES","580","Normal Flow Filters",{"v":973.64,"d":"974"},{"v":8771.52276,"d":"8,772"},null,{"$f":"VLOOKUP(B1775,'[1]2018.7 '!A:C,3,)","v":"Active"},{"$f":"VLOOKUP(B1775,'[1]2018.7 '!A:M,13,)","v":"Ambient"},{"$f":"VLOOKUP(B1775,'[1]2018.7 '!A:N,14,)","v":"Reviewing"}]
[1775,"CMP-CG92370S","28908324","ULTA CG 2um Code 7,30in Cart SIL","021","93","BIOPROCESS MEMBRANES","580","Normal Flow Filters",{"v":1030.2,"d":"1,030"},{"v":9281.071800000002,"d":"9,281"},null,{"$f":"VLOOKUP(B1776,'[1]2018.7 '!A:C,3,)","v":"Active"},{"$f":"VLOOKUP(B1776,'[1]2018.7 '!A:M,13,)","v":"Ambient"},{"$f":"VLOOKUP(B1776,'[1]2018.7 '!A:N,14,)","v":"Reviewing"}]
[1776,"CMP-CG92H70E","28908305","ULTA CG 2um Code 7, 5in Cart EPDM","021","93","BIOPROCESS MEMBRANES","580","Normal Flow Filters",{"v":164.83,"d":"165"},{"v":1484.9534700000002,"d":"1,485"},null,{"$f":"VLOOKUP(B1777,'[1]2018.7 '!A:C,3,)","v":"Active"},{"$f":"VLOOKUP(B1777,'[1]2018.7 '!A:M,13,)","v":"Ambient"},{"$f":"VLOOKUP(B1777,'[1]2018.7 '!A:N,14,)","v":"Reviewing"}]
[1777,"CMP-CG92H70S","28908306","ULTA CG 2um Code 7, 5in Cart SIL","021","93","BIOPROCESS MEMBRANES","580","Normal Flow Filters",{"v":164.83,"d":"165"},{"v":1484.9534700000002,"d":"1,485"},null,{"$f":"VLOOKUP(B1778,'[1]2018.7 '!A:C,3,)","v":"Active"},{"$f":"VLOOKUP(B1778,'[1]2018.7 '!A:M,13,)","v":"Ambient"},{"$f":"VLOOKUP(B1778,'[1]2018.7 '!A:N,14,)","v":"Reviewing"}]
[1778,"CMP-HC92170E","28400218","ULTA HC 0,2um Code 7, 10in Cart EPDM","021","93","BIOPROCESS MEMBRANES","580","Normal Flow Filters",{"v":438.34,"d":"438"},{"v":3949.00506,"d":"3,949"},null,{"$f":"VLOOKUP(B1779,'[1]2018.7 '!A:C,3,)","v":"Active"},{"$f":"VLOOKUP(B1779,'[1]2018.7 '!A:M,13,)","v":"Ambient"},{"$f":"VLOOKUP(B1779,'[1]2018.7 '!A:N,14,)","v":"No"}]
[1779,"CMP-HC92170S","28400219","ULTA HC 0.2um Code 7, 10in Cart SIL","021","93","BIOPROCESS MEMBRANES","580","Normal Flow Filters",{"v":371.68,"d":"372"},{"v":3348.4651200000003,"d":"3,348"},null,{"$f":"VLOOKUP(B1780,'[1]2018.7 '!A:C,3,)","v":"Active"},{"$f":"VLOOKUP(B1780,'[1]2018.7 '!A:M,13,)","v":"Ambient"},{"$f":"VLOOKUP(B1780,'[1]2018.7 '!A:N,14,)","v":"Reviewing"}]
[1780,"CMP-HC92270E","28400222","ULTA HC 0,2um Code 7, 20in Cart EPDM","021","93","BIOPROCESS MEMBRANES","580","Normal Flow Filters",{"v":845.37,"d":"845"},{"v":7615.93833,"d":"7,616"},null,{"$f":"VLOOKUP(B1781,'[1]2018.7 '!A:C,3,)","v":"Active"},{"$f":"VLOOKUP(B1781,'[1]2018.7 '!A:M,13,)","v":"Ambient"},{"$f":"VLOOKUP(B1781,'[1]2018.7 '!A:N,14,)","v":"No"}]
[1781,"CMP-HC92270S","28400223","ULTA HC 0.2um Code 7, 20in Cart SIL","021","93","BIOPROCESS MEMBRANES","580","Normal Flow Filters",{"v":711.04,"d":"711"},{"v":6405.75936,"d":"6,406"},null,{"$f":"VLOOKUP(B1782,'[1]2018.7 '!A:C,3,)","v":"Active"},{"$f":"VLOOKUP(B1782,'[1]2018.7 '!A:M,13,)","v":"Ambient"},{"$f":"VLOOKUP(B1782,'[1]2018.7 '!A:N,14,)","v":"Reviewing"}]
[1782,"CMP-HC92370E","28400226","ULTA HC 0,2um Code 7,30in EPDM","021","93","BIOPROCESS MEMBRANES","580","Normal Flow Filters",{"v":1390.77,"d":"1,391"},{"v":12529.44693,"d":"12,529"},null,{"$f":"VLOOKUP(B1783,'[1]2018.7 '!A:C,3,)","v":"Active"},{"$f":"VLOOKUP(B1783,'[1]2018.7 '!A:M,13,)","v":"Ambient"},{"$f":"VLOOKUP(B1783,'[1]2018.7 '!A:N,14,)","v":"Reviewing"}]
[1783,"CMP-HC92370S","28400227","ULTA HC 0.2um Code 7,30in Cart SIL","021","93","BIOPROCESS MEMBRANES","580","Normal Flow Filters",{"v":1200.89,"d":"1,201"},{"v":10818.81801,"d":"10,819"},null,{"$f":"VLOOKUP(B1784,'[1]2018.7 '!A:C,3,)","v":"Active"},{"$f":"VLOOKUP(B1784,'[1]2018.7 '!A:M,13,)","v":"Ambient"},{"$f":"VLOOKUP(B1784,'[1]2018.7 '!A:N,14,)","v":"Reviewing"}]
[1784,"CMP-HC92H70E","28400214","ULTA HC 0.2um Code 7, 5in Cart EPDM","021","93","BIOPROCESS MEMBRANES","580","Normal Flow Filters",{"v":222.2,"d":"222"},{"v":2001.7998,"d":"2,002"},null,{"$f":"VLOOKUP(B1785,'[1]2018.7 '!A:C,3,)","v":"Active"},{"$f":"VLOOKUP(B1785,'[1]2018.7 '!A:M,13,)","v":"Ambient"},{"$f":"VLOOKUP(B1785,'[1]2018.7 '!A:N,14,)","v":"No"}]
[1785,"CMP-HC92H70S","28400215","ULTA HC 0.2um Code 7, 5in Cart SIL","021","93","BIOPROCESS MEMBRANES","580","Normal Flow Filters",{"v":222.2,"d":"222"},{"v":2001.7998,"d":"2,002"},null,{"$f":"VLOOKUP(B1786,'[1]2018.7 '!A:C,3,)","v":"Active"},{"$f":"VLOOKUP(B1786,'[1]2018.7 '!A:M,13,)","v":"Ambient"},{"$f":"VLOOKUP(B1786,'[1]2018.7 '!A:N,14,)","v":"Reviewing"}]
[1786,"CMP-MR91170E","12410319","ULTA MR 0.1um Code 7 10in Cart EPDM","021","93","BIOPROCESS MEMBRANES","580","Normal Flow Filters",{"v":453.49,"d":"453"},{"v":4085.49141,"d":"4,085"},null,{"$f":"VLOOKUP(B1787,'[1]2018.7 '!A:C,3,)","v":"Active"},{"$f":"VLOOKUP(B1787,'[1]2018.7 '!A:M,13,)","v":"Ambient"},{"$f":"VLOOKUP(B1787,'[1]2018.7 '!A:N,14,)","v":"Reviewing"}]
[1787,"CMP-MR91170S","12410320","ULTA MR 0.1um Code 7 10in Cart SIL","021","93","BIOPROCESS MEMBRANES","580","Normal Flow Filters",{"v":453.49,"d":"453"},{"v":4085.49141,"d":"4,085"},null,{"$f":"VLOOKUP(B1788,'[1]2018.7 '!A:C,3,)","v":"Active"},{"$f":"VLOOKUP(B1788,'[1]2018.7 '!A:M,13,)","v":"Ambient"},{"$f":"VLOOKUP(B1788,'[1]2018.7 '!A:N,14,)","v":"Reviewing"}]
[1788,"CMP-MR91270E","12410321","ULTA MR 0.1um Code 7 20in Cart EPDM","021","93","BIOPROCESS MEMBRANES","580","Normal Flow Filters",{"v":906.98,"d":"907"},{"v":8170.98282,"d":"8,171"},null,{"$f":"VLOOKUP(B1789,'[1]2018.7 '!A:C,3,)","v":"Active"},{"$f":"VLOOKUP(B1789,'[1]2018.7 '!A:M,13,)","v":"Ambient"},{"$f":"VLOOKUP(B1789,'[1]2018.7 '!A:N,14,)","v":"Reviewing"}]
[1789,"CMP-MR91270S","12410322","ULTA MR 0.1um Code 7 20in Cart SIL","021","93","BIOPROCESS MEMBRANES","580","Normal Flow Filters",{"v":906.98,"d":"907"},{"v":8170.98282,"d":"8,171"},null,{"$f":"VLOOKUP(B1790,'[1]2018.7 '!A:C,3,)","v":"Active"},{"$f":"VLOOKUP(B1790,'[1]2018.7 '!A:M,13,)","v":"Ambient"},{"$f":"VLOOKUP(B1790,'[1]2018.7 '!A:N,14,)","v":"Reviewing"}]
[1790,"CMP-MR91370E","12410323","ULTA MR 0.1um Code 7,30in EPDM","021","93","BIOPROCESS MEMBRANES","580","Normal Flow Filters",{"v":1360.47,"d":"1,360"},{"v":12256.47423,"d":"12,256"},null,{"$f":"VLOOKUP(B1791,'[1]2018.7 '!A:C,3,)","v":"Active"},{"$f":"VLOOKUP(B1791,'[1]2018.7 '!A:M,13,)","v":"Ambient"},{"$f":"VLOOKUP(B1791,'[1]2018.7 '!A:N,14,)","v":"Reviewing"}]
[1791,"CMP-MR91370S","12410324","ULTA MR 0.1um Code 7,30in Cart SIL","021","93","BIOPROCESS MEMBRANES","580","Normal Flow Filters",{"v":1360.47,"d":"1,360"},{"v":12256.47423,"d":"12,256"},null,{"$f":"VLOOKUP(B1792,'[1]2018.7 '!A:C,3,)","v":"Active"},{"$f":"VLOOKUP(B1792,'[1]2018.7 '!A:M,13,)","v":"Ambient"},{"$f":"VLOOKUP(B1792,'[1]2018.7 '!A:N,14,)","v":"Reviewing"}]
[1792,"CMP-MR91H70E","12410325","ULTA MR 0.1um Code 7 5in Cart EPDM","021","93","BIOPROCESS MEMBRANES","580","Normal Flow Filters",{"v":227.25,"d":"227"},{"v":2047.2952500000001,"d":"2,047"},null,{"$f":"VLOOKUP(B1793,'[1]2018.7 '!A:C,3,)","v":"Active"},{"$f":"VLOOKUP(B1793,'[1]2018.7 '!A:M,13,)","v":"Ambient"},{"$f":"VLOOKUP(B1793,'[1]2018.7 '!A:N,14,)","v":"Reviewing"}]
[1793,"CMP-MR91H70S","12410326","ULTA MR 0.1um Code 7 5in Cart SIL","021","93","BIOPROCESS MEMBRANES","580","Normal Flow Filters",{"v":227.25,"d":"227"},{"v":2047.2952500000001,"d":"2,047"},null,{"$f":"VLOOKUP(B1794,'[1]2018.7 '!A:C,3,)","v":"Active"},{"$f":"VLOOKUP(B1794,'[1]2018.7 '!A:M,13,)","v":"Ambient"},{"$f":"VLOOKUP(B1794,'[1]2018.7 '!A:N,14,)","v":"Reviewing"}]
[1794,"CMP-SG92170E","28400179","ULTA SG 0.2um Code 7, 10in Cart EPDM","021","93","BIOPROCESS MEMBRANES","580","Normal Flow Filters",{"v":371.68,"d":"372"},{"v":3348.4651200000003,"d":"3,348"},null,{"$f":"VLOOKUP(B1795,'[1]2018.7 '!A:C,3,)","v":"Active"},{"$f":"VLOOKUP(B1795,'[1]2018.7 '!A:M,13,)","v":"Ambient"},{"$f":"VLOOKUP(B1795,'[1]2018.7 '!A:N,14,)","v":"Reviewing"}]
[1795,"CMP-SG92170S","28400180","ULTA SG 0.2um Code 7, 10in Cart SIL","021","93","BIOPROCESS MEMBRANES","580","Normal Flow Filters",{"v":371.68,"d":"372"},{"v":3348.4651200000003,"d":"3,348"},null,{"$f":"VLOOKUP(B1796,'[1]2018.7 '!A:C,3,)","v":"Active"},{"$f":"VLOOKUP(B1796,'[1]2018.7 '!A:M,13,)","v":"Ambient"},{"$f":"VLOOKUP(B1796,'[1]2018.7 '!A:N,14,)","v":"Reviewing"}]
[1796,"CMP-SG92270E","28400185","ULTA SG 0.2um Code 7, 20in Cart EPDM","021","93","BIOPROCESS MEMBRANES","580","Normal Flow Filters",{"$f":"K1797/9.009","v":{"v":602.97,"d":"603"}},{"v":5432.156730000001,"d":"5,432"},null,{"$f":"VLOOKUP(B1797,'[1]2018.7 '!A:C,3,)","v":"Active"},{"$f":"VLOOKUP(B1797,'[1]2018.7 '!A:M,13,)","v":"Ambient"},{"$f":"VLOOKUP(B1797,'[1]2018.7 '!A:N,14,)","v":"Reviewing"}]
[1797,"CMP-SG92270S","28400186","ULTA SG 0.2um Code 7, 20in Cart SIL","021","93","BIOPROCESS MEMBRANES","580","Normal Flow Filters",{"v":602.97,"d":"603"},{"v":5432.156730000001,"d":"5,432"},null,{"$f":"VLOOKUP(B1798,'[1]2018.7 '!A:C,3,)","v":"Active"},{"$f":"VLOOKUP(B1798,'[1]2018.7 '!A:M,13,)","v":"Ambient"},{"$f":"VLOOKUP(B1798,'[1]2018.7 '!A:N,14,)","v":"Reviewing"}]
[1798,"CMP-SG92370E","28400191","ULTA SG 0,2um Code 7, 30in Cart EPDM","021","93","BIOPROCESS MEMBRANES","580","Normal Flow Filters",{"v":917.0799999999999,"d":"917"},{"v":8261.97372,"d":"8,262"},null,{"$f":"VLOOKUP(B1799,'[1]2018.7 '!A:C,3,)","v":"Active"},{"$f":"VLOOKUP(B1799,'[1]2018.7 '!A:M,13,)","v":"Ambient"},{"$f":"VLOOKUP(B1799,'[1]2018.7 '!A:N,14,)","v":"Reviewing"}]
[1799,"CMP-SG92370S","28400192","ULTA SG 0.2um Code 7,30in Cart SIL","021","93","BIOPROCESS MEMBRANES","580","Normal Flow Filters",{"v":917.0799999999999,"d":"917"},{"v":8261.97372,"d":"8,262"},null,{"$f":"VLOOKUP(B1800,'[1]2018.7 '!A:C,3,)","v":"Active"},{"$f":"VLOOKUP(B1800,'[1]2018.7 '!A:M,13,)","v":"Ambient"},{"$f":"VLOOKUP(B1800,'[1]2018.7 '!A:N,14,)","v":"Reviewing"}]
[1800,"CMP-SG92H70E","28400173","ULTA SG 0.2um Code 7, 5in Cart EPDM","021","93","BIOPROCESS MEMBRANES","580","Normal Flow Filters",{"v":218.16,"d":"218"},{"v":1965.40344,"d":"1,965"},null,{"$f":"VLOOKUP(B1801,'[1]2018.7 '!A:C,3,)","v":"Active"},{"$f":"VLOOKUP(B1801,'[1]2018.7 '!A:M,13,)","v":"Ambient"},{"$f":"VLOOKUP(B1801,'[1]2018.7 '!A:N,14,)","v":"Reviewing"}]
[1801,"CMP-SG92H70S","28400174","ULTA SG 0.2um Code 7, 5in Cart SIL","021","93","BIOPROCESS MEMBRANES","580","Normal Flow Filters",{"v":217.15,"d":"217"},{"v":1956.30435,"d":"1,956"},null,{"$f":"VLOOKUP(B1802,'[1]2018.7 '!A:C,3,)","v":"Active"},{"$f":"VLOOKUP(B1802,'[1]2018.7 '!A:M,13,)","v":"Ambient"},{"$f":"VLOOKUP(B1802,'[1]2018.7 '!A:N,14,)","v":"Reviewing"}]
[1802,"CPP-A-01170E","28908167","ULTA PP 1 um Code 7, 10in Cart EPDM","021","93","BIOPROCESS MEMBRANES","580","Normal Flow Filters",{"v":154.53,"d":"155"},{"v":1392.16077,"d":"1,392"},null,{"$f":"VLOOKUP(B1803,'[1]2018.7 '!A:C,3,)","v":"Active"},{"$f":"VLOOKUP(B1803,'[1]2018.7 '!A:M,13,)","v":"Ambient"},{"$f":"VLOOKUP(B1803,'[1]2018.7 '!A:N,14,)","v":"Reviewing"}]
[1803,"CPP-A-01370E","28908179","ULTA PP 1 um Code 7, 30in Cart EPDM","021","93","BIOPROCESS MEMBRANES","580","Normal Flow Filters",{"v":463.59000000000003,"d":"464"},{"v":4176.48231,"d":"4,176"},null,{"$f":"VLOOKUP(B1804,'[1]2018.7 '!A:C,3,)","v":"Active"},{"$f":"VLOOKUP(B1804,'[1]2018.7 '!A:M,13,)","v":"Ambient"},{"$f":"VLOOKUP(B1804,'[1]2018.7 '!A:N,14,)","v":"Reviewing"}]
[1804,"CPP-A-10170E","28908263","ULTA PP 10 um Code 7, 10in Cart EPDM","021","93","BIOPROCESS MEMBRANES","580","Normal Flow Filters",{"v":101.99,"d":"102"},{"v":918.82791,"d":"919"},null,{"$f":"VLOOKUP(B1805,'[1]2018.7 '!A:C,3,)","v":"Active"},{"$f":"VLOOKUP(B1805,'[1]2018.7 '!A:M,13,)","v":"Ambient"},{"$f":"VLOOKUP(B1805,'[1]2018.7 '!A:N,14,)","v":"Reviewing"}]
[1805,"CPP-A-10170S","28908264","ULTA PP 10 um Code 7, 10in Cart SIL","021","93","BIOPROCESS MEMBRANES","580","Normal Flow Filters",{"v":101.99,"d":"102"},{"v":918.82791,"d":"919"},null,{"$f":"VLOOKUP(B1806,'[1]2018.7 '!A:C,3,)","v":"Active"},{"$f":"VLOOKUP(B1806,'[1]2018.7 '!A:M,13,)","v":"Ambient"},{"$f":"VLOOKUP(B1806,'[1]2018.7 '!A:N,14,)","v":"Reviewing"}]
[1806,"CPP-A-10370E","28908275","ULTA PP 10 um Code 7,30in Cart EPDM","021","93","BIOPROCESS MEMBRANES","580","Normal Flow Filters",{"v":293.91,"d":"294"},{"v":2647.8351900000002,"d":"2,648"},null,{"$f":"VLOOKUP(B1807,'[1]2018.7 '!A:C,3,)","v":"Active"},{"$f":"VLOOKUP(B1807,'[1]2018.7 '!A:M,13,)","v":"Ambient"},{"$f":"VLOOKUP(B1807,'[1]2018.7 '!A:N,14,)","v":"Reviewing"}]
[1807,"CPP-A-20370E","28908299","ULTA PP 20 um Code 7,30in Cart EPDM","021","93","BIOPROCESS MEMBRANES","580","Normal Flow Filters",{"v":293.91,"d":"294"},{"v":2647.8351900000002,"d":"2,648"},null,{"$f":"VLOOKUP(B1808,'[1]2018.7 '!A:C,3,)","v":"Active"},{"$f":"VLOOKUP(B1808,'[1]2018.7 '!A:M,13,)","v":"Ambient"},{"$f":"VLOOKUP(B1808,'[1]2018.7 '!A:N,14,)","v":"No"}]
[1808,"CPP-A-96370E","28908155","ULTA PP 0.6 um Code 7, 30in Cart EPDM","021","93","BIOPROCESS MEMBRANES","580","Normal Flow Filters",{"v":489.84999999999997,"d":"490"},{"v":4413.05865,"d":"4,413"},null,{"$f":"VLOOKUP(B1809,'[1]2018.7 '!A:C,3,)","v":"Active"},{"$f":"VLOOKUP(B1809,'[1]2018.7 '!A:M,13,)","v":"Ambient"},{"$f":"VLOOKUP(B1809,'[1]2018.7 '!A:N,14,)","v":"Reviewing"}]
[1809,"CPTHSG92170E","28400442","ULTA AHSG 0,2um Cd 7 10in EPDM","021","93","BIOPROCESS MEMBRANES","580","Normal Flow Filters",{"v":526.21,"d":"526"},{"v":4740.62589,"d":"4,741"},null,{"$f":"VLOOKUP(B1810,'[1]2018.7 '!A:C,3,)","v":"Active"},{"$f":"VLOOKUP(B1810,'[1]2018.7 '!A:M,13,)","v":"Ambient"},{"$f":"VLOOKUP(B1810,'[1]2018.7 '!A:N,14,)","v":"Reviewing"}]
[1810,"CPTHSG92H70E","28400441","ULTA AHSG 0,2um Cd 7 5in EPDM","021","93","BIOPROCESS MEMBRANES","580","Normal Flow Filters",{"v":360.57,"d":"361"},{"v":3248.37513,"d":"3,248"},null,{"$f":"VLOOKUP(B1811,'[1]2018.7 '!A:C,3,)","v":"Active"},{"$f":"VLOOKUP(B1811,'[1]2018.7 '!A:M,13,)","v":"Ambient"},{"$f":"VLOOKUP(B1811,'[1]2018.7 '!A:N,14,)","v":"Reviewing"}]
[1811,"DGF-A-01-470","28400198","ULTA Disc GF 47mm 1.0um","021","93","BIOPROCESS MEMBRANES","580","Normal Flow Filters",{"v":53.57,"d":"54"},{"v":482.61213000000004,"d":"483"},null,{"$f":"VLOOKUP(B1812,'[1]2018.7 '!A:C,3,)","v":"Active"},{"$f":"VLOOKUP(B1812,'[1]2018.7 '!A:M,13,)","v":"Ambient"},{"$f":"VLOOKUP(B1812,'[1]2018.7 '!A:N,14,)","v":"No"}]
[1812,"DGF-A-02-470","28400199","ULTA Disc GF 47mm 2.0um","021","93","BIOPROCESS MEMBRANES","580","Normal Flow Filters",{"v":53.57,"d":"54"},{"v":482.61213000000004,"d":"483"},null,{"$f":"VLOOKUP(B1813,'[1]2018.7 '!A:C,3,)","v":"Active"},{"$f":"VLOOKUP(B1813,'[1]2018.7 '!A:M,13,)","v":"Ambient"},{"$f":"VLOOKUP(B1813,'[1]2018.7 '!A:N,14,)","v":"No"}]
[1813,"DGF-A-05-470","28400200","ULTA Disc GF 47mm 5.0um","021","93","BIOPROCESS MEMBRANES","580","Normal Flow Filters",{"v":53.57,"d":"54"},{"v":482.61213000000004,"d":"483"},null,{"$f":"VLOOKUP(B1814,'[1]2018.7 '!A:C,3,)","v":"Active"},{"$f":"VLOOKUP(B1814,'[1]2018.7 '!A:M,13,)","v":"Ambient"},{"$f":"VLOOKUP(B1814,'[1]2018.7 '!A:N,14,)","v":"No"}]
[1814,"DGF-A-07-470","28400201","ULTA Disc GF 47mm 7.0um","021","93","BIOPROCESS MEMBRANES","580","Normal Flow Filters",{"v":30.909999999999997,"d":"31"},{"v":278.46819,"d":"278"},null,{"$f":"VLOOKUP(B1815,'[1]2018.7 '!A:C,3,)","v":"Active"},{"$f":"VLOOKUP(B1815,'[1]2018.7 '!A:M,13,)","v":"Ambient"},{"$f":"VLOOKUP(B1815,'[1]2018.7 '!A:N,14,)","v":"Reviewing"}]
[1815,"DGF-A-10-470","28400202","ULTA Disc GF 47mm 10um","021","93","BIOPROCESS MEMBRANES","580","Normal Flow Filters",{"v":30.909999999999997,"d":"31"},{"v":278.46819,"d":"278"},null,{"$f":"VLOOKUP(B1816,'[1]2018.7 '!A:C,3,)","v":"Active"},{"$f":"VLOOKUP(B1816,'[1]2018.7 '!A:M,13,)","v":"Ambient"},{"$f":"VLOOKUP(B1816,'[1]2018.7 '!A:N,14,)","v":"No"}]
[1816,"DGF-A-96-470","28400197","ULTA Disc GF 47mm, 0.6um","021","93","BIOPROCESS MEMBRANES","580","Normal Flow Filters",{"v":53.57,"d":"54"},{"v":482.61213000000004,"d":"483"},null,{"$f":"VLOOKUP(B1817,'[1]2018.7 '!A:C,3,)","v":"Active"},{"$f":"VLOOKUP(B1817,'[1]2018.7 '!A:M,13,)","v":"Ambient"},{"$f":"VLOOKUP(B1817,'[1]2018.7 '!A:N,14,)","v":"No"}]
[1817,"DMP-CG92-470","28400210","ULTA Disc CG 47mm 0.2um","021","93","BIOPROCESS MEMBRANES","580","Normal Flow Filters",{"v":61.81,"d":"62"},{"v":556.8462900000001,"d":"557"},null,{"$f":"VLOOKUP(B1818,'[1]2018.7 '!A:C,3,)","v":"Active"},{"$f":"VLOOKUP(B1818,'[1]2018.7 '!A:M,13,)","v":"Ambient"},{"$f":"VLOOKUP(B1818,'[1]2018.7 '!A:N,14,)","v":"No"}]
[1818,"DMP-HC92-470","28400212","ULTA Disc HC 47mm 0.2um","021","93","BIOPROCESS MEMBRANES","580","Normal Flow Filters",{"v":72.11,"d":"72"},{"v":649.63899,"d":"650"},null,{"$f":"VLOOKUP(B1819,'[1]2018.7 '!A:C,3,)","v":"Active"},{"$f":"VLOOKUP(B1819,'[1]2018.7 '!A:M,13,)","v":"Ambient"},{"$f":"VLOOKUP(B1819,'[1]2018.7 '!A:N,14,)","v":"No"}]
[1819,"DMP-MR91-470","28977206","ULTA Disc MR 47mm 0.1um","021","93","BIOPROCESS MEMBRANES","580","Normal Flow Filters",{"v":72.11,"d":"72"},{"v":649.63899,"d":"650"},null,{"$f":"VLOOKUP(B1820,'[1]2018.7 '!A:C,3,)","v":"Active"},{"$f":"VLOOKUP(B1820,'[1]2018.7 '!A:M,13,)","v":"Ambient"},{"$f":"VLOOKUP(B1820,'[1]2018.7 '!A:N,14,)","v":"Reviewing"}]
[1820,"DMP-SG92-470","28400211","ULTA Disc SG 47mm 0.2um","021","93","BIOPROCESS MEMBRANES","580","Normal Flow Filters",{"v":66.96,"d":"67"},{"v":603.2426399999999,"d":"603"},null,{"$f":"VLOOKUP(B1821,'[1]2018.7 '!A:C,3,)","v":"Active"},{"$f":"VLOOKUP(B1821,'[1]2018.7 '!A:M,13,)","v":"Ambient"},{"$f":"VLOOKUP(B1821,'[1]2018.7 '!A:N,14,)","v":"Reviewing"}]
[1821,"DPP-A-01-470","28400204","ULTA Disc PP 47mm 1um","021","93","BIOPROCESS MEMBRANES","580","Normal Flow Filters",{"v":53.57,"d":"54"},{"v":482.61213000000004,"d":"483"},null,{"$f":"VLOOKUP(B1822,'[1]2018.7 '!A:C,3,)","v":"Phase Out"},{"$f":"VLOOKUP(B1822,'[1]2018.7 '!A:M,13,)","v":"Ambient"},{"$f":"VLOOKUP(B1822,'[1]2018.7 '!A:N,14,)","v":"reviewing"}]
[1822,"DPP-A-03-470","28400205","ULTA Disc PP 47mm 3um","021","93","BIOPROCESS MEMBRANES","580","Normal Flow Filters",{"v":53.57,"d":"54"},{"v":482.61213000000004,"d":"483"},null,{"$f":"VLOOKUP(B1823,'[1]2018.7 '!A:C,3,)","v":"Phase Out"},{"$f":"VLOOKUP(B1823,'[1]2018.7 '!A:M,13,)","v":"Ambient"},{"$f":"VLOOKUP(B1823,'[1]2018.7 '!A:N,14,)","v":"No"}]
[1823,"DPP-A-05-470","28400206","ULTA Disc PP 47mm 5um","021","93","BIOPROCESS MEMBRANES","580","Normal Flow Filters",{"v":53.57,"d":"54"},{"v":482.61213000000004,"d":"483"},null,{"$f":"VLOOKUP(B1824,'[1]2018.7 '!A:C,3,)","v":"Phase Out"},{"$f":"VLOOKUP(B1824,'[1]2018.7 '!A:M,13,)","v":"Ambient"},{"$f":"VLOOKUP(B1824,'[1]2018.7 '!A:N,14,)","v":"reviewing"}]
[1824,"DPP-A-07-470","28400207","ULTA Disc PP 47mm 7um","021","93","BIOPROCESS MEMBRANES","580","Normal Flow Filters",{"v":53.57,"d":"54"},{"v":482.61213000000004,"d":"483"},null,{"$f":"VLOOKUP(B1825,'[1]2018.7 '!A:C,3,)","v":"Phase Out"},{"$f":"VLOOKUP(B1825,'[1]2018.7 '!A:M,13,)","v":"Ambient"},{"$f":"VLOOKUP(B1825,'[1]2018.7 '!A:N,14,)","v":"reviewing"}]
[1825,"DPP-A-10-470","28400208","ULTA Disc PP 47mm 10um","021","93","BIOPROCESS MEMBRANES","580","Normal Flow Filters",{"v":53.57,"d":"54"},{"v":482.61213000000004,"d":"483"},null,{"$f":"VLOOKUP(B1826,'[1]2018.7 '!A:C,3,)","v":"Phase Out"},{"$f":"VLOOKUP(B1826,'[1]2018.7 '!A:M,13,)","v":"Ambient"},{"$f":"VLOOKUP(B1826,'[1]2018.7 '!A:N,14,)","v":"reviewing"}]
[1826,"DPP-A-20-470","28400209","ULTA Disc PP 47mm 20um","021","93","BIOPROCESS MEMBRANES","580","Normal Flow Filters",{"v":53.57,"d":"54"},{"v":482.61213000000004,"d":"483"},null,{"$f":"VLOOKUP(B1827,'[1]2018.7 '!A:C,3,)","v":"Phase Out"},{"$f":"VLOOKUP(B1827,'[1]2018.7 '!A:M,13,)","v":"Ambient"},{"$f":"VLOOKUP(B1827,'[1]2018.7 '!A:N,14,)","v":"reviewing"}]
[1827,"DPP-A-96-470","28400203","ULTA Disc PP 47mm 0.6um","021","93","BIOPROCESS MEMBRANES","580","Normal Flow Filters",{"v":53.57,"d":"54"},{"v":482.61213000000004,"d":"483"},null,{"$f":"VLOOKUP(B1828,'[1]2018.7 '!A:C,3,)","v":"Phase Out"},{"$f":"VLOOKUP(B1828,'[1]2018.7 '!A:M,13,)","v":"Ambient"},{"$f":"VLOOKUP(B1828,'[1]2018.7 '!A:N,14,)","v":"reviewing"}]
[1828,"KGF-A-0102GG","28908338","ULTA GF, 1um 2 in.step HB 3pk","021","93","BIOPROCESS MEMBRANES","580","Normal Flow Filters",{"v":263.61,"d":"264"},{"v":2374.8624900000004,"d":"2,375"},null,{"$f":"VLOOKUP(B1829,'[1]2018.7 '!A:C,3,)","v":"Active"},{"$f":"VLOOKUP(B1829,'[1]2018.7 '!A:M,13,)","v":"Ambient"},{"$f":"VLOOKUP(B1829,'[1]2018.7 '!A:N,14,)","v":"No"}]
[1829,"KGF-A-0102HH","28908340","ULTA GF, 1um 2 in.1/2in HB 3pk","021","93","BIOPROCESS MEMBRANES","580","Normal Flow Filters",{"v":263.61,"d":"264"},{"v":2374.8624900000004,"d":"2,375"},null,{"$f":"VLOOKUP(B1830,'[1]2018.7 '!A:C,3,)","v":"Active"},{"$f":"VLOOKUP(B1830,'[1]2018.7 '!A:M,13,)","v":"Ambient"},{"$f":"VLOOKUP(B1830,'[1]2018.7 '!A:N,14,)","v":"No"}]
[1830,"KGF-A-0102TT","28908339","ULTA GF, 1um 2 in.TC 1.5inch 3pk","021","93","BIOPROCESS MEMBRANES","580","Normal Flow Filters",{"v":263.61,"d":"264"},{"v":2374.8624900000004,"d":"2,375"},null,{"$f":"VLOOKUP(B1831,'[1]2018.7 '!A:C,3,)","v":"Active"},{"$f":"VLOOKUP(B1831,'[1]2018.7 '!A:M,13,)","v":"Ambient"},{"$f":"VLOOKUP(B1831,'[1]2018.7 '!A:N,14,)","v":"No"}]
[1831,"KGF-A-0104GG","28908341","ULTA GF, 1um 4 in.step HB 3pk","021","93","BIOPROCESS MEMBRANES","580","Normal Flow Filters",{"v":360.57,"d":"361"},{"v":3248.37513,"d":"3,248"},null,{"$f":"VLOOKUP(B1832,'[1]2018.7 '!A:C,3,)","v":"Active"},{"$f":"VLOOKUP(B1832,'[1]2018.7 '!A:M,13,)","v":"Ambient"},{"$f":"VLOOKUP(B1832,'[1]2018.7 '!A:N,14,)","v":"Reviewing"}]
[1832,"KGF-A-0104HH","28908343","ULTA GF, 1um 4 in.1/2in HB 3pk","021","93","BIOPROCESS MEMBRANES","580","Normal Flow Filters",{"v":391.88,"d":"392"},{"v":3530.4469200000003,"d":"3,530"},null,{"$f":"VLOOKUP(B1833,'[1]2018.7 '!A:C,3,)","v":"Active"},{"$f":"VLOOKUP(B1833,'[1]2018.7 '!A:M,13,)","v":"Ambient"},{"$f":"VLOOKUP(B1833,'[1]2018.7 '!A:N,14,)","v":"No"}]
[1833,"KGF-A-0104TT","28908342","ULTA GF, 1um 4 in.TC 1.5inch 3pk","021","93","BIOPROCESS MEMBRANES","580","Normal Flow Filters",{"v":391.88,"d":"392"},{"v":3530.4469200000003,"d":"3,530"},null,{"$f":"VLOOKUP(B1834,'[1]2018.7 '!A:C,3,)","v":"Active"},{"$f":"VLOOKUP(B1834,'[1]2018.7 '!A:M,13,)","v":"Ambient"},{"$f":"VLOOKUP(B1834,'[1]2018.7 '!A:N,14,)","v":"Reviewing"}]
[1834,"KGF-A-0106GG","28908344","ULTA GF, 1um 6 in.step HB 3pk","021","93","BIOPROCESS MEMBRANES","580","Normal Flow Filters",{"v":499.94999999999993,"d":"500"},{"v":4504.04955,"d":"4,504"},null,{"$f":"VLOOKUP(B1835,'[1]2018.7 '!A:C,3,)","v":"Active"},{"$f":"VLOOKUP(B1835,'[1]2018.7 '!A:M,13,)","v":"Ambient"},{"$f":"VLOOKUP(B1835,'[1]2018.7 '!A:N,14,)","v":"Reviewing"}]
[1835,"KGF-A-0106HH","28908346","ULTA GF, 1um 6 in.1/2in HB 3pk","021","93","BIOPROCESS MEMBRANES","580","Normal Flow Filters",{"v":499.94999999999993,"d":"500"},{"v":4504.04955,"d":"4,504"},null,{"$f":"VLOOKUP(B1836,'[1]2018.7 '!A:C,3,)","v":"Active"},{"$f":"VLOOKUP(B1836,'[1]2018.7 '!A:M,13,)","v":"Ambient"},{"$f":"VLOOKUP(B1836,'[1]2018.7 '!A:N,14,)","v":"Reviewing"}]
[1836,"KGF-A-0106TT","28908345","ULTA GF, 1um 6 in.TC 1.5inch 3pk","021","93","BIOPROCESS MEMBRANES","580","Normal Flow Filters",{"v":499.94999999999993,"d":"500"},{"v":4504.04955,"d":"4,504"},null,{"$f":"VLOOKUP(B1837,'[1]2018.7 '!A:C,3,)","v":"Active"},{"$f":"VLOOKUP(B1837,'[1]2018.7 '!A:M,13,)","v":"Ambient"},{"$f":"VLOOKUP(B1837,'[1]2018.7 '!A:N,14,)","v":"Reviewing"}]
[1837,"KGF-A-0110BB","28413634","ULTA GF 1,0um 10IN HBHB 1pk","021","93","BIOPROCESS MEMBRANES","580","Normal Flow Filters",{"v":283.81,"d":"284"},{"v":2556.84429,"d":"2,557"},null,{"$f":"VLOOKUP(B1838,'[1]2018.7 '!A:C,3,)","v":"Active"},{"$f":"VLOOKUP(B1838,'[1]2018.7 '!A:M,13,)","v":"Ambient"},{"$f":"VLOOKUP(B1838,'[1]2018.7 '!A:N,14,)","v":"Reviewing"}]
[1838,"KGF-A-0110FF","28413631","ULTA GF 1,0um 10IN Fr-Fr 1pk","021","93","BIOPROCESS MEMBRANES","580","Normal Flow Filters",{"v":283.81,"d":"284"},{"v":2556.84429,"d":"2,557"},null,{"$f":"VLOOKUP(B1839,'[1]2018.7 '!A:C,3,)","v":"Active"},{"$f":"VLOOKUP(B1839,'[1]2018.7 '!A:M,13,)","v":"Ambient"},{"$f":"VLOOKUP(B1839,'[1]2018.7 '!A:N,14,)","v":"Reviewing"}]
[1839,"KGF-A-0110RR","28413633","ULTA GF 1,0um 10IN sTC-sTC 1pk","021","93","BIOPROCESS MEMBRANES","580","Normal Flow Filters",{"v":283.81,"d":"284"},{"v":2556.84429,"d":"2,557"},null,{"$f":"VLOOKUP(B1840,'[1]2018.7 '!A:C,3,)","v":"Active"},{"$f":"VLOOKUP(B1840,'[1]2018.7 '!A:M,13,)","v":"Ambient"},{"$f":"VLOOKUP(B1840,'[1]2018.7 '!A:N,14,)","v":"Reviewing"}]
[1840,"KGF-A-0110TT","28413632","ULTA GF 1,0um 10IN TCTC 1pk","021","93","BIOPROCESS MEMBRANES","580","Normal Flow Filters",{"v":283.81,"d":"284"},{"v":2556.84429,"d":"2,557"},null,{"$f":"VLOOKUP(B1841,'[1]2018.7 '!A:C,3,)","v":"Active"},{"$f":"VLOOKUP(B1841,'[1]2018.7 '!A:M,13,)","v":"Ambient"},{"$f":"VLOOKUP(B1841,'[1]2018.7 '!A:N,14,)","v":"No"}]
[1841,"KGF-A-0120BB","28413638","ULTA GF 1,0um 20IN HBHB 1pk","021","93","BIOPROCESS MEMBRANES","580","Normal Flow Filters",{"v":556.51,"d":"557"},{"v":5013.5985900000005,"d":"5,014"},null,{"$f":"VLOOKUP(B1842,'[1]2018.7 '!A:C,3,)","v":"Active"},{"$f":"VLOOKUP(B1842,'[1]2018.7 '!A:M,13,)","v":"Ambient"},{"$f":"VLOOKUP(B1842,'[1]2018.7 '!A:N,14,)","v":"Reviewing"}]
[1842,"KGF-A-0120FF","28413635","ULTA GF 1,0um 20IN Fr-Fr 1pk","021","93","BIOPROCESS MEMBRANES","580","Normal Flow Filters",{"v":556.51,"d":"557"},{"v":5013.5985900000005,"d":"5,014"},null,{"$f":"VLOOKUP(B1843,'[1]2018.7 '!A:C,3,)","v":"Active"},{"$f":"VLOOKUP(B1843,'[1]2018.7 '!A:M,13,)","v":"Ambient"},{"$f":"VLOOKUP(B1843,'[1]2018.7 '!A:N,14,)","v":"Reviewing"}]
[1843,"KGF-A-0120RR","28413637","ULTA GF 1,0um 20IN sTC-sTC 1pk","021","93","BIOPROCESS MEMBRANES","580","Normal Flow Filters",{"v":556.51,"d":"557"},{"v":5013.5985900000005,"d":"5,014"},null,{"$f":"VLOOKUP(B1844,'[1]2018.7 '!A:C,3,)","v":"Active"},{"$f":"VLOOKUP(B1844,'[1]2018.7 '!A:M,13,)","v":"Ambient"},{"$f":"VLOOKUP(B1844,'[1]2018.7 '!A:N,14,)","v":"Reviewing"}]
[1844,"KGF-A-0120TT","28413636","ULTA GF 1,0um 20IN TCTC 1pk","021","93","BIOPROCESS MEMBRANES","580","Normal Flow Filters",{"v":556.51,"d":"557"},{"v":5013.5985900000005,"d":"5,014"},null,{"$f":"VLOOKUP(B1845,'[1]2018.7 '!A:C,3,)","v":"Active"},{"$f":"VLOOKUP(B1845,'[1]2018.7 '!A:M,13,)","v":"Ambient"},{"$f":"VLOOKUP(B1845,'[1]2018.7 '!A:N,14,)","v":"Reviewing"}]
[1845,"KGF-A-0130BB","28413642","ULTA GF 1,0um 30 IN HBHB 1pk","021","93","BIOPROCESS MEMBRANES","580","Normal Flow Filters",{"v":819.11,"d":"819"},{"v":7379.36199,"d":"7,379"},null,{"$f":"VLOOKUP(B1846,'[1]2018.7 '!A:C,3,)","v":"Active"},{"$f":"VLOOKUP(B1846,'[1]2018.7 '!A:M,13,)","v":"Ambient"},{"$f":"VLOOKUP(B1846,'[1]2018.7 '!A:N,14,)","v":"Reviewing"}]
[1846,"KGF-A-0130FF","28413639","ULTA GF 1,0um 30 IN Fr-Fr 1pk","021","93","BIOPROCESS MEMBRANES","580","Normal Flow Filters",{"v":819.11,"d":"819"},{"v":7379.36199,"d":"7,379"},null,{"$f":"VLOOKUP(B1847,'[1]2018.7 '!A:C,3,)","v":"Active"},{"$f":"VLOOKUP(B1847,'[1]2018.7 '!A:M,13,)","v":"Ambient"},{"$f":"VLOOKUP(B1847,'[1]2018.7 '!A:N,14,)","v":"Reviewing"}]
[1847,"KGF-A-0130RR","28413641","ULTA GF 1,0um 30 IN sTC-sTC 1pk","021","93","BIOPROCESS MEMBRANES","580","Normal Flow Filters",{"v":819.11,"d":"819"},{"v":7379.36199,"d":"7,379"},null,{"$f":"VLOOKUP(B1848,'[1]2018.7 '!A:C,3,)","v":"Active"},{"$f":"VLOOKUP(B1848,'[1]2018.7 '!A:M,13,)","v":"Ambient"},{"$f":"VLOOKUP(B1848,'[1]2018.7 '!A:N,14,)","v":"Reviewing"}]
[1848,"KGF-A-0130TT","28413640","ULTA GF 1,0um 30 IN TCTC 1pk","021","93","BIOPROCESS MEMBRANES","580","Normal Flow Filters",{"v":819.11,"d":"819"},{"v":7379.36199,"d":"7,379"},null,{"$f":"VLOOKUP(B1849,'[1]2018.7 '!A:C,3,)","v":"Active"},{"$f":"VLOOKUP(B1849,'[1]2018.7 '!A:M,13,)","v":"Ambient"},{"$f":"VLOOKUP(B1849,'[1]2018.7 '!A:N,14,)","v":"Reviewing"}]
[1849,"KGF-A-01H1BB","28413630","ULTA GF 1,0um H10 HBHB 1pk","021","93","BIOPROCESS MEMBRANES","580","Normal Flow Filters",{"v":206.04,"d":"206"},{"v":1856.21436,"d":"1,856"},null,{"$f":"VLOOKUP(B1850,'[1]2018.7 '!A:C,3,)","v":"Active"},{"$f":"VLOOKUP(B1850,'[1]2018.7 '!A:M,13,)","v":"Ambient"},{"$f":"VLOOKUP(B1850,'[1]2018.7 '!A:N,14,)","v":"Reviewing"}]
[1850,"KGF-A-01H1FF","28413627","ULTA GF 1,0um H10 Fr-Fr 1pk","021","93","BIOPROCESS MEMBRANES","580","Normal Flow Filters",{"v":206.04,"d":"206"},{"v":1856.21436,"d":"1,856"},null,{"$f":"VLOOKUP(B1851,'[1]2018.7 '!A:C,3,)","v":"Active"},{"$f":"VLOOKUP(B1851,'[1]2018.7 '!A:M,13,)","v":"Ambient"},{"$f":"VLOOKUP(B1851,'[1]2018.7 '!A:N,14,)","v":"Reviewing"}]
[1851,"KGF-A-01H1RR","28413629","ULTA GF 1,0um H10 sTC-sTC 1pk","021","93","BIOPROCESS MEMBRANES","580","Normal Flow Filters",{"v":206.04,"d":"206"},{"v":1856.21436,"d":"1,856"},null,{"$f":"VLOOKUP(B1852,'[1]2018.7 '!A:C,3,)","v":"Active"},{"$f":"VLOOKUP(B1852,'[1]2018.7 '!A:M,13,)","v":"Ambient"},{"$f":"VLOOKUP(B1852,'[1]2018.7 '!A:N,14,)","v":"Reviewing"}]
[1852,"KGF-A-01H1TT","28413628","ULTA GF 1,0um H10 TCTC 1pk","021","93","BIOPROCESS MEMBRANES","580","Normal Flow Filters",{"v":206.04,"d":"206"},{"v":1856.21436,"d":"1,856"},null,{"$f":"VLOOKUP(B1853,'[1]2018.7 '!A:C,3,)","v":"Active"},{"$f":"VLOOKUP(B1853,'[1]2018.7 '!A:M,13,)","v":"Ambient"},{"$f":"VLOOKUP(B1853,'[1]2018.7 '!A:N,14,)","v":"Reviewing"}]
[1853,"KGF-A-0202GG","28908347","ULTA GF, 2um 2 in.step HB 3pk","021","93","BIOPROCESS MEMBRANES","580","Normal Flow Filters",{"v":263.61,"d":"264"},{"v":2374.8624900000004,"d":"2,375"},null,{"$f":"VLOOKUP(B1854,'[1]2018.7 '!A:C,3,)","v":"Active"},{"$f":"VLOOKUP(B1854,'[1]2018.7 '!A:M,13,)","v":"Ambient"},{"$f":"VLOOKUP(B1854,'[1]2018.7 '!A:N,14,)","v":"No"}]
[1854,"KGF-A-0202HH","28908349","ULTA GF, 2um 2 in.1/2in HB 3pk","021","93","BIOPROCESS MEMBRANES","580","Normal Flow Filters",{"v":263.61,"d":"264"},{"v":2374.8624900000004,"d":"2,375"},null,{"$f":"VLOOKUP(B1855,'[1]2018.7 '!A:C,3,)","v":"Active"},{"$f":"VLOOKUP(B1855,'[1]2018.7 '!A:M,13,)","v":"Ambient"},{"$f":"VLOOKUP(B1855,'[1]2018.7 '!A:N,14,)","v":"No"}]
[1855,"KGF-A-0202TT","28908348","ULTA GF, 2um 2 in.TC 1.5inch 3pk","021","93","BIOPROCESS MEMBRANES","580","Normal Flow Filters",{"v":263.61,"d":"264"},{"v":2374.8624900000004,"d":"2,375"},null,{"$f":"VLOOKUP(B1856,'[1]2018.7 '!A:C,3,)","v":"Active"},{"$f":"VLOOKUP(B1856,'[1]2018.7 '!A:M,13,)","v":"Ambient"},{"$f":"VLOOKUP(B1856,'[1]2018.7 '!A:N,14,)","v":"Reviewing"}]
[1856,"KGF-A-0204GG","28908420","ULTA GF, 2um 4 in.step HB 3pk","021","93","BIOPROCESS MEMBRANES","580","Normal Flow Filters",{"v":391.88,"d":"392"},{"v":3530.4469200000003,"d":"3,530"},null,{"$f":"VLOOKUP(B1857,'[1]2018.7 '!A:C,3,)","v":"Active"},{"$f":"VLOOKUP(B1857,'[1]2018.7 '!A:M,13,)","v":"Ambient"},{"$f":"VLOOKUP(B1857,'[1]2018.7 '!A:N,14,)","v":"Reviewing"}]
[1857,"KGF-A-0204HH","28908422","ULTA GF, 2um 4 in.1/2in HB 3pk","021","93","BIOPROCESS MEMBRANES","580","Normal Flow Filters",{"v":391.88,"d":"392"},{"v":3530.4469200000003,"d":"3,530"},null,{"$f":"VLOOKUP(B1858,'[1]2018.7 '!A:C,3,)","v":"Active"},{"$f":"VLOOKUP(B1858,'[1]2018.7 '!A:M,13,)","v":"Ambient"},{"$f":"VLOOKUP(B1858,'[1]2018.7 '!A:N,14,)","v":"Reviewing"}]
[1858,"KGF-A-0204TT","28908421","ULTA GF, 2um 4 in.TC 1.5inch 3pk","021","93","BIOPROCESS MEMBRANES","580","Normal Flow Filters",{"v":391.88,"d":"392"},{"v":3530.4469200000003,"d":"3,530"},null,{"$f":"VLOOKUP(B1859,'[1]2018.7 '!A:C,3,)","v":"Active"},{"$f":"VLOOKUP(B1859,'[1]2018.7 '!A:M,13,)","v":"Ambient"},{"$f":"VLOOKUP(B1859,'[1]2018.7 '!A:N,14,)","v":"No"}]
[1859,"KGF-A-0206GG","28908423","ULTA GF, 2um 6 in.step HB 3pk","021","93","BIOPROCESS MEMBRANES","580","Normal Flow Filters",{"v":499.94999999999993,"d":"500"},{"v":4504.04955,"d":"4,504"},null,{"$f":"VLOOKUP(B1860,'[1]2018.7 '!A:C,3,)","v":"Active"},{"$f":"VLOOKUP(B1860,'[1]2018.7 '!A:M,13,)","v":"Ambient"},{"$f":"VLOOKUP(B1860,'[1]2018.7 '!A:N,14,)","v":"Reviewing"}]
[1860,"KGF-A-0206HH","28908425","ULTA GF, 2um 6 in.1/2in HB 3pk","021","93","BIOPROCESS MEMBRANES","580","Normal Flow Filters",{"$f":"K1861/9.009","v":{"v":499.94999999999993,"d":"500"}},{"v":4504.04955,"d":"4,504"},null,{"$f":"VLOOKUP(B1861,'[1]2018.7 '!A:C,3,)","v":"Active"},{"$f":"VLOOKUP(B1861,'[1]2018.7 '!A:M,13,)","v":"Ambient"},{"$f":"VLOOKUP(B1861,'[1]2018.7 '!A:N,14,)","v":"No"}]
[1861,"KGF-A-0206TT","28908424","ULTA GF, 2um 6 in.TC 1.5inch 3pk","021","93","BIOPROCESS MEMBRANES","580","Normal Flow Filters",{"v":499.94999999999993,"d":"500"},{"v":4504.04955,"d":"4,504"},null,{"$f":"VLOOKUP(B1862,'[1]2018.7 '!A:C,3,)","v":"Active"},{"$f":"VLOOKUP(B1862,'[1]2018.7 '!A:M,13,)","v":"Ambient"},{"$f":"VLOOKUP(B1862,'[1]2018.7 '!A:N,14,)","v":"No"}]
[1862,"KGF-A-0210BB","28413650","ULTA GF 2,0um 10IN HBHB 1pk","021","93","BIOPROCESS MEMBRANES","580","Normal Flow Filters",{"v":283.81,"d":"284"},{"v":2556.84429,"d":"2,557"},null,{"$f":"VLOOKUP(B1863,'[1]2018.7 '!A:C,3,)","v":"Active"},{"$f":"VLOOKUP(B1863,'[1]2018.7 '!A:M,13,)","v":"Ambient"},{"$f":"VLOOKUP(B1863,'[1]2018.7 '!A:N,14,)","v":"Reviewing"}]
[1863,"KGF-A-0210FF","28413647","ULTA GF 2,0um 10IN Fr-Fr 1pk","021","93","BIOPROCESS MEMBRANES","580","Normal Flow Filters",{"v":283.81,"d":"284"},{"v":2556.84429,"d":"2,557"},null,{"$f":"VLOOKUP(B1864,'[1]2018.7 '!A:C,3,)","v":"Active"},{"$f":"VLOOKUP(B1864,'[1]2018.7 '!A:M,13,)","v":"Ambient"},{"$f":"VLOOKUP(B1864,'[1]2018.7 '!A:N,14,)","v":"Reviewing"}]
[1864,"KGF-A-0210RR","28413649","ULTA GF 2,0um 10IN sTC-sTC 1pk","021","93","BIOPROCESS MEMBRANES","580","Normal Flow Filters",{"v":283.81,"d":"284"},{"v":2556.84429,"d":"2,557"},null,{"$f":"VLOOKUP(B1865,'[1]2018.7 '!A:C,3,)","v":"Active"},{"$f":"VLOOKUP(B1865,'[1]2018.7 '!A:M,13,)","v":"Ambient"},{"$f":"VLOOKUP(B1865,'[1]2018.7 '!A:N,14,)","v":"Reviewing"}]
[1865,"KGF-A-0210TT","28413648","ULTA GF 2,0um 10IN TCTC 1pk","021","93","BIOPROCESS MEMBRANES","580","Normal Flow Filters",{"v":283.81,"d":"284"},{"v":2556.84429,"d":"2,557"},null,{"$f":"VLOOKUP(B1866,'[1]2018.7 '!A:C,3,)","v":"Active"},{"$f":"VLOOKUP(B1866,'[1]2018.7 '!A:M,13,)","v":"Ambient"},{"$f":"VLOOKUP(B1866,'[1]2018.7 '!A:N,14,)","v":"No"}]
[1866,"KGF-A-0220BB","28413654","ULTA GF 2,0um 20IN HBHB 1pk","021","93","BIOPROCESS MEMBRANES","580","Normal Flow Filters",{"v":556.51,"d":"557"},{"v":5013.5985900000005,"d":"5,014"},null,{"$f":"VLOOKUP(B1867,'[1]2018.7 '!A:C,3,)","v":"Active"},{"$f":"VLOOKUP(B1867,'[1]2018.7 '!A:M,13,)","v":"Ambient"},{"$f":"VLOOKUP(B1867,'[1]2018.7 '!A:N,14,)","v":"Reviewing"}]
[1867,"KGF-A-0220FF","28413651","ULTA GF 2,0um 20IN Fr-Fr 1pk","021","93","BIOPROCESS MEMBRANES","580","Normal Flow Filters",{"v":556.51,"d":"557"},{"v":5013.5985900000005,"d":"5,014"},null,{"$f":"VLOOKUP(B1868,'[1]2018.7 '!A:C,3,)","v":"Active"},{"$f":"VLOOKUP(B1868,'[1]2018.7 '!A:M,13,)","v":"Ambient"},{"$f":"VLOOKUP(B1868,'[1]2018.7 '!A:N,14,)","v":"Reviewing"}]
[1868,"KGF-A-0220RR","28413653","ULTA GF 2,0um 20IN sTC-sTC 1pk","021","93","BIOPROCESS MEMBRANES","580","Normal Flow Filters",{"v":556.51,"d":"557"},{"v":5013.5985900000005,"d":"5,014"},null,{"$f":"VLOOKUP(B1869,'[1]2018.7 '!A:C,3,)","v":"Active"},{"$f":"VLOOKUP(B1869,'[1]2018.7 '!A:M,13,)","v":"Ambient"},{"$f":"VLOOKUP(B1869,'[1]2018.7 '!A:N,14,)","v":"Reviewing"}]
[1869,"KGF-A-0220TT","28413652","ULTA GF 2,0um 20IN TCTC 1pk","021","93","BIOPROCESS MEMBRANES","580","Normal Flow Filters",{"v":556.51,"d":"557"},{"v":5013.5985900000005,"d":"5,014"},null,{"$f":"VLOOKUP(B1870,'[1]2018.7 '!A:C,3,)","v":"Active"},{"$f":"VLOOKUP(B1870,'[1]2018.7 '!A:M,13,)","v":"Ambient"},{"$f":"VLOOKUP(B1870,'[1]2018.7 '!A:N,14,)","v":"Reviewing"}]
[1870,"KGF-A-0230BB","28413658","ULTA GF 2,0um 30 IN HBHB 1pk","021","93","BIOPROCESS MEMBRANES","580","Normal Flow Filters",{"v":819.11,"d":"819"},{"v":7379.36199,"d":"7,379"},null,{"$f":"VLOOKUP(B1871,'[1]2018.7 '!A:C,3,)","v":"Active"},{"$f":"VLOOKUP(B1871,'[1]2018.7 '!A:M,13,)","v":"Ambient"},{"$f":"VLOOKUP(B1871,'[1]2018.7 '!A:N,14,)","v":"Reviewing"}]
[1871,"KGF-A-0230FF","28413655","ULTA GF 2,0um 30 IN Fr-Fr 1pk","021","93","BIOPROCESS MEMBRANES","580","Normal Flow Filters",{"v":819.11,"d":"819"},{"v":7379.36199,"d":"7,379"},null,{"$f":"VLOOKUP(B1872,'[1]2018.7 '!A:C,3,)","v":"Active"},{"$f":"VLOOKUP(B1872,'[1]2018.7 '!A:M,13,)","v":"Ambient"},{"$f":"VLOOKUP(B1872,'[1]2018.7 '!A:N,14,)","v":"Reviewing"}]
[1872,"KGF-A-0230RR","28413657","ULTA GF 2,0um 30 IN sTC-sTC 1pk","021","93","BIOPROCESS MEMBRANES","580","Normal Flow Filters",{"v":819.11,"d":"819"},{"v":7379.36199,"d":"7,379"},null,{"$f":"VLOOKUP(B1873,'[1]2018.7 '!A:C,3,)","v":"Active"},{"$f":"VLOOKUP(B1873,'[1]2018.7 '!A:M,13,)","v":"Ambient"},{"$f":"VLOOKUP(B1873,'[1]2018.7 '!A:N,14,)","v":"Reviewing"}]
[1873,"KGF-A-0230TT","28413656","ULTA GF 2,0um 30 IN TCTC 1pk","021","93","BIOPROCESS MEMBRANES","580","Normal Flow Filters",{"v":819.11,"d":"819"},{"v":7379.36199,"d":"7,379"},null,{"$f":"VLOOKUP(B1874,'[1]2018.7 '!A:C,3,)","v":"Active"},{"$f":"VLOOKUP(B1874,'[1]2018.7 '!A:M,13,)","v":"Ambient"},{"$f":"VLOOKUP(B1874,'[1]2018.7 '!A:N,14,)","v":"Reviewing"}]
[1874,"KGF-A-02H1BB","28413646","ULTA GF 2,0um H10 HBHB 1pk","021","93","BIOPROCESS MEMBRANES","580","Normal Flow Filters",{"v":206.04,"d":"206"},{"v":1856.21436,"d":"1,856"},null,{"$f":"VLOOKUP(B1875,'[1]2018.7 '!A:C,3,)","v":"Active"},{"$f":"VLOOKUP(B1875,'[1]2018.7 '!A:M,13,)","v":"Ambient"},{"$f":"VLOOKUP(B1875,'[1]2018.7 '!A:N,14,)","v":"Reviewing"}]
[1875,"KGF-A-02H1FF","28413643","ULTA GF 2,0um H10 Fr-Fr 1pk","021","93","BIOPROCESS MEMBRANES","580","Normal Flow Filters",{"v":206.04,"d":"206"},{"v":1856.21436,"d":"1,856"},null,{"$f":"VLOOKUP(B1876,'[1]2018.7 '!A:C,3,)","v":"Active"},{"$f":"VLOOKUP(B1876,'[1]2018.7 '!A:M,13,)","v":"Ambient"},{"$f":"VLOOKUP(B1876,'[1]2018.7 '!A:N,14,)","v":"Reviewing"}]
[1876,"KGF-A-02H1RR","28413645","ULTA GF 2,0um H10 sTC-sTC 1pk","021","93","BIOPROCESS MEMBRANES","580","Normal Flow Filters",{"v":206.04,"d":"206"},{"v":1856.21436,"d":"1,856"},null,{"$f":"VLOOKUP(B1877,'[1]2018.7 '!A:C,3,)","v":"Active"},{"$f":"VLOOKUP(B1877,'[1]2018.7 '!A:M,13,)","v":"Ambient"},{"$f":"VLOOKUP(B1877,'[1]2018.7 '!A:N,14,)","v":"Reviewing"}]
[1877,"KGF-A-02H1TT","28413644","ULTA GF 2,0um H10 TCTC 1pk","021","93","BIOPROCESS MEMBRANES","580","Normal Flow Filters",{"v":206.04,"d":"206"},{"v":1856.21436,"d":"1,856"},null,{"$f":"VLOOKUP(B1878,'[1]2018.7 '!A:C,3,)","v":"Active"},{"$f":"VLOOKUP(B1878,'[1]2018.7 '!A:M,13,)","v":"Ambient"},{"$f":"VLOOKUP(B1878,'[1]2018.7 '!A:N,14,)","v":"No"}]
[1878,"KGF-A-0502GG","28908426","ULTA GF, 5um 2 in.step HB 3pk","021","93","BIOPROCESS MEMBRANES","580","Normal Flow Filters",{"v":263.61,"d":"264"},{"v":2374.8624900000004,"d":"2,375"},null,{"$f":"VLOOKUP(B1879,'[1]2018.7 '!A:C,3,)","v":"Active"},{"$f":"VLOOKUP(B1879,'[1]2018.7 '!A:M,13,)","v":"Ambient"},{"$f":"VLOOKUP(B1879,'[1]2018.7 '!A:N,14,)","v":"No"}]
[1879,"KGF-A-0502HH","28908428","ULTA GF 5um 2 in 1/2 HB 3pk","021","93","BIOPROCESS MEMBRANES","580","Normal Flow Filters",{"v":263.61,"d":"264"},{"v":2374.8624900000004,"d":"2,375"},null,{"$f":"VLOOKUP(B1880,'[1]2018.7 '!A:C,3,)","v":"Active"},{"$f":"VLOOKUP(B1880,'[1]2018.7 '!A:M,13,)","v":"Ambient"},{"$f":"VLOOKUP(B1880,'[1]2018.7 '!A:N,14,)","v":"No"}]
[1880,"KGF-A-0502TT","28908427","ULTA GF, 5um 2 in.TC 1.5inch 3pk","021","93","BIOPROCESS MEMBRANES","580","Normal Flow Filters",{"v":263.61,"d":"264"},{"v":2374.8624900000004,"d":"2,375"},null,{"$f":"VLOOKUP(B1881,'[1]2018.7 '!A:C,3,)","v":"Active"},{"$f":"VLOOKUP(B1881,'[1]2018.7 '!A:M,13,)","v":"Ambient"},{"$f":"VLOOKUP(B1881,'[1]2018.7 '!A:N,14,)","v":"No"}]
[1881,"KGF-A-0504GG","28908429","ULTA GF, 5um 4 in.step HB 3pk","021","93","BIOPROCESS MEMBRANES","580","Normal Flow Filters",{"v":360.57,"d":"361"},{"v":3248.37513,"d":"3,248"},null,{"$f":"VLOOKUP(B1882,'[1]2018.7 '!A:C,3,)","v":"Active"},{"$f":"VLOOKUP(B1882,'[1]2018.7 '!A:M,13,)","v":"Ambient"},{"$f":"VLOOKUP(B1882,'[1]2018.7 '!A:N,14,)","v":"No"}]
[1882,"KGF-A-0504HH","28908431","ULTA GF, 5um 4 in.1/2in HB 3pk","021","93","BIOPROCESS MEMBRANES","580","Normal Flow Filters",{"v":391.88,"d":"392"},{"v":3530.4469200000003,"d":"3,530"},null,{"$f":"VLOOKUP(B1883,'[1]2018.7 '!A:C,3,)","v":"Active"},{"$f":"VLOOKUP(B1883,'[1]2018.7 '!A:M,13,)","v":"Ambient"},{"$f":"VLOOKUP(B1883,'[1]2018.7 '!A:N,14,)","v":"No"}]
[1883,"KGF-A-0504TT","28908430","ULTA GF, 5um 4 in.TC 1.5inch 3pk","021","93","BIOPROCESS MEMBRANES","580","Normal Flow Filters",{"v":391.88,"d":"392"},{"v":3530.4469200000003,"d":"3,530"},null,{"$f":"VLOOKUP(B1884,'[1]2018.7 '!A:C,3,)","v":"Active"},{"$f":"VLOOKUP(B1884,'[1]2018.7 '!A:M,13,)","v":"Ambient"},{"$f":"VLOOKUP(B1884,'[1]2018.7 '!A:N,14,)","v":"No"}]
[1884,"KGF-A-0506GG","28908432","ULTA GF, 5um 6 in.step HB 3pk","021","93","BIOPROCESS MEMBRANES","580","Normal Flow Filters",{"v":499.94999999999993,"d":"500"},{"v":4504.04955,"d":"4,504"},null,{"$f":"VLOOKUP(B1885,'[1]2018.7 '!A:C,3,)","v":"Active"},{"$f":"VLOOKUP(B1885,'[1]2018.7 '!A:M,13,)","v":"Ambient"},{"$f":"VLOOKUP(B1885,'[1]2018.7 '!A:N,14,)","v":"No"}]
[1885,"KGF-A-0506HH","28908434","ULTA GF, 5um 6 in.1/2in HB 3pk","021","93","BIOPROCESS MEMBRANES","580","Normal Flow Filters",{"v":499.94999999999993,"d":"500"},{"v":4504.04955,"d":"4,504"},null,{"$f":"VLOOKUP(B1886,'[1]2018.7 '!A:C,3,)","v":"Active"},{"$f":"VLOOKUP(B1886,'[1]2018.7 '!A:M,13,)","v":"Ambient"},{"$f":"VLOOKUP(B1886,'[1]2018.7 '!A:N,14,)","v":"No"}]
[1886,"KGF-A-0506TT","28908433","ULTA GF, 5um 6 in.TC 1.5inch 3pk","021","93","BIOPROCESS MEMBRANES","580","Normal Flow Filters",{"v":499.94999999999993,"d":"500"},{"v":4504.04955,"d":"4,504"},null,{"$f":"VLOOKUP(B1887,'[1]2018.7 '!A:C,3,)","v":"Active"},{"$f":"VLOOKUP(B1887,'[1]2018.7 '!A:M,13,)","v":"Ambient"},{"$f":"VLOOKUP(B1887,'[1]2018.7 '!A:N,14,)","v":"No"}]
[1887,"KGF-A-0510BB","28413666","ULTA GF 5,0um 10IN HBHB 1pk","021","93","BIOPROCESS MEMBRANES","580","Normal Flow Filters",{"v":283.81,"d":"284"},{"v":2556.84429,"d":"2,557"},null,{"$f":"VLOOKUP(B1888,'[1]2018.7 '!A:C,3,)","v":"Active"},{"$f":"VLOOKUP(B1888,'[1]2018.7 '!A:M,13,)","v":"Ambient"},{"$f":"VLOOKUP(B1888,'[1]2018.7 '!A:N,14,)","v":"Reviewing"}]
[1888,"KGF-A-0510FF","28413663","ULTA GF 5,0um 10IN Fr-Fr 1pk","021","93","BIOPROCESS MEMBRANES","580","Normal Flow Filters",{"v":283.81,"d":"284"},{"v":2556.84429,"d":"2,557"},null,{"$f":"VLOOKUP(B1889,'[1]2018.7 '!A:C,3,)","v":"Active"},{"$f":"VLOOKUP(B1889,'[1]2018.7 '!A:M,13,)","v":"Ambient"},{"$f":"VLOOKUP(B1889,'[1]2018.7 '!A:N,14,)","v":"No"}]
[1889,"KGF-A-0510RR","28413665","ULTA GF 5,0um 10IN sTC-sTC 1pk","021","93","BIOPROCESS MEMBRANES","580","Normal Flow Filters",{"v":283.81,"d":"284"},{"v":2556.84429,"d":"2,557"},null,{"$f":"VLOOKUP(B1890,'[1]2018.7 '!A:C,3,)","v":"Active"},{"$f":"VLOOKUP(B1890,'[1]2018.7 '!A:M,13,)","v":"Ambient"},{"$f":"VLOOKUP(B1890,'[1]2018.7 '!A:N,14,)","v":"Reviewing"}]
[1890,"KGF-A-0510TT","28413664","ULTA GF 5,0um 10IN TCTC 1pk","021","93","BIOPROCESS MEMBRANES","580","Normal Flow Filters",{"v":283.81,"d":"284"},{"v":2556.84429,"d":"2,557"},null,{"$f":"VLOOKUP(B1891,'[1]2018.7 '!A:C,3,)","v":"Active"},{"$f":"VLOOKUP(B1891,'[1]2018.7 '!A:M,13,)","v":"Ambient"},{"$f":"VLOOKUP(B1891,'[1]2018.7 '!A:N,14,)","v":"No"}]
[1891,"KGF-A-0520BB","28413670","ULTA GF 5,0um 20IN HBHB 1pk","021","93","BIOPROCESS MEMBRANES","580","Normal Flow Filters",{"v":556.51,"d":"557"},{"v":5013.5985900000005,"d":"5,014"},null,{"$f":"VLOOKUP(B1892,'[1]2018.7 '!A:C,3,)","v":"Active"},{"$f":"VLOOKUP(B1892,'[1]2018.7 '!A:M,13,)","v":"Ambient"},{"$f":"VLOOKUP(B1892,'[1]2018.7 '!A:N,14,)","v":"Reviewing"}]
[1892,"KGF-A-0520FF","28413667","ULTA GF 5,0um 20IN Fr-Fr 1pk","021","93","BIOPROCESS MEMBRANES","580","Normal Flow Filters",{"v":556.51,"d":"557"},{"v":5013.5985900000005,"d":"5,014"},null,{"$f":"VLOOKUP(B1893,'[1]2018.7 '!A:C,3,)","v":"Active"},{"$f":"VLOOKUP(B1893,'[1]2018.7 '!A:M,13,)","v":"Ambient"},{"$f":"VLOOKUP(B1893,'[1]2018.7 '!A:N,14,)","v":"No"}]
[1893,"KGF-A-0520RR","28413669","ULTA GF 5,0um 20IN sTC-sTC 1pk","021","93","BIOPROCESS MEMBRANES","580","Normal Flow Filters",{"v":556.51,"d":"557"},{"v":5013.5985900000005,"d":"5,014"},null,{"$f":"VLOOKUP(B1894,'[1]2018.7 '!A:C,3,)","v":"Active"},{"$f":"VLOOKUP(B1894,'[1]2018.7 '!A:M,13,)","v":"Ambient"},{"$f":"VLOOKUP(B1894,'[1]2018.7 '!A:N,14,)","v":"No"}]
[1894,"KGF-A-0520TT","28413668","ULTA GF 5,0um 20IN TCTC 1pk","021","93","BIOPROCESS MEMBRANES","580","Normal Flow Filters",{"v":556.51,"d":"557"},{"v":5013.5985900000005,"d":"5,014"},null,{"$f":"VLOOKUP(B1895,'[1]2018.7 '!A:C,3,)","v":"Active"},{"$f":"VLOOKUP(B1895,'[1]2018.7 '!A:M,13,)","v":"Ambient"},{"$f":"VLOOKUP(B1895,'[1]2018.7 '!A:N,14,)","v":"No"}]
[1895,"KGF-A-0530BB","28413674","ULTA GF 5,0um 30 IN HBHB 1pk","021","93","BIOPROCESS MEMBRANES","580","Normal Flow Filters",{"v":819.11,"d":"819"},{"v":7379.36199,"d":"7,379"},null,{"$f":"VLOOKUP(B1896,'[1]2018.7 '!A:C,3,)","v":"Active"},{"$f":"VLOOKUP(B1896,'[1]2018.7 '!A:M,13,)","v":"Ambient"},{"$f":"VLOOKUP(B1896,'[1]2018.7 '!A:N,14,)","v":"Reviewing"}]
[1896,"KGF-A-0530FF","28413671","ULTA GF 5,0um 30 IN Fr-Fr 1pk","021","93","BIOPROCESS MEMBRANES","580","Normal Flow Filters",{"v":819.11,"d":"819"},{"v":7379.36199,"d":"7,379"},null,{"$f":"VLOOKUP(B1897,'[1]2018.7 '!A:C,3,)","v":"Active"},{"$f":"VLOOKUP(B1897,'[1]2018.7 '!A:M,13,)","v":"Ambient"},{"$f":"VLOOKUP(B1897,'[1]2018.7 '!A:N,14,)","v":"No"}]
[1897,"KGF-A-0530RR","28413673","ULTA GF 5,0um 30 IN sTC-sTC 1pk","021","93","BIOPROCESS MEMBRANES","580","Normal Flow Filters",{"v":819.11,"d":"819"},{"v":7379.36199,"d":"7,379"},null,{"$f":"VLOOKUP(B1898,'[1]2018.7 '!A:C,3,)","v":"Active"},{"$f":"VLOOKUP(B1898,'[1]2018.7 '!A:M,13,)","v":"Ambient"},{"$f":"VLOOKUP(B1898,'[1]2018.7 '!A:N,14,)","v":"No"}]
[1898,"KGF-A-0530TT","28413672","ULTA GF 5,0um 30 IN TCTC 1pk","021","93","BIOPROCESS MEMBRANES","580","Normal Flow Filters",{"v":819.11,"d":"819"},{"v":7379.36199,"d":"7,379"},null,{"$f":"VLOOKUP(B1899,'[1]2018.7 '!A:C,3,)","v":"Active"},{"$f":"VLOOKUP(B1899,'[1]2018.7 '!A:M,13,)","v":"Ambient"},{"$f":"VLOOKUP(B1899,'[1]2018.7 '!A:N,14,)","v":"No"}]
[1899,"KGF-A-05H1BB","28413662","ULTA GF 5,0um H10 HBHB 1pk","021","93","BIOPROCESS MEMBRANES","580","Normal Flow Filters",{"v":206.04,"d":"206"},{"v":1856.21436,"d":"1,856"},null,{"$f":"VLOOKUP(B1900,'[1]2018.7 '!A:C,3,)","v":"Active"},{"$f":"VLOOKUP(B1900,'[1]2018.7 '!A:M,13,)","v":"Ambient"},{"$f":"VLOOKUP(B1900,'[1]2018.7 '!A:N,14,)","v":"No"}]
[1900,"KGF-A-05H1FF","28413659","ULTA GF 5,0um H10 Fr-Fr 1pk","021","93","BIOPROCESS MEMBRANES","580","Normal Flow Filters",{"v":206.04,"d":"206"},{"v":1856.21436,"d":"1,856"},null,{"$f":"VLOOKUP(B1901,'[1]2018.7 '!A:C,3,)","v":"Active"},{"$f":"VLOOKUP(B1901,'[1]2018.7 '!A:M,13,)","v":"Ambient"},{"$f":"VLOOKUP(B1901,'[1]2018.7 '!A:N,14,)","v":"No"}]
[1901,"KGF-A-05H1RR","28413661","ULTA GF 5,0um H10 sTC-sTC 1pk","021","93","BIOPROCESS MEMBRANES","580","Normal Flow Filters",{"v":206.04,"d":"206"},{"v":1856.21436,"d":"1,856"},null,{"$f":"VLOOKUP(B1902,'[1]2018.7 '!A:C,3,)","v":"Active"},{"$f":"VLOOKUP(B1902,'[1]2018.7 '!A:M,13,)","v":"Ambient"},{"$f":"VLOOKUP(B1902,'[1]2018.7 '!A:N,14,)","v":"No"}]
[1902,"KGF-A-05H1TT","28413660","ULTA GF 5,0um H10 TCTC 1pk","021","93","BIOPROCESS MEMBRANES","580","Normal Flow Filters",{"v":206.04,"d":"206"},{"v":1856.21436,"d":"1,856"},null,{"$f":"VLOOKUP(B1903,'[1]2018.7 '!A:C,3,)","v":"Active"},{"$f":"VLOOKUP(B1903,'[1]2018.7 '!A:M,13,)","v":"Ambient"},{"$f":"VLOOKUP(B1903,'[1]2018.7 '!A:N,14,)","v":"No"}]
[1903,"KGF-A-0702GG","28908435","ULTA GF, 7um 2 in.step HB 3pk","021","93","BIOPROCESS MEMBRANES","580","Normal Flow Filters",{"v":263.61,"d":"264"},{"v":2374.8624900000004,"d":"2,375"},null,{"$f":"VLOOKUP(B1904,'[1]2018.7 '!A:C,3,)","v":"Active"},{"$f":"VLOOKUP(B1904,'[1]2018.7 '!A:M,13,)","v":"Ambient"},{"$f":"VLOOKUP(B1904,'[1]2018.7 '!A:N,14,)","v":"Reviewing"}]
[1904,"KGF-A-0702HH","28908437","ULTA GF, 7um 2 in.1/2 in HB 3pk","021","93","BIOPROCESS MEMBRANES","580","Normal Flow Filters",{"v":263.61,"d":"264"},{"v":2374.8624900000004,"d":"2,375"},null,{"$f":"VLOOKUP(B1905,'[1]2018.7 '!A:C,3,)","v":"Active"},{"$f":"VLOOKUP(B1905,'[1]2018.7 '!A:M,13,)","v":"Ambient"},{"$f":"VLOOKUP(B1905,'[1]2018.7 '!A:N,14,)","v":"Reviewing"}]
[1905,"KGF-A-0702TT","28908436","ULTA GF, 7um 2 in.TC 1.5inch 3pk","021","93","BIOPROCESS MEMBRANES","580","Normal Flow Filters",{"v":263.61,"d":"264"},{"v":2374.8624900000004,"d":"2,375"},null,{"$f":"VLOOKUP(B1906,'[1]2018.7 '!A:C,3,)","v":"Active"},{"$f":"VLOOKUP(B1906,'[1]2018.7 '!A:M,13,)","v":"Ambient"},{"$f":"VLOOKUP(B1906,'[1]2018.7 '!A:N,14,)","v":"No"}]
[1906,"KGF-A-0704GG","28908438","ULTA GF, 7um 4 in.step HB 3pk","021","93","BIOPROCESS MEMBRANES","580","Normal Flow Filters",{"v":360.57,"d":"361"},{"v":3248.37513,"d":"3,248"},null,{"$f":"VLOOKUP(B1907,'[1]2018.7 '!A:C,3,)","v":"Active"},{"$f":"VLOOKUP(B1907,'[1]2018.7 '!A:M,13,)","v":"Ambient"},{"$f":"VLOOKUP(B1907,'[1]2018.7 '!A:N,14,)","v":"Reviewing"}]
[1907,"KGF-A-0704HH","28908440","ULTA GF, 7um 4 in.1/2in HB 3pk","021","93","BIOPROCESS MEMBRANES","580","Normal Flow Filters",{"v":360.57,"d":"361"},{"v":3248.37513,"d":"3,248"},null,{"$f":"VLOOKUP(B1908,'[1]2018.7 '!A:C,3,)","v":"Active"},{"$f":"VLOOKUP(B1908,'[1]2018.7 '!A:M,13,)","v":"Ambient"},{"$f":"VLOOKUP(B1908,'[1]2018.7 '!A:N,14,)","v":"Reviewing"}]
[1908,"KGF-A-0704TT","28908439","ULTA GF, 7um 4 in.TC 1.5inch 3pk","021","93","BIOPROCESS MEMBRANES","580","Normal Flow Filters",{"v":391.88,"d":"392"},{"v":3530.4469200000003,"d":"3,530"},null,{"$f":"VLOOKUP(B1909,'[1]2018.7 '!A:C,3,)","v":"Active"},{"$f":"VLOOKUP(B1909,'[1]2018.7 '!A:M,13,)","v":"Ambient"},{"$f":"VLOOKUP(B1909,'[1]2018.7 '!A:N,14,)","v":"Reviewing"}]
[1909,"KGF-A-0706GG","28908441","ULTA GF, 7um 6 in.step HB 3pk","021","93","BIOPROCESS MEMBRANES","580","Normal Flow Filters",{"v":499.94999999999993,"d":"500"},{"v":4504.04955,"d":"4,504"},null,{"$f":"VLOOKUP(B1910,'[1]2018.7 '!A:C,3,)","v":"Active"},{"$f":"VLOOKUP(B1910,'[1]2018.7 '!A:M,13,)","v":"Ambient"},{"$f":"VLOOKUP(B1910,'[1]2018.7 '!A:N,14,)","v":"Reviewing"}]
[1910,"KGF-A-0706HH","28908443","ULTA GF, 7um 6 in.1/2in HB 3pk","021","93","BIOPROCESS MEMBRANES","580","Normal Flow Filters",{"v":499.94999999999993,"d":"500"},{"v":4504.04955,"d":"4,504"},null,{"$f":"VLOOKUP(B1911,'[1]2018.7 '!A:C,3,)","v":"Active"},{"$f":"VLOOKUP(B1911,'[1]2018.7 '!A:M,13,)","v":"Ambient"},{"$f":"VLOOKUP(B1911,'[1]2018.7 '!A:N,14,)","v":"Reviewing"}]
[1911,"KGF-A-0706TT","28908442","ULTA GF, 7um 6 in.TC 1.5inch 3pk","021","93","BIOPROCESS MEMBRANES","580","Normal Flow Filters",{"v":499.94999999999993,"d":"500"},{"v":4504.04955,"d":"4,504"},null,{"$f":"VLOOKUP(B1912,'[1]2018.7 '!A:C,3,)","v":"Active"},{"$f":"VLOOKUP(B1912,'[1]2018.7 '!A:M,13,)","v":"Ambient"},{"$f":"VLOOKUP(B1912,'[1]2018.7 '!A:N,14,)","v":"Reviewing"}]
[1912,"KGF-A-0710BB","28413682","ULTA GF 7,0um 10IN HBHB 1pk","021","93","BIOPROCESS MEMBRANES","580","Normal Flow Filters",{"v":283.81,"d":"284"},{"v":2556.84429,"d":"2,557"},null,{"$f":"VLOOKUP(B1913,'[1]2018.7 '!A:C,3,)","v":"Active"},{"$f":"VLOOKUP(B1913,'[1]2018.7 '!A:M,13,)","v":"Ambient"},{"$f":"VLOOKUP(B1913,'[1]2018.7 '!A:N,14,)","v":"Reviewing"}]
[1913,"KGF-A-0710FF","28413679","ULTA GF 7,0um 10IN Fr-Fr 1pk","021","93","BIOPROCESS MEMBRANES","580","Normal Flow Filters",{"v":283.81,"d":"284"},{"v":2556.84429,"d":"2,557"},null,{"$f":"VLOOKUP(B1914,'[1]2018.7 '!A:C,3,)","v":"Active"},{"$f":"VLOOKUP(B1914,'[1]2018.7 '!A:M,13,)","v":"Ambient"},{"$f":"VLOOKUP(B1914,'[1]2018.7 '!A:N,14,)","v":"Reviewing"}]
[1914,"KGF-A-0710RR","28413681","ULTA GF 7,0um 10IN sTC-sTC 1pk","021","93","BIOPROCESS MEMBRANES","580","Normal Flow Filters",{"v":283.81,"d":"284"},{"v":2556.84429,"d":"2,557"},null,{"$f":"VLOOKUP(B1915,'[1]2018.7 '!A:C,3,)","v":"Active"},{"$f":"VLOOKUP(B1915,'[1]2018.7 '!A:M,13,)","v":"Ambient"},{"$f":"VLOOKUP(B1915,'[1]2018.7 '!A:N,14,)","v":"Reviewing"}]
[1915,"KGF-A-0710TT","28413680","ULTA GF 7,0um 10IN TCTC 1pk","021","93","BIOPROCESS MEMBRANES","580","Normal Flow Filters",{"v":283.81,"d":"284"},{"v":2556.84429,"d":"2,557"},null,{"$f":"VLOOKUP(B1916,'[1]2018.7 '!A:C,3,)","v":"Active"},{"$f":"VLOOKUP(B1916,'[1]2018.7 '!A:M,13,)","v":"Ambient"},{"$f":"VLOOKUP(B1916,'[1]2018.7 '!A:N,14,)","v":"Reviewing"}]
[1916,"KGF-A-0720BB","28413686","ULTA GF 7,0um 20IN HBHB 1pk","021","93","BIOPROCESS MEMBRANES","580","Normal Flow Filters",{"v":556.51,"d":"557"},{"v":5013.5985900000005,"d":"5,014"},null,{"$f":"VLOOKUP(B1917,'[1]2018.7 '!A:C,3,)","v":"Active"},{"$f":"VLOOKUP(B1917,'[1]2018.7 '!A:M,13,)","v":"Ambient"},{"$f":"VLOOKUP(B1917,'[1]2018.7 '!A:N,14,)","v":"Reviewing"}]
[1917,"KGF-A-0720FF","28413683","ULTA GF 7,0um 20IN Fr-Fr 1pk","021","93","BIOPROCESS MEMBRANES","580","Normal Flow Filters",{"v":556.51,"d":"557"},{"v":5013.5985900000005,"d":"5,014"},null,{"$f":"VLOOKUP(B1918,'[1]2018.7 '!A:C,3,)","v":"Active"},{"$f":"VLOOKUP(B1918,'[1]2018.7 '!A:M,13,)","v":"Ambient"},{"$f":"VLOOKUP(B1918,'[1]2018.7 '!A:N,14,)","v":"Reviewing"}]
[1918,"KGF-A-0720RR","28413685","ULTA GF 7,0um 20IN sTC-sTC 1pk","021","93","BIOPROCESS MEMBRANES","580","Normal Flow Filters",{"v":556.51,"d":"557"},{"v":5013.5985900000005,"d":"5,014"},null,{"$f":"VLOOKUP(B1919,'[1]2018.7 '!A:C,3,)","v":"Active"},{"$f":"VLOOKUP(B1919,'[1]2018.7 '!A:M,13,)","v":"Ambient"},{"$f":"VLOOKUP(B1919,'[1]2018.7 '!A:N,14,)","v":"Reviewing"}]
[1919,"KGF-A-0720TT","28413684","ULTA GF 7,0um 20IN TCTC 1pk","021","93","BIOPROCESS MEMBRANES","580","Normal Flow Filters",{"v":556.51,"d":"557"},{"v":5013.5985900000005,"d":"5,014"},null,{"$f":"VLOOKUP(B1920,'[1]2018.7 '!A:C,3,)","v":"Active"},{"$f":"VLOOKUP(B1920,'[1]2018.7 '!A:M,13,)","v":"Ambient"},{"$f":"VLOOKUP(B1920,'[1]2018.7 '!A:N,14,)","v":"Reviewing"}]
[1920,"KGF-A-0730BB","28413690","ULTA GF 7,0um 30 IN HBHB 1pk","021","93","BIOPROCESS MEMBRANES","580","Normal Flow Filters",{"v":819.11,"d":"819"},{"v":7379.36199,"d":"7,379"},null,{"$f":"VLOOKUP(B1921,'[1]2018.7 '!A:C,3,)","v":"Active"},{"$f":"VLOOKUP(B1921,'[1]2018.7 '!A:M,13,)","v":"Ambient"},{"$f":"VLOOKUP(B1921,'[1]2018.7 '!A:N,14,)","v":"Reviewing"}]
[1921,"KGF-A-0730FF","28413687","ULTA GF 7,0um 30 IN Fr-Fr 1pk","021","93","BIOPROCESS MEMBRANES","580","Normal Flow Filters",{"v":819.11,"d":"819"},{"v":7379.36199,"d":"7,379"},null,{"$f":"VLOOKUP(B1922,'[1]2018.7 '!A:C,3,)","v":"Active"},{"$f":"VLOOKUP(B1922,'[1]2018.7 '!A:M,13,)","v":"Ambient"},{"$f":"VLOOKUP(B1922,'[1]2018.7 '!A:N,14,)","v":"Reviewing"}]
[1922,"KGF-A-0730RR","28413689","ULTA GF 7,0um 30 IN sTC-sTC 1pk","021","93","BIOPROCESS MEMBRANES","580","Normal Flow Filters",{"v":819.11,"d":"819"},{"v":7379.36199,"d":"7,379"},null,{"$f":"VLOOKUP(B1923,'[1]2018.7 '!A:C,3,)","v":"Active"},{"$f":"VLOOKUP(B1923,'[1]2018.7 '!A:M,13,)","v":"Ambient"},{"$f":"VLOOKUP(B1923,'[1]2018.7 '!A:N,14,)","v":"Reviewing"}]
[1923,"KGF-A-0730TT","28413688","ULTA GF 7,0um 30 IN TCTC 1pk","021","93","BIOPROCESS MEMBRANES","580","Normal Flow Filters",{"v":819.11,"d":"819"},{"v":7379.36199,"d":"7,379"},null,{"$f":"VLOOKUP(B1924,'[1]2018.7 '!A:C,3,)","v":"Active"},{"$f":"VLOOKUP(B1924,'[1]2018.7 '!A:M,13,)","v":"Ambient"},{"$f":"VLOOKUP(B1924,'[1]2018.7 '!A:N,14,)","v":"Reviewing"}]
[1924,"KGF-A-07H1BB","28413678","ULTA GF 7,0um H10 HBHB 1pk","021","93","BIOPROCESS MEMBRANES","580","Normal Flow Filters",{"$f":"K1925/9.009","v":{"v":206.04,"d":"206"}},{"v":1856.21436,"d":"1,856"},null,{"$f":"VLOOKUP(B1925,'[1]2018.7 '!A:C,3,)","v":"Active"},{"$f":"VLOOKUP(B1925,'[1]2018.7 '!A:M,13,)","v":"Ambient"},{"$f":"VLOOKUP(B1925,'[1]2018.7 '!A:N,14,)","v":"Reviewing"}]
[1925,"KGF-A-07H1FF","28413675","ULTA GF 7,0um H10 Fr-Fr 1pk","021","93","BIOPROCESS MEMBRANES","580","Normal Flow Filters",{"v":206.04,"d":"206"},{"v":1856.21436,"d":"1,856"},null,{"$f":"VLOOKUP(B1926,'[1]2018.7 '!A:C,3,)","v":"Active"},{"$f":"VLOOKUP(B1926,'[1]2018.7 '!A:M,13,)","v":"Ambient"},{"$f":"VLOOKUP(B1926,'[1]2018.7 '!A:N,14,)","v":"Reviewing"}]
[1926,"KGF-A-07H1RR","28413677","ULTA GF 7,0um H10 sTC-sTC 1pk","021","93","BIOPROCESS MEMBRANES","580","Normal Flow Filters",{"v":206.04,"d":"206"},{"v":1856.21436,"d":"1,856"},null,{"$f":"VLOOKUP(B1927,'[1]2018.7 '!A:C,3,)","v":"Active"},{"$f":"VLOOKUP(B1927,'[1]2018.7 '!A:M,13,)","v":"Ambient"},{"$f":"VLOOKUP(B1927,'[1]2018.7 '!A:N,14,)","v":"Reviewing"}]
[1927,"KGF-A-07H1TT","28413676","ULTA GF 7,0um H10 TCTC 1pk","021","93","BIOPROCESS MEMBRANES","580","Normal Flow Filters",{"v":206.04,"d":"206"},{"v":1856.21436,"d":"1,856"},null,{"$f":"VLOOKUP(B1928,'[1]2018.7 '!A:C,3,)","v":"Active"},{"$f":"VLOOKUP(B1928,'[1]2018.7 '!A:M,13,)","v":"Ambient"},{"$f":"VLOOKUP(B1928,'[1]2018.7 '!A:N,14,)","v":"Reviewing"}]
[1928,"KGF-A-1002GG","28908444","ULTA GF, 10um 2 in.step HB 3pk","021","93","BIOPROCESS MEMBRANES","580","Normal Flow Filters",{"v":263.61,"d":"264"},{"v":2374.8624900000004,"d":"2,375"},null,{"$f":"VLOOKUP(B1929,'[1]2018.7 '!A:C,3,)","v":"Active"},{"$f":"VLOOKUP(B1929,'[1]2018.7 '!A:M,13,)","v":"Ambient"},{"$f":"VLOOKUP(B1929,'[1]2018.7 '!A:N,14,)","v":"No"}]
[1929,"KGF-A-1002HH","28908446","ULTA GF, 10um 2 in.1/2in HB 3pk","021","93","BIOPROCESS MEMBRANES","580","Normal Flow Filters",{"v":263.61,"d":"264"},{"v":2374.8624900000004,"d":"2,375"},null,{"$f":"VLOOKUP(B1930,'[1]2018.7 '!A:C,3,)","v":"Active"},{"$f":"VLOOKUP(B1930,'[1]2018.7 '!A:M,13,)","v":"Ambient"},{"$f":"VLOOKUP(B1930,'[1]2018.7 '!A:N,14,)","v":"Reviewing"}]
[1930,"KGF-A-1002TT","28908445","ULTA GF, 10um 2 in.TC 1.5inch 3pk","021","93","BIOPROCESS MEMBRANES","580","Normal Flow Filters",{"v":263.61,"d":"264"},{"v":2374.8624900000004,"d":"2,375"},null,{"$f":"VLOOKUP(B1931,'[1]2018.7 '!A:C,3,)","v":"Active"},{"$f":"VLOOKUP(B1931,'[1]2018.7 '!A:M,13,)","v":"Ambient"},{"$f":"VLOOKUP(B1931,'[1]2018.7 '!A:N,14,)","v":"No"}]
[1931,"KGF-A-1004GG","28908447","ULTA GF, 10um 4 in.step HB 3pk","021","93","BIOPROCESS MEMBRANES","580","Normal Flow Filters",{"v":391.88,"d":"392"},{"v":3530.4469200000003,"d":"3,530"},null,{"$f":"VLOOKUP(B1932,'[1]2018.7 '!A:C,3,)","v":"Active"},{"$f":"VLOOKUP(B1932,'[1]2018.7 '!A:M,13,)","v":"Ambient"},{"$f":"VLOOKUP(B1932,'[1]2018.7 '!A:N,14,)","v":"No"}]
[1932,"KGF-A-1004HH","28908449","ULTA GF, 10um 4 in.1/2in HB 3pk","021","93","BIOPROCESS MEMBRANES","580","Normal Flow Filters",{"v":360.57,"d":"361"},{"v":3248.37513,"d":"3,248"},null,{"$f":"VLOOKUP(B1933,'[1]2018.7 '!A:C,3,)","v":"Active"},{"$f":"VLOOKUP(B1933,'[1]2018.7 '!A:M,13,)","v":"Ambient"},{"$f":"VLOOKUP(B1933,'[1]2018.7 '!A:N,14,)","v":"Reviewing"}]
[1933,"KGF-A-1004TT","28908448","ULTA GF, 10um 4 in.TC 1.5inch 3pk","021","93","BIOPROCESS MEMBRANES","580","Normal Flow Filters",{"v":391.88,"d":"392"},{"v":3530.4469200000003,"d":"3,530"},null,{"$f":"VLOOKUP(B1934,'[1]2018.7 '!A:C,3,)","v":"Active"},{"$f":"VLOOKUP(B1934,'[1]2018.7 '!A:M,13,)","v":"Ambient"},{"$f":"VLOOKUP(B1934,'[1]2018.7 '!A:N,14,)","v":"Reviewing"}]
[1934,"KGF-A-1006GG","28908450","ULTA GF, 10um 6 in.step HB 3pk","021","93","BIOPROCESS MEMBRANES","580","Normal Flow Filters",{"v":499.94999999999993,"d":"500"},{"v":4504.04955,"d":"4,504"},null,{"$f":"VLOOKUP(B1935,'[1]2018.7 '!A:C,3,)","v":"Active"},{"$f":"VLOOKUP(B1935,'[1]2018.7 '!A:M,13,)","v":"Ambient"},{"$f":"VLOOKUP(B1935,'[1]2018.7 '!A:N,14,)","v":"No"}]
[1935,"KGF-A-1006HH","28908452","ULTA GF, 10um 6 in.1/2in HB 3pk","021","93","BIOPROCESS MEMBRANES","580","Normal Flow Filters",{"v":499.94999999999993,"d":"500"},{"v":4504.04955,"d":"4,504"},null,{"$f":"VLOOKUP(B1936,'[1]2018.7 '!A:C,3,)","v":"Active"},{"$f":"VLOOKUP(B1936,'[1]2018.7 '!A:M,13,)","v":"Ambient"},{"$f":"VLOOKUP(B1936,'[1]2018.7 '!A:N,14,)","v":"Reviewing"}]
[1936,"KGF-A-1006TT","28908451","ULTA GF, 10um 6 in.TC 1.5inch 3pk","021","93","BIOPROCESS MEMBRANES","580","Normal Flow Filters",{"v":499.94999999999993,"d":"500"},{"v":4504.04955,"d":"4,504"},null,{"$f":"VLOOKUP(B1937,'[1]2018.7 '!A:C,3,)","v":"Active"},{"$f":"VLOOKUP(B1937,'[1]2018.7 '!A:M,13,)","v":"Ambient"},{"$f":"VLOOKUP(B1937,'[1]2018.7 '!A:N,14,)","v":"Reviewing"}]
[1937,"KGF-A-1010BB","28413698","ULTA GF 10um 10IN HBHB 1pk","021","93","BIOPROCESS MEMBRANES","580","Normal Flow Filters",{"v":283.81,"d":"284"},{"v":2556.84429,"d":"2,557"},null,{"$f":"VLOOKUP(B1938,'[1]2018.7 '!A:C,3,)","v":"Active"},{"$f":"VLOOKUP(B1938,'[1]2018.7 '!A:M,13,)","v":"Ambient"},{"$f":"VLOOKUP(B1938,'[1]2018.7 '!A:N,14,)","v":"Reviewing"}]
[1938,"KGF-A-1010FF","28413695","ULTA GF 10um 10IN Fr-Fr 1pk","021","93","BIOPROCESS MEMBRANES","580","Normal Flow Filters",{"v":283.81,"d":"284"},{"v":2556.84429,"d":"2,557"},null,{"$f":"VLOOKUP(B1939,'[1]2018.7 '!A:C,3,)","v":"Active"},{"$f":"VLOOKUP(B1939,'[1]2018.7 '!A:M,13,)","v":"Ambient"},{"$f":"VLOOKUP(B1939,'[1]2018.7 '!A:N,14,)","v":"Reviewing"}]
[1939,"KGF-A-1010RR","28413697","ULTA GF 10um 10IN sTC-sTC 1pk","021","93","BIOPROCESS MEMBRANES","580","Normal Flow Filters",{"v":283.81,"d":"284"},{"v":2556.84429,"d":"2,557"},null,{"$f":"VLOOKUP(B1940,'[1]2018.7 '!A:C,3,)","v":"Active"},{"$f":"VLOOKUP(B1940,'[1]2018.7 '!A:M,13,)","v":"Ambient"},{"$f":"VLOOKUP(B1940,'[1]2018.7 '!A:N,14,)","v":"Reviewing"}]
[1940,"KGF-A-1010TT","28413696","ULTA GF 10um 10IN TCTC 1pk","021","93","BIOPROCESS MEMBRANES","580","Normal Flow Filters",{"v":283.81,"d":"284"},{"v":2556.84429,"d":"2,557"},null,{"$f":"VLOOKUP(B1941,'[1]2018.7 '!A:C,3,)","v":"Active"},{"$f":"VLOOKUP(B1941,'[1]2018.7 '!A:M,13,)","v":"Ambient"},{"$f":"VLOOKUP(B1941,'[1]2018.7 '!A:N,14,)","v":"Reviewing"}]
[1941,"KGF-A-1020BB","28413702","ULTA GF 10um 20IN HBHB 1pk","021","93","BIOPROCESS MEMBRANES","580","Normal Flow Filters",{"v":556.51,"d":"557"},{"v":5013.5985900000005,"d":"5,014"},null,{"$f":"VLOOKUP(B1942,'[1]2018.7 '!A:C,3,)","v":"Active"},{"$f":"VLOOKUP(B1942,'[1]2018.7 '!A:M,13,)","v":"Ambient"},{"$f":"VLOOKUP(B1942,'[1]2018.7 '!A:N,14,)","v":"Reviewing"}]
[1942,"KGF-A-1020FF","28413699","ULTA GF 10um 20IN Fr-Fr 1pk","021","93","BIOPROCESS MEMBRANES","580","Normal Flow Filters",{"v":556.51,"d":"557"},{"v":5013.5985900000005,"d":"5,014"},null,{"$f":"VLOOKUP(B1943,'[1]2018.7 '!A:C,3,)","v":"Active"},{"$f":"VLOOKUP(B1943,'[1]2018.7 '!A:M,13,)","v":"Ambient"},{"$f":"VLOOKUP(B1943,'[1]2018.7 '!A:N,14,)","v":"Reviewing"}]
[1943,"KGF-A-1020RR","28413701","ULTA GF 10um 20IN sTC-sTC 1pk","021","93","BIOPROCESS MEMBRANES","580","Normal Flow Filters",{"v":556.51,"d":"557"},{"v":5013.5985900000005,"d":"5,014"},null,{"$f":"VLOOKUP(B1944,'[1]2018.7 '!A:C,3,)","v":"Active"},{"$f":"VLOOKUP(B1944,'[1]2018.7 '!A:M,13,)","v":"Ambient"},{"$f":"VLOOKUP(B1944,'[1]2018.7 '!A:N,14,)","v":"Reviewing"}]
[1944,"KGF-A-1020TT","28413700","ULTA GF 10um 20IN TCTC 1pk","021","93","BIOPROCESS MEMBRANES","580","Normal Flow Filters",{"v":556.51,"d":"557"},{"v":5013.5985900000005,"d":"5,014"},null,{"$f":"VLOOKUP(B1945,'[1]2018.7 '!A:C,3,)","v":"Active"},{"$f":"VLOOKUP(B1945,'[1]2018.7 '!A:M,13,)","v":"Ambient"},{"$f":"VLOOKUP(B1945,'[1]2018.7 '!A:N,14,)","v":"Reviewing"}]
[1945,"KGF-A-1030BB","28413706","ULTA GF 10um 30 IN HBHB 1pk","021","93","BIOPROCESS MEMBRANES","580","Normal Flow Filters",{"v":819.11,"d":"819"},{"v":7379.36199,"d":"7,379"},null,{"$f":"VLOOKUP(B1946,'[1]2018.7 '!A:C,3,)","v":"Active"},{"$f":"VLOOKUP(B1946,'[1]2018.7 '!A:M,13,)","v":"Ambient"},{"$f":"VLOOKUP(B1946,'[1]2018.7 '!A:N,14,)","v":"Reviewing"}]
[1946,"KGF-A-1030FF","28413703","ULTA GF 10um 30 IN Fr-Fr 1pk","021","93","BIOPROCESS MEMBRANES","580","Normal Flow Filters",{"v":819.11,"d":"819"},{"v":7379.36199,"d":"7,379"},null,{"$f":"VLOOKUP(B1947,'[1]2018.7 '!A:C,3,)","v":"Active"},{"$f":"VLOOKUP(B1947,'[1]2018.7 '!A:M,13,)","v":"Ambient"},{"$f":"VLOOKUP(B1947,'[1]2018.7 '!A:N,14,)","v":"Reviewing"}]
[1947,"KGF-A-1030RR","28413705","ULTA GF 10um 30 IN sTC-sTC 1pk","021","93","BIOPROCESS MEMBRANES","580","Normal Flow Filters",{"v":819.11,"d":"819"},{"v":7379.36199,"d":"7,379"},null,{"$f":"VLOOKUP(B1948,'[1]2018.7 '!A:C,3,)","v":"Active"},{"$f":"VLOOKUP(B1948,'[1]2018.7 '!A:M,13,)","v":"Ambient"},{"$f":"VLOOKUP(B1948,'[1]2018.7 '!A:N,14,)","v":"Reviewing"}]
[1948,"KGF-A-1030TT","28413704","ULTA GF 10um 30 IN TCTC 1pk","021","93","BIOPROCESS MEMBRANES","580","Normal Flow Filters",{"v":819.11,"d":"819"},{"v":7379.36199,"d":"7,379"},null,{"$f":"VLOOKUP(B1949,'[1]2018.7 '!A:C,3,)","v":"Active"},{"$f":"VLOOKUP(B1949,'[1]2018.7 '!A:M,13,)","v":"Ambient"},{"$f":"VLOOKUP(B1949,'[1]2018.7 '!A:N,14,)","v":"Reviewing"}]
[1949,"KGF-A-10H1BB","28413694","ULTA GF 10um H10 HBHB 1pk","021","93","BIOPROCESS MEMBRANES","580","Normal Flow Filters",{"v":206.04,"d":"206"},{"v":1856.21436,"d":"1,856"},null,{"$f":"VLOOKUP(B1950,'[1]2018.7 '!A:C,3,)","v":"Active"},{"$f":"VLOOKUP(B1950,'[1]2018.7 '!A:M,13,)","v":"Ambient"},{"$f":"VLOOKUP(B1950,'[1]2018.7 '!A:N,14,)","v":"Reviewing"}]
[1950,"KGF-A-10H1FF","28413691","ULTA GF 10um H10 Fr-Fr 1pk","021","93","BIOPROCESS MEMBRANES","580","Normal Flow Filters",{"v":206.04,"d":"206"},{"v":1856.21436,"d":"1,856"},null,{"$f":"VLOOKUP(B1951,'[1]2018.7 '!A:C,3,)","v":"Active"},{"$f":"VLOOKUP(B1951,'[1]2018.7 '!A:M,13,)","v":"Ambient"},{"$f":"VLOOKUP(B1951,'[1]2018.7 '!A:N,14,)","v":"Reviewing"}]
[1951,"KGF-A-10H1RR","28413693","ULTA GF 10um H10 sTC-sTC 1pk","021","93","BIOPROCESS MEMBRANES","580","Normal Flow Filters",{"v":206.04,"d":"206"},{"v":1856.21436,"d":"1,856"},null,{"$f":"VLOOKUP(B1952,'[1]2018.7 '!A:C,3,)","v":"Active"},{"$f":"VLOOKUP(B1952,'[1]2018.7 '!A:M,13,)","v":"Ambient"},{"$f":"VLOOKUP(B1952,'[1]2018.7 '!A:N,14,)","v":"Reviewing"}]
[1952,"KGF-A-10H1TT","28413692","ULTA GF 10um H10 TCTC 1pk","021","93","BIOPROCESS MEMBRANES","580","Normal Flow Filters",{"v":206.04,"d":"206"},{"v":1856.21436,"d":"1,856"},null,{"$f":"VLOOKUP(B1953,'[1]2018.7 '!A:C,3,)","v":"Active"},{"$f":"VLOOKUP(B1953,'[1]2018.7 '!A:M,13,)","v":"Ambient"},{"$f":"VLOOKUP(B1953,'[1]2018.7 '!A:N,14,)","v":"Reviewing"}]
[1953,"KGF-A-9602GG","28908329","ULTA GF, 0.6um 2 in.step HB 3pk","021","93","BIOPROCESS MEMBRANES","580","Normal Flow Filters",{"v":263.61,"d":"264"},{"v":2374.8624900000004,"d":"2,375"},null,{"$f":"VLOOKUP(B1954,'[1]2018.7 '!A:C,3,)","v":"Active"},{"$f":"VLOOKUP(B1954,'[1]2018.7 '!A:M,13,)","v":"Ambient"},{"$f":"VLOOKUP(B1954,'[1]2018.7 '!A:N,14,)","v":"No"}]
[1954,"KGF-A-9602HH","28908331","ULTA GF, 0.6um 2 in.1/2in HB 3pk","021","93","BIOPROCESS MEMBRANES","580","Normal Flow Filters",{"v":263.61,"d":"264"},{"v":2374.8624900000004,"d":"2,375"},null,{"$f":"VLOOKUP(B1955,'[1]2018.7 '!A:C,3,)","v":"Active"},{"$f":"VLOOKUP(B1955,'[1]2018.7 '!A:M,13,)","v":"Ambient"},{"$f":"VLOOKUP(B1955,'[1]2018.7 '!A:N,14,)","v":"No"}]
[1955,"KGF-A-9602TT","28908330","ULTA GF, 0.6um 2 in.TC 1.5inch 3pk","021","93","BIOPROCESS MEMBRANES","580","Normal Flow Filters",{"v":263.61,"d":"264"},{"v":2374.8624900000004,"d":"2,375"},null,{"$f":"VLOOKUP(B1956,'[1]2018.7 '!A:C,3,)","v":"Active"},{"$f":"VLOOKUP(B1956,'[1]2018.7 '!A:M,13,)","v":"Ambient"},{"$f":"VLOOKUP(B1956,'[1]2018.7 '!A:N,14,)","v":"Reviewing"}]
[1956,"KGF-A-9604GG","28908332","ULTA GF, 0.6um 4 in.step HB 3pk","021","93","BIOPROCESS MEMBRANES","580","Normal Flow Filters",{"v":391.88,"d":"392"},{"v":3530.4469200000003,"d":"3,530"},null,{"$f":"VLOOKUP(B1957,'[1]2018.7 '!A:C,3,)","v":"Active"},{"$f":"VLOOKUP(B1957,'[1]2018.7 '!A:M,13,)","v":"Ambient"},{"$f":"VLOOKUP(B1957,'[1]2018.7 '!A:N,14,)","v":"No"}]
[1957,"KGF-A-9604HH","28908334","ULTA GF, 0.6um 4 in.1/2in HB 3pk","021","93","BIOPROCESS MEMBRANES","580","Normal Flow Filters",{"v":391.88,"d":"392"},{"v":3530.4469200000003,"d":"3,530"},null,{"$f":"VLOOKUP(B1958,'[1]2018.7 '!A:C,3,)","v":"Active"},{"$f":"VLOOKUP(B1958,'[1]2018.7 '!A:M,13,)","v":"Ambient"},{"$f":"VLOOKUP(B1958,'[1]2018.7 '!A:N,14,)","v":"Reviewing"}]
[1958,"KGF-A-9604TT","28908333","ULTA GF, 0.6um 4 in.TC 1.5inch 3pk","021","93","BIOPROCESS MEMBRANES","580","Normal Flow Filters",{"v":391.88,"d":"392"},{"v":3530.4469200000003,"d":"3,530"},null,{"$f":"VLOOKUP(B1959,'[1]2018.7 '!A:C,3,)","v":"Active"},{"$f":"VLOOKUP(B1959,'[1]2018.7 '!A:M,13,)","v":"Ambient"},{"$f":"VLOOKUP(B1959,'[1]2018.7 '!A:N,14,)","v":"No"}]
[1959,"KGF-A-9606GG","28908335","ULTA GF, 0.6um 6 in.step HB 3pk","021","93","BIOPROCESS MEMBRANES","580","Normal Flow Filters",{"v":499.94999999999993,"d":"500"},{"v":4504.04955,"d":"4,504"},null,{"$f":"VLOOKUP(B1960,'[1]2018.7 '!A:C,3,)","v":"Active"},{"$f":"VLOOKUP(B1960,'[1]2018.7 '!A:M,13,)","v":"Ambient"},{"$f":"VLOOKUP(B1960,'[1]2018.7 '!A:N,14,)","v":"No"}]
[1960,"KGF-A-9606HH","28908337","ULTA GF, 0.6um 6 in.1/2in HB 3pk","021","93","BIOPROCESS MEMBRANES","580","Normal Flow Filters",{"v":499.94999999999993,"d":"500"},{"v":4504.04955,"d":"4,504"},null,{"$f":"VLOOKUP(B1961,'[1]2018.7 '!A:C,3,)","v":"Active"},{"$f":"VLOOKUP(B1961,'[1]2018.7 '!A:M,13,)","v":"Ambient"},{"$f":"VLOOKUP(B1961,'[1]2018.7 '!A:N,14,)","v":"Reviewing"}]
[1961,"KGF-A-9606TT","28908336","ULTA GF, 0.6um 6 in.TC 1.5inch 3pk","021","93","BIOPROCESS MEMBRANES","580","Normal Flow Filters",{"v":499.94999999999993,"d":"500"},{"v":4504.04955,"d":"4,504"},null,{"$f":"VLOOKUP(B1962,'[1]2018.7 '!A:C,3,)","v":"Active"},{"$f":"VLOOKUP(B1962,'[1]2018.7 '!A:M,13,)","v":"Ambient"},{"$f":"VLOOKUP(B1962,'[1]2018.7 '!A:N,14,)","v":"Reviewing"}]
[1962,"KGF-A-9610BB","28400409","ULTA GF 0,6um 10in HBHB 1pk","021","93","BIOPROCESS MEMBRANES","580","Normal Flow Filters",{"v":283.81,"d":"284"},{"v":2556.84429,"d":"2,557"},null,{"$f":"VLOOKUP(B1963,'[1]2018.7 '!A:C,3,)","v":"Active"},{"$f":"VLOOKUP(B1963,'[1]2018.7 '!A:M,13,)","v":"Ambient"},{"$f":"VLOOKUP(B1963,'[1]2018.7 '!A:N,14,)","v":"Reviewing"}]
[1963,"KGF-A-9610FF","28413617","ULTA GF 0,6um 10IN Fr-Fr 1pk","021","93","BIOPROCESS MEMBRANES","580","Normal Flow Filters",{"v":283.81,"d":"284"},{"v":2556.84429,"d":"2,557"},null,{"$f":"VLOOKUP(B1964,'[1]2018.7 '!A:C,3,)","v":"Active"},{"$f":"VLOOKUP(B1964,'[1]2018.7 '!A:M,13,)","v":"Ambient"},{"$f":"VLOOKUP(B1964,'[1]2018.7 '!A:N,14,)","v":"Reviewing"}]
[1964,"KGF-A-9610RR","28413619","ULTA GF 0,6um 10IN sTC-sTC 1pk","021","93","BIOPROCESS MEMBRANES","580","Normal Flow Filters",{"v":283.81,"d":"284"},{"v":2556.84429,"d":"2,557"},null,{"$f":"VLOOKUP(B1965,'[1]2018.7 '!A:C,3,)","v":"Active"},{"$f":"VLOOKUP(B1965,'[1]2018.7 '!A:M,13,)","v":"Ambient"},{"$f":"VLOOKUP(B1965,'[1]2018.7 '!A:N,14,)","v":"Reviewing"}]
[1965,"KGF-A-9610TT","28413618","ULTA GF 0,6um 10IN TCTC 1pk","021","93","BIOPROCESS MEMBRANES","580","Normal Flow Filters",{"v":283.81,"d":"284"},{"v":2556.84429,"d":"2,557"},null,{"$f":"VLOOKUP(B1966,'[1]2018.7 '!A:C,3,)","v":"Active"},{"$f":"VLOOKUP(B1966,'[1]2018.7 '!A:M,13,)","v":"Ambient"},{"$f":"VLOOKUP(B1966,'[1]2018.7 '!A:N,14,)","v":"No"}]
[1966,"KGF-A-9620BB","28400410","ULTA GF 0,6um 20in HBHB 1pk","021","93","BIOPROCESS MEMBRANES","580","Normal Flow Filters",{"v":556.51,"d":"557"},{"v":5013.5985900000005,"d":"5,014"},null,{"$f":"VLOOKUP(B1967,'[1]2018.7 '!A:C,3,)","v":"Active"},{"$f":"VLOOKUP(B1967,'[1]2018.7 '!A:M,13,)","v":"Ambient"},{"$f":"VLOOKUP(B1967,'[1]2018.7 '!A:N,14,)","v":"Reviewing"}]
[1967,"KGF-A-9620FF","28413620","ULTA GF 0,6um 20IN Fr-Fr 1pk","021","93","BIOPROCESS MEMBRANES","580","Normal Flow Filters",{"v":556.51,"d":"557"},{"v":5013.5985900000005,"d":"5,014"},null,{"$f":"VLOOKUP(B1968,'[1]2018.7 '!A:C,3,)","v":"Active"},{"$f":"VLOOKUP(B1968,'[1]2018.7 '!A:M,13,)","v":"Ambient"},{"$f":"VLOOKUP(B1968,'[1]2018.7 '!A:N,14,)","v":"Reviewing"}]
[1968,"KGF-A-9620RR","28413622","ULTA GF 0,6um 20IN sTC-sTC 1pk","021","93","BIOPROCESS MEMBRANES","580","Normal Flow Filters",{"v":556.51,"d":"557"},{"v":5013.5985900000005,"d":"5,014"},null,{"$f":"VLOOKUP(B1969,'[1]2018.7 '!A:C,3,)","v":"Active"},{"$f":"VLOOKUP(B1969,'[1]2018.7 '!A:M,13,)","v":"Ambient"},{"$f":"VLOOKUP(B1969,'[1]2018.7 '!A:N,14,)","v":"Reviewing"}]
[1969,"KGF-A-9620TT","28413621","ULTA GF 0,6um 20IN TCTC 1pk","021","93","BIOPROCESS MEMBRANES","580","Normal Flow Filters",{"v":556.51,"d":"557"},{"v":5013.5985900000005,"d":"5,014"},null,{"$f":"VLOOKUP(B1970,'[1]2018.7 '!A:C,3,)","v":"Active"},{"$f":"VLOOKUP(B1970,'[1]2018.7 '!A:M,13,)","v":"Ambient"},{"$f":"VLOOKUP(B1970,'[1]2018.7 '!A:N,14,)","v":"Reviewing"}]
[1970,"KGF-A-9630BB","28413626","ULTA GF 0,6um 30 IN HBHB 1pk","021","93","BIOPROCESS MEMBRANES","580","Normal Flow Filters",{"v":819.11,"d":"819"},{"v":7379.36199,"d":"7,379"},null,{"$f":"VLOOKUP(B1971,'[1]2018.7 '!A:C,3,)","v":"Active"},{"$f":"VLOOKUP(B1971,'[1]2018.7 '!A:M,13,)","v":"Ambient"},{"$f":"VLOOKUP(B1971,'[1]2018.7 '!A:N,14,)","v":"Reviewing"}]
[1971,"KGF-A-9630FF","28413623","ULTA GF 0,6um 30 IN Fr-Fr 1pk","021","93","BIOPROCESS MEMBRANES","580","Normal Flow Filters",{"v":819.11,"d":"819"},{"v":7379.36199,"d":"7,379"},null,{"$f":"VLOOKUP(B1972,'[1]2018.7 '!A:C,3,)","v":"Active"},{"$f":"VLOOKUP(B1972,'[1]2018.7 '!A:M,13,)","v":"Ambient"},{"$f":"VLOOKUP(B1972,'[1]2018.7 '!A:N,14,)","v":"Reviewing"}]
[1972,"KGF-A-9630RR","28413625","ULTA GF 0,6um 30 IN sTC-sTC 1pk","021","93","BIOPROCESS MEMBRANES","580","Normal Flow Filters",{"v":819.11,"d":"819"},{"v":7379.36199,"d":"7,379"},null,{"$f":"VLOOKUP(B1973,'[1]2018.7 '!A:C,3,)","v":"Active"},{"$f":"VLOOKUP(B1973,'[1]2018.7 '!A:M,13,)","v":"Ambient"},{"$f":"VLOOKUP(B1973,'[1]2018.7 '!A:N,14,)","v":"Reviewing"}]
[1973,"KGF-A-9630TT","28413624","ULTA GF 0,6um 30 IN TCTC 1pk","021","93","BIOPROCESS MEMBRANES","580","Normal Flow Filters",{"v":819.11,"d":"819"},{"v":7379.36199,"d":"7,379"},null,{"$f":"VLOOKUP(B1974,'[1]2018.7 '!A:C,3,)","v":"Active"},{"$f":"VLOOKUP(B1974,'[1]2018.7 '!A:M,13,)","v":"Ambient"},{"$f":"VLOOKUP(B1974,'[1]2018.7 '!A:N,14,)","v":"No"}]
[1974,"KGF-A-96H1BB","28413616","ULTA GF 0,6um H10 HBHB 1pk","021","93","BIOPROCESS MEMBRANES","580","Normal Flow Filters",{"v":206.04,"d":"206"},{"v":1856.21436,"d":"1,856"},null,{"$f":"VLOOKUP(B1975,'[1]2018.7 '!A:C,3,)","v":"Active"},{"$f":"VLOOKUP(B1975,'[1]2018.7 '!A:M,13,)","v":"Ambient"},{"$f":"VLOOKUP(B1975,'[1]2018.7 '!A:N,14,)","v":"Reviewing"}]
[1975,"KGF-A-96H1FF","28413613","ULTA GF 0,6um H10 Fr-Fr 1pk","021","93","BIOPROCESS MEMBRANES","580","Normal Flow Filters",{"v":206.04,"d":"206"},{"v":1856.21436,"d":"1,856"},null,{"$f":"VLOOKUP(B1976,'[1]2018.7 '!A:C,3,)","v":"Active"},{"$f":"VLOOKUP(B1976,'[1]2018.7 '!A:M,13,)","v":"Ambient"},{"$f":"VLOOKUP(B1976,'[1]2018.7 '!A:N,14,)","v":"Reviewing"}]
[1976,"KGF-A-96H1RR","28413615","ULTA GF 0,6um H10 sTC-sTC 1pk","021","93","BIOPROCESS MEMBRANES","580","Normal Flow Filters",{"v":206.04,"d":"206"},{"v":1856.21436,"d":"1,856"},null,{"$f":"VLOOKUP(B1977,'[1]2018.7 '!A:C,3,)","v":"Active"},{"$f":"VLOOKUP(B1977,'[1]2018.7 '!A:M,13,)","v":"Ambient"},{"$f":"VLOOKUP(B1977,'[1]2018.7 '!A:N,14,)","v":"Reviewing"}]
[1977,"KGF-A-96H1TT","28413614","ULTA GF 0,6um H10 TCTC 1pk","021","93","BIOPROCESS MEMBRANES","580","Normal Flow Filters",{"v":206.04,"d":"206"},{"v":1856.21436,"d":"1,856"},null,{"$f":"VLOOKUP(B1978,'[1]2018.7 '!A:C,3,)","v":"Active"},{"$f":"VLOOKUP(B1978,'[1]2018.7 '!A:M,13,)","v":"Ambient"},{"$f":"VLOOKUP(B1978,'[1]2018.7 '!A:N,14,)","v":"No"}]
[1978,"KGFTA-0110RR","28982572","ULTA GF 1,0um 10in Tlin-sTC1pk","021","93","BIOPROCESS MEMBRANES","580","Normal Flow Filters",{"v":283.81,"d":"284"},{"v":2556.84429,"d":"2,557"},null,{"$f":"VLOOKUP(B1979,'[1]2018.7 '!A:C,3,)","v":"Active"},{"$f":"VLOOKUP(B1979,'[1]2018.7 '!A:M,13,)","v":"Ambient"},{"$f":"VLOOKUP(B1979,'[1]2018.7 '!A:N,14,)","v":"Reviewing"}]
[1979,"KGFTA-0120RR","28982581","ULTA GF 1,0um 20in Tlin-sTC1pk","021","93","BIOPROCESS MEMBRANES","580","Normal Flow Filters",{"v":556.51,"d":"557"},{"v":5013.5985900000005,"d":"5,014"},null,{"$f":"VLOOKUP(B1980,'[1]2018.7 '!A:C,3,)","v":"Active"},{"$f":"VLOOKUP(B1980,'[1]2018.7 '!A:M,13,)","v":"Ambient"},{"$f":"VLOOKUP(B1980,'[1]2018.7 '!A:N,14,)","v":"Reviewing"}]
[1980,"KGFTA-0130RR","28982590","ULTA GF 1,0um 30in Tlin-sTC1pk","021","93","BIOPROCESS MEMBRANES","580","Normal Flow Filters",{"v":819.11,"d":"819"},{"v":7379.36199,"d":"7,379"},null,{"$f":"VLOOKUP(B1981,'[1]2018.7 '!A:C,3,)","v":"Active"},{"$f":"VLOOKUP(B1981,'[1]2018.7 '!A:M,13,)","v":"Ambient"},{"$f":"VLOOKUP(B1981,'[1]2018.7 '!A:N,14,)","v":"Reviewing"}]
[1981,"KGFTA-0210RR","28982573","ULTA GF 2,0um 10in Tlin-sTC1pk","021","93","BIOPROCESS MEMBRANES","580","Normal Flow Filters",{"v":283.81,"d":"284"},{"v":2556.84429,"d":"2,557"},null,{"$f":"VLOOKUP(B1982,'[1]2018.7 '!A:C,3,)","v":"Active"},{"$f":"VLOOKUP(B1982,'[1]2018.7 '!A:M,13,)","v":"Ambient"},{"$f":"VLOOKUP(B1982,'[1]2018.7 '!A:N,14,)","v":"Reviewing"}]
[1982,"KGFTA-0220RR","28982582","ULTA GF 2,0um 20in Tlin-sTC1pk","021","93","BIOPROCESS MEMBRANES","580","Normal Flow Filters",{"v":556.51,"d":"557"},{"v":5013.5985900000005,"d":"5,014"},null,{"$f":"VLOOKUP(B1983,'[1]2018.7 '!A:C,3,)","v":"Active"},{"$f":"VLOOKUP(B1983,'[1]2018.7 '!A:M,13,)","v":"Ambient"},{"$f":"VLOOKUP(B1983,'[1]2018.7 '!A:N,14,)","v":"Reviewing"}]
[1983,"KGFTA-0230RR","28982591","ULTA GF 2,0um 30in Tlin-sTC1pk","021","93","BIOPROCESS MEMBRANES","580","Normal Flow Filters",{"v":819.11,"d":"819"},{"v":7379.36199,"d":"7,379"},null,{"$f":"VLOOKUP(B1984,'[1]2018.7 '!A:C,3,)","v":"Active"},{"$f":"VLOOKUP(B1984,'[1]2018.7 '!A:M,13,)","v":"Ambient"},{"$f":"VLOOKUP(B1984,'[1]2018.7 '!A:N,14,)","v":"Reviewing"}]
[1984,"KGFTA-0510RR","28982574","ULTA GF 5,0um 10in Tlin-sTC1pk","021","93","BIOPROCESS MEMBRANES","580","Normal Flow Filters",{"v":283.81,"d":"284"},{"v":2556.84429,"d":"2,557"},null,{"$f":"VLOOKUP(B1985,'[1]2018.7 '!A:C,3,)","v":"Active"},{"$f":"VLOOKUP(B1985,'[1]2018.7 '!A:M,13,)","v":"Ambient"},{"$f":"VLOOKUP(B1985,'[1]2018.7 '!A:N,14,)","v":"Reviewing"}]
[1985,"KGFTA-0520RR","28982583","ULTA GF 5,0um 20in Tlin-sTC1pk","021","93","BIOPROCESS MEMBRANES","580","Normal Flow Filters",{"v":556.51,"d":"557"},{"v":5013.5985900000005,"d":"5,014"},null,{"$f":"VLOOKUP(B1986,'[1]2018.7 '!A:C,3,)","v":"Active"},{"$f":"VLOOKUP(B1986,'[1]2018.7 '!A:M,13,)","v":"Ambient"},{"$f":"VLOOKUP(B1986,'[1]2018.7 '!A:N,14,)","v":"Reviewing"}]
[1986,"KGFTA-0530RR","28982592","ULTA GF 5,0um 30in Tlin-sTC1pk","021","93","BIOPROCESS MEMBRANES","580","Normal Flow Filters",{"v":819.11,"d":"819"},{"v":7379.36199,"d":"7,379"},null,{"$f":"VLOOKUP(B1987,'[1]2018.7 '!A:C,3,)","v":"Active"},{"$f":"VLOOKUP(B1987,'[1]2018.7 '!A:M,13,)","v":"Ambient"},{"$f":"VLOOKUP(B1987,'[1]2018.7 '!A:N,14,)","v":"Reviewing"}]
[1987,"KGFTA-1010RR","28982575","ULTA GF 10um 10in Tlin-sTC1pk","021","93","BIOPROCESS MEMBRANES","580","Normal Flow Filters",{"v":283.81,"d":"284"},{"v":2556.84429,"d":"2,557"},null,{"$f":"VLOOKUP(B1988,'[1]2018.7 '!A:C,3,)","v":"Active"},{"$f":"VLOOKUP(B1988,'[1]2018.7 '!A:M,13,)","v":"Ambient"},{"$f":"VLOOKUP(B1988,'[1]2018.7 '!A:N,14,)","v":"Reviewing"}]
[1988,"KGFTA-1020RR","28982584","ULTA GF 10um 20in Tlin-sTC1pk","021","93","BIOPROCESS MEMBRANES","580","Normal Flow Filters",{"$f":"K1989/9.009","v":{"v":556.51,"d":"557"}},{"v":5013.5985900000005,"d":"5,014"},null,{"$f":"VLOOKUP(B1989,'[1]2018.7 '!A:C,3,)","v":"Active"},{"$f":"VLOOKUP(B1989,'[1]2018.7 '!A:M,13,)","v":"Ambient"},{"$f":"VLOOKUP(B1989,'[1]2018.7 '!A:N,14,)","v":"Reviewing"}]
[1989,"KGFTA-1030RR","28982593","ULTA GF 10um 30in Tlin-sTC1pk","021","93","BIOPROCESS MEMBRANES","580","Normal Flow Filters",{"v":819.11,"d":"819"},{"v":7379.36199,"d":"7,379"},null,{"$f":"VLOOKUP(B1990,'[1]2018.7 '!A:C,3,)","v":"Active"},{"$f":"VLOOKUP(B1990,'[1]2018.7 '!A:M,13,)","v":"Ambient"},{"$f":"VLOOKUP(B1990,'[1]2018.7 '!A:N,14,)","v":"Reviewing"}]
[1990,"KGFTA-9610RR","28982571","ULTA GF 0,6um 10in Tlin-sTC1pk","021","93","BIOPROCESS MEMBRANES","580","Normal Flow Filters",{"v":283.81,"d":"284"},{"v":2556.84429,"d":"2,557"},null,{"$f":"VLOOKUP(B1991,'[1]2018.7 '!A:C,3,)","v":"Active"},{"$f":"VLOOKUP(B1991,'[1]2018.7 '!A:M,13,)","v":"Ambient"},{"$f":"VLOOKUP(B1991,'[1]2018.7 '!A:N,14,)","v":"Reviewing"}]
[1991,"KGFTA-9620RR","28982580","ULTA GF 0,6um 20in Tlin-sTC1pk","021","93","BIOPROCESS MEMBRANES","580","Normal Flow Filters",{"v":556.51,"d":"557"},{"v":5013.5985900000005,"d":"5,014"},null,{"$f":"VLOOKUP(B1992,'[1]2018.7 '!A:C,3,)","v":"Active"},{"$f":"VLOOKUP(B1992,'[1]2018.7 '!A:M,13,)","v":"Ambient"},{"$f":"VLOOKUP(B1992,'[1]2018.7 '!A:N,14,)","v":"Reviewing"}]
[1992,"KGFTA-9630RR","28982589","ULTA GF 0,6um 30in Tlin-sTC1pk","021","93","BIOPROCESS MEMBRANES","580","Normal Flow Filters",{"v":819.11,"d":"819"},{"v":7379.36199,"d":"7,379"},null,{"$f":"VLOOKUP(B1993,'[1]2018.7 '!A:C,3,)","v":"Active"},{"$f":"VLOOKUP(B1993,'[1]2018.7 '!A:M,13,)","v":"Ambient"},{"$f":"VLOOKUP(B1993,'[1]2018.7 '!A:N,14,)","v":"Reviewing"}]
[1993,"KMP-CG9202GG","28908516","ULTA CG 0.2um 2 in.step HB 3pk","021","93","BIOPROCESS MEMBRANES","580","Normal Flow Filters",{"v":443.39,"d":"443"},{"v":3994.50051,"d":"3,995"},null,{"$f":"VLOOKUP(B1994,'[1]2018.7 '!A:C,3,)","v":"Active"},{"$f":"VLOOKUP(B1994,'[1]2018.7 '!A:M,13,)","v":"Ambient"},{"$f":"VLOOKUP(B1994,'[1]2018.7 '!A:N,14,)","v":"No"}]
[1994,"KMP-CG9202HH","28908518","ULTA CG 0.2um 2 in.1/2in HB 3pk","021","93","BIOPROCESS MEMBRANES","580","Normal Flow Filters",{"v":443.39,"d":"443"},{"v":3994.50051,"d":"3,995"},null,{"$f":"VLOOKUP(B1995,'[1]2018.7 '!A:C,3,)","v":"Active"},{"$f":"VLOOKUP(B1995,'[1]2018.7 '!A:M,13,)","v":"Ambient"},{"$f":"VLOOKUP(B1995,'[1]2018.7 '!A:N,14,)","v":"No"}]
[1995,"KMP-CG9202TT","28908517","ULTA CG 0.2um 2 in.TC 1.5inch 3pk","021","93","BIOPROCESS MEMBRANES","580","Normal Flow Filters",{"v":443.39,"d":"443"},{"v":3994.50051,"d":"3,995"},null,{"$f":"VLOOKUP(B1996,'[1]2018.7 '!A:C,3,)","v":"Active"},{"$f":"VLOOKUP(B1996,'[1]2018.7 '!A:M,13,)","v":"Ambient"},{"$f":"VLOOKUP(B1996,'[1]2018.7 '!A:N,14,)","v":"No"}]
[1996,"KMP-CG9204GG","28908519","ULTA CG 0.2um 4 in.step HB 3pk","021","93","BIOPROCESS MEMBRANES","580","Normal Flow Filters",{"v":629.23,"d":"629"},{"v":5668.73307,"d":"5,669"},null,{"$f":"VLOOKUP(B1997,'[1]2018.7 '!A:C,3,)","v":"Active"},{"$f":"VLOOKUP(B1997,'[1]2018.7 '!A:M,13,)","v":"Ambient"},{"$f":"VLOOKUP(B1997,'[1]2018.7 '!A:N,14,)","v":"No"}]
[1997,"KMP-CG9204HH","28908521","ULTA CG 0.2um 4 in.1/2in HB 3pk","021","93","BIOPROCESS MEMBRANES","580","Normal Flow Filters",{"v":629.23,"d":"629"},{"v":5668.73307,"d":"5,669"},null,{"$f":"VLOOKUP(B1998,'[1]2018.7 '!A:C,3,)","v":"Active"},{"$f":"VLOOKUP(B1998,'[1]2018.7 '!A:M,13,)","v":"Ambient"},{"$f":"VLOOKUP(B1998,'[1]2018.7 '!A:N,14,)","v":"No"}]
[1998,"KMP-CG9204TT","28908520","ULTA CG 0.2um 4 in.TC 1.5inch 3pk","021","93","BIOPROCESS MEMBRANES","580","Normal Flow Filters",{"v":629.23,"d":"629"},{"v":5668.73307,"d":"5,669"},null,{"$f":"VLOOKUP(B1999,'[1]2018.7 '!A:C,3,)","v":"Active"},{"$f":"VLOOKUP(B1999,'[1]2018.7 '!A:M,13,)","v":"Ambient"},{"$f":"VLOOKUP(B1999,'[1]2018.7 '!A:N,14,)","v":"No"}]
[1999,"KMP-CG9206GG","28908522","ULTA CG 0.2um 6 in.step HB 3pk","021","93","BIOPROCESS MEMBRANES","580","Normal Flow Filters",{"v":778.71,"d":"779"},{"v":7015.39839,"d":"7,015"},null,{"$f":"VLOOKUP(B2000,'[1]2018.7 '!A:C,3,)","v":"Active"},{"$f":"VLOOKUP(B2000,'[1]2018.7 '!A:M,13,)","v":"Ambient"},{"$f":"VLOOKUP(B2000,'[1]2018.7 '!A:N,14,)","v":"No"}]
[2000,"KMP-CG9206HH","28908524","ULTA CG 0.2um 6 in.1/2in HB 3pk","021","93","BIOPROCESS MEMBRANES","580","Normal Flow Filters",{"v":778.71,"d":"779"},{"v":7015.39839,"d":"7,015"},null,{"$f":"VLOOKUP(B2001,'[1]2018.7 '!A:C,3,)","v":"Active"},{"$f":"VLOOKUP(B2001,'[1]2018.7 '!A:M,13,)","v":"Ambient"},{"$f":"VLOOKUP(B2001,'[1]2018.7 '!A:N,14,)","v":"No"}]
[2004,"KMP-CG9210RR","28413713","ULTA CG 0,2um 10IN sTC-sTC 1pk","021","93","BIOPROCESS MEMBRANES","580","Normal Flow Filters",{"v":428.24,"d":"428"},{"v":3858.01416,"d":"3,858"},null,{"$f":"VLOOKUP(B2005,'[1]2018.7 '!A:C,3,)","v":"Active"},{"$f":"VLOOKUP(B2005,'[1]2018.7 '!A:M,13,)","v":"Ambient"},{"$f":"VLOOKUP(B2005,'[1]2018.7 '!A:N,14,)","v":"No"}]
[2007,"KMP-CG9220BB","28400408","ULTA CG 0,2um 20in HBHB 1pk","021","93","BIOPROCESS MEMBRANES","580","Normal Flow Filters",{"v":870.62,"d":"871"},{"v":7843.415580000001,"d":"7,843"},null,{"$f":"VLOOKUP(B2008,'[1]2018.7 '!A:C,3,)","v":"Active"},{"$f":"VLOOKUP(B2008,'[1]2018.7 '!A:M,13,)","v":"Ambient"},{"$f":"VLOOKUP(B2008,'[1]2018.7 '!A:N,14,)","v":"Reviewing"}]
[2011,"KMP-CG9220TT","28413715","ULTA CG 0,2um 20IN TCTC 1pk","021","93","BIOPROCESS MEMBRANES","580","Normal Flow Filters",{"v":870.62,"d":"871"},{"v":7843.415580000001,"d":"7,843"},null,{"$f":"VLOOKUP(B2012,'[1]2018.7 '!A:C,3,)","v":"Active"},{"$f":"VLOOKUP(B2012,'[1]2018.7 '!A:M,13,)","v":"Ambient"},{"$f":"VLOOKUP(B2012,'[1]2018.7 '!A:N,14,)","v":"Reviewing"}]
[2014,"KMP-CG9230RR","28413719","ULTA CG 0,2um 30 IN sTC-sTC 1pk","021","93","BIOPROCESS MEMBRANES","580","Normal Flow Filters",{"v":1334.21,"d":"1,334"},{"v":12019.89789,"d":"12,020"},null,{"$f":"VLOOKUP(B2015,'[1]2018.7 '!A:C,3,)","v":"Active"},{"$f":"VLOOKUP(B2015,'[1]2018.7 '!A:M,13,)","v":"Ambient"},{"$f":"VLOOKUP(B2015,'[1]2018.7 '!A:N,14,)","v":"Reviewing"}]
[2017,"KMP-CG92H1BB","28413710","ULTA CG 0,2um H10 HBHB 1pk","021","93","BIOPROCESS MEMBRANES","580","Normal Flow Filters",{"v":320.17,"d":"320"},{"v":2884.4115300000003,"d":"2,884"},null,{"$f":"VLOOKUP(B2018,'[1]2018.7 '!A:C,3,)","v":"Active"},{"$f":"VLOOKUP(B2018,'[1]2018.7 '!A:M,13,)","v":"Ambient"},{"$f":"VLOOKUP(B2018,'[1]2018.7 '!A:N,14,)","v":"Reviewing"}]
[2021,"KMP-CG92H1TT","28413708","ULTA CG 0,2um H10 TCTC 1pk","021","93","BIOPROCESS MEMBRANES","580","Normal Flow Filters",{"v":320.17,"d":"320"},{"v":2884.4115300000003,"d":"2,884"},null,{"$f":"VLOOKUP(B2022,'[1]2018.7 '!A:C,3,)","v":"Active"},{"$f":"VLOOKUP(B2022,'[1]2018.7 '!A:M,13,)","v":"Ambient"},{"$f":"VLOOKUP(B2022,'[1]2018.7 '!A:N,14,)","v":"No"}]
[2022,"KMP-HC9202GG","28400230","ULTA HC 0,2um 2inch step HB 3 per pack","021","93","BIOPROCESS MEMBRANES","580","Normal Flow Filters",{"v":531.26,"d":"531"},{"v":4786.12134,"d":"4,786"},null,{"$f":"VLOOKUP(B2023,'[1]2018.7 '!A:C,3,)","v":"Active"},{"$f":"VLOOKUP(B2023,'[1]2018.7 '!A:M,13,)","v":"Ambient"},{"$f":"VLOOKUP(B2023,'[1]2018.7 '!A:N,14,)","v":"No"}]
[2026,"KMP-HC9204HH","28400235","ULTA HC 0,2um 4inch HB 3 per pack","021","93","BIOPROCESS MEMBRANES","580","Normal Flow Filters",{"v":752.45,"d":"752"},{"v":6778.822050000001,"d":"6,779"},null,{"$f":"VLOOKUP(B2027,'[1]2018.7 '!A:C,3,)","v":"Active"},{"$f":"VLOOKUP(B2027,'[1]2018.7 '!A:M,13,)","v":"Ambient"},{"$f":"VLOOKUP(B2027,'[1]2018.7 '!A:N,14,)","v":"Reviewing"}]
[2029,"KMP-HC9206HH","28400238","ULTA HC 0,2um 6inch HB 3 per pack","021","93","BIOPROCESS MEMBRANES","580","Normal Flow Filters",{"v":973.64,"d":"974"},{"v":8771.52276,"d":"8,772"},null,{"$f":"VLOOKUP(B2030,'[1]2018.7 '!A:C,3,)","v":"Active"},{"$f":"VLOOKUP(B2030,'[1]2018.7 '!A:M,13,)","v":"Ambient"},{"$f":"VLOOKUP(B2030,'[1]2018.7 '!A:N,14,)","v":"No"}]
[2032,"KMP-HC9210TT","28400428","ULTA HC 0,2um 10IN TCTC 1pk","021","93","BIOPROCESS MEMBRANES","580","Normal Flow Filters",{"v":551.46,"d":"551"},{"v":4968.10314,"d":"4,968"},null,{"$f":"VLOOKUP(B2033,'[1]2018.7 '!A:C,3,)","v":"Active"},{"$f":"VLOOKUP(B2033,'[1]2018.7 '!A:M,13,)","v":"Ambient"},{"$f":"VLOOKUP(B2033,'[1]2018.7 '!A:N,14,)","v":"No"}]
[2036,"KMP-HC9230TT","28400430","ULTA HC 0,2um 30IN TCTC 1pk","021","93","BIOPROCESS MEMBRANES","580","Normal Flow Filters",{"v":1551.36,"d":"1,551"},{"v":13976.20224,"d":"13,976"},null,{"$f":"VLOOKUP(B2037,'[1]2018.7 '!A:C,3,)","v":"Active"},{"$f":"VLOOKUP(B2037,'[1]2018.7 '!A:M,13,)","v":"Ambient"},{"$f":"VLOOKUP(B2037,'[1]2018.7 '!A:N,14,)","v":"No"}]
[2039,"KMP-MR9102GG","12410294","ULTA MR 0.1um 2in step HB 3pk","021","93","BIOPROCESS MEMBRANES","580","Normal Flow Filters",505,{"v":4549.545,"d":"4,550"},null,{"$f":"VLOOKUP(B2040,'[1]2018.7 '!A:C,3,)","v":"Active"},{"$f":"VLOOKUP(B2040,'[1]2018.7 '!A:M,13,)","v":"Ambient"},{"$f":"VLOOKUP(B2040,'[1]2018.7 '!A:N,14,)","v":"Reviewing"}]
[2042,"KMP-MR9104GG","12410297","ULTA MR 0.1um 4in step HB  3pk","021","93","BIOPROCESS MEMBRANES","580","Normal Flow Filters",{"v":757.5,"d":"758"},{"v":6824.3175,"d":"6,824"},null,{"$f":"VLOOKUP(B2043,'[1]2018.7 '!A:C,3,)","v":"Active"},{"$f":"VLOOKUP(B2043,'[1]2018.7 '!A:M,13,)","v":"Ambient"},{"$f":"VLOOKUP(B2043,'[1]2018.7 '!A:N,14,)","v":"Reviewing"}]
[2044,"KMP-MR9104TT","12410299","ULTA MR 0.1um 4in TC 3pk","021","93","BIOPROCESS MEMBRANES","580","Normal Flow Filters",{"v":757.5,"d":"758"},{"v":6824.3175,"d":"6,824"},null,{"$f":"VLOOKUP(B2045,'[1]2018.7 '!A:C,3,)","v":"Active"},{"$f":"VLOOKUP(B2045,'[1]2018.7 '!A:M,13,)","v":"Ambient"},{"$f":"VLOOKUP(B2045,'[1]2018.7 '!A:N,14,)","v":"Reviewing"}]
[2047,"KMP-MR9106TT","12410302","ULTA MR 0.1um 6in TC 3pk","021","93","BIOPROCESS MEMBRANES","580","Normal Flow Filters",{"v":1010,"d":"1,010"},{"v":9099.09,"d":"9,099"},null,{"$f":"VLOOKUP(B2048,'[1]2018.7 '!A:C,3,)","v":"Active"},{"$f":"VLOOKUP(B2048,'[1]2018.7 '!A:M,13,)","v":"Ambient"},{"$f":"VLOOKUP(B2048,'[1]2018.7 '!A:N,14,)","v":"Reviewing"}]
[2051,"KMP-MR9120TT","12410305","ULTA MR 0.1um 20in TCTC 1pk","021","93","BIOPROCESS MEMBRANES","580","Normal Flow Filters",{"v":989.8000000000001,"d":"990"},{"v":8917.1082,"d":"8,917"},null,{"$f":"VLOOKUP(B2052,'[1]2018.7 '!A:C,3,)","v":"Active"},{"$f":"VLOOKUP(B2052,'[1]2018.7 '!A:M,13,)","v":"Ambient"},{"$f":"VLOOKUP(B2052,'[1]2018.7 '!A:N,14,)","v":"Reviewing"}]
[2054,"KMP-MR91H1FF","12410307","ULTA MR 0.1um H10 FrFr 1pk","021","93","BIOPROCESS MEMBRANES","580","Normal Flow Filters",{"v":247.45000000000002,"d":"247"},{"v":2229.27705,"d":"2,229"},null,{"$f":"VLOOKUP(B2055,'[1]2018.7 '!A:C,3,)","v":"Active"},{"$f":"VLOOKUP(B2055,'[1]2018.7 '!A:M,13,)","v":"Ambient"},{"$f":"VLOOKUP(B2055,'[1]2018.7 '!A:N,14,)","v":"Reviewing"}]
[2057,"KMP-SG9202HH","28400164","ULTA SG 0.2um 2 in.1/2in HB 3pk","021","93","BIOPROCESS MEMBRANES","580","Normal Flow Filters",{"v":494.90000000000003,"d":"495"},{"v":4458.5541,"d":"4,459"},null,{"$f":"VLOOKUP(B2058,'[1]2018.7 '!A:C,3,)","v":"Active"},{"$f":"VLOOKUP(B2058,'[1]2018.7 '!A:M,13,)","v":"Ambient"},{"$f":"VLOOKUP(B2058,'[1]2018.7 '!A:N,14,)","v":"No"}]
[2061,"KMP-SG9204TT","28908529","ULTA SG 0.2um 4 in.TC 1.5inch 3pk","021","93","BIOPROCESS MEMBRANES","580","Normal Flow Filters",{"v":721.14,"d":"721"},{"v":6496.75026,"d":"6,497"},null,{"$f":"VLOOKUP(B2062,'[1]2018.7 '!A:C,3,)","v":"Active"},{"$f":"VLOOKUP(B2062,'[1]2018.7 '!A:M,13,)","v":"Ambient"},{"$f":"VLOOKUP(B2062,'[1]2018.7 '!A:N,14,)","v":"Reviewing"}]
[2063,"KMP-SG9206HH","28400166","ULTA SG 0.2um 6 in.1/2in HB 3pk","021","93","BIOPROCESS MEMBRANES","580","Normal Flow Filters",{"v":875.67,"d":"876"},{"v":7888.91103,"d":"7,889"},null,{"$f":"VLOOKUP(B2064,'[1]2018.7 '!A:C,3,)","v":"Active"},{"$f":"VLOOKUP(B2064,'[1]2018.7 '!A:M,13,)","v":"Ambient"},{"$f":"VLOOKUP(B2064,'[1]2018.7 '!A:N,14,)","v":"Reviewing"}]
[2066,"KMP-SG9210TT","28400424","ULTA SG 0,2um 10IN TCTC 1pk","021","93","BIOPROCESS MEMBRANES","580","Normal Flow Filters",{"v":458.53999999999996,"d":"459"},{"v":4130.98686,"d":"4,131"},null,{"$f":"VLOOKUP(B2067,'[1]2018.7 '!A:C,3,)","v":"Active"},{"$f":"VLOOKUP(B2067,'[1]2018.7 '!A:M,13,)","v":"Ambient"},{"$f":"VLOOKUP(B2067,'[1]2018.7 '!A:N,14,)","v":"No"}]
[2069,"KMP-SG9230FF","28400435","ULTA SG 0,2um 30 in. FrFr 1pk","021","93","BIOPROCESS MEMBRANES","580","Normal Flow Filters",{"v":1277.65,"d":"1,278"},{"v":11510.348850000002,"d":"11,510"},null,{"$f":"VLOOKUP(B2070,'[1]2018.7 '!A:C,3,)","v":"Active"},{"$f":"VLOOKUP(B2070,'[1]2018.7 '!A:M,13,)","v":"Ambient"},{"$f":"VLOOKUP(B2070,'[1]2018.7 '!A:N,14,)","v":"Reviewing"}]
[2072,"KMP-SG92H1TT","28400423","ULTA SG 0,2um H10 TCTC 1pk","021","93","BIOPROCESS MEMBRANES","580","Normal Flow Filters",{"v":320.17,"d":"320"},{"v":2884.4115300000003,"d":"2,884"},null,{"$f":"VLOOKUP(B2073,'[1]2018.7 '!A:C,3,)","v":"Active"},{"$f":"VLOOKUP(B2073,'[1]2018.7 '!A:M,13,)","v":"Ambient"},{"$f":"VLOOKUP(B2073,'[1]2018.7 '!A:N,14,)","v":"Reviewing"}]
[2076,"KMPTCG9230RR","28982595","ULTA CG 0,2um 30in Tlin-sTC1pk","021","93","BIOPROCESS MEMBRANES","580","Normal Flow Filters",{"v":1334.21,"d":"1,334"},{"v":12019.89789,"d":"12,020"},null,{"$f":"VLOOKUP(B2077,'[1]2018.7 '!A:C,3,)","v":"Active"},{"$f":"VLOOKUP(B2077,'[1]2018.7 '!A:M,13,)","v":"Ambient"},{"$f":"VLOOKUP(B2077,'[1]2018.7 '!A:N,14,)","v":"Reviewing"}]
[2079,"KMPTHC9230RR","28982594","ULTA HC 0,2um 30in Tlin-sTC1pk","021","93","BIOPROCESS MEMBRANES","580","Normal Flow Filters",{"v":1551.36,"d":"1,551"},{"v":13976.20224,"d":"13,976"},null,{"$f":"VLOOKUP(B2080,'[1]2018.7 '!A:C,3,)","v":"Active"},{"$f":"VLOOKUP(B2080,'[1]2018.7 '!A:M,13,)","v":"Ambient"},{"$f":"VLOOKUP(B2080,'[1]2018.7 '!A:N,14,)","v":"Reviewing"}]
[2082,"KMPTMR9130RR","12410330","ULTA MR 0.1um 30in Tlin-sTC1pk","021","93","BIOPROCESS MEMBRANES","580","Normal Flow Filters",{"v":1483.69,"d":"1,484"},{"v":13366.56321,"d":"13,367"},null,{"$f":"VLOOKUP(B2083,'[1]2018.7 '!A:C,3,)","v":"Active"},{"$f":"VLOOKUP(B2083,'[1]2018.7 '!A:M,13,)","v":"Ambient"},{"$f":"VLOOKUP(B2083,'[1]2018.7 '!A:N,14,)","v":"No"}]
[2084,"KMPTSG9220RR","28982588","ULTA SG 0,2um 20in Tlin-sTC1pk","021","93","BIOPROCESS MEMBRANES","580","Normal Flow Filters",{"v":870.62,"d":"871"},{"v":7843.415580000001,"d":"7,843"},null,{"$f":"VLOOKUP(B2085,'[1]2018.7 '!A:C,3,)","v":"Active"},{"$f":"VLOOKUP(B2085,'[1]2018.7 '!A:M,13,)","v":"Ambient"},{"$f":"VLOOKUP(B2085,'[1]2018.7 '!A:N,14,)","v":"Reviewing"}]
[2090,"KPP-A-0110TT","28413522","ULTA PP 1,0um 10IN TCTC 1pk","021","93","BIOPROCESS MEMBRANES","580","Normal Flow Filters",{"v":309.06,"d":"309"},{"v":2784.32154,"d":"2,784"},null,{"$f":"VLOOKUP(B2091,'[1]2018.7 '!A:C,3,)","v":"Active"},{"$f":"VLOOKUP(B2091,'[1]2018.7 '!A:M,13,)","v":"Ambient"},{"$f":"VLOOKUP(B2091,'[1]2018.7 '!A:N,14,)","v":"Reviewing"}]
[2091,"KPP-A-0302GG","28908471","ULTA PP, 3um 2 in.step HB 3pk","021","93","BIOPROCESS MEMBRANES","580","Normal Flow Filters",{"v":263.61,"d":"264"},{"v":2374.8624900000004,"d":"2,375"},null,{"$f":"VLOOKUP(B2092,'[1]2018.7 '!A:C,3,)","v":"Active"},{"$f":"VLOOKUP(B2092,'[1]2018.7 '!A:M,13,)","v":"Ambient"},{"$f":"VLOOKUP(B2092,'[1]2018.7 '!A:N,14,)","v":"Reviewing"}]
[2094,"KPP-A-0304HH","28908476","ULTA PP, 3um 4 in.1/2in HB 3pk","021","93","BIOPROCESS MEMBRANES","580","Normal Flow Filters",{"v":396.93,"d":"397"},{"v":3575.94237,"d":"3,576"},null,{"$f":"VLOOKUP(B2095,'[1]2018.7 '!A:C,3,)","v":"Active"},{"$f":"VLOOKUP(B2095,'[1]2018.7 '!A:M,13,)","v":"Ambient"},{"$f":"VLOOKUP(B2095,'[1]2018.7 '!A:N,14,)","v":"Reviewing"}]
[2097,"KPP-A-0502GG","28908480","ULTA PP, 5um 2 in.step HB 3pk","021","93","BIOPROCESS MEMBRANES","580","Normal Flow Filters",{"v":263.61,"d":"264"},{"v":2374.8624900000004,"d":"2,375"},null,{"$f":"VLOOKUP(B2098,'[1]2018.7 '!A:C,3,)","v":"Active"},{"$f":"VLOOKUP(B2098,'[1]2018.7 '!A:M,13,)","v":"Ambient"},{"$f":"VLOOKUP(B2098,'[1]2018.7 '!A:N,14,)","v":"Reviewing"}]
[2101,"KPP-A-1002TT","28908499","ULTA PP, 10um 2 in.TC 1.5inch 3pk","021","93","BIOPROCESS MEMBRANES","580","Normal Flow Filters",{"v":227.25,"d":"227"},{"v":2047.2952500000001,"d":"2,047"},null,{"$f":"VLOOKUP(B2102,'[1]2018.7 '!A:C,3,)","v":"Active"},{"$f":"VLOOKUP(B2102,'[1]2018.7 '!A:M,13,)","v":"Ambient"},{"$f":"VLOOKUP(B2102,'[1]2018.7 '!A:N,14,)","v":"Reviewing"}]
[2104,"KPP-A-2002TT","28908508","ULTA PP, 20um 2 in.TC 1.5inch 3pk","021","93","BIOPROCESS MEMBRANES","580","Normal Flow Filters",{"v":263.61,"d":"264"},{"v":2374.8624900000004,"d":"2,375"},null,{"$f":"VLOOKUP(B2105,'[1]2018.7 '!A:C,3,)","v":"Active"},{"$f":"VLOOKUP(B2105,'[1]2018.7 '!A:M,13,)","v":"Ambient"},{"$f":"VLOOKUP(B2105,'[1]2018.7 '!A:N,14,)","v":"No"}]
[2109,"28411631","28411631","PUMP20-L","021","94","WAVE","424","Bioreactor Accessories",{"v":3855.6000000000004,"d":"3,856"},{"v":34735.1004,"d":"34,735"},null,{"$f":"VLOOKUP(B2110,'[1]2018.7 '!A:C,3,)","v":"Active"},{"$f":"VLOOKUP(B2110,'[1]2018.7 '!A:M,13,)","v":"Ambient"},{"$f":"VLOOKUP(B2110,'[1]2018.7 '!A:N,14,)","v":"No"}]
[2112,"28411649","28411649","PCDAQ/S","021","94","WAVE","424","Bioreactor Accessories",{"v":6963.6,"d":"6,964"},{"v":62735.072400000005,"d":"62,735"},null,{"$f":"VLOOKUP(B2113,'[1]2018.7 '!A:C,3,)","v":"Active"},{"$f":"VLOOKUP(B2113,'[1]2018.7 '!A:M,13,)","v":"Ambient"},{"$f":"VLOOKUP(B2113,'[1]2018.7 '!A:N,14,)","v":"Reviewing"}]
[2115,"28977048","28977048","Converter 100","021","94","WAVE","424","Bioreactor Accessories",{"v":5991.3,"d":"5,991"},{"v":53975.6217,"d":"53,976"},null,{"$f":"VLOOKUP(B2116,'[1]2018.7 '!A:C,3,)","v":"Active"},{"$f":"VLOOKUP(B2116,'[1]2018.7 '!A:M,13,)","v":"Ambient"},{"$f":"VLOOKUP(B2116,'[1]2018.7 '!A:N,14,)","v":"No"}]
[2116,"28984189","28984189","Bag Sensor Adaptor 2.5m Assy","021","94","WAVE","424","Bioreactor Accessories",{"$f":"K2117/9.009","v":{"v":1130.85,"d":"1,131"}},{"v":10187.82765,"d":"10,188"},null,{"$f":"VLOOKUP(B2117,'[1]2018.7 '!A:C,3,)","v":"Active"},{"$f":"VLOOKUP(B2117,'[1]2018.7 '!A:M,13,)","v":"Ambient"},{"$f":"VLOOKUP(B2117,'[1]2018.7 '!A:N,14,)","v":"No"}]
[2119,"28411672","28411672","DOOPT PROBE","021","94","WAVE","431","Std Bags",{"v":1607.52,"d":"1,608"},{"v":14482.14768,"d":"14,482"},null,{"$f":"VLOOKUP(B2120,'[1]2018.7 '!A:C,3,)","v":"Active"},{"$f":"VLOOKUP(B2120,'[1]2018.7 '!A:M,13,)","v":"Ambient"},{"$f":"VLOOKUP(B2120,'[1]2018.7 '!A:N,14,)","v":"No"}]
[2122,"28412618","28412618","STERILE CLAVE 100 PACK","021","94","WAVE","431","Std Bags",{"v":656.88,"d":"657"},{"v":5917.8319200000005,"d":"5,918"},null,{"$f":"VLOOKUP(B2123,'[1]2018.7 '!A:C,3,)","v":"Sales Stop"},{"$f":"VLOOKUP(B2123,'[1]2018.7 '!A:M,13,)","v":"Ambient"},{"$f":"VLOOKUP(B2123,'[1]2018.7 '!A:N,14,)","v":"Yes"}]
[2126,"CB0001L10-01","28412268","Cellbag, 1L, BC10, Basic","021","94","WAVE","431","Std Bags",{"v":246.83999999999997,"d":"247"},{"v":2223.78156,"d":"2,224"},null,{"$f":"VLOOKUP(B2127,'[1]2018.7 '!A:C,3,)","v":"Active"},{"$f":"VLOOKUP(B2127,'[1]2018.7 '!A:M,13,)","v":"Ambient"},{"$f":"VLOOKUP(B2127,'[1]2018.7 '!A:N,14,)","v":"No"}]
[2130,"CB0002L10-04","28412342","Cellbag, 2L, BC10, Perf, DO","021","94","WAVE","431","Std Bags",{"v":442.68,"d":"443"},{"v":3988.1041200000004,"d":"3,988"},null,{"$f":"VLOOKUP(B2131,'[1]2018.7 '!A:C,3,)","v":"Active"},{"$f":"VLOOKUP(B2131,'[1]2018.7 '!A:M,13,)","v":"Ambient"},{"$f":"VLOOKUP(B2131,'[1]2018.7 '!A:N,14,)","v":"No"}]
[2134,"CB0002L10-14","29012355","CB, 2L, BC10, PHOPT, PERFUSION","021","94","WAVE","431","Std Bags",{"v":679.32,"d":"679"},{"v":6119.993880000001,"d":"6,120"},null,{"$f":"VLOOKUP(B2135,'[1]2018.7 '!A:C,3,)","v":"Active"},{"$f":"VLOOKUP(B2135,'[1]2018.7 '!A:M,13,)","v":"Ambient"},{"$f":"VLOOKUP(B2135,'[1]2018.7 '!A:N,14,)","v":"No"}]
[2137,"CB0002L10-33","29015307","Cellbag, 2L, BC10, pHOPT, DOOPT II and Screwcap","021","94","WAVE","431","Std Bags",{"v":519.18,"d":"519"},{"v":4677.29262,"d":"4,677"},null,{"$f":"VLOOKUP(B2138,'[1]2018.7 '!A:C,3,)","v":"Active"},{"$f":"VLOOKUP(B2138,'[1]2018.7 '!A:M,13,)","v":"Ambient"},{"$f":"VLOOKUP(B2138,'[1]2018.7 '!A:N,14,)","v":"No"}]
[2140,"CB0002L11-02","29091339","Cellbag, 2L, BC11, DO","021","94","WAVE","431","Std Bags",{"v":252.96000000000004,"d":"253"},{"v":2278.9166400000004,"d":"2,279"},null,{"$f":"VLOOKUP(B2141,'[1]2018.7 '!A:C,3,)","v":"Active"},{"$f":"VLOOKUP(B2141,'[1]2018.7 '!A:M,13,)","v":"Ambient"},{"$f":"VLOOKUP(B2141,'[1]2018.7 '!A:N,14,)","v":"No"}]
[2141,"CB0002L11-03","29091354","Cellbag, 2L, BC11, Screw, DO","021","94","WAVE","431","Std Bags",{"v":246.83999999999997,"d":"247"},{"v":2223.78156,"d":"2,224"},null,{"$f":"VLOOKUP(B2142,'[1]2018.7 '!A:C,3,)","v":"Active"},{"$f":"VLOOKUP(B2142,'[1]2018.7 '!A:M,13,)","v":"Ambient"},{"$f":"VLOOKUP(B2142,'[1]2018.7 '!A:N,14,)","v":"No"}]
[2144,"CB0002L11-21","29091347","Cellbag, 2L, BC11, DO, RM","021","94","WAVE","431","Std Bags",{"v":344.76,"d":"345"},{"v":3105.94284,"d":"3,106"},null,{"$f":"VLOOKUP(B2145,'[1]2018.7 '!A:C,3,)","v":"Active"},{"$f":"VLOOKUP(B2145,'[1]2018.7 '!A:M,13,)","v":"Ambient"},{"$f":"VLOOKUP(B2145,'[1]2018.7 '!A:N,14,)","v":"Reviewing"}]
[2147,"CB0002L11-34","29091331","Cellbag, 2L, BC11, pHOPT, DOOPT II and Perfusion","021","94","WAVE","431","Std Bags",{"v":651.78,"d":"652"},{"v":5871.88602,"d":"5,872"},null,{"$f":"VLOOKUP(B2148,'[1]2018.7 '!A:C,3,)","v":"Active"},{"$f":"VLOOKUP(B2148,'[1]2018.7 '!A:M,13,)","v":"Ambient"},{"$f":"VLOOKUP(B2148,'[1]2018.7 '!A:N,14,)","v":"No"}]
[2151,"CB0010L10-04","28412354","Cellbag, 10L, BC10, Perf, DO","021","94","WAVE","431","Std Bags",{"v":573.24,"d":"573"},{"v":5164.31916,"d":"5,164"},null,{"$f":"VLOOKUP(B2152,'[1]2018.7 '!A:C,3,)","v":"Active"},{"$f":"VLOOKUP(B2152,'[1]2018.7 '!A:M,13,)","v":"Ambient"},{"$f":"VLOOKUP(B2152,'[1]2018.7 '!A:N,14,)","v":"No"}]
[2155,"CB0010L10-13","29012357","CB, 10L, BC10, pHOPT, SCREWCAP","021","94","WAVE","431","Std Bags",{"v":665.04,"d":"665"},{"v":5991.34536,"d":"5,991"},null,{"$f":"VLOOKUP(B2156,'[1]2018.7 '!A:C,3,)","v":"Active"},{"$f":"VLOOKUP(B2156,'[1]2018.7 '!A:M,13,)","v":"Ambient"},{"$f":"VLOOKUP(B2156,'[1]2018.7 '!A:N,14,)","v":"No"}]
[2159,"CB0010L10-33","29015309","Cellbag, 10L, BC10, pHOPT, DOOPT II and Screwcap","021","94","WAVE","431","Std Bags",{"v":638.52,"d":"639"},{"v":5752.4266800000005,"d":"5,752"},null,{"$f":"VLOOKUP(B2160,'[1]2018.7 '!A:C,3,)","v":"Active"},{"$f":"VLOOKUP(B2160,'[1]2018.7 '!A:M,13,)","v":"Ambient"},{"$f":"VLOOKUP(B2160,'[1]2018.7 '!A:N,14,)","v":"No"}]
[2162,"CB0010L11-02","29091340","Cellbag, 10L, BC11, DO","021","94","WAVE","431","Std Bags",{"v":376.38,"d":"376"},{"v":3390.80742,"d":"3,391"},null,{"$f":"VLOOKUP(B2163,'[1]2018.7 '!A:C,3,)","v":"Active"},{"$f":"VLOOKUP(B2163,'[1]2018.7 '!A:M,13,)","v":"Ambient"},{"$f":"VLOOKUP(B2163,'[1]2018.7 '!A:N,14,)","v":"No"}]
[2165,"CB0010L11-11","29097502","Cellbag, 10L, BC11, pHOPT, DO","021","94","WAVE","431","Std Bags",{"v":658.92,"d":"659"},{"v":5936.21028,"d":"5,936"},null,{"$f":"VLOOKUP(B2166,'[1]2018.7 '!A:C,3,)","v":"Active"},{"$f":"VLOOKUP(B2166,'[1]2018.7 '!A:M,13,)","v":"Ambient"},{"$f":"VLOOKUP(B2166,'[1]2018.7 '!A:N,14,)","v":"Reviewing"}]
[2166,"CB0010L11-21","29091348","Cellbag, 10L, BC11, DO, RM","021","94","WAVE","431","Std Bags",{"v":419.22,"d":"419"},{"v":3776.75298,"d":"3,777"},null,{"$f":"VLOOKUP(B2167,'[1]2018.7 '!A:C,3,)","v":"Active"},{"$f":"VLOOKUP(B2167,'[1]2018.7 '!A:M,13,)","v":"Ambient"},{"$f":"VLOOKUP(B2167,'[1]2018.7 '!A:N,14,)","v":"Reviewing"}]
[2169,"CB0010L11-34","29091332","Cellbag, 10L, BC11, pHOPT, DOOPT II and Perfusion","021","94","WAVE","431","Std Bags",{"v":776.22,"d":"776"},{"v":6992.965980000001,"d":"6,993"},null,{"$f":"VLOOKUP(B2170,'[1]2018.7 '!A:C,3,)","v":"Active"},{"$f":"VLOOKUP(B2170,'[1]2018.7 '!A:M,13,)","v":"Ambient"},{"$f":"VLOOKUP(B2170,'[1]2018.7 '!A:N,14,)","v":"No"}]
[2172,"CB0020L10-03","28412288","Cellbag, 20L, BC10, Screw, DO","021","94","WAVE","431","Std Bags",{"v":410.04,"d":"410"},{"v":3694.05036,"d":"3,694"},null,{"$f":"VLOOKUP(B2173,'[1]2018.7 '!A:C,3,)","v":"Active"},{"$f":"VLOOKUP(B2173,'[1]2018.7 '!A:M,13,)","v":"Ambient"},{"$f":"VLOOKUP(B2173,'[1]2018.7 '!A:N,14,)","v":"No"}]
[2177,"CB0020L10-13","29012455","CB, 20L, BC10, pHOPT, SCREWCAP","021","94","WAVE","431","Std Bags",{"v":724.2,"d":"724"},{"v":6524.317800000001,"d":"6,524"},null,{"$f":"VLOOKUP(B2178,'[1]2018.7 '!A:C,3,)","v":"Active"},{"$f":"VLOOKUP(B2178,'[1]2018.7 '!A:M,13,)","v":"Ambient"},{"$f":"VLOOKUP(B2178,'[1]2018.7 '!A:N,14,)","v":"No"}]
[2180,"CB0020L10-31","29015214","Cellbag, 20L, BC10, pHOPT, DOOPT II","021","94","WAVE","431","Std Bags",{"$f":"K2181/9.009","v":{"v":717.06,"d":"717"}},{"v":6459.9935399999995,"d":"6,460"},null,{"$f":"VLOOKUP(B2181,'[1]2018.7 '!A:C,3,)","v":"Active"},{"$f":"VLOOKUP(B2181,'[1]2018.7 '!A:M,13,)","v":"Ambient"},{"$f":"VLOOKUP(B2181,'[1]2018.7 '!A:N,14,)","v":"No"}]
[2184,"CB0020L11-02","29091341","Cellbag, 20L, BC11, DO","021","94","WAVE","431","Std Bags",{"v":410.04,"d":"410"},{"v":3694.05036,"d":"3,694"},null,{"$f":"VLOOKUP(B2185,'[1]2018.7 '!A:C,3,)","v":"Active"},{"$f":"VLOOKUP(B2185,'[1]2018.7 '!A:M,13,)","v":"Ambient"},{"$f":"VLOOKUP(B2185,'[1]2018.7 '!A:N,14,)","v":"No"}]
[2187,"CB0020L11-11","29097505","Cellbag, 20L, BC11, pHOPT, DO","021","94","WAVE","431","Std Bags",{"v":718.08,"d":"718"},{"v":6469.182720000001,"d":"6,469"},null,{"$f":"VLOOKUP(B2188,'[1]2018.7 '!A:C,3,)","v":"Active"},{"$f":"VLOOKUP(B2188,'[1]2018.7 '!A:M,13,)","v":"Ambient"},{"$f":"VLOOKUP(B2188,'[1]2018.7 '!A:N,14,)","v":"Reviewing"}]
[2190,"CB0020L11-33","29097507","Cellbag, 20L, BC11, pHOPT, DOOPT II and Screwcap","021","94","WAVE","431","Std Bags",{"v":693.6,"d":"694"},{"v":6248.642400000001,"d":"6,249"},null,{"$f":"VLOOKUP(B2191,'[1]2018.7 '!A:C,3,)","v":"Active"},{"$f":"VLOOKUP(B2191,'[1]2018.7 '!A:M,13,)","v":"Ambient"},{"$f":"VLOOKUP(B2191,'[1]2018.7 '!A:N,14,)","v":"No"}]
[2191,"CB0020L11-34","29091330","Cellbag, 20L, BC11, pHOPT, DOOPT II and Perfusion","021","94","WAVE","431","Std Bags",{"v":844.56,"d":"845"},{"v":7608.6410399999995,"d":"7,609"},null,{"$f":"VLOOKUP(B2192,'[1]2018.7 '!A:C,3,)","v":"Active"},{"$f":"VLOOKUP(B2192,'[1]2018.7 '!A:M,13,)","v":"Ambient"},{"$f":"VLOOKUP(B2192,'[1]2018.7 '!A:N,14,)","v":"No"}]
[2197,"CB0022L10-31","29015215","Cellbag, 22L, BC10, pHOPT, DOOPT II","021","94","WAVE","431","Std Bags",{"v":651.78,"d":"652"},{"v":5871.88602,"d":"5,872"},null,{"$f":"VLOOKUP(B2198,'[1]2018.7 '!A:C,3,)","v":"Active"},{"$f":"VLOOKUP(B2198,'[1]2018.7 '!A:M,13,)","v":"Ambient"},{"$f":"VLOOKUP(B2198,'[1]2018.7 '!A:N,14,)","v":"No"}]
[2199,"CB0022L11-02","29097508","Cellbag, 22L, BC11, DO","021","94","WAVE","431","Std Bags",{"v":427.38,"d":"427"},{"v":3850.26642,"d":"3,850"},null,{"$f":"VLOOKUP(B2200,'[1]2018.7 '!A:C,3,)","v":"Active"},{"$f":"VLOOKUP(B2200,'[1]2018.7 '!A:M,13,)","v":"Ambient"},{"$f":"VLOOKUP(B2200,'[1]2018.7 '!A:N,14,)","v":"Reviewing"}]
[2202,"CB0022L11-31","29097511","Cellbag, 22L, BC11, pHOPT, DOOPT II","021","94","WAVE","431","Std Bags",{"v":675.24,"d":"675"},{"v":6083.237160000001,"d":"6,083"},null,{"$f":"VLOOKUP(B2203,'[1]2018.7 '!A:C,3,)","v":"Active"},{"$f":"VLOOKUP(B2203,'[1]2018.7 '!A:M,13,)","v":"Ambient"},{"$f":"VLOOKUP(B2203,'[1]2018.7 '!A:N,14,)","v":"No"}]
[2205,"CB0050L10-04","28412383","Cellbag, 50L, BC10, Perf, DO","021","94","WAVE","431","Std Bags",{"v":653.82,"d":"654"},{"v":5890.2643800000005,"d":"5,890"},null,{"$f":"VLOOKUP(B2206,'[1]2018.7 '!A:C,3,)","v":"Active"},{"$f":"VLOOKUP(B2206,'[1]2018.7 '!A:M,13,)","v":"Ambient"},{"$f":"VLOOKUP(B2206,'[1]2018.7 '!A:N,14,)","v":"No"}]
[2209,"CB0050L10-14","29012470","CB, 50L, BC10, pHOPT, PERFUSION","021","94","WAVE","431","Std Bags",{"v":945.5400000000001,"d":"946"},{"v":8518.36986,"d":"8,518"},null,{"$f":"VLOOKUP(B2210,'[1]2018.7 '!A:C,3,)","v":"Active"},{"$f":"VLOOKUP(B2210,'[1]2018.7 '!A:M,13,)","v":"Ambient"},{"$f":"VLOOKUP(B2210,'[1]2018.7 '!A:N,14,)","v":"No"}]
[2212,"CB0050L10-34","29015444","Cellbag, 50L, BC10, pHOPT, DOOPT II and Perfusion","021","94","WAVE","431","Std Bags",{"v":865.98,"d":"866"},{"v":7801.6138200000005,"d":"7,802"},null,{"$f":"VLOOKUP(B2213,'[1]2018.7 '!A:C,3,)","v":"Active"},{"$f":"VLOOKUP(B2213,'[1]2018.7 '!A:M,13,)","v":"Ambient"},{"$f":"VLOOKUP(B2213,'[1]2018.7 '!A:N,14,)","v":"No"}]
[2215,"CB0050L11-11","29097512","Cellbag, 50L, BC11, pHOPT, DO","021","94","WAVE","431","Std Bags",{"v":726.24,"d":"726"},{"v":6542.69616,"d":"6,543"},null,{"$f":"VLOOKUP(B2216,'[1]2018.7 '!A:C,3,)","v":"Active"},{"$f":"VLOOKUP(B2216,'[1]2018.7 '!A:M,13,)","v":"Ambient"},{"$f":"VLOOKUP(B2216,'[1]2018.7 '!A:N,14,)","v":"No"}]
[2218,"CB0100L10-02","28412397","Cellbag, 100L, BC10, DO","021","94","WAVE","431","Std Bags",{"v":606.9,"d":"607"},{"v":5467.5621,"d":"5,468"},null,{"$f":"VLOOKUP(B2219,'[1]2018.7 '!A:C,3,)","v":"Active"},{"$f":"VLOOKUP(B2219,'[1]2018.7 '!A:M,13,)","v":"Ambient"},{"$f":"VLOOKUP(B2219,'[1]2018.7 '!A:N,14,)","v":"No"}]
[2220,"CB0100L10-11","28984091","Cellbag, 100L, BC10, pHOPT, DO","021","94","WAVE","431","Std Bags",{"v":939.4200000000001,"d":"939"},{"v":8463.23478,"d":"8,463"},null,{"$f":"VLOOKUP(B2221,'[1]2018.7 '!A:C,3,)","v":"Active"},{"$f":"VLOOKUP(B2221,'[1]2018.7 '!A:M,13,)","v":"Ambient"},{"$f":"VLOOKUP(B2221,'[1]2018.7 '!A:N,14,)","v":"No"}]
[2224,"CB0200L10-02","28412399","Cellbag, 200L, BC10, DO","021","94","WAVE","431","Std Bags",{"v":768.06,"d":"768"},{"v":6919.452539999999,"d":"6,919"},null,{"$f":"VLOOKUP(B2225,'[1]2018.7 '!A:C,3,)","v":"Active"},{"$f":"VLOOKUP(B2225,'[1]2018.7 '!A:M,13,)","v":"Ambient"},{"$f":"VLOOKUP(B2225,'[1]2018.7 '!A:N,14,)","v":"No"}]
[2227,"CB0200L10-31","29018907","CB 200L, BC10, pHOPT, DOOPT II","021","94","WAVE","431","Std Bags",{"v":1001.64,"d":"1,002"},{"v":9023.77476,"d":"9,024"},null,{"$f":"VLOOKUP(B2228,'[1]2018.7 '!A:C,3,)","v":"Active"},{"$f":"VLOOKUP(B2228,'[1]2018.7 '!A:M,13,)","v":"Ambient"},{"$f":"VLOOKUP(B2228,'[1]2018.7 '!A:N,14,)","v":"No"}]
[2230,"CB0500L10-05","28412406","Cellbag, 500L, BC10, pH, DO","021","94","WAVE","431","Std Bags",{"v":1615.68,"d":"1,616"},{"v":14555.66112,"d":"14,556"},null,{"$f":"VLOOKUP(B2231,'[1]2018.7 '!A:C,3,)","v":"Active"},{"$f":"VLOOKUP(B2231,'[1]2018.7 '!A:M,13,)","v":"Ambient"},{"$f":"VLOOKUP(B2231,'[1]2018.7 '!A:N,14,)","v":"No"}]
[2234,"FM0020L60-90","28412480","Flexbag, BC60, 20L, Basic, NS","021","94","WAVE","431","Std Bags",{"v":326.4,"d":"326"},{"v":2940.5376,"d":"2,941"},null,{"$f":"VLOOKUP(B2235,'[1]2018.7 '!A:C,3,)","v":"Sales Stop"},{"$f":"VLOOKUP(B2235,'[1]2018.7 '!A:M,13,)","v":"Ambient"},{"$f":"VLOOKUP(B2235,'[1]2018.7 '!A:N,14,)","v":"reviewing"}]
[2237,"MB0050L10-01","28412265","MBag, 50L, BC10, Basic","021","94","WAVE","431","Std Bags",{"v":164.15,"d":"164"},{"v":1478.82735,"d":"1,479"},null,{"$f":"VLOOKUP(B2238,'[1]2018.7 '!A:C,3,)","v":"Active"},{"$f":"VLOOKUP(B2238,'[1]2018.7 '!A:M,13,)","v":"Ambient"},{"$f":"VLOOKUP(B2238,'[1]2018.7 '!A:N,14,)","v":"No"}]
[2239,"MB0500L10-01","28412266","MB, 500L, BC10, Basic","021","94","WAVE","431","Std Bags",{"v":1225.02,"d":"1,225"},{"v":11036.20518,"d":"11,036"},null,{"$f":"VLOOKUP(B2240,'[1]2018.7 '!A:C,3,)","v":"Active"},{"$f":"VLOOKUP(B2240,'[1]2018.7 '!A:M,13,)","v":"Ambient"},{"$f":"VLOOKUP(B2240,'[1]2018.7 '!A:N,14,)","v":"No"}]
[2242,"TK002","28412413","Tubekit, PVC with Plug","021","94","WAVE","431","Std Bags",{"v":66.91,"d":"67"},{"v":602.79219,"d":"603"},null,{"$f":"VLOOKUP(B2243,'[1]2018.7 '!A:C,3,)","v":"Active"},{"$f":"VLOOKUP(B2243,'[1]2018.7 '!A:M,13,)","v":"Ambient"},{"$f":"VLOOKUP(B2243,'[1]2018.7 '!A:N,14,)","v":"No"}]
[2245,"WV050016","28412453","Zero Oxygen Solution","021","94","WAVE","431","Std Bags",{"v":107.1,"d":"107"},{"v":964.8639,"d":"965"},null,{"$f":"VLOOKUP(B2246,'[1]2018.7 '!A:C,3,)","v":"Active"},{"$f":"VLOOKUP(B2246,'[1]2018.7 '!A:M,13,)","v":"Ambient"},{"$f":"VLOOKUP(B2246,'[1]2018.7 '!A:N,14,)","v":"No"}]
[2249,"WV40095","28412595","Oxywell-2 Y Adapter","021","94","WAVE","431","Std Bags",{"v":15.690000000000001,"d":"16"},{"v":141.35121,"d":"141"},null,{"$f":"VLOOKUP(B2250,'[1]2018.7 '!A:C,3,)","v":"Sales Stop"},{"$f":"VLOOKUP(B2250,'[1]2018.7 '!A:M,13,)","v":"Ambient"},{"$f":"VLOOKUP(B2250,'[1]2018.7 '!A:N,14,)","v":"reviewing"}]
[2252,"CB0001L10WEY02-2","28975118","Cellbag, 1L, BC10, Custom","021","94","WAVE","432","Custom Cellbags",{"v":508.9800000000001,"d":"509"},{"v":4585.400820000001,"d":"4,585"},null,{"$f":"VLOOKUP(B2253,'[1]2018.7 '!A:C,3,)","v":"Active"},{"$f":"VLOOKUP(B2253,'[1]2018.7 '!A:M,13,)","v":"Ambient"},{"$f":"VLOOKUP(B2253,'[1]2018.7 '!A:N,14,)","v":"Reviewing"}]
[2255,"CB0002L10CEN05-2","28412272","Cellbag, 2L, BC10, Custom","021","94","WAVE","432","Custom Cellbags",{"v":238.68,"d":"239"},{"v":2150.26812,"d":"2,150"},null,{"$f":"VLOOKUP(B2256,'[1]2018.7 '!A:C,3,)","v":"Active"},{"$f":"VLOOKUP(B2256,'[1]2018.7 '!A:M,13,)","v":"Ambient"},{"$f":"VLOOKUP(B2256,'[1]2018.7 '!A:N,14,)","v":"No"}]
[2259,"CB0002L10FHC01-2","29013802","CELLBAG, 2 LITER BIOCLEAR 10 FILM, CUSTOM","021","94","WAVE","432","Custom Cellbags",{"v":573.24,"d":"573"},{"v":5164.31916,"d":"5,164"},null,{"$f":"VLOOKUP(B2260,'[1]2018.7 '!A:C,3,)","v":"Active"},{"$f":"VLOOKUP(B2260,'[1]2018.7 '!A:M,13,)","v":"Ambient"},{"$f":"VLOOKUP(B2260,'[1]2018.7 '!A:N,14,)","v":"Reviewing"}]
[2260,"CB0002L10GI01-2","28412256","Cellbag, 2L, BC10, Custom","021","94","WAVE","432","Custom Cellbags",{"v":274.38,"d":"274"},{"v":2471.88942,"d":"2,472"},null,{"$f":"VLOOKUP(B2261,'[1]2018.7 '!A:C,3,)","v":"Active"},{"$f":"VLOOKUP(B2261,'[1]2018.7 '!A:M,13,)","v":"Ambient"},{"$f":"VLOOKUP(B2261,'[1]2018.7 '!A:N,14,)","v":"Reviewing"}]
[2264,"CB0002L10ISU06-2","28412348","Cellbag, 2L, BC10, Custom","021","94","WAVE","432","Custom Cellbags",{"v":247.86,"d":"248"},{"v":2232.97074,"d":"2,233"},null,{"$f":"VLOOKUP(B2265,'[1]2018.7 '!A:C,3,)","v":"Sales Stop"},{"$f":"VLOOKUP(B2265,'[1]2018.7 '!A:M,13,)","v":"Ambient"},{"$f":"VLOOKUP(B2265,'[1]2018.7 '!A:N,14,)","v":"reviewing"}]
[2267,"CB0002L10LPS10-2","28412943","Cellbag, BC10, 2L, Custom","021","94","WAVE","432","Custom Cellbags",{"v":345.78,"d":"346"},{"v":3115.13202,"d":"3,115"},null,{"$f":"VLOOKUP(B2268,'[1]2018.7 '!A:C,3,)","v":"Sales Stop"},{"$f":"VLOOKUP(B2268,'[1]2018.7 '!A:M,13,)","v":"Ambient"},{"$f":"VLOOKUP(B2268,'[1]2018.7 '!A:N,14,)","v":"reviewing"}]
[2270,"CB0002L10MDY01-2","28413011","CB, 2L, BC10, Custom","021","94","WAVE","432","Custom Cellbags",{"v":409.02,"d":"409"},{"v":3684.86118,"d":"3,685"},null,{"$f":"VLOOKUP(B2271,'[1]2018.7 '!A:C,3,)","v":"Active"},{"$f":"VLOOKUP(B2271,'[1]2018.7 '!A:M,13,)","v":"Ambient"},{"$f":"VLOOKUP(B2271,'[1]2018.7 '!A:N,14,)","v":"No"}]
[2274,"CB0002L10SNF03-2","28412275","Cellbag, 2L, BC10, Custom","021","94","WAVE","432","Custom Cellbags",{"v":347.82,"d":"348"},{"v":3133.51038,"d":"3,134"},null,{"$f":"VLOOKUP(B2275,'[1]2018.7 '!A:C,3,)","v":"Sales Stop"},{"$f":"VLOOKUP(B2275,'[1]2018.7 '!A:M,13,)","v":"Ambient"},{"$f":"VLOOKUP(B2275,'[1]2018.7 '!A:N,14,)","v":"reviewing"}]
[2277,"CB0002L10SWR02-2","29107857","Cellbag, 2L, BC10, Custom","021","94","WAVE","432","Custom Cellbags",{"v":571.2,"d":"571"},{"v":5145.9408,"d":"5,146"},null,{"$f":"VLOOKUP(B2278,'[1]2018.7 '!A:C,3,)","v":"Active"},{"$f":"VLOOKUP(B2278,'[1]2018.7 '!A:M,13,)","v":"Ambient"},{"$f":"VLOOKUP(B2278,'[1]2018.7 '!A:N,14,)","v":"Reviewing"}]
[2280,"CB0002L10WEY04-2","29002969","Cellbag, 2L, BC10, CUSTOM","021","94","WAVE","432","Custom Cellbags",{"v":242.76,"d":"243"},{"v":2187.02484,"d":"2,187"},null,{"$f":"VLOOKUP(B2281,'[1]2018.7 '!A:C,3,)","v":"Active"},{"$f":"VLOOKUP(B2281,'[1]2018.7 '!A:M,13,)","v":"Ambient"},{"$f":"VLOOKUP(B2281,'[1]2018.7 '!A:N,14,)","v":"Reviewing"}]
[2285,"CB0010L10AMG03-2","28412283","Cellbag, 10L, BC10, Custom","021","94","WAVE","432","Custom Cellbags",{"v":390.66,"d":"391"},{"v":3519.4559400000003,"d":"3,519"},null,{"$f":"VLOOKUP(B2286,'[1]2018.7 '!A:C,3,)","v":"Active"},{"$f":"VLOOKUP(B2286,'[1]2018.7 '!A:M,13,)","v":"Ambient"},{"$f":"VLOOKUP(B2286,'[1]2018.7 '!A:N,14,)","v":"Reviewing"}]
[2288,"CB0010L10AMG22-2","29057868","CELLBAG, 10 LITER BIOCLEAR 10 FILM, CUSTOM","021","94","WAVE","432","Custom Cellbags",{"v":252.96000000000004,"d":"253"},{"v":2278.9166400000004,"d":"2,279"},null,{"$f":"VLOOKUP(B2289,'[1]2018.7 '!A:C,3,)","v":"Active"},{"$f":"VLOOKUP(B2289,'[1]2018.7 '!A:M,13,)","v":"Ambient"},{"$f":"VLOOKUP(B2289,'[1]2018.7 '!A:N,14,)","v":"Reviewing"}]
[2289,"CB0010L10ASMP01-2","28412330","Cellbag, 10L, BC10, Custom","021","94","WAVE","432","Custom Cellbags",{"v":378.42,"d":"378"},{"v":3409.1857800000002,"d":"3,409"},null,{"$f":"VLOOKUP(B2290,'[1]2018.7 '!A:C,3,)","v":"Sales Stop"},{"$f":"VLOOKUP(B2290,'[1]2018.7 '!A:M,13,)","v":"Ambient"},{"$f":"VLOOKUP(B2290,'[1]2018.7 '!A:N,14,)","v":"reviewing"}]
[2292,"CB0010L10BMS03-2","28413013","CB, 10L, BC10, Custom","021","94","WAVE","432","Custom Cellbags",357,{"v":3216.213,"d":"3,216"},null,{"$f":"VLOOKUP(B2293,'[1]2018.7 '!A:C,3,)","v":"Active"},{"$f":"VLOOKUP(B2293,'[1]2018.7 '!A:M,13,)","v":"Ambient"},{"$f":"VLOOKUP(B2293,'[1]2018.7 '!A:N,14,)","v":"Reviewing"}]
[2295,"CB0010L10CRT01-2","29003395","Cellbag, 10L, BC10, CUSTOM","021","94","WAVE","432","Custom Cellbags",{"v":590.58,"d":"591"},{"v":5320.535220000001,"d":"5,321"},null,{"$f":"VLOOKUP(B2296,'[1]2018.7 '!A:C,3,)","v":"Active"},{"$f":"VLOOKUP(B2296,'[1]2018.7 '!A:M,13,)","v":"Ambient"},{"$f":"VLOOKUP(B2296,'[1]2018.7 '!A:N,14,)","v":"No"}]
[2299,"CB0010L10CSL10-2","29057061","CELLBAG, 10 LITER BIOCLEAR 10 FILM, CUSTOM","021","94","WAVE","432","Custom Cellbags",{"v":311.1,"d":"311"},{"v":2802.6999000000005,"d":"2,803"},null,{"$f":"VLOOKUP(B2300,'[1]2018.7 '!A:C,3,)","v":"Active"},{"$f":"VLOOKUP(B2300,'[1]2018.7 '!A:M,13,)","v":"Ambient"},{"$f":"VLOOKUP(B2300,'[1]2018.7 '!A:N,14,)","v":"Reviewing"}]
[2302,"CB0010L10GLY01-2","28981031","Cellbag, 10L, BC10, Custom","021","94","WAVE","432","Custom Cellbags",{"v":956.7599999999999,"d":"957"},{"v":8619.45084,"d":"8,619"},null,{"$f":"VLOOKUP(B2303,'[1]2018.7 '!A:C,3,)","v":"Active"},{"$f":"VLOOKUP(B2303,'[1]2018.7 '!A:M,13,)","v":"Ambient"},{"$f":"VLOOKUP(B2303,'[1]2018.7 '!A:N,14,)","v":"Reviewing"}]
[2306,"CB0010L10KRN10-2","29002237","Cellbag, 10L, BC10, Custom","021","94","WAVE","432","Custom Cellbags",{"v":682.38,"d":"682"},{"v":6147.56142,"d":"6,148"},null,{"$f":"VLOOKUP(B2307,'[1]2018.7 '!A:C,3,)","v":"Active"},{"$f":"VLOOKUP(B2307,'[1]2018.7 '!A:M,13,)","v":"Ambient"},{"$f":"VLOOKUP(B2307,'[1]2018.7 '!A:N,14,)","v":"Reviewing"}]
[2310,"CB0010L10NOV01-2","28412989","Cellbag, 10L, BC10, Custom","021","94","WAVE","432","Custom Cellbags",{"v":329.46,"d":"329"},{"v":2968.10514,"d":"2,968"},null,{"$f":"VLOOKUP(B2311,'[1]2018.7 '!A:C,3,)","v":"Active"},{"$f":"VLOOKUP(B2311,'[1]2018.7 '!A:M,13,)","v":"Ambient"},{"$f":"VLOOKUP(B2311,'[1]2018.7 '!A:N,14,)","v":"No"}]
[2313,"CB0010L10RPA01-2","28412285","Cellbag, 10L, BC10, Custom","021","94","WAVE","432","Custom Cellbags",{"v":396.78,"d":"397"},{"v":3574.59102,"d":"3,575"},null,{"$f":"VLOOKUP(B2314,'[1]2018.7 '!A:C,3,)","v":"Sales Stop"},{"$f":"VLOOKUP(B2314,'[1]2018.7 '!A:M,13,)","v":"Ambient"},{"$f":"VLOOKUP(B2314,'[1]2018.7 '!A:N,14,)","v":"reviewing"}]
[2314,"CB0010L10SHN01-2","28412329","Cellbag, 10L, BC10, Custom","021","94","WAVE","432","Custom Cellbags",{"v":412.08,"d":"412"},{"v":3712.42872,"d":"3,712"},null,{"$f":"VLOOKUP(B2315,'[1]2018.7 '!A:C,3,)","v":"Sales Stop"},{"$f":"VLOOKUP(B2315,'[1]2018.7 '!A:M,13,)","v":"Ambient"},{"$f":"VLOOKUP(B2315,'[1]2018.7 '!A:N,14,)","v":"reviewing"}]
[2317,"CB0010L10TGN05-2","29033852","CELLBAG 10 LITER, BIOCLEAR 10 FILM, CUSTOM","021","94","WAVE","432","Custom Cellbags",{"v":685.44,"d":"685"},{"v":6175.128960000001,"d":"6,175"},null,{"$f":"VLOOKUP(B2318,'[1]2018.7 '!A:C,3,)","v":"Active"},{"$f":"VLOOKUP(B2318,'[1]2018.7 '!A:M,13,)","v":"Ambient"},{"$f":"VLOOKUP(B2318,'[1]2018.7 '!A:N,14,)","v":"Reviewing"}]
[2320,"CB0010L10WYI01-2","28412333","Cellbag, 10L, BC10, Custom","021","94","WAVE","432","Custom Cellbags",{"v":390.66,"d":"391"},{"v":3519.4559400000003,"d":"3,519"},null,{"$f":"VLOOKUP(B2321,'[1]2018.7 '!A:C,3,)","v":"Active"},{"$f":"VLOOKUP(B2321,'[1]2018.7 '!A:M,13,)","v":"Ambient"},{"$f":"VLOOKUP(B2321,'[1]2018.7 '!A:N,14,)","v":"Reviewing"}]
[2324,"CB0020L10ABC03-2","28412461","Cellbag, BC10, 20L, Custom","021","94","WAVE","432","Custom Cellbags",{"v":920.0399999999998,"d":"920"},{"v":8288.64036,"d":"8,289"},null,{"$f":"VLOOKUP(B2325,'[1]2018.7 '!A:C,3,)","v":"Sales Stop"},{"$f":"VLOOKUP(B2325,'[1]2018.7 '!A:M,13,)","v":"Ambient"},{"$f":"VLOOKUP(B2325,'[1]2018.7 '!A:N,14,)","v":"reviewing"}]
[2327,"CB0020L10ASMP02-2","28412365","Cellbag, 20L, BC10, Custom","021","94","WAVE","432","Custom Cellbags",{"v":412.08,"d":"412"},{"v":3712.42872,"d":"3,712"},null,{"$f":"VLOOKUP(B2328,'[1]2018.7 '!A:C,3,)","v":"Sales Stop"},{"$f":"VLOOKUP(B2328,'[1]2018.7 '!A:M,13,)","v":"Ambient"},{"$f":"VLOOKUP(B2328,'[1]2018.7 '!A:N,14,)","v":"reviewing"}]
[2332,"CB0020L10BMS02-2","28413003","Cellbag, 20L, BC10, Custom","021","94","WAVE","432","Custom Cellbags",{"v":457.97999999999996,"d":"458"},{"v":4125.94182,"d":"4,126"},null,{"$f":"VLOOKUP(B2333,'[1]2018.7 '!A:C,3,)","v":"Active"},{"$f":"VLOOKUP(B2333,'[1]2018.7 '!A:M,13,)","v":"Ambient"},{"$f":"VLOOKUP(B2333,'[1]2018.7 '!A:N,14,)","v":"No"}]
[2335,"CB0020L10CEN09-2","28412367","Cellbag, 20L, BC10, Custom","021","94","WAVE","432","Custom Cellbags",{"v":270.3,"d":"270"},{"v":2435.1327,"d":"2,435"},null,{"$f":"VLOOKUP(B2336,'[1]2018.7 '!A:C,3,)","v":"Active"},{"$f":"VLOOKUP(B2336,'[1]2018.7 '!A:M,13,)","v":"Ambient"},{"$f":"VLOOKUP(B2336,'[1]2018.7 '!A:N,14,)","v":"No"}]
[2338,"CB0020L10CHG02-2","29030683","Cellbag, 20L, BC10, CUSTOM","021","94","WAVE","432","Custom Cellbags",{"v":723.18,"d":"723"},{"v":6515.1286199999995,"d":"6,515"},null,{"$f":"VLOOKUP(B2339,'[1]2018.7 '!A:C,3,)","v":"Active"},{"$f":"VLOOKUP(B2339,'[1]2018.7 '!A:M,13,)","v":"Ambient"},{"$f":"VLOOKUP(B2339,'[1]2018.7 '!A:N,14,)","v":"No"}]
[2339,"CB0020L10CKP01-2","28412978","Cellbag, 20L, BC10, Custom","021","94","WAVE","432","Custom Cellbags",{"v":345.78,"d":"346"},{"v":3115.13202,"d":"3,115"},null,{"$f":"VLOOKUP(B2340,'[1]2018.7 '!A:C,3,)","v":"Sales Stop"},{"$f":"VLOOKUP(B2340,'[1]2018.7 '!A:M,13,)","v":"Ambient"},{"$f":"VLOOKUP(B2340,'[1]2018.7 '!A:N,14,)","v":"reviewing"}]
[2342,"CB0020L10CSL07-2","29026201","Cellbag, 20L, BC10, CUSTOM","021","94","WAVE","432","Custom Cellbags",{"v":456.9599999999999,"d":"457"},{"v":4116.75264,"d":"4,117"},null,{"$f":"VLOOKUP(B2343,'[1]2018.7 '!A:C,3,)","v":"Active"},{"$f":"VLOOKUP(B2343,'[1]2018.7 '!A:M,13,)","v":"Ambient"},{"$f":"VLOOKUP(B2343,'[1]2018.7 '!A:N,14,)","v":"No"}]
[2346,"CB0020L10FRL01-2","28412293","Cellbag, 20L, BC10, Custom","021","94","WAVE","432","Custom Cellbags",{"v":406.98,"d":"407"},{"v":3666.48282,"d":"3,666"},null,{"$f":"VLOOKUP(B2347,'[1]2018.7 '!A:C,3,)","v":"Active"},{"$f":"VLOOKUP(B2347,'[1]2018.7 '!A:M,13,)","v":"Ambient"},{"$f":"VLOOKUP(B2347,'[1]2018.7 '!A:N,14,)","v":"Reviewing"}]
[2348,"CB0020L10GIB02-2","28412294","Cellbag, 20L, BC10, Custom","021","94","WAVE","432","Custom Cellbags",{"v":445.74,"d":"446"},{"v":4015.6716600000004,"d":"4,016"},null,{"$f":"VLOOKUP(B2349,'[1]2018.7 '!A:C,3,)","v":"Sales Stop"},{"$f":"VLOOKUP(B2349,'[1]2018.7 '!A:M,13,)","v":"Ambient"},{"$f":"VLOOKUP(B2349,'[1]2018.7 '!A:N,14,)","v":"reviewing"}]
[2353,"CB0020L10IDC03-2","28412297","Cellbag, 20L, BC10, Custom","021","94","WAVE","432","Custom Cellbags",{"v":707.88,"d":"708"},{"v":6377.29092,"d":"6,377"},null,{"$f":"VLOOKUP(B2354,'[1]2018.7 '!A:C,3,)","v":"Sales Stop"},{"$f":"VLOOKUP(B2354,'[1]2018.7 '!A:M,13,)","v":"Ambient"},{"$f":"VLOOKUP(B2354,'[1]2018.7 '!A:N,14,)","v":"reviewing"}]
[2357,"CB0020L10INTG01-2","28412372","Cellbag, 20L, BC10, Custom","021","94","WAVE","432","Custom Cellbags",{"v":859.86,"d":"860"},{"v":7746.4787400000005,"d":"7,746"},null,{"$f":"VLOOKUP(B2358,'[1]2018.7 '!A:C,3,)","v":"Active"},{"$f":"VLOOKUP(B2358,'[1]2018.7 '!A:M,13,)","v":"Ambient"},{"$f":"VLOOKUP(B2358,'[1]2018.7 '!A:N,14,)","v":"Reviewing"}]
[2360,"CB0020L10KRN08-2","28412469","Cellbag, 20L, BC10, Custom","021","94","WAVE","432","Custom Cellbags",{"v":674.22,"d":"674"},{"v":6074.04798,"d":"6,074"},null,{"$f":"VLOOKUP(B2361,'[1]2018.7 '!A:C,3,)","v":"Active"},{"$f":"VLOOKUP(B2361,'[1]2018.7 '!A:M,13,)","v":"Ambient"},{"$f":"VLOOKUP(B2361,'[1]2018.7 '!A:N,14,)","v":"Reviewing"}]
[2363,"CB0020L10LZS14-2","28968978","Cellbag, 20L, BC10, Custom","021","94","WAVE","432","Custom Cellbags",{"v":813.96,"d":"814"},{"v":7332.96564,"d":"7,333"},null,{"$f":"VLOOKUP(B2364,'[1]2018.7 '!A:C,3,)","v":"Active"},{"$f":"VLOOKUP(B2364,'[1]2018.7 '!A:M,13,)","v":"Ambient"},{"$f":"VLOOKUP(B2364,'[1]2018.7 '!A:N,14,)","v":"Reviewing"}]
[2364,"CB0020L10MDI02-2","28413009","CB, 20L, BC10, Custom","021","94","WAVE","432","Custom Cellbags",{"v":743.58,"d":"744"},{"v":6698.912220000001,"d":"6,699"},null,{"$f":"VLOOKUP(B2365,'[1]2018.7 '!A:C,3,)","v":"Active"},{"$f":"VLOOKUP(B2365,'[1]2018.7 '!A:M,13,)","v":"Ambient"},{"$f":"VLOOKUP(B2365,'[1]2018.7 '!A:N,14,)","v":"Reviewing"}]
[2367,"CB0020L10MDY05-2","29144430","Cellbag, 20L, BC10, Custom","021","94","WAVE","432","Custom Cellbags",{"v":728.28,"d":"728"},{"v":6561.07452,"d":"6,561"},null,{"$f":"VLOOKUP(B2368,'[1]2018.7 '!A:C,3,)","v":"Active"},{"$f":"VLOOKUP(B2368,'[1]2018.7 '!A:M,13,)","v":"Ambient"},{"$f":"VLOOKUP(B2368,'[1]2018.7 '!A:N,14,)","v":"No"}]
[2373,"CB0020L10OTG02-2","28978374","Cellbag, 20L, BC10, Custom","021","94","WAVE","432","Custom Cellbags",{"v":1109.76,"d":"1,110"},{"v":9997.82784,"d":"9,998"},null,{"$f":"VLOOKUP(B2374,'[1]2018.7 '!A:C,3,)","v":"Active"},{"$f":"VLOOKUP(B2374,'[1]2018.7 '!A:M,13,)","v":"Ambient"},{"$f":"VLOOKUP(B2374,'[1]2018.7 '!A:N,14,)","v":"Reviewing"}]
[2375,"CB0020L10PFE04-2","28413014","CB, 20L, BC10, Custom","021","94","WAVE","432","Custom Cellbags",{"v":743.58,"d":"744"},{"v":6698.912220000001,"d":"6,699"},null,{"$f":"VLOOKUP(B2376,'[1]2018.7 '!A:C,3,)","v":"Active"},{"$f":"VLOOKUP(B2376,'[1]2018.7 '!A:M,13,)","v":"Ambient"},{"$f":"VLOOKUP(B2376,'[1]2018.7 '!A:N,14,)","v":"Reviewing"}]
[2378,"CB0020L10SNF04-2","28412300","Cellbag, 20L, BC10, Custom","021","94","WAVE","432","Custom Cellbags",{"v":396.78,"d":"397"},{"v":3574.59102,"d":"3,575"},null,{"$f":"VLOOKUP(B2379,'[1]2018.7 '!A:C,3,)","v":"Sales Stop"},{"$f":"VLOOKUP(B2379,'[1]2018.7 '!A:M,13,)","v":"Ambient"},{"$f":"VLOOKUP(B2379,'[1]2018.7 '!A:N,14,)","v":"reviewing"}]
[2382,"CB0020L10UCB02-2","28997325","Cellbag, 20L, BC10, Custom","021","94","WAVE","432","Custom Cellbags",{"v":439.62,"d":"440"},{"v":3960.5365800000004,"d":"3,961"},null,{"$f":"VLOOKUP(B2383,'[1]2018.7 '!A:C,3,)","v":"Active"},{"$f":"VLOOKUP(B2383,'[1]2018.7 '!A:M,13,)","v":"Ambient"},{"$f":"VLOOKUP(B2383,'[1]2018.7 '!A:N,14,)","v":"Reviewing"}]
[2385,"CB0020L10XMA02-2","28412380","Cellbag, 20L, BC10, Custom","021","94","WAVE","432","Custom Cellbags",{"v":817.02,"d":"817"},{"v":7360.53318,"d":"7,361"},null,{"$f":"VLOOKUP(B2386,'[1]2018.7 '!A:C,3,)","v":"Active"},{"$f":"VLOOKUP(B2386,'[1]2018.7 '!A:M,13,)","v":"Ambient"},{"$f":"VLOOKUP(B2386,'[1]2018.7 '!A:N,14,)","v":"Reviewing"}]
[2388,"CB0020L40CEN01-4","28412454","Cellbag, BC40, 20L, Custom","021","94","WAVE","432","Custom Cellbags",{"v":396.78,"d":"397"},{"v":3574.59102,"d":"3,575"},null,{"$f":"VLOOKUP(B2389,'[1]2018.7 '!A:C,3,)","v":"Active"},{"$f":"VLOOKUP(B2389,'[1]2018.7 '!A:M,13,)","v":"Ambient"},{"$f":"VLOOKUP(B2389,'[1]2018.7 '!A:N,14,)","v":"Reviewing"}]
[2389,"CB0020L40CEN03-4","28412456","Cellbag, BC40, 20L, Custom","021","94","WAVE","432","Custom Cellbags",{"v":444.72,"d":"445"},{"v":4006.4824800000006,"d":"4,006"},null,{"$f":"VLOOKUP(B2390,'[1]2018.7 '!A:C,3,)","v":"Active"},{"$f":"VLOOKUP(B2390,'[1]2018.7 '!A:M,13,)","v":"Ambient"},{"$f":"VLOOKUP(B2390,'[1]2018.7 '!A:N,14,)","v":"Reviewing"}]
[2394,"CB0022L10ATZ02-2","28980366","CELLBAG 22 LITER, BIOCLEAR 10 FILM, CUSTOM","021","94","WAVE","432","Custom Cellbags",{"v":558.96,"d":"559"},{"v":5035.67064,"d":"5,036"},null,{"$f":"VLOOKUP(B2395,'[1]2018.7 '!A:C,3,)","v":"Active"},{"$f":"VLOOKUP(B2395,'[1]2018.7 '!A:M,13,)","v":"Ambient"},{"$f":"VLOOKUP(B2395,'[1]2018.7 '!A:N,14,)","v":"Reviewing"}]
[2397,"CB0022L10MDI05-2","28989614","Cellbag, BC10, 22L, Custom","021","94","WAVE","432","Custom Cellbags",{"v":682.38,"d":"682"},{"v":6147.56142,"d":"6,148"},null,{"$f":"VLOOKUP(B2398,'[1]2018.7 '!A:C,3,)","v":"Active"},{"$f":"VLOOKUP(B2398,'[1]2018.7 '!A:M,13,)","v":"Ambient"},{"$f":"VLOOKUP(B2398,'[1]2018.7 '!A:N,14,)","v":"Reviewing"}]
[2400,"CB0022L10WYB02-2","28412478","Cellbag, BC10, 22L, Custom","021","94","WAVE","432","Custom Cellbags",{"v":943.5,"d":"944"},{"v":8499.9915,"d":"8,500"},null,{"$f":"VLOOKUP(B2401,'[1]2018.7 '!A:C,3,)","v":"Sales Stop"},{"$f":"VLOOKUP(B2401,'[1]2018.7 '!A:M,13,)","v":"Ambient"},{"$f":"VLOOKUP(B2401,'[1]2018.7 '!A:N,14,)","v":"reviewing"}]
[2403,"CB0050L10AGS02-2","28412307","Cellbag, 50L, BC10, Custom","021","94","WAVE","432","Custom Cellbags",{"v":329.46,"d":"329"},{"v":2968.10514,"d":"2,968"},null,{"$f":"VLOOKUP(B2404,'[1]2018.7 '!A:C,3,)","v":"Sales Stop"},{"$f":"VLOOKUP(B2404,'[1]2018.7 '!A:M,13,)","v":"Ambient"},{"$f":"VLOOKUP(B2404,'[1]2018.7 '!A:N,14,)","v":"reviewing"}]
[2407,"CB0050L10AMG05-2","28412310","Cellbag, 50L, BC10, Custom","021","94","WAVE","432","Custom Cellbags",{"v":1505.52,"d":"1,506"},{"v":13563.22968,"d":"13,563"},null,{"$f":"VLOOKUP(B2408,'[1]2018.7 '!A:C,3,)","v":"Active"},{"$f":"VLOOKUP(B2408,'[1]2018.7 '!A:M,13,)","v":"Ambient"},{"$f":"VLOOKUP(B2408,'[1]2018.7 '!A:N,14,)","v":"No"}]
[2410,"CB0050L10AMG13-2","28412988","Cellbag, 50L, BC10, Custom","021","94","WAVE","432","Custom Cellbags",408,{"v":3675.672,"d":"3,676"},null,{"$f":"VLOOKUP(B2411,'[1]2018.7 '!A:C,3,)","v":"Active"},{"$f":"VLOOKUP(B2411,'[1]2018.7 '!A:M,13,)","v":"Ambient"},{"$f":"VLOOKUP(B2411,'[1]2018.7 '!A:N,14,)","v":"Reviewing"}]
[2411,"CB0050L10AMG15-2","28980276","Cellbag, 50L, BC10, Custom","021","94","WAVE","432","Custom Cellbags",{"v":826.2,"d":"826"},{"v":7443.2358,"d":"7,443"},null,{"$f":"VLOOKUP(B2412,'[1]2018.7 '!A:C,3,)","v":"Active"},{"$f":"VLOOKUP(B2412,'[1]2018.7 '!A:M,13,)","v":"Ambient"},{"$f":"VLOOKUP(B2412,'[1]2018.7 '!A:N,14,)","v":"Reviewing"}]
[2415,"CB0050L10ATZ03-2","28980281","CELLBAG 50 LITER, BIOCLEAR 10 FILM, CUSTOM","021","94","WAVE","432","Custom Cellbags",{"v":597.72,"d":"598"},{"v":5384.85948,"d":"5,385"},null,{"$f":"VLOOKUP(B2416,'[1]2018.7 '!A:C,3,)","v":"Active"},{"$f":"VLOOKUP(B2416,'[1]2018.7 '!A:M,13,)","v":"Ambient"},{"$f":"VLOOKUP(B2416,'[1]2018.7 '!A:N,14,)","v":"Reviewing"}]
[2418,"CB0050L10BMR03-2","29084194","CELLBAG 50 LITER, BIOCLEAR 10 FILM CUSTOM","021","94","WAVE","432","Custom Cellbags",{"v":621.18,"d":"621"},{"v":5596.21062,"d":"5,596"},null,{"$f":"VLOOKUP(B2419,'[1]2018.7 '!A:C,3,)","v":"Active"},{"$f":"VLOOKUP(B2419,'[1]2018.7 '!A:M,13,)","v":"Ambient"},{"$f":"VLOOKUP(B2419,'[1]2018.7 '!A:N,14,)","v":"Reviewing"}]
[2422,"CB0050L10CEN04-2","28412311","Cellbag, 50L, BC10, Custom","021","94","WAVE","432","Custom Cellbags",{"v":444.72,"d":"445"},{"v":4006.4824800000006,"d":"4,006"},null,{"$f":"VLOOKUP(B2423,'[1]2018.7 '!A:C,3,)","v":"Active"},{"$f":"VLOOKUP(B2423,'[1]2018.7 '!A:M,13,)","v":"Ambient"},{"$f":"VLOOKUP(B2423,'[1]2018.7 '!A:N,14,)","v":"No"}]
[2425,"CB0050L10CKP02-2","28412979","Cellbag, 50L, BC10, Custom","021","94","WAVE","432","Custom Cellbags",{"v":384.54,"d":"385"},{"v":3464.3208600000003,"d":"3,464"},null,{"$f":"VLOOKUP(B2426,'[1]2018.7 '!A:C,3,)","v":"Sales Stop"},{"$f":"VLOOKUP(B2426,'[1]2018.7 '!A:M,13,)","v":"Ambient"},{"$f":"VLOOKUP(B2426,'[1]2018.7 '!A:N,14,)","v":"reviewing"}]
[2428,"CB0050L10CSL09-2","29053984","CELLBAG, 50 LITER, BIOCLEAR 10 FILM, CUSTOM","021","94","WAVE","432","Custom Cellbags",{"v":456.9599999999999,"d":"457"},{"v":4116.75264,"d":"4,117"},null,{"$f":"VLOOKUP(B2429,'[1]2018.7 '!A:C,3,)","v":"Active"},{"$f":"VLOOKUP(B2429,'[1]2018.7 '!A:M,13,)","v":"Ambient"},{"$f":"VLOOKUP(B2429,'[1]2018.7 '!A:N,14,)","v":"No"}]
[2432,"CB0050L10FDB05-2","29064837","CELLBAG 50 LITER, BIOCLEAR 10 FILM, CUSTOM","021","94","WAVE","432","Custom Cellbags",561,{"v":5054.049,"d":"5,054"},null,{"$f":"VLOOKUP(B2433,'[1]2018.7 '!A:C,3,)","v":"Active"},{"$f":"VLOOKUP(B2433,'[1]2018.7 '!A:M,13,)","v":"Ambient"},{"$f":"VLOOKUP(B2433,'[1]2018.7 '!A:N,14,)","v":"Reviewing"}]
[2435,"CB0050L10GNT05-2","28412600","Cellbag, BC10, 50L, Custom","021","94","WAVE","432","Custom Cellbags",{"v":1293.36,"d":"1,293"},{"v":11651.88024,"d":"11,652"},null,{"$f":"VLOOKUP(B2436,'[1]2018.7 '!A:C,3,)","v":"Sales Stop"},{"$f":"VLOOKUP(B2436,'[1]2018.7 '!A:M,13,)","v":"Ambient"},{"$f":"VLOOKUP(B2436,'[1]2018.7 '!A:N,14,)","v":"reviewing"}]
[2436,"CB0050L10GNT11-2","28413022","Cellbag, 50L, BC10, Custom","021","94","WAVE","432","Custom Cellbags",{"$f":"K2437/9.009","v":{"v":473.28,"d":"473"}},{"v":4263.77952,"d":"4,264"},null,{"$f":"VLOOKUP(B2437,'[1]2018.7 '!A:C,3,)","v":"Active"},{"$f":"VLOOKUP(B2437,'[1]2018.7 '!A:M,13,)","v":"Ambient"},{"$f":"VLOOKUP(B2437,'[1]2018.7 '!A:N,14,)","v":"No"}]
[2440,"CB0050L10GTP01-2","28412316","Cellbag, 50L, BC10, Custom","021","94","WAVE","432","Custom Cellbags",{"v":461.03999999999996,"d":"461"},{"v":4153.50936,"d":"4,154"},null,{"$f":"VLOOKUP(B2441,'[1]2018.7 '!A:C,3,)","v":"Sales Stop"},{"$f":"VLOOKUP(B2441,'[1]2018.7 '!A:M,13,)","v":"Ambient"},{"$f":"VLOOKUP(B2441,'[1]2018.7 '!A:N,14,)","v":"reviewing"}]
[2443,"CB0050L10IDC05-2","28412318","Cellbag, 50L, BC10, Custom","021","94","WAVE","432","Custom Cellbags",{"v":707.88,"d":"708"},{"v":6377.29092,"d":"6,377"},null,{"$f":"VLOOKUP(B2444,'[1]2018.7 '!A:C,3,)","v":"Sales Stop"},{"$f":"VLOOKUP(B2444,'[1]2018.7 '!A:M,13,)","v":"Ambient"},{"$f":"VLOOKUP(B2444,'[1]2018.7 '!A:N,14,)","v":"reviewing"}]
[2447,"CB0050L10KRN09-2","28412470","Cellbag, BC10, 50L, Custom","021","94","WAVE","432","Custom Cellbags",{"v":712.98,"d":"713"},{"v":6423.23682,"d":"6,423"},null,{"$f":"VLOOKUP(B2448,'[1]2018.7 '!A:C,3,)","v":"Active"},{"$f":"VLOOKUP(B2448,'[1]2018.7 '!A:M,13,)","v":"Ambient"},{"$f":"VLOOKUP(B2448,'[1]2018.7 '!A:N,14,)","v":"Reviewing"}]
[2450,"CB0050L10MDI08-2","29019169","Cellbag, 50L, BC10, CUSTOM","021","94","WAVE","432","Custom Cellbags",{"v":444.72,"d":"445"},{"v":4006.4824800000006,"d":"4,006"},null,{"$f":"VLOOKUP(B2451,'[1]2018.7 '!A:C,3,)","v":"Active"},{"$f":"VLOOKUP(B2451,'[1]2018.7 '!A:M,13,)","v":"Ambient"},{"$f":"VLOOKUP(B2451,'[1]2018.7 '!A:N,14,)","v":"Reviewing"}]
[2454,"CB0050L10MRK05-2","28412392","Cellbag, 50L, BC10, Custom","021","94","WAVE","432","Custom Cellbags",{"v":625.26,"d":"625"},{"v":5632.96734,"d":"5,633"},null,{"$f":"VLOOKUP(B2455,'[1]2018.7 '!A:C,3,)","v":"Sales Stop"},{"$f":"VLOOKUP(B2455,'[1]2018.7 '!A:M,13,)","v":"Ambient"},{"$f":"VLOOKUP(B2455,'[1]2018.7 '!A:N,14,)","v":"reviewing"}]
[2457,"CB0050L10NOV04-2","29012765","Cellbag, 50L, BC10, Custom","021","94","WAVE","432","Custom Cellbags",{"v":412.08,"d":"412"},{"v":3712.42872,"d":"3,712"},null,{"$f":"VLOOKUP(B2458,'[1]2018.7 '!A:C,3,)","v":"Active"},{"$f":"VLOOKUP(B2458,'[1]2018.7 '!A:M,13,)","v":"Ambient"},{"$f":"VLOOKUP(B2458,'[1]2018.7 '!A:N,14,)","v":"Reviewing"}]
[2461,"CB0050L10PDL02-2","28412394","Cellbag, 50L, BC10, Custom","021","94","WAVE","432","Custom Cellbags",{"v":445.74,"d":"446"},{"v":4015.6716600000004,"d":"4,016"},null,{"$f":"VLOOKUP(B2462,'[1]2018.7 '!A:C,3,)","v":"Sales Stop"},{"$f":"VLOOKUP(B2462,'[1]2018.7 '!A:M,13,)","v":"Ambient"},{"$f":"VLOOKUP(B2462,'[1]2018.7 '!A:N,14,)","v":"reviewing"}]
[2462,"CB0050L10PFE02-2","28412395","Cellbag, 50L, BC10, Custom","021","94","WAVE","432","Custom Cellbags",{"v":455.94,"d":"456"},{"v":4107.56346,"d":"4,108"},null,{"$f":"VLOOKUP(B2463,'[1]2018.7 '!A:C,3,)","v":"Active"},{"$f":"VLOOKUP(B2463,'[1]2018.7 '!A:M,13,)","v":"Ambient"},{"$f":"VLOOKUP(B2463,'[1]2018.7 '!A:N,14,)","v":"No"}]
[2465,"CB0050L10TGN03-2","28980139","Cellbag, 50L, BC10, Custom","021","94","WAVE","432","Custom Cellbags",{"v":679.32,"d":"679"},{"v":6119.993880000001,"d":"6,120"},null,{"$f":"VLOOKUP(B2466,'[1]2018.7 '!A:C,3,)","v":"Active"},{"$f":"VLOOKUP(B2466,'[1]2018.7 '!A:M,13,)","v":"Ambient"},{"$f":"VLOOKUP(B2466,'[1]2018.7 '!A:N,14,)","v":"Reviewing"}]
[2468,"CB0050L10XMA04-2","28412946","Cellbag, 50L, BC10, Custom","021","94","WAVE","432","Custom Cellbags",{"v":575.28,"d":"575"},{"v":5182.69752,"d":"5,183"},null,{"$f":"VLOOKUP(B2469,'[1]2018.7 '!A:C,3,)","v":"Active"},{"$f":"VLOOKUP(B2469,'[1]2018.7 '!A:M,13,)","v":"Ambient"},{"$f":"VLOOKUP(B2469,'[1]2018.7 '!A:N,14,)","v":"Reviewing"}]
[2472,"CB0100L10LZP03-2","28412322","Cellbag, 100L, BC10, Custom","021","94","WAVE","432","Custom Cellbags",{"v":609.96,"d":"610"},{"v":5495.12964,"d":"5,495"},null,{"$f":"VLOOKUP(B2473,'[1]2018.7 '!A:C,3,)","v":"Sales Stop"},{"$f":"VLOOKUP(B2473,'[1]2018.7 '!A:M,13,)","v":"Ambient"},{"$f":"VLOOKUP(B2473,'[1]2018.7 '!A:N,14,)","v":"reviewing"}]
[2475,"CB0100L10NOV06-2","29012789","Cellbag, 100L, BC10, CUSTOM","021","94","WAVE","432","Custom Cellbags",{"v":602.82,"d":"603"},{"v":5430.805380000001,"d":"5,431"},null,{"$f":"VLOOKUP(B2476,'[1]2018.7 '!A:C,3,)","v":"Active"},{"$f":"VLOOKUP(B2476,'[1]2018.7 '!A:M,13,)","v":"Ambient"},{"$f":"VLOOKUP(B2476,'[1]2018.7 '!A:N,14,)","v":"Reviewing"}]
[2479,"CB0200L10AME02-2","28412324","Cellbag, 200L, BC10, Custom","021","94","WAVE","432","Custom Cellbags",{"v":1246.44,"d":"1,246"},{"v":11229.17796,"d":"11,229"},null,{"$f":"VLOOKUP(B2480,'[1]2018.7 '!A:C,3,)","v":"Sales Stop"},{"$f":"VLOOKUP(B2480,'[1]2018.7 '!A:M,13,)","v":"Ambient"},{"$f":"VLOOKUP(B2480,'[1]2018.7 '!A:N,14,)","v":"reviewing"}]
[2482,"CB0200L10CKP03-2","28412980","Cellbag, 200L, BC10, Custom","021","94","WAVE","432","Custom Cellbags",{"v":751.74,"d":"752"},{"v":6772.425660000001,"d":"6,772"},null,{"$f":"VLOOKUP(B2483,'[1]2018.7 '!A:C,3,)","v":"Sales Stop"},{"$f":"VLOOKUP(B2483,'[1]2018.7 '!A:M,13,)","v":"Ambient"},{"$f":"VLOOKUP(B2483,'[1]2018.7 '!A:N,14,)","v":"reviewing"}]
[2486,"CB0200L10LZP04-2","28412404","Cellbag, 200L, BC10, Custom","021","94","WAVE","432","Custom Cellbags",{"v":772.14,"d":"772"},{"v":6956.2092600000005,"d":"6,956"},null,{"$f":"VLOOKUP(B2487,'[1]2018.7 '!A:C,3,)","v":"Sales Stop"},{"$f":"VLOOKUP(B2487,'[1]2018.7 '!A:M,13,)","v":"Ambient"},{"$f":"VLOOKUP(B2487,'[1]2018.7 '!A:N,14,)","v":"reviewing"}]
[2487,"CB0200L10LZP06-2","28412472","Cellbag, BC10, 200L, Custom","021","94","WAVE","432","Custom Cellbags",{"v":761.94,"d":"762"},{"v":6864.317460000001,"d":"6,864"},null,{"$f":"VLOOKUP(B2488,'[1]2018.7 '!A:C,3,)","v":"Active"},{"$f":"VLOOKUP(B2488,'[1]2018.7 '!A:M,13,)","v":"Ambient"},{"$f":"VLOOKUP(B2488,'[1]2018.7 '!A:N,14,)","v":"Reviewing"}]
[2490,"CB0200L10MRK09-2","28412335","Cellbag, 200L, BC10, Custom","021","94","WAVE","432","Custom Cellbags",{"v":755.82,"d":"756"},{"v":6809.182380000001,"d":"6,809"},null,{"$f":"VLOOKUP(B2491,'[1]2018.7 '!A:C,3,)","v":"Sales Stop"},{"$f":"VLOOKUP(B2491,'[1]2018.7 '!A:M,13,)","v":"Ambient"},{"$f":"VLOOKUP(B2491,'[1]2018.7 '!A:N,14,)","v":"reviewing"}]
[2493,"CB0200L10PFE03-2","28412964","Cellbag, 200L, BC10, Custom","021","94","WAVE","432","Custom Cellbags",{"v":1124.04,"d":"1,124"},{"v":10126.47636,"d":"10,126"},null,{"$f":"VLOOKUP(B2494,'[1]2018.7 '!A:C,3,)","v":"Active"},{"$f":"VLOOKUP(B2494,'[1]2018.7 '!A:M,13,)","v":"Ambient"},{"$f":"VLOOKUP(B2494,'[1]2018.7 '!A:N,14,)","v":"Reviewing"}]
[2497,"CB0200L10WYB04-2","28412981","Cellbag, 200L, BC10, Custom","021","94","WAVE","432","Custom Cellbags",{"v":722.16,"d":"722"},{"v":6505.93944,"d":"6,506"},null,{"$f":"VLOOKUP(B2498,'[1]2018.7 '!A:C,3,)","v":"Active"},{"$f":"VLOOKUP(B2498,'[1]2018.7 '!A:M,13,)","v":"Ambient"},{"$f":"VLOOKUP(B2498,'[1]2018.7 '!A:N,14,)","v":"Reviewing"}]
[2500,"CB0500L10SVT08-2","28412999","Cellbag, 500L, BC10, Custom","021","94","WAVE","432","Custom Cellbags",{"$f":"K2501/9.009","v":{"v":1374.96,"d":"1,375"}},{"v":12387.014640000001,"d":"12,387"},null,{"$f":"VLOOKUP(B2501,'[1]2018.7 '!A:C,3,)","v":"Active"},{"$f":"VLOOKUP(B2501,'[1]2018.7 '!A:M,13,)","v":"Ambient"},{"$f":"VLOOKUP(B2501,'[1]2018.7 '!A:N,14,)","v":"No"}]
[2503,"CB1000L10AGS01-2","28412409","Cellbag, 1000L, BC10, Custom","021","94","WAVE","432","Custom Cellbags",{"v":2104.26,"d":"2,104"},{"v":18957.278340000004,"d":"18,957"},null,{"$f":"VLOOKUP(B2504,'[1]2018.7 '!A:C,3,)","v":"Active"},{"$f":"VLOOKUP(B2504,'[1]2018.7 '!A:M,13,)","v":"Ambient"},{"$f":"VLOOKUP(B2504,'[1]2018.7 '!A:N,14,)","v":"Reviewing"}]
[2508,"CB1000L10WAG01-2","28412960","Cellbag, 1000L, BC10, Custom","021","94","WAVE","432","Custom Cellbags",{"v":3006.96,"d":"3,007"},{"v":27089.702640000003,"d":"27,090"},null,{"$f":"VLOOKUP(B2509,'[1]2018.7 '!A:C,3,)","v":"Active"},{"$f":"VLOOKUP(B2509,'[1]2018.7 '!A:M,13,)","v":"Ambient"},{"$f":"VLOOKUP(B2509,'[1]2018.7 '!A:N,14,)","v":"Reviewing"}]
[2511,"MB0020L10SNF01-2","28412259","MBag, 20L, BC10, Custom","021","94","WAVE","432","Custom Cellbags",{"v":244.8,"d":"245"},{"v":2205.4032,"d":"2,205"},null,{"$f":"VLOOKUP(B2512,'[1]2018.7 '!A:C,3,)","v":"Active"},{"$f":"VLOOKUP(B2512,'[1]2018.7 '!A:M,13,)","v":"Ambient"},{"$f":"VLOOKUP(B2512,'[1]2018.7 '!A:N,14,)","v":"Reviewing"}]
[2512,"MB0050L10BNK03-2","28412434","MBag, 50L, BC10, Custom","021","94","WAVE","432","Custom Cellbags",{"v":623.22,"d":"623"},{"v":5614.58898,"d":"5,615"},null,{"$f":"VLOOKUP(B2513,'[1]2018.7 '!A:C,3,)","v":"Active"},{"$f":"VLOOKUP(B2513,'[1]2018.7 '!A:M,13,)","v":"Ambient"},{"$f":"VLOOKUP(B2513,'[1]2018.7 '!A:N,14,)","v":"No"}]
[2515,"MB0050L10SNF02-2","28412260","MBag, 50L, BC10, Custom","021","94","WAVE","432","Custom Cellbags",{"v":298.86,"d":"299"},{"v":2692.42974,"d":"2,692"},null,{"$f":"VLOOKUP(B2516,'[1]2018.7 '!A:C,3,)","v":"Sales Stop"},{"$f":"VLOOKUP(B2516,'[1]2018.7 '!A:M,13,)","v":"Ambient"},{"$f":"VLOOKUP(B2516,'[1]2018.7 '!A:N,14,)","v":"reviewing"}]
[2519,"29044473","29044473","Tray 20","021","94","WAVE","433","WAVE 25 Accessories",{"v":5490.66,"d":"5,491"},{"v":49465.35594,"d":"49,465"},null,{"$f":"VLOOKUP(B2520,'[1]2018.7 '!A:C,3,)","v":"Active"},{"$f":"VLOOKUP(B2520,'[1]2018.7 '!A:M,13,)","v":"Ambient"},{"$f":"VLOOKUP(B2520,'[1]2018.7 '!A:N,14,)","v":"No"}]
[2522,"29044476","29044476","Lid 20","021","94","WAVE","433","WAVE 25 Accessories",{"v":590.58,"d":"591"},{"v":5320.535220000001,"d":"5,321"},null,{"$f":"VLOOKUP(B2523,'[1]2018.7 '!A:C,3,)","v":"Active"},{"$f":"VLOOKUP(B2523,'[1]2018.7 '!A:M,13,)","v":"Ambient"},{"$f":"VLOOKUP(B2523,'[1]2018.7 '!A:N,14,)","v":"No"}]
[2524,"29112187","29112187","Tube Kit CBCU","021","94","WAVE","433","WAVE 25 Accessories",{"v":505.9200000000001,"d":"506"},{"v":4557.833280000001,"d":"4,558"},null,{"$f":"VLOOKUP(B2525,'[1]2018.7 '!A:C,3,)","v":"Active"},{"$f":"VLOOKUP(B2525,'[1]2018.7 '!A:M,13,)","v":"Ambient"},{"$f":"VLOOKUP(B2525,'[1]2018.7 '!A:N,14,)","v":"No"}]
[2530,"28412156","28412156","Radiation Service","021","94","WAVE","434","Cellbag Accessories",{"v":1420.86,"d":"1,421"},{"v":12800.52774,"d":"12,801"},null,{"$f":"VLOOKUP(B2531,'[1]2018.7 '!A:C,3,)","v":"Active"},{"$f":"VLOOKUP(B2531,'[1]2018.7 '!A:M,13,)","v":"Ambient"},{"$f":"VLOOKUP(B2531,'[1]2018.7 '!A:N,14,)","v":"Reviewing"}]
[2533,"BR100209","14100209","Glass vials 16mm","021","82","BIACORE CONSUMABLES","911","Consumables accessories",200,{"v":1801.8000000000002,"d":"1,802"},null,{"$f":"VLOOKUP(B2534,'[1]2018.7 '!A:C,3,)","v":"Active"},{"$f":"VLOOKUP(B2534,'[1]2018.7 '!A:M,13,)","v":"Ambient"},{"$f":"VLOOKUP(B2534,'[1]2018.7 '!A:N,14,)","v":"No"}]
[2536,"BR100213","14100213","Caps for 7mm plastic vials","021","82","BIACORE CONSUMABLES","911","Consumables accessories",189,{"v":1702.701,"d":"1,703"},null,{"$f":"VLOOKUP(B2537,'[1]2018.7 '!A:C,3,)","v":"Active"},{"$f":"VLOOKUP(B2537,'[1]2018.7 '!A:M,13,)","v":"Ambient"},{"$f":"VLOOKUP(B2537,'[1]2018.7 '!A:N,14,)","v":"No"}]
[2537,"BR100214","14100214","Plastic vials and caps 2ml","021","82","BIACORE CONSUMABLES","911","Consumables accessories",{"v":238.00000000000003,"d":"238"},{"v":2144.1420000000003,"d":"2,144"},null,{"$f":"VLOOKUP(B2538,'[1]2018.7 '!A:C,3,)","v":"Active"},{"$f":"VLOOKUP(B2538,'[1]2018.7 '!A:M,13,)","v":"Ambient"},{"$f":"VLOOKUP(B2538,'[1]2018.7 '!A:N,14,)","v":"No"}]
[2540,"BR100383","14100383","Microplates and foils","021","82","BIACORE CONSUMABLES","911","Consumables accessories",308,{"v":2774.772,"d":"2,775"},null,{"$f":"VLOOKUP(B2541,'[1]2018.7 '!A:C,3,)","v":"Active"},{"$f":"VLOOKUP(B2541,'[1]2018.7 '!A:M,13,)","v":"Ambient"},{"$f":"VLOOKUP(B2541,'[1]2018.7 '!A:N,14,)","v":"No"}]
[2544,"BR100503","14100503","Microplate, 96 well","021","82","BIACORE CONSUMABLES","911","Consumables accessories",151,{"v":1360.3590000000002,"d":"1,360"},null,{"$f":"VLOOKUP(B2545,'[1]2018.7 '!A:C,3,)","v":"Active"},{"$f":"VLOOKUP(B2545,'[1]2018.7 '!A:M,13,)","v":"Ambient"},{"$f":"VLOOKUP(B2545,'[1]2018.7 '!A:N,14,)","v":"No"}]
[2549,"BR100655","14100655","Rubber Caps, type 5","021","82","BIACORE CONSUMABLES","911","Consumables accessories",250,{"v":2252.25,"d":"2,252"},null,{"$f":"VLOOKUP(B2550,'[1]2018.7 '!A:C,3,)","v":"Active"},{"$f":"VLOOKUP(B2550,'[1]2018.7 '!A:M,13,)","v":"Ambient"},{"$f":"VLOOKUP(B2550,'[1]2018.7 '!A:N,14,)","v":"No"}]
[2551,"BR100631","14100631","BC 2000 SW Additional Lic","021","82","BIACORE CONSUMABLES","912","Biacore  inactive",{"v":1955,"d":"1,955"},{"v":17612.595,"d":"17,613"}]
[2555,"28958325","28958325","Human Fab Capture Kit","021","82","BIACORE CONSUMABLES","913","Reagents and kits",{"v":1311,"d":"1,311"},{"v":11810.799,"d":"11,811"},null,{"$f":"VLOOKUP(B2556,'[1]2018.7 '!A:C,3,)","v":"Active"},{"$f":"VLOOKUP(B2556,'[1]2018.7 '!A:M,13,)","v":"Ambient"},{"$f":"VLOOKUP(B2556,'[1]2018.7 '!A:N,14,)","v":"No"}]
[2558,"BR100050","14100050","Amine Coupling Kit","021","82","BIACORE CONSUMABLES","913","Reagents and kits",383,{"v":3450.447,"d":"3,450"},null,{"$f":"VLOOKUP(B2559,'[1]2018.7 '!A:C,3,)","v":"Active"},{"$f":"VLOOKUP(B2559,'[1]2018.7 '!A:M,13,)","v":"Ambient"},{"$f":"VLOOKUP(B2559,'[1]2018.7 '!A:N,14,)","v":"Yes"}]
[2561,"BR100557","14100557","Thiol Coupling Kit","021","82","BIACORE CONSUMABLES","913","Reagents and kits",{"v":1052,"d":"1,052"},{"v":9477.468,"d":"9,477"},null,{"$f":"VLOOKUP(B2562,'[1]2018.7 '!A:C,3,)","v":"Active"},{"$f":"VLOOKUP(B2562,'[1]2018.7 '!A:M,13,)","v":"Ambient"},{"$f":"VLOOKUP(B2562,'[1]2018.7 '!A:N,14,)","v":"Yes"}]
[2562,"BR100633","14100633","Amine Coupl Kit type 2","021","82","BIACORE CONSUMABLES","913","Reagents and kits",555,{"v":4999.995,"d":"5,000"},null,{"$f":"VLOOKUP(B2563,'[1]2018.7 '!A:C,3,)","v":"Active"},{"$f":"VLOOKUP(B2563,'[1]2018.7 '!A:M,13,)","v":"Ambient"},{"$f":"VLOOKUP(B2563,'[1]2018.7 '!A:N,14,)","v":"Yes"}]
[2565,"28995084","28995084","PBS-P+ 10X","021","82","BIACORE CONSUMABLES","914","Buffers and solutions",183,{"v":1648.6470000000002,"d":"1,649"},null,{"$f":"VLOOKUP(B2566,'[1]2018.7 '!A:C,3,)","v":"Active"},{"$f":"VLOOKUP(B2566,'[1]2018.7 '!A:M,13,)","v":"Ambient"},{"$f":"VLOOKUP(B2566,'[1]2018.7 '!A:N,14,)","v":"No"}]
[2570,"BR100351","14100351","Acetate 5.0","021","82","BIACORE CONSUMABLES","914","Buffers and solutions",112,{"v":1009.008,"d":"1,009"},null,{"$f":"VLOOKUP(B2571,'[1]2018.7 '!A:C,3,)","v":"Active"},{"$f":"VLOOKUP(B2571,'[1]2018.7 '!A:M,13,)","v":"Ambient"},{"$f":"VLOOKUP(B2571,'[1]2018.7 '!A:N,14,)","v":"No"}]
[2573,"BR100354","14100354","Glycine 1.5","021","82","BIACORE CONSUMABLES","914","Buffers and solutions",108,{"v":972.972,"d":"973"},null,{"$f":"VLOOKUP(B2574,'[1]2018.7 '!A:C,3,)","v":"Active"},{"$f":"VLOOKUP(B2574,'[1]2018.7 '!A:M,13,)","v":"Ambient"},{"$f":"VLOOKUP(B2574,'[1]2018.7 '!A:N,14,)","v":"Yes"}]
[2576,"BR100358","14100358","NaOH 50","021","82","BIACORE CONSUMABLES","914","Buffers and solutions",{"v":119.00000000000001,"d":"119"},{"v":1072.0710000000001,"d":"1,072"},null,{"$f":"VLOOKUP(B2577,'[1]2018.7 '!A:C,3,)","v":"Active"},{"$f":"VLOOKUP(B2577,'[1]2018.7 '!A:M,13,)","v":"Ambient"},{"$f":"VLOOKUP(B2577,'[1]2018.7 '!A:N,14,)","v":"Yes"}]
[2580,"BR100651","14100651","Maintenance Kit, type 2","021","82","BIACORE CONSUMABLES","914","Buffers and solutions",331,{"v":2981.9790000000003,"d":"2,982"},null,{"$f":"VLOOKUP(B2581,'[1]2018.7 '!A:C,3,)","v":"Active"},{"$f":"VLOOKUP(B2581,'[1]2018.7 '!A:M,13,)","v":"Ambient"},{"$f":"VLOOKUP(B2581,'[1]2018.7 '!A:N,14,)","v":"Yes"}]
[2583,"BR100670","14100670","HBS-N 10 x","021","82","BIACORE CONSUMABLES","914","Buffers and solutions",511,{"v":4603.599,"d":"4,604"},null,{"$f":"VLOOKUP(B2584,'[1]2018.7 '!A:C,3,)","v":"Active"},{"$f":"VLOOKUP(B2584,'[1]2018.7 '!A:M,13,)","v":"Ambient"},{"$f":"VLOOKUP(B2584,'[1]2018.7 '!A:N,14,)","v":"No"}]
[2584,"BR100671","14100671","HBS-P+ 10 x","021","82","BIACORE CONSUMABLES","914","Buffers and solutions",511,{"v":4603.599,"d":"4,604"},null,{"$f":"VLOOKUP(B2585,'[1]2018.7 '!A:C,3,)","v":"Active"},{"$f":"VLOOKUP(B2585,'[1]2018.7 '!A:M,13,)","v":"Ambient"},{"$f":"VLOOKUP(B2585,'[1]2018.7 '!A:N,14,)","v":"No"}]
[2587,"BR100823","14100823","Desorb Kit","021","82","BIACORE CONSUMABLES","914","Buffers and solutions",{"v":235.00000000000003,"d":"235"},{"v":2117.1150000000002,"d":"2,117"},null,{"$f":"VLOOKUP(B2588,'[1]2018.7 '!A:C,3,)","v":"Active"},{"$f":"VLOOKUP(B2588,'[1]2018.7 '!A:M,13,)","v":"Ambient"},{"$f":"VLOOKUP(B2588,'[1]2018.7 '!A:N,14,)","v":"No"}]
[2591,"28957332","28957332","Sensor Chip CM7, (1 pack)","021","82","BIACORE CONSUMABLES","916","Sensor chips  classic",{"v":488.99999999999994,"d":"489"},{"v":4405.401,"d":"4,405"},null,{"$f":"VLOOKUP(B2592,'[1]2018.7 '!A:C,3,)","v":"Active"},{"$f":"VLOOKUP(B2592,'[1]2018.7 '!A:M,13,)","v":"Ambient"},{"$f":"VLOOKUP(B2592,'[1]2018.7 '!A:N,14,)","v":"No"}]
[2595,"BR100030","14100030","Sensor chip HPA, (3-pack)","021","82","BIACORE CONSUMABLES","916","Sensor chips  classic",{"v":1151,"d":"1,151"},{"v":10369.359,"d":"10,369"},null,{"$f":"VLOOKUP(B2596,'[1]2018.7 '!A:C,3,)","v":"Active"},{"$f":"VLOOKUP(B2596,'[1]2018.7 '!A:M,13,)","v":"Ambient"},{"$f":"VLOOKUP(B2596,'[1]2018.7 '!A:N,14,)","v":"No"}]
[2598,"BR100398","14100398","Sensor chip SA, (1-pack)","021","82","BIACORE CONSUMABLES","916","Sensor chips  classic",406,{"v":3657.654,"d":"3,658"},null,{"$f":"VLOOKUP(B2599,'[1]2018.7 '!A:C,3,)","v":"Active"},{"$f":"VLOOKUP(B2599,'[1]2018.7 '!A:M,13,)","v":"Ambient"},{"$f":"VLOOKUP(B2599,'[1]2018.7 '!A:N,14,)","v":"No"}]
[2601,"BR100406","14100406","Onepack Sensor Chip HPA","021","82","BIACORE CONSUMABLES","916","Sensor chips  classic",434,{"v":3909.906,"d":"3,910"},null,{"$f":"VLOOKUP(B2602,'[1]2018.7 '!A:C,3,)","v":"Active"},{"$f":"VLOOKUP(B2602,'[1]2018.7 '!A:M,13,)","v":"Ambient"},{"$f":"VLOOKUP(B2602,'[1]2018.7 '!A:N,14,)","v":"No"}]
[2605,"BR100541","14100541","Sensor chip CM3 pack of 3","021","82","BIACORE CONSUMABLES","916","Sensor chips  classic",795,{"v":7162.155000000001,"d":"7,162"},null,{"$f":"VLOOKUP(B2606,'[1]2018.7 '!A:C,3,)","v":"Active"},{"$f":"VLOOKUP(B2606,'[1]2018.7 '!A:M,13,)","v":"Ambient"},{"$f":"VLOOKUP(B2606,'[1]2018.7 '!A:N,14,)","v":"No"}]
[2608,"BR100558","14100558","Sensor chip L1 pack of 1","021","82","BIACORE CONSUMABLES","916","Sensor chips  classic",434,{"v":3909.906,"d":"3,910"},null,{"$f":"VLOOKUP(B2609,'[1]2018.7 '!A:C,3,)","v":"Active"},{"$f":"VLOOKUP(B2609,'[1]2018.7 '!A:M,13,)","v":"Ambient"},{"$f":"VLOOKUP(B2609,'[1]2018.7 '!A:N,14,)","v":"No"}]
[2609,"28953828","28953828","Series S Sensor chip CM7","021","82","BIACORE CONSUMABLES","917","Sensor chips  Series S",{"v":486.99999999999994,"d":"487"},{"v":4387.383,"d":"4,387"},null,{"$f":"VLOOKUP(B2610,'[1]2018.7 '!A:C,3,)","v":"Active"},{"$f":"VLOOKUP(B2610,'[1]2018.7 '!A:M,13,)","v":"Ambient"},{"$f":"VLOOKUP(B2610,'[1]2018.7 '!A:N,14,)","v":"No"}]
[2612,"29104988","29104988","Series S Sensor Chip CM5-1-pack","021","82","BIACORE CONSUMABLES","917","Sensor chips  Series S",257,{"v":2315.313,"d":"2,315"},null,{"$f":"VLOOKUP(B2613,'[1]2018.7 '!A:C,3,)","v":"Active"},{"$f":"VLOOKUP(B2613,'[1]2018.7 '!A:M,13,)","v":"Ambient"},{"$f":"VLOOKUP(B2613,'[1]2018.7 '!A:N,14,)","v":"No"}]
[2616,"29104993","29104993","Series S Sensor Chip L1-1-pack","021","82","BIACORE CONSUMABLES","917","Sensor chips  Series S",506,{"v":4558.554,"d":"4,559"},null,{"$f":"VLOOKUP(B2617,'[1]2018.7 '!A:C,3,)","v":"Active"},{"$f":"VLOOKUP(B2617,'[1]2018.7 '!A:M,13,)","v":"Ambient"},{"$f":"VLOOKUP(B2617,'[1]2018.7 '!A:N,14,)","v":"No"}]
[2620,"BR100530","14100530","Series S Sensor Chip CM5","021","82","BIACORE CONSUMABLES","917","Sensor chips  Series S",700,{"v":6306.3,"d":"6,306"},null,{"$f":"VLOOKUP(B2621,'[1]2018.7 '!A:C,3,)","v":"Active"},{"$f":"VLOOKUP(B2621,'[1]2018.7 '!A:M,13,)","v":"Ambient"},{"$f":"VLOOKUP(B2621,'[1]2018.7 '!A:N,14,)","v":"No"}]
[2623,"BR100534","14100534","Series S Sensor Chip CM4","021","82","BIACORE CONSUMABLES","917","Sensor chips  Series S",{"v":1121,"d":"1,121"},{"v":10099.089,"d":"10,099"},null,{"$f":"VLOOKUP(B2624,'[1]2018.7 '!A:C,3,)","v":"Active"},{"$f":"VLOOKUP(B2624,'[1]2018.7 '!A:M,13,)","v":"Ambient"},{"$f":"VLOOKUP(B2624,'[1]2018.7 '!A:N,14,)","v":"No"}]
[2627,"28949025","28949025","Biacore assay development services","021","82","BIACORE CONSUMABLES","929","Training Course",{"v":40960,"d":"40,960"},{"v":369008.64,"d":"369,009"},null,{"$f":"VLOOKUP(B2628,'[1]2018.7 '!A:C,3,)","v":"Active"},{"$f":"VLOOKUP(B2628,'[1]2018.7 '!A:M,13,)","v":"Ambient"},{"$f":"VLOOKUP(B2628,'[1]2018.7 '!A:N,14,)","v":"Reviewing"}]
[2630,"29017514","29017514","Kinetics and Affinity analysis System specific","021","82","BIACORE CONSUMABLES","929","Training Course",{"v":1879,"d":"1,879"},{"v":16927.911,"d":"16,928"},null,{"$f":"VLOOKUP(B2631,'[1]2018.7 '!A:C,3,)","v":"Active"},{"$f":"VLOOKUP(B2631,'[1]2018.7 '!A:M,13,)","v":"Ambient"},{"$f":"VLOOKUP(B2631,'[1]2018.7 '!A:N,14,)","v":"Reviewing"}]
[2633,"BR200109","14200109","Kinetic and  Affinity level 2","021","82","BIACORE CONSUMABLES","929","Training Course",808,{"v":7279.272,"d":"7,279"},null,{"$f":"VLOOKUP(B2634,'[1]2018.7 '!A:C,3,)","v":"Active"},{"$f":"VLOOKUP(B2634,'[1]2018.7 '!A:M,13,)","v":"Ambient"},{"$f":"VLOOKUP(B2634,'[1]2018.7 '!A:N,14,)","v":"Reviewing"}]
[2637,"BR200118","14200118","BIA basic training course","021","82","BIACORE CONSUMABLES","929","Training Course",{"v":1988,"d":"1,988"},{"v":17909.892,"d":"17,910"},null,{"$f":"VLOOKUP(B2638,'[1]2018.7 '!A:C,3,)","v":"Active"},{"$f":"VLOOKUP(B2638,'[1]2018.7 '!A:M,13,)","v":"Ambient"},{"$f":"VLOOKUP(B2638,'[1]2018.7 '!A:N,14,)","v":"Reviewing"}]
[2638,"BR200142","14200142","Introduction to Biacore T100","021","82","BIACORE CONSUMABLES","929","Training Course",{"v":1786,"d":"1,786"},{"v":16090.074,"d":"16,090"},null,{"$f":"VLOOKUP(B2639,'[1]2018.7 '!A:C,3,)","v":"Active"},{"$f":"VLOOKUP(B2639,'[1]2018.7 '!A:M,13,)","v":"Ambient"},{"$f":"VLOOKUP(B2639,'[1]2018.7 '!A:N,14,)","v":"Reviewing"}]
[2641,"BR200177","14200177","Kinetic&Affinity T100 lev1 Web","021","82","BIACORE CONSUMABLES","929","Training Course",514,{"v":4630.626,"d":"4,631"},null,{"$f":"VLOOKUP(B2642,'[1]2018.7 '!A:C,3,)","v":"Active"},{"$f":"VLOOKUP(B2642,'[1]2018.7 '!A:M,13,)","v":"Ambient"},{"$f":"VLOOKUP(B2642,'[1]2018.7 '!A:N,14,)","v":"Reviewing"}]
[2645,"BR100229","14100229","BIAeval. Software Handb","021","82","BIACORE CONSUMABLES","930","Printed Material",71,{"v":639.639,"d":"640"},null,{"$f":"VLOOKUP(B2646,'[1]2018.7 '!A:C,3,)","v":"Active"},{"$f":"VLOOKUP(B2646,'[1]2018.7 '!A:M,13,)","v":"Ambient"},{"$f":"VLOOKUP(B2646,'[1]2018.7 '!A:N,14,)","v":"Reviewing"}]
[2648,"BR100434","14100434","Biacore Advisor Kinetics","021","82","BIACORE CONSUMABLES","930","Printed Material",{"v":119.00000000000001,"d":"119"},{"v":1072.0710000000001,"d":"1,072"},null,{"$f":"VLOOKUP(B2649,'[1]2018.7 '!A:C,3,)","v":"Phase Out"},{"$f":"VLOOKUP(B2649,'[1]2018.7 '!A:M,13,)","v":"Ambient"},{"$f":"VLOOKUP(B2649,'[1]2018.7 '!A:N,14,)","v":"reviewing"}]
[2652,"BR100519","14100519","Qflex Kit Folic Acid Handbook","021","82","BIACORE CONSUMABLES","930","Printed Material",{"v":59.99999999999999,"d":"60"},{"v":540.54,"d":"541"},null,{"$f":"VLOOKUP(B2653,'[1]2018.7 '!A:C,3,)","v":"Active"},{"$f":"VLOOKUP(B2653,'[1]2018.7 '!A:M,13,)","v":"Ambient"},{"$f":"VLOOKUP(B2653,'[1]2018.7 '!A:N,14,)","v":"Reviewing"}]
[2655,"BR100574","14100574","BC 3000 GxP Handbook","021","82","BIACORE CONSUMABLES","930","Printed Material",72,{"v":648.648,"d":"649"},null,{"$f":"VLOOKUP(B2656,'[1]2018.7 '!A:C,3,)","v":"Active"},{"$f":"VLOOKUP(B2656,'[1]2018.7 '!A:M,13,)","v":"Ambient"},{"$f":"VLOOKUP(B2656,'[1]2018.7 '!A:N,14,)","v":"Reviewing"}]
[2658,"BR100646","14100646","BC T100 GxP Handbook","021","82","BIACORE CONSUMABLES","930","Printed Material",100,{"v":900.9000000000001,"d":"901"},null,{"$f":"VLOOKUP(B2659,'[1]2018.7 '!A:C,3,)","v":"Active"},{"$f":"VLOOKUP(B2659,'[1]2018.7 '!A:M,13,)","v":"Ambient"},{"$f":"VLOOKUP(B2659,'[1]2018.7 '!A:N,14,)","v":"Reviewing"}]
[2660,"BR100648","14100648","BC T100 Software Handbook","021","82","BIACORE CONSUMABLES","930","Printed Material",151,{"v":1360.3590000000002,"d":"1,360"},null,{"$f":"VLOOKUP(B2661,'[1]2018.7 '!A:C,3,)","v":"Active"},{"$f":"VLOOKUP(B2661,'[1]2018.7 '!A:M,13,)","v":"Ambient"},{"$f":"VLOOKUP(B2661,'[1]2018.7 '!A:N,14,)","v":"Reviewing"}]
[2663,"BR100810","14100810","Biacore X100 Handbook SW2.0","021","82","BIACORE CONSUMABLES","930","Printed Material",94,{"v":846.846,"d":"847"},null,{"$f":"VLOOKUP(B2664,'[1]2018.7 '!A:C,3,)","v":"Active"},{"$f":"VLOOKUP(B2664,'[1]2018.7 '!A:M,13,)","v":"Ambient"},{"$f":"VLOOKUP(B2664,'[1]2018.7 '!A:N,14,)","v":"Reviewing"}]
[2666,"BR200013","14200013","BIA basic training course","021","82","BIACORE CONSUMABLES","930","Printed Material",23,{"v":207.207,"d":"207"},null,{"$f":"VLOOKUP(B2667,'[1]2018.7 '!A:C,3,)","v":"Active"},{"$f":"VLOOKUP(B2667,'[1]2018.7 '!A:M,13,)","v":"Ambient"},{"$f":"VLOOKUP(B2667,'[1]2018.7 '!A:N,14,)","v":"Reviewing"}]
[2670,"28980887","28980887","Biacore T200 GxP Getting Started Kit","021","82","BIACORE CONSUMABLES","931","Getting Started Kits",400,{"v":3603.6000000000004,"d":"3,604"},null,{"$f":"VLOOKUP(B2671,'[1]2018.7 '!A:C,3,)","v":"Active"},{"$f":"VLOOKUP(B2671,'[1]2018.7 '!A:M,13,)","v":"Ambient"},{"$f":"VLOOKUP(B2671,'[1]2018.7 '!A:N,14,)","v":"No"}]
[2673,"BR100836","14100836","BC X100 Getting Started Kit","021","82","BIACORE CONSUMABLES","931","Getting Started Kits",400,{"v":3603.6000000000004,"d":"3,604"},null,{"$f":"VLOOKUP(B2674,'[1]2018.7 '!A:C,3,)","v":"Active"},{"$f":"VLOOKUP(B2674,'[1]2018.7 '!A:M,13,)","v":"Ambient"},{"$f":"VLOOKUP(B2674,'[1]2018.7 '!A:N,14,)","v":"No"}]
[2677,"BR100678","14100678","Qflex Kit Pantothenic Acid PI","021","82","BIACORE CONSUMABLES","940","Reag Food",{"v":2038,"d":"2,038"},{"v":18360.342,"d":"18,360"},null,{"$f":"VLOOKUP(B2678,'[1]2018.7 '!A:C,3,)","v":"Active"},{"$f":"VLOOKUP(B2678,'[1]2018.7 '!A:M,13,)","v":"Ambient"},{"$f":"VLOOKUP(B2678,'[1]2018.7 '!A:N,14,)","v":"No"}]
[2679,"10370003","28414744","GF6 55MM 100/PK","025","35","LAB FILTRATION GF","461","GF Lab Catalogue",{"v":103.85,"d":"104"},{"v":935.58465,"d":"936"}]
[2684,"10370008","28414749","GF6 150MM 100/PK","025","35","LAB FILTRATION GF","461","GF Lab Catalogue",427,{"v":3846.8430000000003,"d":"3,847"}]
[2685,"10370010","28414750","GF6 185MM 100/PK","025","35","LAB FILTRATION GF","461","GF Lab Catalogue",{"v":478.00000000000006,"d":"478"},{"v":4306.302000000001,"d":"4,306"}]
[2688,"10370018","28414753","GF6 25MM 200/PK","025","35","LAB FILTRATION GF","461","GF Lab Catalogue",{"v":66.38,"d":"66"},{"v":598.01742,"d":"598"}]
[2692,"10370105","28414766","GF8 90MM 100/PK","025","35","LAB FILTRATION GF","461","GF Lab Catalogue",{"$f":"K2693/9.009","v":{"v":180.93,"d":"181"}},{"v":1629.99837,"d":"1,630"}]
[2695,"10370202","28414774","GF9 50MM 200/PK","025","35","LAB FILTRATION GF","461","GF Lab Catalogue",{"v":110.27,"d":"110"},{"v":993.42243,"d":"993"}]
[2698,"10370302","28414781","GF10 50MM 200/PK","025","35","LAB FILTRATION GF","461","GF Lab Catalogue",{"v":118.84,"d":"119"},{"v":1070.62956,"d":"1,071"}]
[2700,"10370308","28414783","GF10 150MM 100/PK","025","35","LAB FILTRATION GF","461","GF Lab Catalogue",273,{"v":2459.457,"d":"2,459"}]
[2706,"10372968","28414831","32 GLASS 4x12IN 50/PK","025","35","LAB FILTRATION GF","461","GF Lab Catalogue",{"v":235.00000000000003,"d":"235"},{"v":2117.1150000000002,"d":"2,117"}]
[2709,"10421030","28415407","GF92 50MM 200/PK","025","35","LAB FILTRATION GF","461","GF Lab Catalogue",{"v":161.66,"d":"162"},{"v":1456.3949400000001,"d":"1,456"}]
[2710,"10421043","28415409","GF92 100MM 100/PK","025","35","LAB FILTRATION GF","461","GF Lab Catalogue",{"v":235.00000000000003,"d":"235"},{"v":2117.1150000000002,"d":"2,117"}]
[2713,"1810-047","28418300","TCLP 47MM 100/PK","025","35","LAB FILTRATION GF","461","GF Lab Catalogue",{"v":139.18,"d":"139"},{"v":1253.87262,"d":"1,254"}]
[2717,"1810-142","28418304","TCLP 142MM 50/PK","025","35","LAB FILTRATION GF","461","GF Lab Catalogue",293,{"v":2639.637,"d":"2,640"}]
[2720,"1820-024","28418309","GF/A 2.4CM 100/PK","025","35","LAB FILTRATION GF","461","GF Lab Catalogue",{"v":27.84,"d":"28"},{"v":250.81056,"d":"251"}]
[2725,"1820-050","28418315","GF/A 5.0CM 100/PK","025","35","LAB FILTRATION GF","461","GF Lab Catalogue",{"v":53.53,"d":"54"},{"v":482.25177,"d":"482"}]
[2728,"1820-061","28418318","GF/A 6.0CM RIM 50/PK","025","35","LAB FILTRATION GF","461","GF Lab Catalogue",{"v":86.72,"d":"87"},{"v":781.26048,"d":"781"}]
[2731,"1820-110","28418321","GF/A 11.0CM 100/PK","025","35","LAB FILTRATION GF","461","GF Lab Catalogue",{"v":95.28,"d":"95"},{"v":858.37752,"d":"858"}]
[2734,"1820-240","28418324","GF/A 24CM 100/PK","025","35","LAB FILTRATION GF","461","GF Lab Catalogue",{"v":239.00000000000003,"d":"239"},{"v":2153.1510000000003,"d":"2,153"}]
[2735,"1820-6537","28418326","GF/A 8.1CM 100/PK","025","35","LAB FILTRATION GF","461","GF Lab Catalogue",{"v":88.86,"d":"89"},{"v":800.53974,"d":"801"}]
[2738,"1820-915","28418332","GF/A 46x57CM 25/PK","025","35","LAB FILTRATION GF","461","GF Lab Catalogue",412,{"v":3711.708,"d":"3,712"}]
[2742,"1821-037","28418349","GF/B 3.7CM 100/PK","025","35","LAB FILTRATION GF","461","GF Lab Catalogue",{"v":65.31,"d":"65"},{"v":588.37779,"d":"588"}]
[2746,"1821-070","28418354","GF/B 7.0CM 100/PK","025","35","LAB FILTRATION GF","461","GF Lab Catalogue",{"v":116.7,"d":"117"},{"v":1051.3503,"d":"1,051"}]
[2749,"1821-125","28418357","GF/B 12.5CM 25/PK","025","35","LAB FILTRATION GF","461","GF Lab Catalogue",{"v":76.01,"d":"76"},{"v":684.7740900000001,"d":"685"}]
[2753,"1821-914","28418367","GF/B 46x57CM 5/PK","025","35","LAB FILTRATION GF","461","GF Lab Catalogue",374,{"v":3369.366,"d":"3,369"}]
[2756,"1822-024","28418376","GF/C 2.4CM 100/PK","025","35","LAB FILTRATION GF","461","GF Lab Catalogue",{"$f":"K2757/9.009","v":{"v":29.980000000000004,"d":"30"}},{"v":270.08982000000003,"d":"270"}]
[2757,"1822-025","28418377","GF/C 2.5CM 100/PK","025","35","LAB FILTRATION GF","461","GF Lab Catalogue",{"v":29.39,"d":"29"},{"v":264.77451,"d":"265"}]
[2760,"1822-047","28418380","GF/C 4.7CM 100/PK","025","35","LAB FILTRATION GF","461","GF Lab Catalogue",{"v":46.04,"d":"46"},{"v":414.77436,"d":"415"}]
[2763,"1822-070","28418383","GF/C 7CM 100/PK","025","35","LAB FILTRATION GF","461","GF Lab Catalogue",{"v":89.93,"d":"90"},{"v":810.1793700000001,"d":"810"}]
[2767,"1822-125","28418387","GF/C 12.5CM 100/PK","025","35","LAB FILTRATION GF","461","GF Lab Catalogue",{"v":152.02,"d":"152"},{"v":1369.5481800000002,"d":"1,370"}]
[2771,"1822-6580","28418392","GF/C 2.5CM 400/PK","025","35","LAB FILTRATION GF","461","GF Lab Catalogue",254,{"v":2288.286,"d":"2,288"}]
[2774,"1822-915","28418398","GF/C 46x57CM 25/PK","025","35","LAB FILTRATION GF","461","GF Lab Catalogue",{"v":1024.59,"d":"1,025"},{"v":9230.53131,"d":"9,231"}]
[2778,"1823-021","28418407","GF/D 2.1CM 100/PK","025","35","LAB FILTRATION GF","461","GF Lab Catalogue",{"v":39.62,"d":"40"},{"v":356.93658,"d":"357"}]
[2781,"1823-035","28418410","GF/D 3.5CM 100/PK","025","35","LAB FILTRATION GF","461","GF Lab Catalogue",{"v":44.97,"d":"45"},{"v":405.13473,"d":"405"}]
[2782,"1823-042","28418411","GF/D 4.25CM 100/PK","025","35","LAB FILTRATION GF","461","GF Lab Catalogue",{"v":51.39,"d":"51"},{"v":462.97251,"d":"463"}]
[2785,"1823-070","28418414","GF/D 7CM 100/PK","025","35","LAB FILTRATION GF","461","GF Lab Catalogue",{"v":95.28,"d":"95"},{"v":858.37752,"d":"858"}]
[2788,"1823-125","28418417","GF/D 12.5CM 25/PK","025","35","LAB FILTRATION GF","461","GF Lab Catalogue",{"v":68.52,"d":"69"},{"v":617.29668,"d":"617"}]
[2793,"1825-021","28418439","GF/F 2.1CM 100/PK","025","35","LAB FILTRATION GF","461","GF Lab Catalogue",{"v":58.89,"d":"59"},{"v":530.54001,"d":"531"}]
[2796,"1825-037","28418442","GF/F 3.7CM 100/PK","025","35","LAB FILTRATION GF","461","GF Lab Catalogue",{"v":111.34,"d":"111"},{"v":1003.0620600000001,"d":"1,003"}]
[2800,"1825-070","28418446","GF/F 7CM 100/PK","025","35","LAB FILTRATION GF","461","GF Lab Catalogue",220,{"v":1981.98,"d":"1,982"}]
[2803,"1825-125","28418449","GF/F 12.5CM 25/PK","025","35","LAB FILTRATION GF","461","GF Lab Catalogue",{"v":135.97,"d":"136"},{"v":1224.95373,"d":"1,225"}]
[2806,"1825-257","28418453","GF/F 25.7CM 25/PK","025","35","LAB FILTRATION GF","461","GF Lab Catalogue",635,{"v":5720.715,"d":"5,721"}]
[2807,"1825-293","28418454","GF/F 29.3CM 25/PK","025","35","LAB FILTRATION GF","461","GF Lab Catalogue",821,{"v":7396.389,"d":"7,396"}]
[2813,"1827-025","28418466","934-AH 2.5CM 100/PK","025","35","LAB FILTRATION GF","461","GF Lab Catalogue",{"v":31.050000000000004,"d":"31"},{"v":279.72945000000004,"d":"280"}]
[2814,"1827-028","28418467","934-AH 2.8CM 100/PK","025","35","LAB FILTRATION GF","461","GF Lab Catalogue",{"v":32.12,"d":"32"},{"v":289.36908,"d":"289"}]
[2818,"1827-037","28418471","934-AH 3.7CM 100/PK","025","35","LAB FILTRATION GF","461","GF Lab Catalogue",{"v":39.62,"d":"40"},{"v":356.93658,"d":"357"}]
[2821,"1827-055","28418474","934-AH 5.5CM 100/PK","025","35","LAB FILTRATION GF","461","GF Lab Catalogue",{"v":56.74,"d":"57"},{"v":511.17066000000005,"d":"511"}]
[2825,"1827-090","28418478","934-AH 9.0CM 100/PK","025","35","LAB FILTRATION GF","461","GF Lab Catalogue",{"v":118.84,"d":"119"},{"v":1070.62956,"d":"1,071"}]
[2828,"1827-125","28418481","934-AH 12.5CM 100/PK","025","35","LAB FILTRATION GF","461","GF Lab Catalogue",{"v":163.8,"d":"164"},{"v":1475.6742000000002,"d":"1,476"}]
[2831,"1827-240","28418485","934-AH 24CM 100/PK","025","35","LAB FILTRATION GF","461","GF Lab Catalogue",544,{"v":4900.896000000001,"d":"4,901"}]
[2834,"1827-866","28418489","934-AH 8x10IN 100/PK","025","35","LAB FILTRATION GF","461","GF Lab Catalogue",415,{"v":3738.735,"d":"3,739"}]
[2836,"1827-957","28418491","934-AH 19x28IN 100/PK","025","35","LAB FILTRATION GF","461","GF Lab Catalogue",{"v":2069,"d":"2,069"},{"v":18639.621,"d":"18,640"}]
[2839,"1842-047","28418508","MULTIGRADE 2uM 4.7CM 40/PK","025","35","LAB FILTRATION GF","461","GF Lab Catalogue",{"v":65.31,"d":"65"},{"v":588.37779,"d":"588"}]
[2843,"1851-037","28418539","QMA 3.7CM 100/PK","025","35","LAB FILTRATION GF","461","GF Lab Catalogue",{"v":152.02,"d":"152"},{"v":1369.5481800000002,"d":"1,370"}]
[2846,"1851-050","28418543","QMA 5.0CM 100/PK","025","35","LAB FILTRATION GF","461","GF Lab Catalogue",367,{"v":3306.3030000000003,"d":"3,306"}]
[2850,"1851-090","28418547","QMA 9.0CM 100/PK","025","35","LAB FILTRATION GF","461","GF Lab Catalogue",345,{"v":3108.105,"d":"3,108"}]
[2853,"1851-118","28418551","QMA 11.8CM 100/PK","025","35","LAB FILTRATION GF","461","GF Lab Catalogue",799,{"v":7198.191000000001,"d":"7,198"}]
[2855,"1851-865","28418554","QMA 8x10IN 25/PK","025","35","LAB FILTRATION GF","461","GF Lab Catalogue",363,{"v":3270.2670000000003,"d":"3,270"}]
[2858,"1882-047","28418581","EPM-2000 4.7CM 100/PK","025","35","LAB FILTRATION GF","461","GF Lab Catalogue",{"v":53.53,"d":"54"},{"v":482.25177,"d":"482"}]
[2861,"1950-004","28418622","3 PIECE FUNNEL 4.7CM 1/PK","025","35","LAB FILTRATION GF","461","GF Lab Catalogue",222,{"v":1999.998,"d":"2,000"}]
[2865,"1950-017","28418626","3 PIECE FUNNEL 7CM 210ML 1/PK","025","35","LAB FILTRATION GF","461","GF Lab Catalogue",319,{"v":2873.871,"d":"2,874"}]
[2868,"1950-114","28418631","3 PIECE PTFE PLT 4.7CM 1/PK","025","35","LAB FILTRATION GF","461","GF Lab Catalogue",91,{"v":819.8190000000001,"d":"820"}]
[2871,"1950-209","28418635","3 PIECE 9CM RESERVOIR 1/PK","025","35","LAB FILTRATION GF","461","GF Lab Catalogue",{"v":149.88,"d":"150"},{"v":1350.26892,"d":"1,350"}]
[2875,"9907-042","28422263","934-AH RTU 42.5MM 100/PK","025","35","LAB FILTRATION GF","461","GF Lab Catalogue",226,{"v":2036.034,"d":"2,036"}]
[2876,"9907-047","28422264","934-AH RTU 47MM 100/PK","025","35","LAB FILTRATION GF","461","GF Lab Catalogue",304,{"v":2738.736,"d":"2,739"}]
[2882,"10370173","28414773","GF8VG 60x90MM 100/PK PREIGNIT","025","35","LAB FILTRATION GF","461","GF Lab Catalogue","询价","询价"]
[2883,"10370326","28414791","GF10 105MM 100/PK","025","35","LAB FILTRATION GF","461","GF Lab Catalogue","询价","询价"]
[2886,"1820900086","28418339","GF/A 3.4CM IN HOLDER 80/PK","025","35","LAB FILTRATION GF","461","GF Lab Catalogue","询价","询价"]
[2890,"1852-040","28418562","QMB 40MM 50/PK","025","35","LAB FILTRATION GF","461","GF Lab Catalogue","询价","询价"]
[2893,"95039860","28421257","HGF65 30MMx13M 1/PK","025","62","CUSTOM MEMBRANES","466","GF Custom Medical & Clinical Diag","询价","询价"]
[2896,"10370043","28414758","GF6 DIA 80MM 100/PK","025","35","LAB FILTRATION GF","461","GF Lab Catalogue","询价","询价"]
[2901,"1820-6878","28998898","GF/A 25MM 1000/PK","025","35","LAB FILTRATION GF","461","GF Lab Catalogue","询价","询价"]
[2904,"5401-090E","28419965","MOISTURE TEST 90MM 100/PK","025","35","LAB FILTRATION GF","461","GF Lab Catalogue","询价","询价"]
[2905,"10370434","29166852","GF10 RL 600MM X 228M 1/PK","025","35","LAB FILTRATION GF","461","GF Lab Catalogue",{"v":2051,"d":"2,051"},{"v":18477.459,"d":"18,477"}]
[2908,"10371011","28414809","603G GLASTHIMBLE 22x80MM 25/PK","025","35","LAB FILTRATION GF","462","GF Lab Catalogue Thimbles",{"v":191.76,"d":"192"},{"v":1727.56584,"d":"1,728"}]
[2911,"10371036","28414815","603G GLASTHMBL 30x100MM 25/PK","025","35","LAB FILTRATION GF","462","GF Lab Catalogue Thimbles",224,{"v":2018.016,"d":"2,018"}]
[2915,"10371055","28414819","603G GLASTHMBL 35x150MM 25/PK","025","35","LAB FILTRATION GF","462","GF Lab Catalogue Thimbles",343,{"v":3090.087,"d":"3,090"}]
[2918,"2811-308","28419016","THIMBLE GF 30x80MM 25/PK","025","35","LAB FILTRATION GF","462","GF Lab Catalogue Thimbles",{"v":169.32,"d":"169"},{"v":1525.40388,"d":"1,525"}]
[2922,"2814-259","28419026","THIMBLE HPGF 25x90MM 25/PK","025","35","LAB FILTRATION GF","462","GF Lab Catalogue Thimbles",203,{"v":1828.827,"d":"1,829"}]
[2926,"2814-420","28419028","THIMBLE SIL 42x30MM FLT 75/PK","025","35","LAB FILTRATION GF","462","GF Lab Catalogue Thimbles","询价","询价"]
[2929,"10534521","28416733","GRADE 12-S 25MMx180M 1/PK","025","62","CUSTOM MEMBRANES","466","GF Custom Medical & Clinical Diag",742,{"v":6684.678,"d":"6,685"}]
[2930,"10537200","28416983","ACCUFLOW G 20MMx75M 1/PK","025","62","CUSTOM MEMBRANES","466","GF Custom Medical & Clinical Diag",702,{"v":6324.318,"d":"6,324"}]
[2933,"10539879","28422199","33GLASS 25MMx50M 1/PK","025","62","CUSTOM MEMBRANES","466","GF Custom Medical & Clinical Diag",457,{"v":4117.113,"d":"4,117"}]
[2936,"8121-1250","28421124","LF1 12MMX50M","025","62","CUSTOM MEMBRANES","466","GF Custom Medical & Clinical Diag",{"v":47.61,"d":"48"},{"v":428.91849,"d":"429"}]
[2940,"8122-1750","28421130","MF1 17MMx50M","025","62","CUSTOM MEMBRANES","466","GF Custom Medical & Clinical Diag",{"v":180.09,"d":"180"},{"v":1622.43081,"d":"1,622"}]
[2943,"8124-1750","28421140","VF2 17MMx50M","025","62","CUSTOM MEMBRANES","466","GF Custom Medical & Clinical Diag",274,{"v":2468.466,"d":"2,468"}]
[2947,"8131-2250","28421148","RAPID24 22MMX50M","025","62","CUSTOM MEMBRANES","466","GF Custom Medical & Clinical Diag",454,{"v":4090.0860000000002,"d":"4,090"}]
[2951,"8133-1750","28421155","STANDARD14 17MMX50M","025","62","CUSTOM MEMBRANES","466","GF Custom Medical & Clinical Diag",{"v":86.94,"d":"87"},{"v":783.24246,"d":"783"}]
[2954,"8134-1250","28421161","STANDARD17 12MMX50M 1/PK","025","62","CUSTOM MEMBRANES","466","GF Custom Medical & Clinical Diag",{"v":122.13,"d":"122"},{"v":1100.26917,"d":"1,100"}]
[2955,"8134-1750","28421162","STANDARD17 17MMX50M 1/PK","025","62","CUSTOM MEMBRANES","466","GF Custom Medical & Clinical Diag",217,{"v":1954.953,"d":"1,955"}]
[2958,"8143-2750","28421174","GF/B 27MMX50M REEL","025","62","CUSTOM MEMBRANES","466","GF Custom Medical & Clinical Diag",{"v":157.32,"d":"157"},{"v":1417.29588,"d":"1,417"}]
[2961,"8145-2250","28421180","GF/DVA 22MMx50M REEL","025","62","CUSTOM MEMBRANES","466","GF Custom Medical & Clinical Diag",{"v":179.06,"d":"179"},{"v":1613.15154,"d":"1,613"}]
[2964,"8151-6621","28421186","FUSION 5 A4 SHEETS 50/PK","025","62","CUSTOM MEMBRANES","466","GF Custom Medical & Clinical Diag",845,{"v":7612.6050000000005,"d":"7,613"}]
[2969,"9664900232","28421311","GFCM30VS 12INx550M","025","62","CUSTOM MEMBRANES","466","GF Custom Medical & Clinical Diag",{"v":24500,"d":"24,500"},{"v":220720.5,"d":"220,721"}]
[2973,"9664900761","29033993","GFCM30VS 12in x 457m 1/pk","025","62","CUSTOM MEMBRANES","466","GF Custom Medical & Clinical Diag","询价","询价"]
[2976,"18429974","28418511","GD2 1INx100M CERA FILTER REEL","025","62","CUSTOM MEMBRANES","466","GF Custom Medical & Clinical Diag","询价","询价"]
[2979,"10534378","28416659","ACCUFLOW G 203x254MM 10/PK","025","62","CUSTOM MEMBRANES","466","GF Custom Medical & Clinical Diag","询价","询价"]
[2980,"10534415","28416674","33GLASS 10MMx100M 1/PK","025","62","CUSTOM MEMBRANES","466","GF Custom Medical & Clinical Diag","询价","询价"]
[2983,"10537844","28417036","33GLASS 1/4x12IN 100/PK","025","62","CUSTOM MEMBRANES","466","GF Custom Medical & Clinical Diag",{"v":31.050000000000004,"d":"31"},{"v":279.72945000000004,"d":"280"}]
[2989,"1823900554","28418430","GF/D 100MMx235MM SHEETS 100/PK","025","62","CUSTOM MEMBRANES","466","GF Custom Medical & Clinical Diag","询价","询价"]
[2991,"18239729","28418432","GF/D 100CMx405M REEL (UNTRIM)","025","62","CUSTOM MEMBRANES","466","GF Custom Medical & Clinical Diag","询价","询价"]
[2994,"18279950","28418494","934AH 240MMx290MM 100/PK","025","62","CUSTOM MEMBRANES","466","GF Custom Medical & Clinical Diag","询价","询价"]
[2998,"18506142","28418531","GF/AVA A4 SHEETS 100/PK","025","62","CUSTOM MEMBRANES","466","GF Custom Medical & Clinical Diag","询价","询价"]
[3001,"10538570","28417085","33GLASS 8x10IN 25/PK","025","62","CUSTOM MEMBRANES","466","GF Custom Medical & Clinical Diag","询价","询价"]
[3004,"9501900394","28421247","F075-14 2.54CMx250M ROLL","025","62","CUSTOM MEMBRANES","466","GF Custom Medical & Clinical Diag","询价","询价"]
[3005,"FP-205","28421563","GF/C 4.50x12.25IN 50/PK","025","62","CUSTOM MEMBRANES","466","GF Custom Medical & Clinical Diag","询价","询价"]
[3010,"8134-6883","28978279","STANDARD17 4.75INx500FT 1PK","025","62","CUSTOM MEMBRANES","466","GF Custom Medical & Clinical Diag","询价","询价"]
[3012,"8123-2250","28421138","VF1 22MMx50M","025","62","CUSTOM MEMBRANES","466","GF Custom Medical & Clinical Diag","询价","询价"]
[3016,"9277900401","28421229","F165-25A 25CMx1LM","025","62","CUSTOM MEMBRANES","466","GF Custom Medical & Clinical Diag","询价","询价"]
[3019,"95999972","28421299","F075-17 A4 SHEETS 50/PK","025","62","CUSTOM MEMBRANES","466","GF Custom Medical & Clinical Diag","询价","询价"]
[3023,"FP-100","28421560","GF/BFIR 2.25INx12.25IN 50/PK","025","62","CUSTOM MEMBRANES","466","GF Custom Medical & Clinical Diag","询价","询价"]
[3026,"FPD-100","28421566","GF/BFIR 2 7/8x13 1/4IN 50/PK","025","62","CUSTOM MEMBRANES","466","GF Custom Medical & Clinical Diag","询价","询价"]
[3029,"FPP-196","28421573","GF/BFIR 7x13 7/8IN 50/PK","025","62","CUSTOM MEMBRANES","466","GF Custom Medical & Clinical Diag","询价","询价"]
[3031,"8151-6956","29038385","FUSION 5 11mm X 100M 1/PK","025","62","CUSTOM MEMBRANES","466","GF Custom Medical & Clinical Diag","询价","询价"]
[3034,"8134-6904","29058071","STANDARD17 14mmx50M REEL 1/PK","025","62","CUSTOM MEMBRANES","466","GF Custom Medical & Clinical Diag","询价","询价"]
[3038,"1835-6962","29021375","GF/DVA 475X19.20MM 500/PK","025","62","CUSTOM MEMBRANES","466","GF Custom Medical & Clinical Diag","询价","询价"]
[3041,"8151-6915","29025729","FUSION 5 11MM X 50M 1PK","025","62","CUSTOM MEMBRANES","466","GF Custom Medical & Clinical Diag","询价","询价"]
[3044,"8122-6419","29059269","MF1 300MM X 300MM 50/PK","025","62","CUSTOM MEMBRANES","466","GF Custom Medical & Clinical Diag","询价","询价"]
[3048,"8151-6978","29051369","FUSION 5 14.1mm x 100M REEL 1/PK","025","62","CUSTOM MEMBRANES","466","GF Custom Medical & Clinical Diag","询价","询价"]
[3051,"80590466","80590466","Dom GF Custom Medical & Clinical Diag","025","62","CUSTOM MEMBRANES","466","GF Custom Medical & Clinical Diag","询价","询价"]
[3052,"8151-6986","29059351","FUSION 5 290mm x 50M 1/PK","025","62","CUSTOM MEMBRANES","466","GF Custom Medical & Clinical Diag","询价","询价"]
[3056,"1841-9519","29065645","GD-1 2.25INCH x 100M","025","62","CUSTOM MEMBRANES","466","GF Custom Medical & Clinical Diag","询价","询价"]
[3059,"8122-6621","29026459","MF1 210 X 297MM PK/50","025","62","CUSTOM MEMBRANES","466","GF Custom Medical & Clinical Diag","询价","询价"]
[3063,"1835-6963","29022656","GF/DVA 70MM x 103.5M","025","62","CUSTOM MEMBRANES","466","GF Custom Medical & Clinical Diag","询价","询价"]
[3066,"18209766","28418343","GF/A 2 1/4INx100M ROLL CERA","025","62","CUSTOM MEMBRANES","466","GF Custom Medical & Clinical Diag","询价","询价"]
[3069,"8124-6898","28997895","VF2 10MMx50M 1/PK","025","62","CUSTOM MEMBRANES","466","GF Custom Medical & Clinical Diag","询价","询价"]
[3073,"8122-6972","29031735","MF1 15MM X 103.5M PK1","025","62","CUSTOM MEMBRANES","466","GF Custom Medical & Clinical Diag","询价","询价"]
[3077,"10539036","28417135","GRADE 470 10x12IN 100/PK","025","62","CUSTOM MEMBRANES","475","CF Custom Medical & Clinical Diag",{"v":217.3,"d":"217"},{"v":1957.6557000000003,"d":"1,958"}]
[3078,"10542901","28417301","GB005 14.8x14.8MM 5000/PK","025","62","CUSTOM MEMBRANES","475","CF Custom Medical & Clinical Diag",{"v":351.575,"d":"352"},{"v":3167.339175,"d":"3,167"}]
[3081,"11129670","28417661","GR 2 270MMx200M 1/RL","025","62","CUSTOM MEMBRANES","475","CF Custom Medical & Clinical Diag",{"v":426.4,"d":"426"},{"v":3841.4375999999997,"d":"3,841"}]
[3084,"30177032","28419241","17 CHR 35INx80M RL ORCHIDBIO","025","62","CUSTOM MEMBRANES","475","CF Custom Medical & Clinical Diag",{"v":1896.25,"d":"1,896"},{"v":17083.31625,"d":"17,083"}]
[3088,"3031711","28419337","31ETCHR 30CMx100M REELS","025","62","CUSTOM MEMBRANES","475","CF Custom Medical & Clinical Diag",{"v":721.5,"d":"722"},{"v":6499.9935000000005,"d":"6,500"}]
[3091,"8112-2250","29020427","CF2 22mm x 50m 1pk","025","62","CUSTOM MEMBRANES","475","CF Custom Medical & Clinical Diag",{"v":230.62499999999997,"d":"231"},{"v":2077.700625,"d":"2,078"}]
[3094,"8114-1250","28421093","CF4 12MMX50M","025","62","CUSTOM MEMBRANES","475","CF Custom Medical & Clinical Diag",{"v":276.75,"d":"277"},{"v":2493.24075,"d":"2,493"}]
[3098,"8115-2750","28421104","CF5 27MMX50M","025","62","CUSTOM MEMBRANES","475","CF Custom Medical & Clinical Diag",{"v":373.1,"d":"373"},{"v":3361.2579000000005,"d":"3,361"}]
[3102,"8116-6621","28421113","CF6 A4 SHEETS 50/PK","025","62","CUSTOM MEMBRANES","475","CF Custom Medical & Clinical Diag",{"v":821.025,"d":"821"},{"v":7396.614225,"d":"7,397"}]
[3103,"8116-6825","28984974","GRADE CF6 100CMx250M 1PK","025","62","CUSTOM MEMBRANES","475","CF Custom Medical & Clinical Diag",{"v":11275,"d":"11,275"},{"v":101576.475,"d":"101,576"}]
[3106,"8117-2250","28421116","CF7 22MMX50M","025","62","CUSTOM MEMBRANES","475","CF Custom Medical & Clinical Diag",{"v":230.62499999999997,"d":"231"},{"v":2077.700625,"d":"2,078"}]
[3109,"95356791","28421278","GRADE CF10 17MMx50M 1/PK","025","62","CUSTOM MEMBRANES","475","CF Custom Medical & Clinical Diag",{"v":158.875,"d":"159"},{"v":1431.304875,"d":"1,431"}]
[3113,"3030-6954","29026096","3MM CHR 27CM X 200M","025","62","CUSTOM MEMBRANES","475","CF Custom Medical & Clinical Diag","询价","询价"]
[3116,"30308750","28419318","3MMM 48INx2000FT","025","62","CUSTOM MEMBRANES","475","CF Custom Medical & Clinical Diag","询价","询价"]
[3119,"3031-6911","28977962","31ET 100MM X 60M","025","62","CUSTOM MEMBRANES","475","CF Custom Medical & Clinical Diag","询价","询价"]
[3124,"10300261","28414138","589/3 BLURIB 6MM 30000/PK","025","62","CUSTOM MEMBRANES","475","CF Custom Medical & Clinical Diag","询价","询价"]
[3127,"10530501","28416551","GRADE 2316/II 1000MMx640M","025","62","CUSTOM MEMBRANES","475","CF Custom Medical & Clinical Diag","询价","询价"]
[3128,"10530511","28416554","GRADE 23SL/II 1000MMx640M 1/PK","025","62","CUSTOM MEMBRANES","475","CF Custom Medical & Clinical Diag","询价","询价"]
[3131,"10534167","28416585","GR 300 12MMX30MM","025","62","CUSTOM MEMBRANES","475","CF Custom Medical & Clinical Diag","询价","询价"]
[3134,"10534461","28416701","GRADE 404 6.25INx1200FT 1/PK","025","62","CUSTOM MEMBRANES","475","CF Custom Medical & Clinical Diag","询价","询价"]
[3138,"10537100","28416977","CF12 8INX1000 1/PK","025","62","CUSTOM MEMBRANES","475","CF Custom Medical & Clinical Diag","询价","询价"]
[3140,"10537731","28417022","GRADE 470 18x285MM 500/PK","025","62","CUSTOM MEMBRANES","475","CF Custom Medical & Clinical Diag","询价","询价"]
[3146,"10538924","28417121","GRADE 410 6.5INx4000FT 1/PK","025","62","CUSTOM MEMBRANES","475","CF Custom Medical & Clinical Diag","询价","询价"]
[3149,"10539012","28417131","GRADE 2727 27x118MM 100/PK","025","62","CUSTOM MEMBRANES","475","CF Custom Medical & Clinical Diag","询价","询价"]
[3152,"10539173","28417163","GRADE 740E 165x285MM 100/PK","025","62","CUSTOM MEMBRANES","475","CF Custom Medical & Clinical Diag","询价","询价"]
[3153,"10539174","28417164","GRADE 740E 2.86CM 1000/PK","025","62","CUSTOM MEMBRANES","475","CF Custom Medical & Clinical Diag","询价","询价"]
[3156,"10539200","28417173","GRADE 740E 3IN NS 24/PK","025","62","CUSTOM MEMBRANES","475","CF Custom Medical & Clinical Diag","询价","询价"]
[3159,"10539646","28417188","GRADE 2668 17x600MM SB 100/PK","025","62","CUSTOM MEMBRANES","475","CF Custom Medical & Clinical Diag","询价","询价"]
[3165,"10540911","28417282","GB003 20x600MM  100/PK","025","62","CUSTOM MEMBRANES","475","CF Custom Medical & Clinical Diag","询价","询价"]
[3167,"10548157","28417391","GRADE 309 2-1/2x9IN 100/PK","025","62","CUSTOM MEMBRANES","475","CF Custom Medical & Clinical Diag","询价","询价"]
[3171,"10548276","28417406","PATAPAR 8INx1650FT 1/PK","025","62","CUSTOM MEMBRANES","475","CF Custom Medical & Clinical Diag","询价","询价"]
[3174,"19719633","28418649","WF1.5 15MMX50M 1/PK","025","62","CUSTOM MEMBRANES","475","CF Custom Medical & Clinical Diag","询价","询价"]
[3177,"3001-6822","28419179","1 CHR 0.49INx130M 1/PK","025","62","CUSTOM MEMBRANES","475","CF Custom Medical & Clinical Diag","询价","询价"]
[3178,"3001-8906","28419183","1 CHR 25CMx25CM SHEETS 100/PK","025","62","CUSTOM MEMBRANES","475","CF Custom Medical & Clinical Diag","询价","询价"]
[3181,"30049267","28419229","4CHR 7CMx100M REEL EIKEN","025","62","CUSTOM MEMBRANES","475","CF Custom Medical & Clinical Diag","询价","询价"]
[3186,"3017900623","28419248","17 CHR 4.6CMx30CM 1000/PK","025","62","CUSTOM MEMBRANES","475","CF Custom Medical & Clinical Diag","询价","询价"]
[3189,"3030-9840","28419309","3MM CHR 35CMx330M 1/PK","025","62","CUSTOM MEMBRANES","475","CF Custom Medical & Clinical Diag","询价","询价"]
[3192,"3030900377","28419320","3MMCHR 100MMx100M 1IN CORE","025","62","CUSTOM MEMBRANES","475","CF Custom Medical & Clinical Diag","询价","询价"]
[3196,"3031900093","28419339","31ET 4INx500FT REEL METRIKA","025","62","CUSTOM MEMBRANES","475","CF Custom Medical & Clinical Diag","询价","询价"]
[3199,"3454-7051","28419386","GR 54SFC 27CMx100M RL","025","62","CUSTOM MEMBRANES","475","CF Custom Medical & Clinical Diag","询价","询价"]
[3202,"10534101","28416575","GB005 6x125MM 100/PK","025","62","CUSTOM MEMBRANES","475","CF Custom Medical & Clinical Diag","询价","询价"]
[3203,"10537164","28416979","GRADE 470 1INx250FT 1/PK","025","62","CUSTOM MEMBRANES","475","CF Custom Medical & Clinical Diag","询价","询价"]
[3207,"3030-6850","28419291","3MM CHR 150MMx340MM 100/PK","025","62","CUSTOM MEMBRANES","475","CF Custom Medical & Clinical Diag","询价","询价"]
[3211,"10535048","28422171","470 26.5MM X 500FT 1/PK","025","62","CUSTOM MEMBRANES","475","CF Custom Medical & Clinical Diag","询价","询价"]
[3214,"91028135","28421213","SHEETS OXOID 460x556MM 125/PK","025","62","CUSTOM MEMBRANES","475","CF Custom Medical & Clinical Diag","询价","询价"]
[3217,"95129579","28421264","114M 12MMx1200M MSZ/18 1/PK","025","62","CUSTOM MEMBRANES","475","CF Custom Medical & Clinical Diag","询价","询价"]
[3221,"9535669","28421276","GRADE CF10 100MMx50M 1PK","025","62","CUSTOM MEMBRANES","475","CF Custom Medical & Clinical Diag","询价","询价"]
[3224,"96166758","28421301","KCF 50X59CM 50/PK (CD427-07)","025","62","CUSTOM MEMBRANES","475","CF Custom Medical & Clinical Diag","询价","询价"]
[3227,"9900-684","28421407","CF2 7INx600FEET 1/PK","025","62","CUSTOM MEMBRANES","475","CF Custom Medical & Clinical Diag","询价","询价"]
[3228,"80590475","80590475","Domestic CF Custom Med and Clin Diag","025","62","CUSTOM MEMBRANES","475","CF Custom Medical & Clinical Diag","询价","询价"]
[3232,"10539212","29084400","740E 203.2mm X 254mm 100/PK","025","62","CUSTOM MEMBRANES","475","CF Custom Medical & Clinical Diag","询价","询价"]
[3236,"3030-6991","29105106","3MM CHR 46X57CM 100/PK","025","62","CUSTOM MEMBRANES","475","CF Custom Medical & Clinical Diag","询价","询价"]
[3239,"3030-6942","29017810","3MM 1.5IN x 4FT 85/PK","025","62","CUSTOM MEMBRANES","475","CF Custom Medical & Clinical Diag","询价","询价"]
[3242,"3017900747","28990338","GRADE 17CHR 22MMX100M 1PK","025","62","CUSTOM MEMBRANES","475","CF Custom Medical & Clinical Diag","询价","询价"]
[3246,"10311724","29009067","595 6MM 45000/PK","025","62","CUSTOM MEMBRANES","475","CF Custom Medical & Clinical Diag","询价","询价"]
[3249,"8115-652","28977144","CF5 40MMX100M 1PK","025","62","CUSTOM MEMBRANES","475","CF Custom Medical & Clinical Diag","询价","询价"]
[3253,"10539995","29050429","GRADE 470 22mm x 50M 1/PK","025","62","CUSTOM MEMBRANES","475","CF Custom Medical & Clinical Diag","询价","询价"]
[3254,"8111-6869","28421072","1CHR 6INx1200FT REEL","025","62","CUSTOM MEMBRANES","475","CF Custom Medical & Clinical Diag","询价","询价"]
[3257,"8113-6861","28421088","CF3 5INx656FT REEL","025","62","CUSTOM MEMBRANES","475","CF Custom Medical & Clinical Diag","询价","询价"]
[3261,"8114-6859","28421099","CF4 REEL 8INx500FT","025","62","CUSTOM MEMBRANES","475","CF Custom Medical & Clinical Diag","询价","询价"]
[3264,"8115-6953","29017593","CF5 23mm x 50m","025","62","CUSTOM MEMBRANES","475","CF Custom Medical & Clinical Diag","询价","询价"]
[3267,"10539758","29010253","2043A MGL 60MMx333M IMPGNTD","025","62","CUSTOM MEMBRANES","475","CF Custom Medical & Clinical Diag","询价","询价"]
[3271,"1004-6980","29059268","GR 4 3.87IN x 2000LF 1/PK","025","62","CUSTOM MEMBRANES","475","CF Custom Medical & Clinical Diag","询价","询价"]
[3274,"8114-6621","28422270","CF4 A4 x 50 SHTS","025","62","CUSTOM MEMBRANES","475","CF Custom Medical & Clinical Diag","询价","询价"]
[3276,"10539202","29007281","GR 740 3INCH 2400/PK STERILE","025","62","CUSTOM MEMBRANES","475","CF Custom Medical & Clinical Diag","询价","询价"]
[3279,"10531600","28416565","GRADE 2992 120x140MM 100/PK","025","62","CUSTOM MEMBRANES","475","CF Custom Medical & Clinical Diag","询价","询价"]
[3282,"30306781","28419313","3MM 2.72INx2.72IN SQUARES","025","62","CUSTOM MEMBRANES","475","CF Custom Medical & Clinical Diag","询价","询价"]
[3286,"95129580","28421265","114MH 15MMx1200M MSZ/17 1/PK","025","62","CUSTOM MEMBRANES","475","CF Custom Medical & Clinical Diag","询价","询价"]
[3289,"8113-6947","28999220","CF3 7mm (+/-1mm) x 50m","025","62","CUSTOM MEMBRANES","475","CF Custom Medical & Clinical Diag","询价","询价"]
[3292,"8116-6975","29034599","CF6 24cm x 100M 1/PK","025","62","CUSTOM MEMBRANES","475","CF Custom Medical & Clinical Diag","询价","询价"]
[3295,"10401403","29000790","PROTRAN BA83 140x140MM 50/PK","025","62","CUSTOM MEMBRANES","479","MM Custom Dx",{"v":663.175,"d":"663"},{"v":5974.543575,"d":"5,975"}]
[3300,"10540826","29142913","SSLU 262X350MM ABON 100PK","025","62","CUSTOM MEMBRANES","479","MM Custom Dx",{"v":2583,"d":"2,583"},{"v":23270.247,"d":"23,270"}]
[3301,"10544905","28417316","FT060 300x350MM 25/PK IA","025","62","CUSTOM MEMBRANES","479","MM Custom Dx",{"v":1234.1,"d":"1,234"},{"v":11118.0069,"d":"11,118"}]
[3304,"10547002","29017319","FF80HP 20MMx50M 1/PK","025","62","CUSTOM MEMBRANES","479","MM Custom Dx",{"v":235.3,"d":"235"},{"v":2119.8177,"d":"2,120"}]
[3307,"10547005","29017332","FF170HP 25MMx50M 1/PK","025","62","CUSTOM MEMBRANES","479","MM Custom Dx",{"v":268.55,"d":"269"},{"v":2419.36695,"d":"2,419"}]
[3311,"10547034","29143903","FF170HP 57MMx50M 1/PK","025","62","CUSTOM MEMBRANES","479","MM Custom Dx",{"v":1205.4,"d":"1,205"},{"v":10859.448600000002,"d":"10,859"}]
[3314,"10548081","28417383","AE99 25MMx50M 1/PK","025","62","CUSTOM MEMBRANES","479","MM Custom Dx",{"v":374.125,"d":"374"},{"v":3370.492125,"d":"3,370"}]
[3316,"10549083","28417414","PRIMA85 23x300 MM 25/PK","025","62","CUSTOM MEMBRANES","479","MM Custom Dx",{"v":95.325,"d":"95"},{"v":858.7829250000001,"d":"859"}]
[3322,"10549713","28417461","PRIMA40 25MMx50M 1/PK SIP","025","62","CUSTOM MEMBRANES","479","MM Custom Dx",{"v":356.7,"d":"357"},{"v":3213.5103,"d":"3,214"}]
[3325,"10549736","28417476","AE99 16MMx50M 1/PK SIP","025","62","CUSTOM MEMBRANES","479","MM Custom Dx",{"v":216.275,"d":"216"},{"v":1948.421475,"d":"1,948"}]
[3326,"10549737","28977770","PRIMA85 17MMx50M 1/PK","025","62","CUSTOM MEMBRANES","479","MM Custom Dx",{"v":228.575,"d":"229"},{"v":2059.232175,"d":"2,059"}]
[3329,"10549896","28417513","AE99 25MMx50M 1/PK SIP","025","62","CUSTOM MEMBRANES","479","MM Custom Dx",{"v":340.3,"d":"340"},{"v":3065.7627,"d":"3,066"}]
[3332,"29047755","29047755","Intermediate Cable assembly for Buffer Valve","025","62","CUSTOM MEMBRANES","479","MM Custom Dx",{"v":184.5,"d":"185"},{"v":1662.1605,"d":"1,662"}]
[3336,"78356403","28421018","IMMUNOPORE RP 25MMx50M 1/PK","025","62","CUSTOM MEMBRANES","479","MM Custom Dx",{"v":455.1000000000001,"d":"455"},{"v":4099.995900000001,"d":"4,100"}]
[3341,"7060-2505","29019330","CYCL PC 5um 25MM x 30M 1/PK","025","62","CUSTOM MEMBRANES","479","MM Custom Dx","询价","询价"]
[3344,"10547018","29034593","FF80HP 25 x 300MM LAM 25/PK","025","62","CUSTOM MEMBRANES","479","MM Custom Dx","询价","询价"]
[3347,"10548106","28975351","AE98 20MM X 50M BRAHMS 1PK","025","62","CUSTOM MEMBRANES","479","MM Custom Dx","询价","询价"]
[3350,"10548078","28417382","AE99 22MMx50M 1/PK SIP","025","62","CUSTOM MEMBRANES","479","MM Custom Dx","询价","询价"]
[3351,"10549081","28417413","FF125/100 107MMx50M 1/PK SIP","025","62","CUSTOM MEMBRANES","479","MM Custom Dx","询价","询价"]
[3354,"090-005","28413898","GM02 30CMx3M 1/PK","025","62","CUSTOM MEMBRANES","479","MM Custom Dx","询价","询价"]
[3358,"10541103","28417283","PROTRAN BA83 85x165MM 10/PK","025","62","CUSTOM MEMBRANES","479","MM Custom Dx","询价","询价"]
[3362,"10542000","28417296","BA85 117x140MM 50/PK BLIN","025","62","CUSTOM MEMBRANES","479","MM Custom Dx","询价","询价"]
[3365,"10543700","28417309","BA83 300MMx3M 1/PK DIP","025","62","CUSTOM MEMBRANES","479","MM Custom Dx","询价","询价"]
[3369,"10548000","28417371","BA85 44.2MMx50M 1/PK","025","62","CUSTOM MEMBRANES","479","MM Custom Dx","询价","询价"]
[3372,"10549077","28417410","BA85 80x145MM 20/PK","025","62","CUSTOM MEMBRANES","479","MM Custom Dx","询价","询价"]
[3375,"10549669","28417432","BA83 64.5x600MM 10/PK LAM","025","62","CUSTOM MEMBRANES","479","MM Custom Dx","询价","询价"]
[3376,"10549778","28417486","BA83 150x165MM 25/PK","025","62","CUSTOM MEMBRANES","479","MM Custom Dx","询价","询价"]
[3379,"10549948","28417518","AE99 25MMx50M 1/PK","025","62","CUSTOM MEMBRANES","479","MM Custom Dx","询价","询价"]
[3383,"155815","28418260","NU 3UM 34.5MMx41MM 100/PK","025","62","CUSTOM MEMBRANES","479","MM Custom Dx","询价","询价"]
[3387,"233450003","28418876","1 1/2IN W .4UM PET PVPF","025","62","CUSTOM MEMBRANES","479","MM Custom Dx","询价","询价"]
[3390,"233470003","28418880","5/8IN WIDE .4UM PET PVPF","025","62","CUSTOM MEMBRANES","479","MM Custom Dx","询价","询价"]
[3394,"10543920","28417311","PROTRAN BA85 80x100MM 20/PK","025","62","CUSTOM MEMBRANES","479","MM Custom Dx","询价","询价"]
[3397,"10401703","28980400","ME24 0.2uM 13MM NO IP 100/PK","025","62","CUSTOM MEMBRANES","479","MM Custom Dx","询价","询价"]
[3400,"10539360","28422407","OPTITRAN BAS83 60MMx50M 1/PK","025","62","CUSTOM MEMBRANES","479","MM Custom Dx","询价","询价"]
[3401,"10548023","28417373","PROTRAN BA85 63x228MM 10/PK","025","62","CUSTOM MEMBRANES","479","MM Custom Dx","询价","询价"]
[3404,"10547015","29066390","FF80HP 35MM x 50M 1/PK","025","62","CUSTOM MEMBRANES","479","MM Custom Dx","询价","询价"]
[3409,"113743","29005580","PC 5UM 3.25INCHx100M 1/PK","025","62","CUSTOM MEMBRANES","479","MM Custom Dx","询价","询价"]
[3412,"80590479","80590479","Domestic MM Custom Dx","025","62","CUSTOM MEMBRANES","479","MM Custom Dx","询价","询价"]
[3415,"10548082","28417384","AE99 25MMx50M 1/PK","025","62","CUSTOM MEMBRANES","479","MM Custom Dx","询价","询价"]
[3419,"10549660","29036384","BA79 64MMx400MM PK/10 LAM EXT","025","62","CUSTOM MEMBRANES","479","MM Custom Dx","询价","询价"]
[3422,"10546020","28417335","PRIMA85 35MMx50M 1/PK","025","62","CUSTOM MEMBRANES","479","MM Custom Dx","询价","询价"]
[3423,"10547032","29130105","FF120HP 41MM x 50M 1/PK","025","62","CUSTOM MEMBRANES","479","MM Custom Dx","询价","询价"]
[3429,"10547027","29096319","FF170HP 107MMx50M 1/PK SIP","025","62","CUSTOM MEMBRANES","479","MM Custom Dx","询价","询价"]
[3430,"110681","29042808","NU PC 8um 27MM X 50M","025","62","CUSTOM MEMBRANES","479","MM Custom Dx","询价","询价"]
[3434,"10547011","29061185","BA83 140MMx50M 1/PK","025","62","CUSTOM MEMBRANES","479","MM Custom Dx","询价","询价"]
[3437,"6809-0090","28420384","ANOPORE 0.2UM 8x35.5MM 1/PK","025","62","CUSTOM MEMBRANES","479","MM Custom Dx","询价","询价"]
[3440,"78356747","28421021","IMMUNOPORE RPH 26.5MMX50M 1/PK","025","62","CUSTOM MEMBRANES","479","MM Custom Dx","询价","询价"]
[3444,"800962","28421057","NU 0.4UM 47MM 100/PK","025","62","CUSTOM MEMBRANES","479","MM Custom Dx","询价","询价"]
[3447,"78316404","28987047","IMMUNOPORE SP 25MMx50M 1/PK","025","62","CUSTOM MEMBRANES","479","MM Custom Dx","询价","询价"]
[3450,"10549662","29027690","PRIMA40 17MMx50M 1/PK","025","62","CUSTOM MEMBRANES","479","MM Custom Dx","询价","询价"]
[3452,"110202","28422436","NUCLEPORE PC 5UM 21MMx50M 1/PK","025","62","CUSTOM MEMBRANES","479","MM Custom Dx","询价","询价"]
[3455,"10439376","29022111","BA83 130MMx50M 1/PK","025","62","CUSTOM MEMBRANES","479","MM Custom Dx","询价","询价"]
[3459,"231200","29091862","PE DRAIN DISC 90mm dia","025","62","CUSTOM MEMBRANES","479","MM Custom Dx","询价","询价"]
[3462,"800979","28422205","CYL 220MMX100M 0.1uM 1/PK","025","62","CUSTOM MEMBRANES","479","MM Custom Dx","询价","询价"]
[3465,"155826","29032880","NUC PC 0.4um PVPF 8x10IN 30PK","025","62","CUSTOM MEMBRANES","479","MM Custom Dx","询价","询价"]
[3469,"10547087","28417358","FF125/100 25MMx50M 1/PK","025","62","CUSTOM MEMBRANES","479","MM Custom Dx","询价","询价"]
[3471,"10549859","28975333","AE 99 40MMx50M 1/PK","025","62","CUSTOM MEMBRANES","479","MM Custom Dx","询价","询价"]
[3474,"29027896","29027896","4E7 Beamed 80G PC 20um film","025","62","CUSTOM MEMBRANES","479","MM Custom Dx","询价","询价"]
[3477,"10550002","29099099","BA79 44.5+/-0,5MMx400MM 25/PK","025","62","CUSTOM MEMBRANES","479","MM Custom Dx","询价","询价"]
[3480,"10547010","29032064","FF120HP 26.5MMx50M 1/PK","025","62","CUSTOM MEMBRANES","479","MM Custom Dx","询价","询价"]
[3484,"10411122","29085302","PTFE ZG 5UM 47MM 50/PK","025","62","CUSTOM MEMBRANES","480","MM Custom",{"v":256.25,"d":"256"},{"v":2308.55625,"d":"2,309"}]
[3487,"10411905","29114994","ePTFE ZR 0.2UM 254MMx50M","025","62","CUSTOM MEMBRANES","480","MM Custom",{"v":1025,"d":"1,025"},{"v":9234.225,"d":"9,234"}]
[3491,"10411480","28415324","TE35 0.2uM 300x600MM 5/PK","025","62","CUSTOM MEMBRANES","480","MM Custom","询价","询价"]
[3492,"11406877","28417793","ME25/21ST 0.45uM 50MM 100PK MN (PLAIN PACKAGING)","025","62","CUSTOM MEMBRANES","480","MM Custom","询价","询价"]
[3498,"10406882","28415182","ME25/21 0.45u 315x640MM 100/PK","025","62","CUSTOM MEMBRANES","480","MM Custom","询价","询价"]
[3499,"10407860","28415228","MP20/21 0.2uM 125MMx105M 1/PK","025","62","CUSTOM MEMBRANES","480","MM Custom","询价","询价"]
[3502,"10407865","28415233","NC WHITE .45 145MMx105M 1/PK","025","62","CUSTOM MEMBRANES","480","MM Custom","询价","询价"]
[3505,"10409272","28415249","ME27/31 ST 0.8uM 50MM 100/PK","025","62","CUSTOM MEMBRANES","480","MM Custom","询价","询价"]
[3509,"10411388","28415318","TE36 0.45uM 300x640MM 5/PK","025","62","CUSTOM MEMBRANES","480","MM Custom","询价","询价"]
[3512,"10485367","28416275","ST68 0.8uM 11.5MM 100/PK","025","62","CUSTOM MEMBRANES","480","MM Custom","询价","询价"]
[3517,"11410312","28417796","RC58 47MM 0.2uM 50/PK","025","62","CUSTOM MEMBRANES","480","MM Custom","询价","询价"]
[3520,"233412004","28418867","1 3/4 IN W 0.4UM PC PVPF","025","62","CUSTOM MEMBRANES","480","MM Custom","询价","询价"]
[3523,"233472003","28418881","5/8IN W 3.0UM TEM PVPF","025","62","CUSTOM MEMBRANES","480","MM Custom","询价","询价"]
[3524,"233450005","29018107","4 1/2IN 0.4UM PET PVPF","025","62","CUSTOM MEMBRANES","480","MM Custom","询价","询价"]
[3527,"29065771","29065771","PC TEM PVP 0.1UM 20UM 400MMx1LF","025","62","CUSTOM MEMBRANES","480","MM Custom","询价","询价"]
[3531,"233391003","28979745","PC TEM 0.4UM CORN 0.865INX1LF","025","62","CUSTOM MEMBRANES","480","MM Custom","询价","询价"]
[3534,"7089-0308","28420712","PC10 0.8uM 300x300MM 3E7 HYPHI","025","62","CUSTOM MEMBRANES","480","MM Custom","询价","询价"]
[3538,"233391005","28979747","PC TEM 3.0UM CORN 0.625INX1LF","025","62","CUSTOM MEMBRANES","480","MM Custom","询价","询价"]
[3542,"10410293","29040274","RC55 0.45UM 38.1MMX50M 1/PK","025","62","CUSTOM MEMBRANES","480","MM Custom","询价","询价"]
[3545,"10410342","29045144","RC58 MEMBRANE 22.5MM X 50M 1/PK","025","62","CUSTOM MEMBRANES","480","MM Custom","询价","询价"]
[3548,"882383011","28980183","PC 83 DEN 0.1UM BNL ANA 1LM","025","62","CUSTOM MEMBRANES","480","MM Custom","询价","询价"]
[3549,"29058873","29058873","Rebate Adjustment Code  PG 480","025","62","CUSTOM MEMBRANES","480","MM Custom","询价","询价"]
[3552,"7060-0412-3000","28420616","PC 3uM 300MMxLM","025","62","CUSTOM MEMBRANES","480","MM Custom","询价","询价"]
[3556,"800118","28421036","NUC PC MB .625INx200M 1UM 1/PK","025","62","CUSTOM MEMBRANES","480","MM Custom","询价","询价"]
[3559,"80096005","29064717","NUC 300MM X 50M 1.0 UM","025","62","CUSTOM MEMBRANES","480","MM Custom","询价","询价"]
[3563,"110418","29109721","NUC PC 20MM X 50M 0.6uM","025","62","CUSTOM MEMBRANES","480","MM Custom","询价","询价"]
[3567,"11401782","29020112","ME24 0.2uM 315x640MM 100/PK","025","62","CUSTOM MEMBRANES","480","MM Custom","询价","询价"]
[3570,"28979344","28979344","EPTFE PP 0.2UM A 1X200M 1SF PK","025","62","CUSTOM MEMBRANES","480","MM Custom","询价","询价"]
[3573,"233391002","28979742","PC TEM 0.4UM CORN 0.625INX1LF","025","62","CUSTOM MEMBRANES","480","MM Custom","询价","询价"]
[3574,"29025433","29025433","QP909 PTFE 500M X 0.840IN X LM","025","62","CUSTOM MEMBRANES","480","MM Custom","询价","询价"]
[3577,"10400012","28414920","AE100 12 uM 47MM 100/PK","025","65","MEMBRANES","478","MM Lab Catalogue",{"v":197.51,"d":"198"},{"v":1779.36759,"d":"1,779"}]
[3580,"10400112","28414925","AE99 8uM 47MM 100/PK","025","65","MEMBRANES","478","MM Lab Catalogue",{"v":197.51,"d":"198"},{"v":1779.36759,"d":"1,779"}]
[3585,"10401106","28414958","NC45 0.45uM 25MM 100/PK","025","65","MEMBRANES","478","MM Lab Catalogue",{"v":114.51999999999998,"d":"115"},{"v":1031.71068,"d":"1,032"}]
[3588,"10401118","28414965","NC45 0.45uM 90MM 50/PK","025","65","MEMBRANES","478","MM Lab Catalogue",353,{"v":3180.177,"d":"3,180"}]
[3592,"10401170","28414977","NC45 ST 0.45uM 47MM 100/PK","025","65","MEMBRANES","478","MM Lab Catalogue",{"v":192.26,"d":"192"},{"v":1732.07034,"d":"1,732"}]
[3595,"10402012","28415055","NC10 0.1uM 47MM 100/PK","025","65","MEMBRANES","478","MM Lab Catalogue",{"v":189.11,"d":"189"},{"v":1703.6919900000003,"d":"1,704"}]
[3596,"10402014","28415056","NC10 0.1uM 50MM 100/PK","025","65","MEMBRANES","478","MM Lab Catalogue",{"v":194.36,"d":"194"},{"v":1750.98924,"d":"1,751"}]
[3599,"10404001","28415130","OE67 0.45uM 13MM 100/PK","025","65","MEMBRANES","478","MM Lab Catalogue",{"v":99.81,"d":"100"},{"v":899.18829,"d":"899"}]
[3605,"10404044","28415139","OE67 0.45uM 85MM 50/PK","025","65","MEMBRANES","478","MM Lab Catalogue",305,{"v":2747.745,"d":"2,748"}]
[3607,"10404112","28415145","OE66 0.2uM 47MM 100/PK","025","65","MEMBRANES","478","MM Lab Catalogue",{"v":165.99,"d":"166"},{"v":1495.4039100000002,"d":"1,495"}]
[3610,"10404131","28415149","OE66 0.2uM 142MM 25/PK","025","65","MEMBRANES","478","MM Lab Catalogue",209,{"v":1882.881,"d":"1,883"}]
[3613,"10404180","28415152","OE66 0.2uM 300x600MM 5/PK","025","65","MEMBRANES","478","MM Lab Catalogue",505,{"v":4549.545,"d":"4,550"}]
[3617,"10410206","28415271","RC55 0.45uM 25MM 100/PK","025","65","MEMBRANES","478","MM Lab Catalogue",{"v":176.5,"d":"177"},{"v":1590.0885,"d":"1,590"}]
[3620,"10410219","28415276","RC55 0.45uM 100MM 25/PK","025","65","MEMBRANES","478","MM Lab Catalogue",{"v":182.8,"d":"183"},{"v":1646.8452000000002,"d":"1,647"}]
[3621,"10410224","28415277","RC55 0.45uM 110MM 25/PK","025","65","MEMBRANES","478","MM Lab Catalogue",210,{"v":1891.89,"d":"1,892"}]
[3626,"10410380","28415294","RC58 0.2uM 300x600MM 5/PK","025","65","MEMBRANES","478","MM Lab Catalogue",687,{"v":6189.183,"d":"6,189"}]
[3628,"10411111","28415298","TE38 5uM 47MM 50/PK","025","65","MEMBRANES","478","MM Lab Catalogue",274,{"v":2468.466,"d":"2,468"}]
[3632,"10411205","28415308","TE37 1uM 25MM 50/PK","025","65","MEMBRANES","478","MM Lab Catalogue",219,{"v":1972.971,"d":"1,973"}]
[3635,"10411305","28415314","TE36 0.45uM 25MM 50/PK","025","65","MEMBRANES","478","MM Lab Catalogue",215,{"v":1936.9350000000002,"d":"1,937"}]
[3639,"10411411","28415320","TE35 0.2uM 47MM 50/PK","025","65","MEMBRANES","478","MM Lab Catalogue",269,{"v":2423.4210000000003,"d":"2,423"}]
[3642,"10414012","28415334","NL16 0.2uM 47MM 100/PK","025","65","MEMBRANES","478","MM Lab Catalogue",{"v":175.45,"d":"175"},{"v":1580.62905,"d":"1,581"}]
[3645,"10414112","28415338","NL17 0.45uM 47MM 100/PK","025","65","MEMBRANES","478","MM Lab Catalogue",{"v":172.3,"d":"172"},{"v":1552.2507,"d":"1,552"}]
[3647,"10440000","28415524","MV050/0 SS VAC1 500ML 1/PK","025","65","MEMBRANES","478","MM Lab Catalogue",{"v":1165,"d":"1,165"},{"v":10495.485,"d":"10,495"}]
[3650,"10440004","28415527","GV/MV050/0/06 CLAMP 1/PK","025","65","MEMBRANES","478","MM Lab Catalogue",{"v":156.54,"d":"157"},{"v":1410.26886,"d":"1,410"}]
[3653,"10440102","28415534","MV050/1/05 PTFE GASKET 1/PK","025","65","MEMBRANES","478","MM Lab Catalogue",{"v":4.13,"d":"4"},{"v":37.20717,"d":"37"}]
[3657,"10441004","28415544","GV025/0/05 CENTRING F/FRT 1/PK","025","65","MEMBRANES","478","MM Lab Catalogue",{"v":45.18,"d":"45"},{"v":407.02662000000004,"d":"407"}]
[3660,"10441201","28415549","GV025/2/02 BASE F/GV025/2 1/PK","025","65","MEMBRANES","478","MM Lab Catalogue",222,{"v":1999.998,"d":"2,000"}]
[3664,"10442002","28415553","GV050/0/02 BASE F/GV050/0 1/PK","025","65","MEMBRANES","478","MM Lab Catalogue",{"v":100.86,"d":"101"},{"v":908.64774,"d":"909"}]
[3667,"10442006","28415557","GV050/0/12 RUBCAP F/GV050 1/PK","025","65","MEMBRANES","478","MM Lab Catalogue",{"v":19.96,"d":"20"},{"v":179.81964000000002,"d":"180"}]
[3668,"10442100","28415561","GV050/1 GLASS VAC1 250ML 1/PK","025","65","MEMBRANES","478","MM Lab Catalogue",534,{"v":4810.8060000000005,"d":"4,811"}]
[3672,"10442203","28415565","GV050/2/08 FLASK 1L NS29 1/PK","025","65","MEMBRANES","478","MM Lab Catalogue",230,{"v":2072.07,"d":"2,072"}]
[3675,"10442300","28415571","GV050/3 GLASS VAC1 250ML 1/PK","025","65","MEMBRANES","478","MM Lab Catalogue",828,{"v":7459.452,"d":"7,459"}]
[3678,"10443002","28415576","GV100/0/02 BASE F/GV100 1/PK","025","65","MEMBRANES","478","MM Lab Catalogue",281,{"v":2531.529,"d":"2,532"}]
[3682,"10443100","28415583","GV100/1 GLASS VAC1 500ML 1/PK","025","65","MEMBRANES","478","MM Lab Catalogue",{"v":1438,"d":"1,438"},{"v":12954.942000000001,"d":"12,955"}]
[3685,"10444830","28415597","AS600/3 SS VAC6 500ML 1/PK","025","65","MEMBRANES","478","MM Lab Catalogue",{"v":7445,"d":"7,445"},{"v":67072.005,"d":"67,072"}]
[3689,"10445830","28415610","AS300/3 SS VAC3 500ML 1/PK","025","65","MEMBRANES","478","MM Lab Catalogue",{"v":4255,"d":"4,255"},{"v":38333.295,"d":"38,333"}]
[3693,"10445863","28415615","MBSI STEEL FRIT FOR AS220 1/PK","025","65","MEMBRANES","478","MM Lab Catalogue",{"v":143.93,"d":"144"},{"v":1296.6653700000002,"d":"1,297"}]
[3696,"10445870","28415621","MBSI FUNNEL DISPENSER 1/PK","025","65","MEMBRANES","478","MM Lab Catalogue",{"v":1329,"d":"1,329"},{"v":11972.961000000001,"d":"11,973"}]
[3697,"10445890","28415623","AS220 MBSI MANIF 2-PLACE 1/PK","025","65","MEMBRANES","478","MM Lab Catalogue",{"v":2203,"d":"2,203"},{"v":19846.827,"d":"19,847"}]
[3700,"10445903","28415631","MBS2 PP-FUNNEL ME24/21 24/PK","025","65","MEMBRANES","478","MM Lab Catalogue",285,{"v":2567.565,"d":"2,568"}]
[3704,"10450003","28415677","MD050/0/03 SCRN F/MD050 1/PK","025","65","MEMBRANES","478","MM Lab Catalogue",{"$f":"K3705/9.009","v":{"v":75.64,"d":"76"}},{"v":681.4407600000001,"d":"681"}]
[3707,"10450450","28415683","MD050/4 SS PR 50MM 200ML 1/PK","025","65","MEMBRANES","478","MM Lab Catalogue",{"v":1727,"d":"1,727"},{"v":15558.543000000001,"d":"15,559"}]
[3710,"10452003","28415697","MD142/2/03 SCRN F/MD142 1/PK","025","65","MEMBRANES","478","MM Lab Catalogue",{"v":129.22,"d":"129"},{"v":1164.14298,"d":"1,164"}]
[3714,"10453007","28415707","MD050/0/18 CONN HOSE 9MM 1/PK","025","65","MEMBRANES","478","MM Lab Catalogue",{"v":155.49,"d":"155"},{"v":1400.80941,"d":"1,401"}]
[3718,"10461118","28415724","FP050/0/13 CONNHOSE FP050 1/PK","025","65","MEMBRANES","478","MM Lab Catalogue",{"v":8.04,"d":"8"},{"v":72.43235999999999,"d":"72"}]
[3721,"10461400","28415727","FP050/1 PSU FILTHOLD 50MM 5/PK","025","65","MEMBRANES","478","MM Lab Catalogue",256,{"v":2306.304,"d":"2,306"}]
[3722,"10464100","28415909","ML050/0 SS FILTHOLD 50MM 1/PK","025","65","MEMBRANES","478","MM Lab Catalogue",{"v":1193,"d":"1,193"},{"v":10747.737000000001,"d":"10,748"}]
[3725,"10471101","28415933","SV003C ARMOURTUBE 1.5M 1/PK","025","65","MEMBRANES","478","MM Lab Catalogue",287,{"v":2585.583,"d":"2,586"}]
[3729,"10477601","28415990","WT100 WITTBOTL 1L 1/PK HOSENIP","025","65","MEMBRANES","478","MM Lab Catalogue",380,{"v":3423.42,"d":"3,423"}]
[3732,"10498762","28416534","SS VACUUMMANI 6-PLACE 1/PK","025","65","MEMBRANES","478","MM Lab Catalogue",{"v":1885,"d":"1,885"},{"v":16981.965,"d":"16,982"}]
[3735,"110406","28417567","NUC PC 13MM 0.2uM 100/PK","025","65","MEMBRANES","478","MM Lab Catalogue",{"v":66.19,"d":"66"},{"v":596.30571,"d":"596"}]
[3740,"110413","28417572","NUC PC 13MM 5.0uM 100/PK","025","65","MEMBRANES","478","MM Lab Catalogue",{"v":66.19,"d":"66"},{"v":596.30571,"d":"596"}]
[3743,"110601","28417579","NUC PC 25MM 0.015uM 100/PK","025","65","MEMBRANES","478","MM Lab Catalogue",207,{"v":1864.863,"d":"1,865"}]
[3746,"110604","28417582","NUC PC 25MM 0.08uM 100/PK","025","65","MEMBRANES","478","MM Lab Catalogue",{"v":148.13,"d":"148"},{"v":1334.50317,"d":"1,335"}]
[3747,"110605","28417583","NUC PC 25MM 0.1uM 100/PK","025","65","MEMBRANES","478","MM Lab Catalogue",{"v":148.13,"d":"148"},{"v":1334.50317,"d":"1,335"}]
[3750,"110608","28417586","NUC PC 25MM 0.6uM 100/PK","025","65","MEMBRANES","478","MM Lab Catalogue",{"v":75.64,"d":"76"},{"v":681.4407600000001,"d":"681"}]
[3754,"110612","28417590","NUC PC 25MM 3.0uM 100/PK","025","65","MEMBRANES","478","MM Lab Catalogue",{"v":89.3,"d":"89"},{"v":804.5037,"d":"805"}]
[3756,"110614","28417592","NUC PC 25MM 8.0uM 100/PK","025","65","MEMBRANES","478","MM Lab Catalogue",{"v":89.3,"d":"89"},{"v":804.5037,"d":"805"}]
[3761,"110657","28417599","NUC PC 25MM BL 0.4uM 100/PK","025","65","MEMBRANES","478","MM Lab Catalogue",{"v":102.96,"d":"103"},{"v":927.56664,"d":"928"}]
[3765,"111103","28417635","NUC PC 47MM 0.05uM 100/PK","025","65","MEMBRANES","478","MM Lab Catalogue",259,{"v":2333.331,"d":"2,333"}]
[3768,"111106","28417638","NUC PC 47MM 0.2uM 100/PK","025","65","MEMBRANES","478","MM Lab Catalogue",{"$f":"K3769/9.009","v":{"v":95.3883,"d":"95"}},{"v":859.3531947,"d":"859"}]
[3769,"111107","28417639","NUC PC 47MM 0.4uM 100/PK","025","65","MEMBRANES","478","MM Lab Catalogue",{"v":151.41,"d":"151"},{"v":1364.05269,"d":"1,364"}]
[3772,"111110","28417642","NUC PC 47MM 1.0uM 100/PK","025","65","MEMBRANES","478","MM Lab Catalogue",{"v":154.44,"d":"154"},{"v":1391.34996,"d":"1,391"}]
[3775,"111113","28417645","NUC PC 47MM 5.0uM 100/PK","025","65","MEMBRANES","478","MM Lab Catalogue",{"v":154.44,"d":"154"},{"v":1391.34996,"d":"1,391"}]
[3781,"111164","28417655","PES 47MM 0.8uM 100/PK","025","65","MEMBRANES","478","MM Lab Catalogue",{"v":181.75,"d":"182"},{"v":1637.3857500000001,"d":"1,637"}]
[3783,"111207","28417657","NUC PC 50MM 0.4uM 100/PK","025","65","MEMBRANES","478","MM Lab Catalogue",{"v":148.13,"d":"148"},{"v":1334.50317,"d":"1,335"}]
[3786,"111503","28417693","NUC PC 76MM 0.05uM 100/PK","025","65","MEMBRANES","478","MM Lab Catalogue",521,{"v":4693.689,"d":"4,694"}]
[3790,"111707","28417699","NUC PC 90MM 0.4uM 25/PK","025","65","MEMBRANES","478","MM Lab Catalogue",{"v":153.39,"d":"153"},{"v":1381.89051,"d":"1,382"}]
[3793,"111712","28417702","NUC PC 90MM 3.0uM 25/PK","025","65","MEMBRANES","478","MM Lab Catalogue",{"v":179.65,"d":"180"},{"v":1618.46685,"d":"1,618"}]
[3794,"112104","28417704","NUC PC 142MM 0.08uM 25/PK","025","65","MEMBRANES","478","MM Lab Catalogue",{"v":269.1,"d":"269"},{"v":2424.3219000000004,"d":"2,424"}]
[3797,"112110","28417709","NUC PC 142MM 1.0uM 25/PK","025","65","MEMBRANES","478","MM Lab Catalogue",{"v":231.29999999999998,"d":"231"},{"v":2083.7817,"d":"2,084"}]
[3802,"113313","28417735","NUC PC 19X42MM 5.0uM 100/PK","025","65","MEMBRANES","478","MM Lab Catalogue",{"v":113.46,"d":"113"},{"v":1022.1611399999999,"d":"1,022"}]
[3805,"150445","28418212","NUC PC 13MM 5.0uM PVPF 100/PK","025","65","MEMBRANES","478","MM Lab Catalogue",{"v":95.6,"d":"96"},{"v":861.2604,"d":"861"}]
[3808,"1960-002","28418637","25MM GLS MEM FILT HLDR 1/PK","025","65","MEMBRANES","478","MM Lab Catalogue",369,{"v":3324.321,"d":"3,324"}]
[3812,"1960-052","28418641","25MM SS MEM HLDR 25ML RES 1/PK","025","65","MEMBRANES","478","MM Lab Catalogue",405,{"v":3648.645,"d":"3,649"}]
[3815,"1980-001","28418651","SS SYRINGE MEM HLDR 13MM 1/PK","025","65","MEMBRANES","478","MM Lab Catalogue",{"v":125.02,"d":"125"},{"v":1126.30518,"d":"1,126"}]
[3818,"230500","28418858","PE DRAIN DISC 22MM 100/PK","025","65","MEMBRANES","478","MM Lab Catalogue",{"v":66.19,"d":"66"},{"v":596.30571,"d":"596"}]
[3819,"230600","28418859","PE DRAIN DISC 25MM 100/PK","025","65","MEMBRANES","478","MM Lab Catalogue",{"v":68.29,"d":"68"},{"v":615.2246100000001,"d":"615"}]
[3823,"420200","28419555","SWIN-LOK HOLDER 25MM 10/PK","025","65","MEMBRANES","478","MM Lab Catalogue",226,{"v":2036.034,"d":"2,036"}]
[3826,"6809-5012","28420412","ANOD 47MM 0.1um SUPP 50/PK","025","65","MEMBRANES","478","MM Lab Catalogue",{"v":1145,"d":"1,145"},{"v":10315.305,"d":"10,315"}]
[3830,"6809-6002","28420416","ANOD 25MM 0.02uM SUPP 50/PK","025","65","MEMBRANES","478","MM Lab Catalogue",648,{"v":5837.832,"d":"5,838"}]
[3833,"6809-6022","28420418","ANOD 25MM 0.2uM SUPP 50/PK","025","65","MEMBRANES","478","MM Lab Catalogue",648,{"v":5837.832,"d":"5,838"}]
[3837,"6809-7023","28420421","ANOD 13MM 0.2uM NO SUP 100/PK","025","65","MEMBRANES","478","MM Lab Catalogue",527,{"v":4747.743,"d":"4,748"}]
[3840,"7001-0004","28420583","CA 47MM WH 0.2uM 100/PK","025","65","MEMBRANES","478","MM Lab Catalogue",{"v":172.3,"d":"172"},{"v":1552.2507,"d":"1,552"}]
[3843,"7060-2501","28420634","CYL PC 25MM 0.1uM 100/PK","025","65","MEMBRANES","478","MM Lab Catalogue",{"v":78.8,"d":"79"},{"v":709.9092,"d":"710"}]
[3844,"7060-2502","28420635","CYL PC 25MM 0.2uM 100/PK","025","65","MEMBRANES","478","MM Lab Catalogue",{"v":93.5,"d":"94"},{"v":842.3415,"d":"842"}]
[3848,"7060-2514","28420642","CYL PC 25MM 8.0uM 100/PK","025","65","MEMBRANES","478","MM Lab Catalogue",{"v":89.3,"d":"89"},{"v":804.5037,"d":"805"}]
[3851,"7060-4702","28420649","CYL PC 47MM 0.2uM 100/PK","025","65","MEMBRANES","478","MM Lab Catalogue",{"v":178.6,"d":"179"},{"v":1609.0074,"d":"1,609"}]
[3855,"7060-4713","28420655","CYL PC 47MM 5.0uM 100/PK","025","65","MEMBRANES","478","MM Lab Catalogue",{"v":153.39,"d":"153"},{"v":1381.89051,"d":"1,382"}]
[3858,"7060-4716","28420658","CYL PC 47MM 12.0uM 100/PK","025","65","MEMBRANES","478","MM Lab Catalogue",{"v":178.6,"d":"179"},{"v":1609.0074,"d":"1,609"}]
[3862,"7063-4702","28420689","CYL PC BL 47MM 0.2uM 100/PK","025","65","MEMBRANES","478","MM Lab Catalogue",{"v":144.98,"d":"145"},{"v":1306.12482,"d":"1,306"}]
[3865,"7141-004","28420718","WME WH GR 47MM 0.45uM 100/PK","025","65","MEMBRANES","478","MM Lab Catalogue",{"v":179.65,"d":"180"},{"v":1618.46685,"d":"1,618"}]
[3869,"7141-114","28420720","WME WHGRSTNPD 47MM 0.45 100/PK","025","65","MEMBRANES","478","MM Lab Catalogue",{"v":93.5,"d":"94"},{"v":842.3415,"d":"842"}]
[3870,"7141-124","28420721","WME WHGR ST 47MM 0.45uM 200/PK","025","65","MEMBRANES","478","MM Lab Catalogue",{"v":179.65,"d":"180"},{"v":1618.46685,"d":"1,618"}]
[3873,"7148-002","28420724","WME WH GR 25MM 0.8uM 100/PK","025","65","MEMBRANES","478","MM Lab Catalogue",{"v":157.59,"d":"158"},{"v":1419.7283100000002,"d":"1,420"}]
[3877,"7182-001","28420733","WCN WH 13MM 0.2uM 100/PK","025","65","MEMBRANES","478","MM Lab Catalogue",{"v":126.06999999999998,"d":"126"},{"v":1135.76463,"d":"1,136"}]
[3880,"7182-009","28420736","WCN WH 90MM 0.2uM 25/PK","025","65","MEMBRANES","478","MM Lab Catalogue",{"v":122.92000000000002,"d":"123"},{"v":1107.3862800000002,"d":"1,107"}]
[3883,"7184-002","28420739","WCN WH 25mm 0.45uM 100/PK","025","65","MEMBRANES","478","MM Lab Catalogue",{"v":96.66,"d":"97"},{"v":870.80994,"d":"871"}]
[3887,"7184-014","28420745","WCN WH 142MM 0.45uM 25/PK","025","65","MEMBRANES","478","MM Lab Catalogue",{"v":237.00000000000003,"d":"237"},{"v":2135.1330000000003,"d":"2,135"}]
[3890,"7188-002","28420750","WCN WH 25MM 0.8uM 100/PK","025","65","MEMBRANES","478","MM Lab Catalogue",{"v":126.06999999999998,"d":"126"},{"v":1135.76463,"d":"1,136"}]
[3894,"7190-002","28420754","WCN WH 25MM 1.0uM 100/PK","025","65","MEMBRANES","478","MM Lab Catalogue",{"v":135.53,"d":"136"},{"v":1220.9897700000001,"d":"1,221"}]
[3895,"7190-004","28420755","WCN WH 47MM 1.0uM 100/PK","025","65","MEMBRANES","478","MM Lab Catalogue",201,{"v":1810.809,"d":"1,811"}]
[3898,"7193-002","28420759","WCN WH 25MM 3.0uM 100/PK","025","65","MEMBRANES","478","MM Lab Catalogue",{"v":136.58,"d":"137"},{"v":1230.4492200000002,"d":"1,230"}]
[3902,"7195-009","28420763","WCN WH 90MM 5.0uM 25/PK","025","65","MEMBRANES","478","MM Lab Catalogue",{"v":175.45,"d":"175"},{"v":1580.62905,"d":"1,581"}]
[3905,"7402-004","28420767","NYL 47MM 0.2uM 100/PK","025","65","MEMBRANES","478","MM Lab Catalogue",{"v":150.38,"d":"150"},{"v":1354.77342,"d":"1,355"}]
[3908,"7404-002","28420770","NYL 25MM 0.45uM 100/PK","025","65","MEMBRANES","478","MM Lab Catalogue",{"v":111.36,"d":"111"},{"v":1003.24224,"d":"1,003"}]
[3911,"7408-004","28420773","NYL 47MM 0.8uM 100/PK","025","65","MEMBRANES","478","MM Lab Catalogue",{"v":171.25,"d":"171"},{"v":1542.79125,"d":"1,543"}]
[3916,"7590-002","28420778","PTFE 25MM 1.0uM 100/PK","025","65","MEMBRANES","478","MM Lab Catalogue",375,{"v":3378.375,"d":"3,378"}]
[3919,"7592-304","28420784","PM 2.5 JHBIRCH 50/PK","025","65","MEMBRANES","478","MM Lab Catalogue",575,{"v":5180.175,"d":"5,180"}]
[3920,"800195","28421038","NUC PC 13MM GOLD 0.8uM 10/PK","025","65","MEMBRANES","478","MM Lab Catalogue",255,{"v":2297.295,"d":"2,297"}]
[3923,"800284","28421042","NUC PC 19MM 0.8uM 100/PK","025","65","MEMBRANES","478","MM Lab Catalogue",{"v":72.49,"d":"72"},{"v":653.06241,"d":"653"}]
[3927,"800319","28421048","NUC PC 19MM 1.0uM 100/PK","025","65","MEMBRANES","478","MM Lab Catalogue",{"v":72.49,"d":"72"},{"v":653.06241,"d":"653"}]
[3930,"10440010","28415531","MV050/0 SS VAC1 500ML 1/PK","025","65","MEMBRANES","478","MM Lab Catalogue","询价","询价"]
[3932,"10407766","28415216","MP31 0,45uM 135x240MM 100/PK","025","65","MEMBRANES","478","MM Lab Catalogue","询价","询价"]
[3938,"10442219","28415568","GV050/2/12 BASE 1/PK AGILENT","025","65","MEMBRANES","478","MM Lab Catalogue","询价","询价"]
[3941,"10471820","28415942","MAF TUBE65 9.5x2.4MM 7.5M 1/PK","025","65","MEMBRANES","478","MM Lab Catalogue","询价","询价"]
[3942,"112805","28417712","NUC PC 293MM 0.1uM 25/PK","025","65","MEMBRANES","478","MM Lab Catalogue","询价","询价"]
[3945,"10411119","28415301","TE38 5uM 100MM 25/PK","025","65","MEMBRANES","478","MM Lab Catalogue","询价","询价"]
[3948,"10401122","28414967","NC45 0.45uM 85MM 50/PK","025","65","MEMBRANES","478","MM Lab Catalogue","询价","询价"]
[3952,"10405076","28415156","AE 99/5 8uM 47MM 100/PK HYRIM","025","65","MEMBRANES","478","MM Lab Catalogue","询价","询价"]
[3957,"10400772","28414943","ME29 ST 3.0uM 50MM 100/PK","025","65","MEMBRANES","483","Microbiology Membranes",{"v":188.7,"d":"189"},{"v":1699.9983,"d":"1,700"}]
[3959,"10400812","28414946","ME28 1.2uM 47MM 100/PK","025","65","MEMBRANES","483","Microbiology Membranes",{"v":164.22,"d":"164"},{"v":1479.4579800000001,"d":"1,479"}]
[3963,"10400909","28414950","ME27 0.8uM 37MM 100/PK","025","65","MEMBRANES","483","Microbiology Membranes",{"v":138.72,"d":"139"},{"v":1249.72848,"d":"1,250"}]
[3966,"10400921","28414953","ME27 0.8uM 100MM 50/PK","025","65","MEMBRANES","483","Microbiology Membranes",339,{"v":3054.051,"d":"3,054"}]
[3967,"10401506","28415023","ME26 0.6uM 25MM 100/PK","025","65","MEMBRANES","483","Microbiology Membranes",{"v":79.56,"d":"80"},{"v":716.7560400000001,"d":"717"}]
[3970,"10401605","29026216","ME25 300MMx100M 1/PK","025","65","MEMBRANES","483","Microbiology Membranes",{"v":1951.9999999999998,"d":"1,952"},{"v":17585.568,"d":"17,586"}]
[3973,"10401614","28415030","ME25 0.45uM 50MM 100/PK","025","65","MEMBRANES","483","Microbiology Membranes",{"v":131.58,"d":"132"},{"v":1185.4042200000001,"d":"1,185"}]
[3978,"10401670","28415040","ME25 ST 0.45uM 47MM 100/PK","025","65","MEMBRANES","483","Microbiology Membranes",{"v":143.82,"d":"144"},{"v":1295.67438,"d":"1,296"}]
[3981,"10401712","28415044","ME24 0.2uM 47MM 100/PK","025","65","MEMBRANES","483","Microbiology Membranes",{"v":116.84,"d":"117"},{"v":1052.61156,"d":"1,053"}]
[3985,"10401731","28415048","ME24 0.2uM 142MM 25/PK","025","65","MEMBRANES","483","Microbiology Membranes",{"v":148.92,"d":"149"},{"v":1341.6202799999999,"d":"1,342"}]
[3988,"10406512","28415167","ME25/20 0.45uM 47MM 100/PK","025","65","MEMBRANES","483","Microbiology Membranes",{"v":129.54,"d":"130"},{"v":1167.02586,"d":"1,167"}]
[3991,"10406801","29014375","ME25 SELECT/21 50MM ST 100/PK","025","65","MEMBRANES","483","Microbiology Membranes",{"v":128.52,"d":"129"},{"v":1157.8366800000001,"d":"1,158"}]
[3992,"10406802","29016662","ME25 SELECT/21 STL 50MM 400/PK","025","65","MEMBRANES","483","Microbiology Membranes",502,{"v":4522.518,"d":"4,523"}]
[3995,"10406814","28415173","ME25/21 0.45uM 50MM 100/PK GRD","025","65","MEMBRANES","483","Microbiology Membranes",{"v":131.58,"d":"132"},{"v":1185.4042200000001,"d":"1,185"}]
[3999,"10406970","28415185","ME24/21 ST 0.2uM 47MM 100/PK","025","65","MEMBRANES","483","Microbiology Membranes",{"v":46.92,"d":"47"},{"v":422.70228000000003,"d":"423"}]
[4003,"10407132","28415189","MP31 STL 0.45uM 47MM 400/PK","025","65","MEMBRANES","483","Microbiology Membranes",503,{"v":4531.527,"d":"4,532"}]
[4006,"10407172","28415192","MP41 STL 0.45uM 50MM 400/PK","025","65","MEMBRANES","483","Microbiology Membranes",522,{"v":4702.698,"d":"4,703"}]
[4010,"10407332","28415198","ME25/31 STL 0.45uM 47MM 400/PK","025","65","MEMBRANES","483","Microbiology Membranes",{"v":467.00000000000006,"d":"467"},{"v":4207.203,"d":"4,207"}]
[4013,"10407370","28415205","ME25/41 STL 0.45uM 47MM 400/PK","025","65","MEMBRANES","483","Microbiology Membranes",456,{"v":4108.104,"d":"4,108"}]
[4016,"10407713","28415211","MP21 ST 0.45uM 47MM 100/PK","025","65","MEMBRANES","483","Microbiology Membranes",{"v":150.96,"d":"151"},{"v":1359.99864,"d":"1,360"}]
[4017,"10407714","28415212","MP21 ST 0.45uM 50MM 100/PK","025","65","MEMBRANES","483","Microbiology Membranes",{"v":158.1,"d":"158"},{"v":1424.3229,"d":"1,424"}]
[4020,"10408472","28415239","ME28/41 ST 1.2uM 50MM 100/PK","025","65","MEMBRANES","483","Microbiology Membranes",{"v":191.76,"d":"192"},{"v":1727.56584,"d":"1,728"}]
[4024,"10408970","28415244","ME27/21 ST 0.8uM 47MM 100/PK","025","65","MEMBRANES","483","Microbiology Membranes",{"$f":"K4025/9.009","v":230},{"v":2072.07,"d":"2,072"}]
[4028,"10409702","29026209","ME25/3 300MMx100M 1/PK","025","65","MEMBRANES","483","Microbiology Membranes",{"v":2012,"d":"2,012"},{"v":18126.108,"d":"18,126"}]
[4031,"10409771","28415260","ME25/31 ST 0.45uM 47MM 1000/PK","025","65","MEMBRANES","483","Microbiology Membranes",836,{"v":7531.524,"d":"7,532"}]
[4035,"10407379","28415207","ME25/91 STL 0.45uM 50MM 400/PK","025","65","MEMBRANES","483","Microbiology Membranes","询价","询价"]
[4038,"80590483","80590483","Domestic MB Membranes","025","65","MEMBRANES","483","Microbiology Membranes","询价","询价"]
[4041,"10370392","28414800","GF10 35MMx30M 1/PK","025","67","CUSTOM LAB FILTRATION CF & GF","465","GF Custom",{"v":112.4142,"d":"112"},{"v":1012.7395278,"d":"1,013"}]
[4045,"1830-6236","29095744","HGF61 30MMX20M 1/PK","025","67","CUSTOM LAB FILTRATION CF & GF","465","GF Custom",{"v":45.32,"d":"45"},{"v":408.28788000000003,"d":"408"}]
[4046,"1830-640","28422017","HGF61 30MMX100M 1/PK","025","62","CUSTOM MEMBRANES","466","GF Custom Medical & Clinical Diag",{"v":79.18,"d":"79"},{"v":713.3326200000001,"d":"713"}]
[4050,"9807900271","28421363","GF/M 11MM 100/PK","025","67","CUSTOM LAB FILTRATION CF & GF","465","GF Custom",{"v":80.8962,"d":"81"},{"v":728.7938657999999,"d":"729"}]
[4053,"10370368","29014497","GF 0.009 THICKNESS 30MMx25M","025","67","CUSTOM LAB FILTRATION CF & GF","465","GF Custom","询价","询价"]
[4056,"11370376","28417767","GF10 50MM X 35M 1/PK","025","67","CUSTOM LAB FILTRATION CF & GF","465","GF Custom","询价","询价"]
[4060,"10370395","28414803","GF10 70MMx40M 1/PK","025","67","CUSTOM LAB FILTRATION CF & GF","465","GF Custom","询价","询价"]
[4063,"11428040","28417801","GF50 90MM 100/PK","025","67","CUSTOM LAB FILTRATION CF & GF","465","GF Custom","询价","询价"]
[4066,"1820900621","28418341","GF/A 125MMx600M 1/PK","025","67","CUSTOM LAB FILTRATION CF & GF","465","GF Custom","询价","询价"]
[4068,"18229784","28418403","PG AIR MON 150MM 100/PK","025","67","CUSTOM LAB FILTRATION CF & GF","465","GF Custom","询价","询价"]
[4071,"18429766","28418510","GD2 2.25IN X 100M 1/PK CERA","025","67","CUSTOM LAB FILTRATION CF & GF","465","GF Custom","询价","询价"]
[4075,"18928744","28418590","GLSSFB FILT MAT 55x54CM 50PK","025","67","CUSTOM LAB FILTRATION CF & GF","465","GF Custom","询价","询价"]
[4078,"9246900620","28421227","BS2000 110MMx90M 1/PK","025","67","CUSTOM LAB FILTRATION CF & GF","465","GF Custom","询价","询价"]
[4081,"92469412","28421228","BS2000 110x10MM 1200/PK","025","67","CUSTOM LAB FILTRATION CF & GF","465","GF Custom","询价","询价"]
[4085,"9703900241","28421326","F319-04 55MM 100/PK","025","67","CUSTOM LAB FILTRATION CF & GF","465","GF Custom","询价","询价"]
[4087,"9848900651","28421386","F619-01 12INx12IN 10/PK","025","67","CUSTOM LAB FILTRATION CF & GF","465","GF Custom","询价","询价"]
[4090,"18236302","28422203","GF/D 90MMX150M REEL 1/PK","025","67","CUSTOM LAB FILTRATION CF & GF","465","GF Custom","询价","询价"]
[4093,"29058864","29058864","Rebate Adjustment Code  PG 465","025","67","CUSTOM LAB FILTRATION CF & GF","465","GF Custom","询价","询价"]
[4096,"1822-6901","28422182","FILTERMATB 3.25x13.75IN 50/PK","025","67","CUSTOM LAB FILTRATION CF & GF","465","GF Custom","询价","询价"]
[4100,"9700900757","28998116","F421-01 0.5INX100M 1/PK","025","67","CUSTOM LAB FILTRATION CF & GF","465","GF Custom","询价","询价"]
[4103,"1542900710","28422012","GR542 0.475INx310MM 1/REEL","025","67","CUSTOM LAB FILTRATION CF & GF","474","CF Custom",{"v":125.0214,"d":"125"},{"v":1126.3177926,"d":"1,126"}]
[4106,"3017-8823","28419236","GR 17CHR 6.9x9CM 200/PK","025","67","CUSTOM LAB FILTRATION CF & GF","474","CF Custom",{"v":53.5806,"d":"54"},{"v":482.7076254,"d":"483"}]
[4108,"98046725","28421362","GR 71 58CMx200M 1/PK","025","67","CUSTOM LAB FILTRATION CF & GF","474","CF Custom",{"v":7272.83,"d":"7,273"},{"v":65520.92547,"d":"65,521"}]
[4114,"9768900740","28982609","MDA100HP 2.54CMX296M 1/RL","025","67","CUSTOM LAB FILTRATION CF & GF","474","CF Custom","询价","询价"]
[4115,"1002900693","28413976","GR 2K 13.25INx3300FT 1/PK","025","67","CUSTOM LAB FILTRATION CF & GF","474","CF Custom","询价","询价"]
[4118,"10314770","28414359","1573 20MMx40M 20/PK NEUTRAL","025","67","CUSTOM LAB FILTRATION CF & GF","474","CF Custom","询价","询价"]
[4121,"10360279","28414735","2799 20MMx25M 1/PK IMPREG LEADACETATE","025","67","CUSTOM LAB FILTRATION CF & GF","474","CF Custom","询价","询价"]
[4125,"10538920","28417120","410 125x200M 1/PK","025","67","CUSTOM LAB FILTRATION CF & GF","474","CF Custom","询价","询价"]
[4128,"10939427","28417554","FILT. PATTERN SANDOZ/1 PIECE","025","67","CUSTOM LAB FILTRATION CF & GF","474","CF Custom","询价","询价"]
[4133,"14419343","28418037","BACHARACH FLT 3x7.5IN 500/PK","025","67","CUSTOM LAB FILTRATION CF & GF","474","CF Custom","询价","询价"]
[4136,"1454634","28418120","GR 54 1INx600FT 1/RL","025","67","CUSTOM LAB FILTRATION CF & GF","474","CF Custom","询价","询价"]
[4139,"2182900498","28418815","GR 182 150CMx900M UNTRIM 1/PK","025","67","CUSTOM LAB FILTRATION CF & GF","474","CF Custom","询价","询价"]
[4140,"2300-900916","28418851","BKOTE WHT LAB 46X57CM 50 /PK W/O LOGO PRD NAME","025","67","CUSTOM LAB FILTRATION CF & GF","474","CF Custom","询价","询价"]
[4143,"30309976","28419329","CF3 4INx650FT /LFT","025","67","CUSTOM LAB FILTRATION CF & GF","474","CF Custom",{"v":0.4944,"d":"0"},{"v":4.4540496,"d":"4"}]
[4146,"11343798","28417750","2410OCT 512x631.5MM 250/PK 6HO","025","67","CUSTOM LAB FILTRATION CF & GF","474","CF Custom","询价","询价"]
[4150,"11343188","28417742","2410 OCT 670X670MM 250/PK 4HOLE","025","67","CUSTOM LAB FILTRATION CF & GF","474","CF Custom","询价","询价"]
[4154,"11311661","28417718","595 6MM CIRCLES 50000/PK","025","67","CUSTOM LAB FILTRATION CF & GF","474","CF Custom","询价","询价"]
[4158,"9769900387","28421345","1CHRHP 1.95CMx290M 1RL/PK - 2010015","025","67","CUSTOM LAB FILTRATION CF & GF","474","CF Custom","询价","询价"]
[4161,"9846900614","28421383","16CHR 6.5INx900FT 1/PK","025","67","CUSTOM LAB FILTRATION CF & GF","474","CF Custom","询价","询价"]
[4164,"10029638","28422390","GR2 1 inch x 6.3inch 24/PK","025","67","CUSTOM LAB FILTRATION CF & GF","474","CF Custom","询价","询价"]
[4165,"1095-6949","29000716","GR93 CORR 10MMX75M PK20","025","67","CUSTOM LAB FILTRATION CF & GF","474","CF Custom","询价","询价"]
[4168,"11343800","28417752","2589E OCT 680x779MM 25/PK 6HOL","025","67","CUSTOM LAB FILTRATION CF & GF","474","CF Custom","询价","询价"]
[4171,"1001-6980","29043995","GR1 3.87IN x 2000FT","025","67","CUSTOM LAB FILTRATION CF & GF","474","CF Custom","询价","询价"]
[4175,"10342388","28422378","2148 483x607MM 100/PK","025","67","CUSTOM LAB FILTRATION CF & GF","474","CF Custom","询价","询价"]
[4179,"1095900760","29020810","GR93 12MMX150M CB 1/RL","025","67","CUSTOM LAB FILTRATION CF & GF","474","CF Custom","询价","询价"]
[4183,"15429671","28418258","RANDOX FILT 90x160MM 1000/PK","025","67","CUSTOM LAB FILTRATION CF & GF","474","CF Custom","询价","询价"]
[4186,"10348983","28986917","GR0048 160MMx520MM 250PK","025","67","CUSTOM LAB FILTRATION CF & GF","474","CF Custom","询价","询价"]
[4189,"9768617","29029033","MDA100HP 1.95CM x 110M 1/RL - 2010032","025","67","CUSTOM LAB FILTRATION CF & GF","474","CF Custom","询价","询价"]
[4190,"9769900742","28982733","1CHRHP 2.54CM X 296M REEL","025","67","CUSTOM LAB FILTRATION CF & GF","474","CF Custom","询价","询价"]
[4193,"1001-025","28413905","GR 1 2.5CM 400/PK","025","75","LAB FILTRATION CF","467","CF Lab Catalogue Qualitative",{"v":34.67,"d":"35"},{"v":312.34203,"d":"312"},"Whatman产品"]
[4196,"1001-042","28413908","GR 1 4.25CM 100/PK","025","75","LAB FILTRATION CF","467","CF Lab Catalogue Qualitative",{"v":9.16,"d":"9"},{"v":82.52244,"d":"83"},"Whatman产品"]
[4201,"1001-090","28413914","GR 1 9.0CM 100/PK","025","75","LAB FILTRATION CF","467","CF Lab Catalogue Qualitative",{"v":12.61,"d":"13"},{"v":113.60349,"d":"114"},"Whatman产品"]
[4204,"1001-150","28413918","GR 1 15.0CM 100/PK","025","75","LAB FILTRATION CF","467","CF Lab Catalogue Qualitative",{"v":23.11,"d":"23"},{"v":208.19799,"d":"208"},"Whatman产品"]
[4208,"1001-320","28413922","GR 1 32.0CM 100/PK","025","75","LAB FILTRATION CF","467","CF Lab Catalogue Qualitative",{"v":87.2,"d":"87"},{"v":785.5848000000001,"d":"786"},"Whatman产品"]
[4211,"1001-385","28413925","GR 1 38.5CM 100/PK","025","75","LAB FILTRATION CF","467","CF Lab Catalogue Qualitative",{"v":143.93,"d":"144"},{"v":1296.6653700000002,"d":"1,297"},"Whatman产品"]
[4214,"1001-6508","28413929","GR 1 1.0CM 500/PK","025","75","LAB FILTRATION CF","467","CF Lab Catalogue Qualitative",{"v":39.92,"d":"40"},{"v":359.63928000000004,"d":"360"},"Whatman产品"]
[4215,"1001-734","28413933","GR 1 47CMx100M 1/PK","025","75","LAB FILTRATION CF","467","CF Lab Catalogue Qualitative",803,{"v":7234.227,"d":"7,234"},"Whatman产品"]
[4221,"1001-931","28413941","GR 1 58x68CM 100/PK","025","75","LAB FILTRATION CF","467","CF Lab Catalogue Qualitative",265,{"v":2387.385,"d":"2,387"},"Whatman产品"]
[4223,"1002-042","28413953","GR 2 4.25CM 100/PK","025","75","LAB FILTRATION CF","467","CF Lab Catalogue Qualitative",{"v":11.56,"d":"12"},{"v":104.14404,"d":"104"},"Whatman产品"]
[4226,"1002-070","28413956","GR 2 7.0CM 100/PK","025","75","LAB FILTRATION CF","467","CF Lab Catalogue Qualitative",{"v":14.709999999999999,"d":"15"},{"v":132.52239,"d":"133"},"Whatman产品"]
[4229,"1002-125","28413960","GR 2 12.5CM 100/PK","025","75","LAB FILTRATION CF","467","CF Lab Catalogue Qualitative",{"v":21.01,"d":"21"},{"v":189.27909000000002,"d":"189"},"Whatman产品"]
[4233,"1002-240","28413964","GR 2 24.0CM 100/PK","025","75","LAB FILTRATION CF","467","CF Lab Catalogue Qualitative",{"v":63.04,"d":"63"},{"v":567.92736,"d":"568"},"Whatman产品"]
[4236,"1002-385","28413968","GR 2 38.5CM 100/PK","025","75","LAB FILTRATION CF","467","CF Lab Catalogue Qualitative",{"v":173.35,"d":"173"},{"v":1561.71015,"d":"1,562"},"Whatman产品"]
[4239,"1002-929","28413973","GR 2 60x60CM 100/PK","025","75","LAB FILTRATION CF","467","CF Lab Catalogue Qualitative",327,{"v":2945.943,"d":"2,946"},"Whatman产品"]
[4242,"1003-070","28413985","GR 3 7.0CM 100/PK","025","75","LAB FILTRATION CF","467","CF Lab Catalogue Qualitative",{"v":16.81,"d":"17"},{"v":151.44128999999998,"d":"151"},"Whatman产品"]
[4244,"1003-110","28413987","GR 3 11.0CM 100/PK","025","75","LAB FILTRATION CF","467","CF Lab Catalogue Qualitative",{"v":26.27,"d":"26"},{"v":236.66643,"d":"237"},"Whatman产品"]
[4248,"1003-240","28413991","GR 3 24.0CM 100/PK","025","75","LAB FILTRATION CF","467","CF Lab Catalogue Qualitative",{"v":104.01,"d":"104"},{"v":937.0260900000001,"d":"937"},"Whatman产品"]
[4251,"1003-433","28413995","GR 3 12x18IN 100/PK","025","75","LAB FILTRATION CF","467","CF Lab Catalogue Qualitative",537,{"v":4837.8330000000005,"d":"4,838"},"Whatman产品"]
[4254,"1004-041","28414006","GR 4  41MM 100/PK","025","75","LAB FILTRATION CF","467","CF Lab Catalogue Qualitative",{"v":9.16,"d":"9"},{"v":82.52244,"d":"83"},"Whatman产品"]
[4258,"1004-055","28414010","GR 4 5.5CM 100/PK","025","75","LAB FILTRATION CF","467","CF Lab Catalogue Qualitative",{"v":11.56,"d":"12"},{"v":104.14404,"d":"104"},"Whatman产品"]
[4261,"1004-110","28414013","GR 4 11CM 100/PK","025","75","LAB FILTRATION CF","467","CF Lab Catalogue Qualitative",{"v":17.86,"d":"18"},{"v":160.90074,"d":"161"},"Whatman产品"]
[4263,"1004-150","28414015","GR 4 15CM 100/PK","025","75","LAB FILTRATION CF","467","CF Lab Catalogue Qualitative",{"v":29.419999999999998,"d":"29"},{"v":265.04478,"d":"265"},"Whatman产品"]
[4266,"1004-270","28414018","GR 4 27CM 100/PK","025","75","LAB FILTRATION CF","467","CF Lab Catalogue Qualitative",{"v":97.71,"d":"98"},{"v":880.2693899999999,"d":"880"},"Whatman产品"]
[4269,"1004-641","28414022","GR 4 1-3/8x7IN 1IN CORE 1/RL","025","75","LAB FILTRATION CF","467","CF Lab Catalogue Qualitative",{"v":114.51999999999998,"d":"115"},{"v":1031.71068,"d":"1,032"},"Whatman产品"]
[4273,"1005-042","28414035","GR 5 4.25CM 100/PK","025","75","LAB FILTRATION CF","467","CF Lab Catalogue Qualitative",{"v":10.37,"d":"10"},{"v":93.42332999999999,"d":"93"},"Whatman产品"]
[4276,"1005-070","28414039","GR 5 7CM 100/PK","025","75","LAB FILTRATION CF","467","CF Lab Catalogue Qualitative",{"v":14.709999999999999,"d":"15"},{"v":132.52239,"d":"133"},"Whatman产品"]
[4279,"1005-125","28414042","GR 5 12.5CM 100/PK","025","75","LAB FILTRATION CF","467","CF Lab Catalogue Qualitative",{"v":29.419999999999998,"d":"29"},{"v":265.04478,"d":"265"},"Whatman产品"]
[4283,"1005-320","28414046","GR 5 32CM 100/PK","025","75","LAB FILTRATION CF","467","CF Lab Catalogue Qualitative",{"v":178.6,"d":"179"},{"v":1609.0074,"d":"1,609"},"Whatman产品"]
[4284,"1005-325","28414047","GR 5 2.5CM 100/PK","025","75","LAB FILTRATION CF","467","CF Lab Catalogue Qualitative",{"v":14.709999999999999,"d":"15"},{"v":132.52239,"d":"133"},"Whatman产品"]
[4288,"1006-110","28414054","GR 6 11CM 100/PK","025","75","LAB FILTRATION CF","467","CF Lab Catalogue Qualitative",{"v":22.06,"d":"22"},{"v":198.73854,"d":"199"},"Whatman产品"]
[4291,"1006-185","28414057","GR 6 18.5CM 100/PK","025","75","LAB FILTRATION CF","467","CF Lab Catalogue Qualitative",{"v":60.92999999999999,"d":"61"},{"v":548.91837,"d":"549"},"Whatman产品"]
[4294,"10310643","28414171","512 FF 110MM 100/PK","025","75","LAB FILTRATION CF","467","CF Lab Catalogue Qualitative",{"v":61.99000000000001,"d":"62"},{"v":558.4679100000001,"d":"558"},"Whatman产品"]
[4298,"10311447","28414193","593 FF 185MM 100/PK","025","75","LAB FILTRATION CF","467","CF Lab Catalogue Qualitative",{"v":67.24,"d":"67"},{"v":605.7651599999999,"d":"606"},"Whatman产品"]
[4301,"10311610","28414200","595 110MM 100/PK","025","75","LAB FILTRATION CF","467","CF Lab Catalogue Qualitative",{"v":15.76,"d":"16"},{"v":141.98184,"d":"142"},"Whatman产品"]
[4304,"10311641","28414205","595 FF 70MM 100/PK","025","75","LAB FILTRATION CF","467","CF Lab Catalogue Qualitative",{"v":46.23,"d":"46"},{"v":416.48607,"d":"416"},"Whatman产品"]
[4309,"10311647","28414210","595 FF 185MM 100/PK","025","75","LAB FILTRATION CF","467","CF Lab Catalogue Qualitative",{"v":79.85,"d":"80"},{"v":719.36865,"d":"719"},"Whatman产品"]
[4312,"10311652","28414213","595 FF 270MM 100/PK","025","75","LAB FILTRATION CF","467","CF Lab Catalogue Qualitative",{"v":137.63,"d":"138"},{"v":1239.90867,"d":"1,240"},"Whatman产品"]
[4313,"10311653","28414214","595 FF 320MM 100/PK","025","75","LAB FILTRATION CF","467","CF Lab Catalogue Qualitative",{"v":174.4,"d":"174"},{"v":1571.1696000000002,"d":"1,571"},"Whatman产品"]
[4316,"10311687","28414220","595 58x58CM 500/PK","025","75","LAB FILTRATION CF","467","CF Lab Catalogue Qualitative",{"v":1003,"d":"1,003"},{"v":9036.027,"d":"9,036"},"Whatman产品"]
[4319,"10311808","28414226","597 70MM 100/PK","025","75","LAB FILTRATION CF","467","CF Lab Catalogue Qualitative",{"$f":"K4320/9.009","v":{"v":10.37,"d":"10"}},{"v":93.42332999999999,"d":"93"},"Whatman产品"]
[4323,"10311812","28414230","597 150MM 100/PK","025","75","LAB FILTRATION CF","467","CF Lab Catalogue Qualitative",{"v":27.32,"d":"27"},{"v":246.12588000000002,"d":"246"},"Whatman产品"]
[4326,"10311822","28414233","597 320MM 100/PK","025","75","LAB FILTRATION CF","467","CF Lab Catalogue Qualitative",{"v":129.22,"d":"129"},{"v":1164.14298,"d":"1,164"},"Whatman产品"]
[4330,"10311844","28414237","597 FF 125MM 100/PK","025","75","LAB FILTRATION CF","467","CF Lab Catalogue Qualitative",{"v":64.09,"d":"64"},{"v":577.3868100000001,"d":"577"},"Whatman产品"]
[4334,"10311852","28414241","597 FF 270MM 100/PK","025","75","LAB FILTRATION CF","467","CF Lab Catalogue Qualitative",{"v":121.87,"d":"122"},{"v":1097.92683,"d":"1,098"},"Whatman产品"]
[4337,"10311856","28414244","597 FF 500MM 100/PK","025","75","LAB FILTRATION CF","467","CF Lab Catalogue Qualitative",329,{"v":2963.9610000000002,"d":"2,964"},"Whatman产品"]
[4338,"10311862","28414245","597 12.7MM 1000/PK","025","75","LAB FILTRATION CF","467","CF Lab Catalogue Qualitative",{"v":58.83,"d":"59"},{"v":529.99947,"d":"530"},"Whatman产品"]
[4341,"10312070","28414255","597L 40MMx100M 10/PK","025","75","LAB FILTRATION CF","467","CF Lab Catalogue Qualitative",{"v":59.00000000000001,"d":"59"},{"v":531.5310000000001,"d":"532"},"Whatman产品"]
[4344,"10312244","28414266","598 FF 125MM 50/PK","025","75","LAB FILTRATION CF","467","CF Lab Catalogue Qualitative",{"v":80.9,"d":"81"},{"v":728.8281000000001,"d":"729"},"Whatman产品"]
[4348,"10312287","28414271","598 58x58CM 250/PK","025","75","LAB FILTRATION CF","467","CF Lab Catalogue Qualitative",{"v":978.9999999999999,"d":"979"},{"v":8819.811,"d":"8,820"},"Whatman产品"]
[4351,"10312611","28414281","602H 125MM 100/PK","025","75","LAB FILTRATION CF","467","CF Lab Catalogue Qualitative",{"v":28.37,"d":"28"},{"v":255.58533000000003,"d":"256"},"Whatman产品"]
[4356,"10312644","28414286","602H FF 125MM 100/PK","025","75","LAB FILTRATION CF","467","CF Lab Catalogue Qualitative",{"v":55.68,"d":"56"},{"v":501.62112,"d":"502"},"Whatman产品"]
[4359,"10312651","28414289","602H FF 240MM 100/PK","025","75","LAB FILTRATION CF","467","CF Lab Catalogue Qualitative",201,{"v":1810.809,"d":"1,811"},"Whatman产品"]
[4362,"10312747","28414302","604 FF 185MM 100/PK","025","75","LAB FILTRATION CF","467","CF Lab Catalogue Qualitative",{"v":64.09,"d":"64"},{"v":577.3868100000001,"d":"577"},"Whatman产品"]
[4363,"10312751","28414303","604 FF 240MM 100/PK","025","75","LAB FILTRATION CF","467","CF Lab Catalogue Qualitative",{"v":61.99000000000001,"d":"62"},{"v":558.4679100000001,"d":"558"},"Whatman产品"]
[4366,"10313209","28414326","1450CV 90MM 50/PK","025","75","LAB FILTRATION CF","467","CF Lab Catalogue Qualitative",{"v":9.18,"d":"9"},{"v":82.70262,"d":"83"},"Whatman产品"]
[4370,"10314712","28414342","1573 150MM 100/PK","025","75","LAB FILTRATION CF","467","CF Lab Catalogue Qualitative",{"v":47.28,"d":"47"},{"v":425.94552000000004,"d":"426"},"Whatman产品"]
[4372,"10314726","28414345","1573 290MM 100/PK","025","75","LAB FILTRATION CF","467","CF Lab Catalogue Qualitative",{"v":148.13,"d":"148"},{"v":1334.50317,"d":"1,335"},"Whatman产品"]
[4377,"10314752","28414351","1573 FF 270MM 100/PK","025","75","LAB FILTRATION CF","467","CF Lab Catalogue Qualitative",{"v":170.2,"d":"170"},{"v":1533.3318,"d":"1,533"},"Whatman产品"]
[4381,"10316114","28414389","3000 185MM 1000/PK","025","75","LAB FILTRATION CF","467","CF Lab Catalogue Qualitative",{"v":148.13,"d":"148"},{"v":1334.50317,"d":"1,335"},"Whatman产品"]
[4384,"10318614","28414411","995 185MM 100/PK","025","75","LAB FILTRATION CF","467","CF Lab Catalogue Qualitative",{"v":51.48,"d":"51"},{"v":463.78332,"d":"464"},"Whatman产品"]
[4387,"10331456","28414446","520A FF 500MM 100/PK","025","75","LAB FILTRATION CF","467","CF Lab Catalogue Qualitative",278,{"v":2504.502,"d":"2,505"},"Whatman产品"]
[4388,"10331487","28414449","520A 58x58CM 250/PK","025","75","LAB FILTRATION CF","467","CF Lab Catalogue Qualitative",626,{"v":5639.634,"d":"5,640"},"Whatman产品"]
[4391,"10331554","28414455","520B FF 385MM 50/PK","025","75","LAB FILTRATION CF","467","CF Lab Catalogue Qualitative",{"v":194.36,"d":"194"},{"v":1750.98924,"d":"1,751"},"Whatman产品"]
[4397,"10334351","28414475","0858 FF 240MM 100/PK","025","75","LAB FILTRATION CF","467","CF Lab Catalogue Qualitative",{"v":56.73,"d":"57"},{"v":511.08056999999997,"d":"511"},"Whatman产品"]
[4399,"10334353","28414477","0858 FF 320MM 100/PK","025","75","LAB FILTRATION CF","467","CF Lab Catalogue Qualitative",{"v":135.53,"d":"136"},{"v":1220.9897700000001,"d":"1,221"},"Whatman产品"]
[4402,"10334547","28414490","0860 FF 185MM 100/PK","025","75","LAB FILTRATION CF","467","CF Lab Catalogue Qualitative",{"v":55.68,"d":"56"},{"v":501.62112,"d":"502"},"Whatman产品"]
[4406,"10334985","28414514","0905 450x450MM 500/PK","025","75","LAB FILTRATION CF","467","CF Lab Catalogue Qualitative",520,{"v":4684.68,"d":"4,685"},"Whatman产品"]
[4409,"10342860","28414579","2294 180MM 100/PK CHOLE 33MM","025","75","LAB FILTRATION CF","467","CF Lab Catalogue Qualitative",83,{"v":747.7470000000001,"d":"748"},"Whatman产品"]
[4412,"10343687","28414600","2589A 580x580MM 100/PK","025","75","LAB FILTRATION CF","467","CF Lab Catalogue Qualitative",374,{"v":3369.366,"d":"3,369"},"Whatman产品"]
[4413,"10343876","28414609","2589C 25x75MM 100/PK W2HOLES","025","75","LAB FILTRATION CF","467","CF Lab Catalogue Qualitative",{"v":64.09,"d":"64"},{"v":577.3868100000001,"d":"577"},"Whatman产品"]
[4418,"10347033","28414642","8 RULED 75MM 100/PK","025","75","LAB FILTRATION CF","467","CF Lab Catalogue Qualitative",{"v":46.23,"d":"46"},{"v":416.48607,"d":"416"},"Whatman产品"]
[4421,"10347511","28414646","SHARKSKIN 125MM 100/PK","025","75","LAB FILTRATION CF","467","CF Lab Catalogue Qualitative",{"v":50.43,"d":"50"},{"v":454.32387,"d":"454"},"Whatman产品"]
[4424,"10347519","28414649","SHARKSKIN 240MM 100/PK","025","75","LAB FILTRATION CF","467","CF Lab Catalogue Qualitative",{"v":46.23,"d":"46"},{"v":416.48607,"d":"416"},"Whatman产品"]
[4427,"10347523","28414652","SHARKSKIN 385MM 100/PK","025","75","LAB FILTRATION CF","467","CF Lab Catalogue Qualitative",{"v":64.09,"d":"64"},{"v":577.3868100000001,"d":"577"},"Whatman产品"]
[4431,"10538877","28417113","SHARKSKIN 8x10IN 100/PK","025","75","LAB FILTRATION CF","467","CF Lab Catalogue Qualitative",{"v":55.68,"d":"56"},{"v":501.62112,"d":"502"},"Whatman产品"]
[4434,"1091-150","28417532","GR 91 15CM 1000/PK","025","75","LAB FILTRATION CF","467","CF Lab Catalogue Qualitative",{"v":140.78,"d":"141"},{"v":1268.28702,"d":"1,268"},"Whatman产品"]
[4435,"1091-165","28417533","GR 91 16.5CM 1000/PK","025","75","LAB FILTRATION CF","467","CF Lab Catalogue Qualitative",{"v":174.4,"d":"174"},{"v":1571.1696000000002,"d":"1,571"},"Whatman产品"]
[4439,"1091-930","28417542","GR 91 58x58CM 500/PK","025","75","LAB FILTRATION CF","467","CF Lab Catalogue Qualitative",{"v":1087,"d":"1,087"},{"v":9792.783000000001,"d":"9,793"},"Whatman产品"]
[4442,"1093-111","28417547","GR 93 11CM 50x25 DSP/PK","025","75","LAB FILTRATION CF","467","CF Lab Catalogue Qualitative",{"v":123.97,"d":"124"},{"v":1116.84573,"d":"1,117"},"Whatman产品"]
[4446,"1093-6215","28417551","GR 93 15CM 10x100/PK","025","75","LAB FILTRATION CF","467","CF Lab Catalogue Qualitative",{"v":140.78,"d":"141"},{"v":1268.28702,"d":"1,268"},"Whatman产品"]
[4449,"1113-090","28417662","GR 113 9CM 100/PK","025","75","LAB FILTRATION CF","467","CF Lab Catalogue Qualitative",{"v":21.01,"d":"21"},{"v":189.27909000000002,"d":"189"},"Whatman产品"]
[4452,"1113-150","28417665","GR 113 15CM 100/PK","025","75","LAB FILTRATION CF","467","CF Lab Catalogue Qualitative",{"v":40.97,"d":"41"},{"v":369.09873,"d":"369"},"Whatman产品"]
[4456,"1113-500","28417669","GR 113 50CM 100/PK","025","75","LAB FILTRATION CF","467","CF Lab Catalogue Qualitative",417,{"v":3756.753,"d":"3,757"},"Whatman产品"]
[4459,"1114-090","28417680","GR 114 9CM 100/PK","025","75","LAB FILTRATION CF","467","CF Lab Catalogue Qualitative",{"v":14.709999999999999,"d":"15"},{"v":132.52239,"d":"133"},"Whatman产品"]
[4460,"1114-125","28417681","GR 114 12.5CM 100/PK","025","75","LAB FILTRATION CF","467","CF Lab Catalogue Qualitative",{"v":26.27,"d":"26"},{"v":236.66643,"d":"237"},"Whatman产品"]
[4464,"1114-400","28417686","GR 114 40CM 100/PK","025","75","LAB FILTRATION CF","467","CF Lab Catalogue Qualitative",232,{"v":2090.088,"d":"2,090"},"Whatman产品"]
[4467,"1202-150","28417910","GR 2 FF 15CM 100/PK","025","75","LAB FILTRATION CF","467","CF Lab Catalogue Qualitative",{"v":73.54,"d":"74"},{"v":662.5218600000001,"d":"663"},"Whatman产品"]
[4471,"1202-320","28417914","GR 2 FF 32CM 100/PK","025","75","LAB FILTRATION CF","467","CF Lab Catalogue Qualitative",{"v":176.5,"d":"177"},{"v":1590.0885,"d":"1,590"},"Whatman产品"]
[4474,"1202-500","28417917","GR 2 FF 50CM 100/PK","025","75","LAB FILTRATION CF","467","CF Lab Catalogue Qualitative",338,{"v":3045.042,"d":"3,045"},"Whatman产品"]
[4477,"1213-150","28417921","GR 113 FF 15CM 100/PK","025","75","LAB FILTRATION CF","467","CF Lab Catalogue Qualitative",{"v":89.3,"d":"89"},{"v":804.5037,"d":"805"},"Whatman产品"]
[4481,"1213-320","28417925","GR 113 FF 32CM 100/PK","025","75","LAB FILTRATION CF","467","CF Lab Catalogue Qualitative",{"v":241.99999999999997,"d":"242"},{"v":2180.178,"d":"2,180"},"Whatman产品"]
[4485,"1214-185","28417930","GR 114 FF 18.5CM 100/PK","025","75","LAB FILTRATION CF","467","CF Lab Catalogue Qualitative",{"v":96.66,"d":"97"},{"v":870.80994,"d":"871"},"Whatman产品"]
[4486,"1214-240","28417931","GR 114 FF 24CM 100/PK","025","75","LAB FILTRATION CF","467","CF Lab Catalogue Qualitative",{"v":159.69,"d":"160"},{"v":1438.64721,"d":"1,439"},"Whatman产品"]
[4489,"5200-125","28419849","200 12.5CM 100/PK","025","75","LAB FILTRATION CF","467","CF Lab Catalogue Qualitative",{"v":11.9,"d":"12"},{"v":107.20710000000001,"d":"107"},"Whatman产品"]
[4492,"5201-110","28419858","201 11CM 100/PK","025","75","LAB FILTRATION CF","467","CF Lab Catalogue Qualitative",{"v":9.42,"d":"9"},{"v":84.86478,"d":"85"},"Whatman产品"]
[4496,"5201-320","28419865","201 32CM 100/PK","025","75","LAB FILTRATION CF","467","CF Lab Catalogue Qualitative",{"v":50.87,"d":"51"},{"v":458.28783,"d":"458"},"Whatman产品"]
[4499,"5201-930","28419878","201 58x58CM 100/PK","025","75","LAB FILTRATION CF","467","CF Lab Catalogue Qualitative",{"v":168.81,"d":"169"},{"v":1520.8092900000001,"d":"1,521"},"Whatman产品"]
[4503,"5202-110","28419887","202 11CM 100/PK","025","75","LAB FILTRATION CF","467","CF Lab Catalogue Qualitative",{"v":9.42,"d":"9"},{"v":84.86478,"d":"85"},"Whatman产品"]
[4506,"5202-185","28419890","202 18.5CM 100/PK","025","75","LAB FILTRATION CF","467","CF Lab Catalogue Qualitative",{"v":21.64,"d":"22"},{"v":194.95476000000002,"d":"195"},"Whatman产品"]
[4510,"5202-320","28419894","202 32CM 100/PK","025","75","LAB FILTRATION CF","467","CF Lab Catalogue Qualitative",{"v":56.27,"d":"56"},{"v":506.93643000000003,"d":"507"},"Whatman产品"]
[4511,"5202-330","28419895","202 33CM 100/PK","025","75","LAB FILTRATION CF","467","CF Lab Catalogue Qualitative",{"$f":"K4512/9.009","v":{"v":58.44,"d":"58"}},{"v":526.48596,"d":"526"},"Whatman产品"]
[4514,"5226-190","28419912","226 19CM 100/PK","025","75","LAB FILTRATION CF","467","CF Lab Catalogue Qualitative",{"v":31.210000000000004,"d":"31"},{"v":281.17089000000004,"d":"281"},"Whatman产品"]
[4517,"5226-848","28419915","226 8INx8IN 1000/PK","025","75","LAB FILTRATION CF","467","CF Lab Catalogue Qualitative",369,{"v":3324.321,"d":"3,324"},"Whatman产品"]
[4521,"5230-150","28419922","230 15CM 50/PK","025","75","LAB FILTRATION CF","467","CF Lab Catalogue Qualitative",{"v":16.24,"d":"16"},{"v":146.30616,"d":"146"},"Whatman产品"]
[4524,"5230-240","28419925","230 24CM 50/PK","025","75","LAB FILTRATION CF","467","CF Lab Catalogue Qualitative",{"v":36.79,"d":"37"},{"v":331.44111,"d":"331"},"Whatman产品"]
[4527,"5230-400","28419928","230 40CM 50/PK","025","75","LAB FILTRATION CF","467","CF Lab Catalogue Qualitative",{"v":100.64,"d":"101"},{"v":906.6657600000001,"d":"907"},"Whatman产品"]
[4532,"5307-125","28419945","307 12.5CM 100/PK","025","75","LAB FILTRATION CF","467","CF Lab Catalogue Qualitative",{"v":42.21,"d":"42"},{"v":380.26989000000003,"d":"380"},"Whatman产品"]
[4535,"5309-150","28419955","309 15CM 100/PK","025","75","LAB FILTRATION CF","467","CF Lab Catalogue Qualitative",{"v":53.03,"d":"53"},{"v":477.74727,"d":"478"},"Whatman产品"]
[4536,"5801-240","28420027","801 24.0CM 100/PK","025","75","LAB FILTRATION CF","467","CF Lab Catalogue Qualitative",{"v":62.77,"d":"63"},{"v":565.4949300000001,"d":"565"},"Whatman产品"]
[4539,"5802-150","28420030","802 15CM 100/PK","025","75","LAB FILTRATION CF","467","CF Lab Catalogue Qualitative",{"v":34.63,"d":"35"},{"v":311.98167,"d":"312"},"Whatman产品"]
[4543,"5802-385","28420034","802 38.5CM 100/PK","025","75","LAB FILTRATION CF","467","CF Lab Catalogue Qualitative",{"v":139.6,"d":"140"},{"v":1257.6564,"d":"1,258"},"Whatman产品"]
[4546,"29058871","29058871","Rebate Adjustment Code  PG 473","025","75","LAB FILTRATION CF","467","CF Lab Catalogue Qualitative","询价","询价","Whatman产品"]
[4548,"11344672","28417755","3014 110x20MM 1000/PK PLS","025","75","LAB FILTRATION CF","467","CF Lab Catalogue Qualitative","询价","询价","Whatman产品"]
[4554,"1001-6675","28413930","GR 1 22CMx100M 1/PK","025","75","LAB FILTRATION CF","467","CF Lab Catalogue Qualitative","询价","询价","Whatman产品"]
[4557,"10312972","28414314","604LB 40MMXx90M","025","75","LAB FILTRATION CF","467","CF Lab Catalogue Qualitative","询价","询价","Whatman产品"]
[4560,"10314766","28414357","1573 25.5MMx210M 1/PK","025","75","LAB FILTRATION CF","467","CF Lab Catalogue Qualitative","询价","询价","Whatman产品"]
[4561,"10314769","28414358","1573 25MMx145M 10/PK","025","75","LAB FILTRATION CF","467","CF Lab Catalogue Qualitative","询价","询价","Whatman产品"]
[4564,"10314927","28414374","1575 600MM 500/PK","025","75","LAB FILTRATION CF","467","CF Lab Catalogue Qualitative","询价","询价","Whatman产品"]
[4568,"10334435","28414482","0858 670x770MM PK100","025","75","LAB FILTRATION CF","467","CF Lab Catalogue Qualitative","询价","询价","Whatman产品"]
[4573,"10390046","28414903","0858 1060x560MM PK100","025","75","LAB FILTRATION CF","467","CF Lab Catalogue Qualitative","询价","询价","Whatman产品"]
[4575,"12334410","28417934","0859 110MM 500/PK","025","75","LAB FILTRATION CF","467","CF Lab Catalogue Qualitative","询价","询价","Whatman产品"]
[4579,"10343971","28414614","2589D 300MM 100/PK CHOLE 103MM","025","75","LAB FILTRATION CF","467","CF Lab Catalogue Qualitative","询价","询价","Whatman产品"]
[4582,"10538882","29020173","SHARKSKIN 10INx750FT 1/PK","025","75","LAB FILTRATION CF","467","CF Lab Catalogue Qualitative","询价","询价","Whatman产品"]
[4585,"10342071","28414549","(DEL)ROLLS No610 1250x100M 1PK","025","75","LAB FILTRATION CF","467","CF Lab Catalogue Qualitative","询价","询价","Whatman产品"]
[4586,"1001-045","28413909","GR 1 4.5CM 100/PK","025","75","LAB FILTRATION CF","467","CF Lab Catalogue Qualitative","询价","询价","Whatman产品"]
[4589,"10331680","28414465","520BII ST 130x160MM 20/PK","025","75","LAB FILTRATION CF","467","CF Lab Catalogue Qualitative","询价","询价","Whatman产品"]
[4594,"10300012","28414100","589/1 BLKRIB 150MM 100/PK","025","75","LAB FILTRATION CF","468","CF Lab Catalogue Quantitative",{"v":72.83,"d":"73"},{"v":656.1254700000001,"d":"656"},"Whatman产品"]
[4597,"10300102","28414107","589/2 WHTRIB 12.7MM 1000/PK","025","75","LAB FILTRATION CF","468","CF Lab Catalogue Quantitative",{"v":58.26,"d":"58"},{"v":524.86434,"d":"525"},"Whatman产品"]
[4600,"10300107","28414111","589/2 WHTRIB 55MM 100/PK","025","75","LAB FILTRATION CF","468","CF Lab Catalogue Quantitative",{"v":23.93,"d":"24"},{"v":215.58537,"d":"216"},"Whatman产品"]
[4604,"10300111","28414115","589/2 WHTRIB 125MM 100/PK","025","75","LAB FILTRATION CF","468","CF Lab Catalogue Quantitative",{"v":56.18,"d":"56"},{"v":506.12562,"d":"506"},"Whatman产品"]
[4607,"10300120","28414118","589/2 WHTRIB 240MM 100/PK","025","75","LAB FILTRATION CF","468","CF Lab Catalogue Quantitative",{"v":171.67,"d":"172"},{"v":1546.57503,"d":"1,547"},"Whatman产品"]
[4608,"10300143","28414122","589/2 FF WHTRIB 110MM 100/PK","025","75","LAB FILTRATION CF","468","CF Lab Catalogue Quantitative",{"v":94.68,"d":"95"},{"v":852.9721200000001,"d":"853"},"Whatman产品"]
[4611,"10300211","28414130","589/3 BLURIB 125MM 100/PK","025","75","LAB FILTRATION CF","468","CF Lab Catalogue Quantitative",{"v":57.220000000000006,"d":"57"},{"v":515.49498,"d":"515"},"Whatman产品"]
[4615,"10301645","28414147","0790 FF 150MM 100/PK","025","75","LAB FILTRATION CF","468","CF Lab Catalogue Quantitative",{"v":144.62,"d":"145"},{"v":1302.88158,"d":"1,303"},"Whatman产品"]
[4619,"1440-032","28417987","GR 40 3.2CM 100/PK","025","75","LAB FILTRATION CF","468","CF Lab Catalogue Quantitative",{"v":23.93,"d":"24"},{"v":215.58537,"d":"216"},"Whatman产品"]
[4622,"1440-055","28417990","GR 40 5.5CM 100/PK","025","75","LAB FILTRATION CF","468","CF Lab Catalogue Quantitative",{"v":28.09,"d":"28"},{"v":253.06281,"d":"253"},"Whatman产品"]
[4625,"1440-110","28417993","GR 40 11CM 100/PK","025","75","LAB FILTRATION CF","468","CF Lab Catalogue Quantitative",{"v":48.9,"d":"49"},{"v":440.5401,"d":"441"},"Whatman产品"]
[4629,"1440-240","28417997","GR 40 24CM 100/PK","025","75","LAB FILTRATION CF","468","CF Lab Catalogue Quantitative",{"v":169.59,"d":"170"},{"v":1527.8363100000001,"d":"1,528"},"Whatman产品"]
[4632,"1440-6168","28418000","GR 40 45CM 100/PK","025","75","LAB FILTRATION CF","468","CF Lab Catalogue Quantitative",416,{"v":3747.744,"d":"3,748"},"Whatman产品"]
[4633,"1440-917","28418001","GR 40 46x57CM 100/PK","025","75","LAB FILTRATION CF","468","CF Lab Catalogue Quantitative",725,{"v":6531.525000000001,"d":"6,532"},"Whatman产品"]
[4636,"1441-050","28418012","GR 41 5CM 100/PK","025","75","LAB FILTRATION CF","468","CF Lab Catalogue Quantitative",{"v":22.89,"d":"23"},{"v":206.21601,"d":"206"},"Whatman产品"]
[4640,"1441-090","28418016","GR 41 9CM 100/PK","025","75","LAB FILTRATION CF","468","CF Lab Catalogue Quantitative",{"v":38.49,"d":"38"},{"v":346.75641,"d":"347"},"Whatman产品"]
[4644,"1441-185","28418021","GR 41 18.5CM 100/PK","025","75","LAB FILTRATION CF","468","CF Lab Catalogue Quantitative",{"v":107.16,"d":"107"},{"v":965.40444,"d":"965"},"Whatman产品"]
[4647,"1441-6309","28418025","GR 41 2.5CM 10000/PK","025","75","LAB FILTRATION CF","468","CF Lab Catalogue Quantitative",{"v":1632,"d":"1,632"},{"v":14702.688,"d":"14,703"},"Whatman产品"]
[4650,"1442-042","28418038","GR 42 4.25CM 100/PK","025","75","LAB FILTRATION CF","468","CF Lab Catalogue Quantitative",{"v":21.85,"d":"22"},{"v":196.84665,"d":"197"},"Whatman产品"]
[4654,"1442-110","28418043","GR 42 11CM 100/PK","025","75","LAB FILTRATION CF","468","CF Lab Catalogue Quantitative",{"v":49.94,"d":"50"},{"v":449.90946,"d":"450"},"Whatman产品"]
[4657,"1442-185","28418046","GR 42 18.5CM 100/PK","025","75","LAB FILTRATION CF","468","CF Lab Catalogue Quantitative",{"v":107.16,"d":"107"},{"v":965.40444,"d":"965"},"Whatman产品"]
[4661,"1443-090","28418057","GR 43 9CM 100/PK","025","75","LAB FILTRATION CF","468","CF Lab Catalogue Quantitative",{"v":40.58,"d":"41"},{"v":365.58522,"d":"366"},"Whatman产品"]
[4662,"1443-110","28418058","GR 43 11CM 100/PK","025","75","LAB FILTRATION CF","468","CF Lab Catalogue Quantitative",{"v":49.94,"d":"50"},{"v":449.90946,"d":"450"},"Whatman产品"]
[4665,"1443-185","28418061","GR 43 18.5CM 100/PK","025","75","LAB FILTRATION CF","468","CF Lab Catalogue Quantitative",{"v":107.16,"d":"107"},{"v":965.40444,"d":"965"},"Whatman产品"]
[4669,"1444-125","28418066","GR 44 12.5CM 100/PK","025","75","LAB FILTRATION CF","468","CF Lab Catalogue Quantitative",{"v":57.220000000000006,"d":"57"},{"v":515.49498,"d":"515"},"Whatman产品"]
[4672,"1444-240","28418069","GR 44 24CM 100/PK","025","75","LAB FILTRATION CF","468","CF Lab Catalogue Quantitative",{"v":169.59,"d":"170"},{"v":1527.8363100000001,"d":"1,528"},"Whatman产品"]
[4676,"1450-090","28418080","GR 50 9CM 100/PK","025","75","LAB FILTRATION CF","468","CF Lab Catalogue Quantitative",{"v":38.49,"d":"38"},{"v":346.75641,"d":"347"},"Whatman产品"]
[4679,"1450-150","28418084","GR 50 15CM 100/PK","025","75","LAB FILTRATION CF","468","CF Lab Catalogue Quantitative",{"v":67.63,"d":"68"},{"v":609.27867,"d":"609"},"Whatman产品"]
[4682,"1450-320","28418088","GR 50 32CM 100/PK","025","75","LAB FILTRATION CF","468","CF Lab Catalogue Quantitative",269,{"v":2423.4210000000003,"d":"2,423"},"Whatman产品"]
[4684,"1450-916","28418095","GR 50 15x23CM 100/PK","025","75","LAB FILTRATION CF","468","CF Lab Catalogue Quantitative",{"v":166.46,"d":"166"},{"v":1499.63814,"d":"1,500"},"Whatman产品"]
[4687,"1452-090","28418101","GR 52 9CM 100/PK","025","75","LAB FILTRATION CF","468","CF Lab Catalogue Quantitative",{"v":40.58,"d":"41"},{"v":365.58522,"d":"366"},"Whatman产品"]
[4690,"1452-150","28418104","GR 52 15CM 100/PK","025","75","LAB FILTRATION CF","468","CF Lab Catalogue Quantitative",{"v":67.63,"d":"68"},{"v":609.27867,"d":"609"},"Whatman产品"]
[4694,"1454-090","28418111","GR 54 9CM 100/PK","025","75","LAB FILTRATION CF","468","CF Lab Catalogue Quantitative",{"v":40.58,"d":"41"},{"v":365.58522,"d":"366"},"Whatman产品"]
[4697,"1454-150","28418114","GR 54 15CM 100/PK","025","75","LAB FILTRATION CF","468","CF Lab Catalogue Quantitative",{"v":67.63,"d":"68"},{"v":609.27867,"d":"609"},"Whatman产品"]
[4701,"1454-500","28418118","GR 54 50CM 100/PK","025","75","LAB FILTRATION CF","468","CF Lab Catalogue Quantitative",581,{"v":5234.229,"d":"5,234"},"Whatman产品"]
[4703,"1540-042","28418215","GR 540 4.25CM 100/PK","025","75","LAB FILTRATION CF","468","CF Lab Catalogue Quantitative",{"v":22.89,"d":"23"},{"v":206.21601,"d":"206"},"Whatman产品"]
[4708,"1540-150","28418222","GR 540 15CM 100/PK","025","75","LAB FILTRATION CF","468","CF Lab Catalogue Quantitative",{"v":83.23,"d":"83"},{"v":749.81907,"d":"750"},"Whatman产品"]
[4709,"1540-185","28418223","GR 540 18.5CM 100/PK","025","75","LAB FILTRATION CF","468","CF Lab Catalogue Quantitative",{"v":122.77,"d":"123"},{"v":1106.03493,"d":"1,106"},"Whatman产品"]
[4712,"1540-321","28418227","GR 540 2.1CM 100/PK","025","75","LAB FILTRATION CF","468","CF Lab Catalogue Quantitative",{"v":22.89,"d":"23"},{"v":206.21601,"d":"206"},"Whatman产品"]
[4716,"1541-055","28418232","GR 541 5.5CM 100/PK","025","75","LAB FILTRATION CF","468","CF Lab Catalogue Quantitative",{"v":27.05,"d":"27"},{"v":243.69345,"d":"244"},"Whatman产品"]
[4719,"1541-110","28418236","GR 541 11CM 100/PK","025","75","LAB FILTRATION CF","468","CF Lab Catalogue Quantitative",{"$f":"K4720/9.009","v":{"v":48.9,"d":"49"}},{"v":440.5401,"d":"441"},"Whatman产品"]
[4722,"1541-185","28418240","GR 541 18.5CM 100/PK","025","75","LAB FILTRATION CF","468","CF Lab Catalogue Quantitative",{"v":122.77,"d":"123"},{"v":1106.03493,"d":"1,106"},"Whatman产品"]
[4724,"1541-270","28418242","GR 541 27CM 100/PK","025","75","LAB FILTRATION CF","468","CF Lab Catalogue Quantitative",{"v":243.99999999999997,"d":"244"},{"v":2198.196,"d":"2,198"},"Whatman产品"]
[4730,"1542-090","28418249","GR 542 9CM 100/PK","025","75","LAB FILTRATION CF","468","CF Lab Catalogue Quantitative",{"v":42.66,"d":"43"},{"v":384.32394,"d":"384"},"Whatman产品"]
[4733,"1542-150","28418252","GR 542 15CM 100/PK","025","75","LAB FILTRATION CF","468","CF Lab Catalogue Quantitative",{"v":83.23,"d":"83"},{"v":749.81907,"d":"750"},"Whatman产品"]
[4734,"1542-185","28418253","GR 542 18.5CM 100/PK","025","75","LAB FILTRATION CF","468","CF Lab Catalogue Quantitative",{"v":122.77,"d":"123"},{"v":1106.03493,"d":"1,106"},"Whatman产品"]
[4737,"2182-9782","28422166","GRADE C7218 27CMX100M FILTER REELS","025","75","LAB FILTRATION CF","468","CF Lab Catalogue Quantitative",{"v":158.14,"d":"158"},{"v":1424.68326,"d":"1,425"},"Whatman产品"]
[4741,"1442-971","28418055","GR 42 Flag S093H0 100/PK","025","75","LAB FILTRATION CF","468","CF Lab Catalogue Quantitative","询价","询价","Whatman产品"]
[4744,"1450-9868","28418097","GR 50 9CM 100/PK","025","75","LAB FILTRATION CF","468","CF Lab Catalogue Quantitative","询价","询价","Whatman产品"]
[4749,"1441-6624","28996701","GR 41 8.1CM 100/PK","025","75","LAB FILTRATION CF","468","CF Lab Catalogue Quantitative","询价","询价","Whatman产品"]
[4752,"1450-082","29058735","GR50 8.2CM 100/PK","025","75","LAB FILTRATION CF","468","CF Lab Catalogue Quantitative","询价","询价","Whatman产品"]
[4755,"10350108","28414678","603 ASE 17x79MM 25/PK FOR22ML","025","75","LAB FILTRATION CF","469","CF Lab Catalogue Thimbles",{"v":114.23999999999998,"d":"114"},{"v":1029.18816,"d":"1,029"},"Whatman产品"]
[4758,"10350217","28414685","603 CELTHIMBLE 25x80MM 25/PK","025","75","LAB FILTRATION CF","469","CF Lab Catalogue Thimbles",{"v":100.98,"d":"101"},{"v":909.72882,"d":"910"},"Whatman产品"]
[4759,"10350219","28414686","603 CELTHIMBLE 25x100MM 25/PK","025","75","LAB FILTRATION CF","469","CF Lab Catalogue Thimbles",{"v":105.06,"d":"105"},{"v":946.48554,"d":"946"},"Whatman产品"]
[4762,"10350225","28414690","603 CELTHIMBLE 28x60MM 25/PK","025","75","LAB FILTRATION CF","469","CF Lab Catalogue Thimbles",{"v":100.98,"d":"101"},{"v":909.72882,"d":"910"},"Whatman产品"]
[4766,"10350236","28414695","603 CELTHIMBLE 30x100MM 25/PK","025","75","LAB FILTRATION CF","469","CF Lab Catalogue Thimbles",{"v":118.32,"d":"118"},{"v":1065.94488,"d":"1,066"},"Whatman产品"]
[4770,"10350242","28414699","603 CELTHIMBLE 33x94MM 25/PK","025","75","LAB FILTRATION CF","469","CF Lab Catalogue Thimbles",{"v":123.41999999999999,"d":"123"},{"v":1111.89078,"d":"1,112"},"Whatman产品"]
[4773,"10350247","28414702","603 CELTHIMBLE 33x130MM 25/PK","025","75","LAB FILTRATION CF","469","CF Lab Catalogue Thimbles",{"v":147.9,"d":"148"},{"v":1332.4311,"d":"1,332"},"Whatman产品"]
[4777,"10350261","28414707","603 CELTHIMBLE 40x85MM 25/PK","025","75","LAB FILTRATION CF","469","CF Lab Catalogue Thimbles",{"v":150.96,"d":"151"},{"v":1359.99864,"d":"1,360"},"Whatman产品"]
[4780,"10350274","28414710","603 CELTHIMBLE 48x200MM 25/PK","025","75","LAB FILTRATION CF","469","CF Lab Catalogue Thimbles",260,{"v":2342.34,"d":"2,342"},"Whatman产品"]
[4781,"10350275","28414711","603 CELTHIMBLE 44x230MM 25/PK","025","75","LAB FILTRATION CF","469","CF Lab Catalogue Thimbles",262,{"v":2360.358,"d":"2,360"},"Whatman产品"]
[4784,"10350324","28414716","603 CELTHMBL 86x80x250MM 25/PK","025","75","LAB FILTRATION CF","469","CF Lab Catalogue Thimbles",361,{"v":3252.2490000000003,"d":"3,252"},"Whatman产品"]
[4787,"2800-185","28418962","THIMBLE ST 18x55MM 25/PK","025","75","LAB FILTRATION CF","469","CF Lab Catalogue Thimbles",{"v":110.16,"d":"110"},{"v":992.43144,"d":"992"},"Whatman产品"]
[4791,"2800-250","28418966","THIMBLE ST 25x100MM 25/PK","025","75","LAB FILTRATION CF","469","CF Lab Catalogue Thimbles",{"v":116.28,"d":"116"},{"v":1047.56652,"d":"1,048"},"Whatman产品"]
[4795,"2800-266","28418970","THIMBLE ST 26x60MM 25/PK","025","75","LAB FILTRATION CF","469","CF Lab Catalogue Thimbles",{"v":125.45999999999998,"d":"125"},{"v":1130.2691399999999,"d":"1,130"},"Whatman产品"]
[4798,"2800-288","28418973","THIMBLE ST 28x80MM 25/PK","025","75","LAB FILTRATION CF","469","CF Lab Catalogue Thimbles",{"v":125.45999999999998,"d":"125"},{"v":1130.2691399999999,"d":"1,130"},"Whatman产品"]
[4802,"2800-331","28418978","THIMBLE ST 33x118MM 25/PK","025","75","LAB FILTRATION CF","469","CF Lab Catalogue Thimbles",{"v":142.8,"d":"143"},{"v":1286.4852,"d":"1,286"},"Whatman产品"]
[4805,"2800-373","28418981","THIMBLE ST 37x130MM 25/PK","025","75","LAB FILTRATION CF","469","CF Lab Catalogue Thimbles",{"v":169.32,"d":"169"},{"v":1525.40388,"d":"1,525"},"Whatman产品"]
[4806,"2800-412","28418982","THIMBLE ST 41x123MM 25/PK","025","75","LAB FILTRATION CF","469","CF Lab Catalogue Thimbles",{"v":182.58,"d":"183"},{"v":1644.8632200000002,"d":"1,645"},"Whatman产品"]
[4809,"2810-166","28419005","THIMBLE DT 16x60MM 25/PK","025","75","LAB FILTRATION CF","469","CF Lab Catalogue Thimbles",{"v":151.98,"d":"152"},{"v":1369.1878199999999,"d":"1,369"},"Whatman产品"]
[4812,"2810-266","28419008","THIMBLE DT 26x60MM 25/PK","025","75","LAB FILTRATION CF","469","CF Lab Catalogue Thimbles",{"v":165.24,"d":"165"},{"v":1488.6471600000002,"d":"1,489"},"Whatman产品"]
[4817,"10350416","28414724","603T THIMBLE 27x25x60MM 25/PK","025","75","LAB FILTRATION CF","469","CF Lab Catalogue Thimbles","询价","询价","Whatman产品"]
[4820,"1030-024","28414094","GR 3MM 2.4CM 100/PK","025","75","LAB FILTRATION CF","470","CF Lab Catalogue Chroma Paper",{"$f":"K4821/9.009","v":{"v":17.69,"d":"18"}},{"v":159.36921,"d":"159"},"Whatman产品"]
[4824,"10382461","28414857","2668 58x60CM 100/PK LONGGRAIN","025","75","LAB FILTRATION CF","470","CF Lab Catalogue Chroma Paper",931,{"v":8387.379,"d":"8,387"},"Whatman产品"]
[4827,"10382581","28414862","2727 190x190MM 100/PK","025","75","LAB FILTRATION CF","470","CF Lab Catalogue Chroma Paper",715,{"v":6441.435,"d":"6,441"},"Whatman产品"]
[4830,"3001-614","28419170","GR 1CHR 2CMx100M","025","75","LAB FILTRATION CF","470","CF Lab Catalogue Chroma Paper",{"v":33.29,"d":"33"},{"v":299.90961,"d":"300"},"Whatman产品"]
[4831,"3001-640","28419173","GR 1CHR 3CMx100M","025","75","LAB FILTRATION CF","470","CF Lab Catalogue Chroma Paper",{"v":45.78,"d":"46"},{"v":412.43202,"d":"412"},"Whatman产品"]
[4837,"3001-845","28419180","GR 1CHR 10x30CM 100/PK","025","75","LAB FILTRATION CF","470","CF Lab Catalogue Chroma Paper",{"v":61.38,"d":"61"},{"v":552.97242,"d":"553"},"Whatman产品"]
[4838,"3001-861","28419181","GR 1CHR 20x20CM 100/PK","025","75","LAB FILTRATION CF","470","CF Lab Catalogue Chroma Paper",{"v":61.38,"d":"61"},{"v":552.97242,"d":"553"},"Whatman产品"]
[4842,"3001-964","28419186","GR 1CHR 11x21.3CM 100/PK","025","75","LAB FILTRATION CF","470","CF Lab Catalogue Chroma Paper",{"v":112.36,"d":"112"},{"v":1012.25124,"d":"1,012"},"Whatman产品"]
[4845,"3002-917","28419210","GR 2 CHR 46x57CM 100/PK","025","75","LAB FILTRATION CF","470","CF Lab Catalogue Chroma Paper",323,{"v":2909.907,"d":"2,910"},"Whatman产品"]
[4849,"3017-621","28419231","GR 17CHR 2.5CMx30M","025","75","LAB FILTRATION CF","470","CF Lab Catalogue Chroma Paper",{"v":94.68,"d":"95"},{"v":852.9721200000001,"d":"853"},"Whatman产品"]
[4852,"3017-915","28419237","GR 17CHR 46x57CM 25/PK","025","75","LAB FILTRATION CF","470","CF Lab Catalogue Chroma Paper",400,{"v":3603.6000000000004,"d":"3,604"},"Whatman产品"]
[4855,"3031-681","28419331","31ET CHR 15CMx100M 1RL/PK","025","75","LAB FILTRATION CF","470","CF Lab Catalogue Chroma Paper",{"v":332.05,"d":"332"},{"v":2991.43845,"d":"2,991"},"Whatman产品"]
[4858,"3454-651","28419385","GR 54SFC 1.5INx300FT RL","025","75","LAB FILTRATION CF","470","CF Lab Catalogue Chroma Paper",{"v":182.07,"d":"182"},{"v":1640.26863,"d":"1,640"},"Whatman产品"]
[4860,"10328171","28414440","740E 6.35MM 1000/PK","025","75","LAB FILTRATION CF","470","CF Lab Catalogue Chroma Paper","询价","询价","Whatman产品"]
[4863,"3002-6098","28419205","GR 2CHR 5INx5000FT 1RL/PK","025","75","LAB FILTRATION CF","470","CF Lab Catalogue Chroma Paper","询价","询价","Whatman产品"]
[4867,"3030-9236","28422022","GR 3MM 8INX472MTR REEL 1/PK","025","75","LAB FILTRATION CF","470","CF Lab Catalogue Chroma Paper","询价","询价","Whatman产品"]
[4870,"10310245","28414165","287 FF 150MM 50/PK","025","75","LAB FILTRATION CF","471","Lab Catalogue Speciality",{"$f":"K4871/9.009","v":{"v":63.46,"d":"63"}},{"v":571.71114,"d":"572"}]
[4874,"10320875","28414431","597NF/IND 300MMx50M 1/PK","025","75","LAB FILTRATION CF","471","Lab Catalogue Speciality",{"v":96.76,"d":"97"},{"v":871.7108400000001,"d":"872"}]
[4877,"10342579","28414561","3621 140x200MM 1000/PK","025","75","LAB FILTRATION CF","471","Lab Catalogue Speciality",{"v":2551,"d":"2,551"},{"v":22981.959000000003,"d":"22,982"}]
[4879,"10342583","28414563","3645 110x170MM 100/PK","025","75","LAB FILTRATION CF","471","Lab Catalogue Speciality",{"v":45.78,"d":"46"},{"v":412.43202,"d":"412"}]
[4882,"10345572","28414635","3236 110x20MM 1000/PK PLS W/O","025","75","LAB FILTRATION CF","471","Lab Catalogue Speciality",{"v":1771,"d":"1,771"},{"v":15954.939,"d":"15,955"}]
[4885,"10347670","28414661","B2 304.8x304.8MM 500/PK","025","75","LAB FILTRATION CF","471","Lab Catalogue Speciality",103,{"v":927.927,"d":"928"}]
[4889,"10347890","28414667","2122 150x150MM 500/PK","025","75","LAB FILTRATION CF","471","Lab Catalogue Speciality",{"v":135.25,"d":"135"},{"v":1218.4672500000001,"d":"1,218"}]
[4892,"10360005","28414733","PANPEHA 112  9x85MM 200/PK","025","75","LAB FILTRATION CF","471","Lab Catalogue Speciality",{"v":35.37,"d":"35"},{"v":318.64833,"d":"319"}]
[4895,"10362010","28414741","PANPEHA PLUS 6x85MM 100/PK 2-9","025","75","LAB FILTRATION CF","471","Lab Catalogue Speciality",{"v":22.89,"d":"23"},{"v":206.21601,"d":"206"}]
[4899,"2017-006","28418660","AA DISCS 6MM/1000/PK","025","75","LAB FILTRATION CF","471","Lab Catalogue Speciality",227,{"v":2045.0430000000001,"d":"2,045"}]
[4900,"2017-009","28418661","AA DISCS 9MM 1000/PK","025","75","LAB FILTRATION CF","471","Lab Catalogue Speciality",275,{"v":2477.475,"d":"2,477"}]
[4906,"2200-070","28418822","1PS 7.0CM 100/PK","025","75","LAB FILTRATION CF","471","Lab Catalogue Speciality",{"v":47.12,"d":"47"},{"v":424.50408,"d":"425"}]
[4907,"2200-090","28418823","1PS 9.0CM 100/PK","025","75","LAB FILTRATION CF","471","Lab Catalogue Speciality",{"v":50.49,"d":"50"},{"v":454.86441,"d":"455"}]
[4910,"2200-150","28418826","1PS 15CM 100/PK","025","75","LAB FILTRATION CF","471","Lab Catalogue Speciality",{"v":102.1,"d":"102"},{"v":919.8189,"d":"920"}]
[4914,"2300-594","28418846","BENCHKOTE PAD 46X57CM 50/PK WHATMAN/NA","025","75","LAB FILTRATION CF","471","Lab Catalogue Speciality",{"v":168.54,"d":"169"},{"v":1518.37686,"d":"1,518"}]
[4917,"2300-772","28418849","GRADE BK 92CMX50M BENCHKOTE FILTER REELS","025","75","LAB FILTRATION CF","471","Lab Catalogue Speciality",561,{"v":5054.049,"d":"5,054"}]
[4920,"2301-6150","28418855","BENCHKOTE P+SHT 50x60CM 50/PK","025","75","LAB FILTRATION CF","471","Lab Catalogue Speciality",{"v":185.19,"d":"185"},{"v":1668.37671,"d":"1,668"}]
[4925,"2600-103A","28418887","PH IND pH 6.4-8 7MMx5M 1/RL","025","75","LAB FILTRATION CF","471","Lab Catalogue Speciality",{"v":21.85,"d":"22"},{"v":196.84665,"d":"197"}]
[4928,"2600-202A","28418890","LITMUS PAPER RED 7MMx5M 1/RL","025","75","LAB FILTRATION CF","471","Lab Catalogue Speciality",{"v":20.81,"d":"21"},{"v":187.47728999999998,"d":"187"}]
[4931,"2600-601","28418894","LITMUS PAPER BLUE 10x20/PK","025","75","LAB FILTRATION CF","471","Lab Catalogue Speciality",{"v":100.92,"d":"101"},{"v":909.1882800000001,"d":"909"}]
[4932,"2600-602","28418895","LITMUS PAPER RED 10x20/PK","025","75","LAB FILTRATION CF","471","Lab Catalogue Speciality",{"v":100.92,"d":"101"},{"v":909.1882800000001,"d":"909"}]
[4935,"2611-628","28418916","PH IND pH 1-11 10MMx5M 1/RL","025","75","LAB FILTRATION CF","471","Lab Catalogue Speciality",{"v":29.13,"d":"29"},{"v":262.43217,"d":"262"}]
[4939,"2626-990","28418926","PH IND pH1.8-3.8 11x100MM200PK","025","75","LAB FILTRATION CF","471","Lab Catalogue Speciality",{"v":37.45,"d":"37"},{"v":337.38705000000004,"d":"337"}]
[4942,"2629-990","28418929","PH IND pH6-8.1 11x100MM 200/PK","025","75","LAB FILTRATION CF","471","Lab Catalogue Speciality",{"v":37.45,"d":"37"},{"v":337.38705000000004,"d":"337"}]
[4946,"3668-915","28419437","SG81 46 x 57CM 25/PK","025","75","LAB FILTRATION CF","471","Lab Catalogue Speciality",269,{"v":2423.4210000000003,"d":"2,423"}]
[4950,"10341099","29116669","22HY 40MM 30.5MM CH 1000/PK","025","75","LAB FILTRATION CF","471","Lab Catalogue Speciality","询价","询价"]
[4953,"10341097","28414543","22HY 14x30MM 1000/PK OVAL","025","75","LAB FILTRATION CF","471","Lab Catalogue Speciality","询价","询价"]
[4954,"10342594","28414566","3645 110x170MM 1000/PK","025","75","LAB FILTRATION CF","471","Lab Catalogue Speciality","询价","询价"]
[4957,"3668900414","28419439","SG81 480MM x 630M REEL","025","75","LAB FILTRATION CF","471","Lab Catalogue Speciality","询价","询价"]
[4960,"10342555","28414558","GR3645 Circles 85MM 100/PK","025","75","LAB FILTRATION CF","471","Lab Catalogue Speciality","询价","询价"]
[4964,"10342596","28422442","GR 3645 105X190MM 1000PK","025","75","LAB FILTRATION CF","471","Lab Catalogue Speciality","询价","询价"]
[4967,"1872-866","28980254","GRADE 72 20.3CM X 25.4CM 100PK","025","75","LAB FILTRATION CF","471","Lab Catalogue Speciality","询价","询价"]
[4971,"80590471","80590471","Domestic CF Lab Cat Speciality","025","75","LAB FILTRATION CF","471","Lab Catalogue Speciality","询价","询价"]
[4975,"10462200","28415732","FP 30/0.2 CA S 50/PK","025","76","LAB FILTRATION DEVICES","490","EF Lab Cat Syringe Filters",51,{"v":459.459,"d":"459"}]
[4978,"10462240","28415737","FP 30/0.8 CA S 50/PK","025","76","LAB FILTRATION DEVICES","490","EF Lab Cat Syringe Filters",{"v":181.56,"d":"182"},{"v":1635.67404,"d":"1,636"}]
[4979,"10462241","28415738","FP 30/0.8 CA 50/PK","025","76","LAB FILTRATION DEVICES","490","EF Lab Cat Syringe Filters",{"v":123.41999999999999,"d":"123"},{"v":1111.89078,"d":"1,112"}]
[4982,"10462261","28415747","FP 30/1.2 CA 50/PK","025","76","LAB FILTRATION DEVICES","490","EF Lab Cat Syringe Filters",{"v":127.5,"d":"128"},{"v":1148.6475,"d":"1,149"}]
[4985,"10462281","28415754","CELTRON 30/0.45 RCGF 100/PK","025","76","LAB FILTRATION DEVICES","490","EF Lab Cat Syringe Filters",233,{"v":2099.097,"d":"2,099"}]
[4988,"10462510","28415759","FP 30/5.0 CN 100/PK","025","76","LAB FILTRATION DEVICES","490","EF Lab Cat Syringe Filters",226,{"v":2036.034,"d":"2,036"}]
[4993,"10462650","28415772","AQUA 30/0.45 CA 500/PK","025","76","LAB FILTRATION DEVICES","490","EF Lab Cat Syringe Filters",{"v":1341,"d":"1,341"},{"v":12081.069000000001,"d":"12,081"}]
[4997,"10462701","28415782","FP 30/0.2 CA 50/PK","025","76","LAB FILTRATION DEVICES","490","EF Lab Cat Syringe Filters",{"v":122.4,"d":"122"},{"v":1102.7016,"d":"1,103"}]
[5000,"10462945","28415790","FP 13/0.2 RC S MLL 50/PK","025","76","LAB FILTRATION DEVICES","490","EF Lab Cat Syringe Filters",{"v":195.84,"d":"196"},{"v":1764.32256,"d":"1,764"}]
[5003,"10463030","28415793","SPARTAN 13/0.45 RC MT 100/PK","025","76","LAB FILTRATION DEVICES","490","EF Lab Cat Syringe Filters",248,{"v":2234.232,"d":"2,234"}]
[5004,"10463032","28415795","SPARTAN 13/0.45 RC MT 500/PK","025","76","LAB FILTRATION DEVICES","490","EF Lab Cat Syringe Filters",{"v":973.9999999999999,"d":"974"},{"v":8774.766,"d":"8,775"}]
[5007,"10463050","28415800","SPARTAN 30/0.45 RC 100/PK","025","76","LAB FILTRATION DEVICES","490","EF Lab Cat Syringe Filters",{"v":113.22,"d":"113"},{"v":1019.9989800000001,"d":"1,020"}]
[5013,"10463102","28415810","SPARTAN 13/0.2 RC 500/PK","025","76","LAB FILTRATION DEVICES","490","EF Lab Cat Syringe Filters",{"v":958.0000000000001,"d":"958"},{"v":8630.622000000001,"d":"8,631"}]
[5015,"10463112","28415813","SPARTAN 13/0.45 RC 500/PK","025","76","LAB FILTRATION DEVICES","490","EF Lab Cat Syringe Filters",{"v":1130,"d":"1,130"},{"v":10180.17,"d":"10,180"}]
[5018,"10463422","28415821","UNIFLO 25/0.45 PTFE 500/PK","025","76","LAB FILTRATION DEVICES","490","EF Lab Cat Syringe Filters",{"v":1138,"d":"1,138"},{"v":10252.242,"d":"10,252"}]
[5022,"10463442","28415827","UNIFLO 25/0.45 NYL 500/PK","025","76","LAB FILTRATION DEVICES","490","EF Lab Cat Syringe Filters",{"v":1150,"d":"1,150"},{"v":10360.35,"d":"10,360"}]
[5025,"10463453","28415830","UNIFLO 25/0.2 RC 1000/PK","025","76","LAB FILTRATION DEVICES","490","EF Lab Cat Syringe Filters",{"v":1874.0000000000002,"d":"1,874"},{"v":16882.866,"d":"16,883"}]
[5028,"10463500","28415846","REZIST 30/0.2 PTFE S 50/PK","025","76","LAB FILTRATION DEVICES","490","EF Lab Cat Syringe Filters",215,{"v":1936.9350000000002,"d":"1,937"}]
[5029,"10463503","28415847","REZIST 30/0.2 PTFE 100/PK","025","76","LAB FILTRATION DEVICES","490","EF Lab Cat Syringe Filters",{"v":190.74,"d":"191"},{"v":1718.3766600000001,"d":"1,718"}]
[5034,"10463525","28415855","REZIST 30/1.0 PTFE 500/PK","025","76","LAB FILTRATION DEVICES","490","EF Lab Cat Syringe Filters",{"v":1523,"d":"1,523"},{"v":13720.707,"d":"13,721"}]
[5036,"10463535","28415858","REZIST 30/5.0 PTFE 500/PK","025","76","LAB FILTRATION DEVICES","490","EF Lab Cat Syringe Filters",{"v":1523,"d":"1,523"},{"v":13720.707,"d":"13,721"}]
[5040,"10463713","28415872","REZIST 13/0.45 PTFE MT 100/PK","025","76","LAB FILTRATION DEVICES","490","EF Lab Cat Syringe Filters",{"v":190.74,"d":"191"},{"v":1718.3766600000001,"d":"1,718"}]
[5043,"10463802","28415876","ROBY 25/0.45 NYL 1000/PK","025","76","LAB FILTRATION DEVICES","490","EF Lab Cat Syringe Filters",{"v":2871,"d":"2,871"},{"v":25864.839,"d":"25,865"}]
[5047,"10463806","28415880","ROBY 25/0.45 RC 1000/PK","025","76","LAB FILTRATION DEVICES","490","EF Lab Cat Syringe Filters",{"v":3089,"d":"3,089"},{"v":27828.801,"d":"27,829"}]
[5050,"10463809","28415883","ROBY 25/0.45 RCGF 200/PK 8TBS","025","76","LAB FILTRATION DEVICES","490","EF Lab Cat Syringe Filters",{"v":942.0000000000001,"d":"942"},{"v":8486.478000000001,"d":"8,486"}]
[5053,"10463815","28415887","ROBY 25/ GF55 1000/PK","025","76","LAB FILTRATION DEVICES","490","EF Lab Cat Syringe Filters",{"v":2574,"d":"2,574"},{"v":23189.166,"d":"23,189"}]
[5055,"10463852","28415894","UNIFLO 13/0.2 RC 500/PK","025","76","LAB FILTRATION DEVICES","490","EF Lab Cat Syringe Filters",{"v":1182,"d":"1,182"},{"v":10648.638,"d":"10,649"}]
[5058,"10463875","28415897","UNIFLO 13/0.2 RC 1000/PK","025","76","LAB FILTRATION DEVICES","490","EF Lab Cat Syringe Filters",{"v":1893,"d":"1,893"},{"v":17054.037,"d":"17,054"}]
[5062,"10463879","28415901","UNIFLO 13/0.45 NYL 500/PK","025","76","LAB FILTRATION DEVICES","490","EF Lab Cat Syringe Filters",{"$f":"K5063/9.009","v":{"v":1182,"d":"1,182"}},{"v":10648.638,"d":"10,649"}]
[5065,"10463882","28415904","UNIFLO 13/0.2 PTFE 500/PK","025","76","LAB FILTRATION DEVICES","490","EF Lab Cat Syringe Filters",{"v":1182,"d":"1,182"},{"v":10648.638,"d":"10,649"}]
[5068,"29189071",29189071,"Whatman Uniflo 13mm 0.22 Nylon 500/PK","025","76","LAB FILTRATION DEVICES","493","EF Lab Cat Syringe Filters",{"v":286.38028638028635,"d":"286"},{"v":2580,"d":"2,580.0"}]
[5072,"29191670",29191670,"Whatman Uniflo 13mm 0.22 PES 500/PK","025","76","LAB FILTRATION DEVICES","497","EF Lab Cat Syringe Filters",{"v":286.38028638028635,"d":"286"},{"v":2580,"d":"2,580.0"}]
[5075,"29189079",29189079,"Whatman Uniflo 25mm 0.45 PVDF 500/PK","025","76","LAB FILTRATION DEVICES","500","EF Lab Cat Syringe Filters",{"v":336.1083361083361,"d":"336"},{"v":3028,"d":"3,028.0"}]
[5076,"29189080",29189080,"Whatman Uniflo 25mm 0.22 Nylon 500/PK","025","76","LAB FILTRATION DEVICES","501","EF Lab Cat Syringe Filters",{"v":336.1083361083361,"d":"336"},{"v":3028,"d":"3,028.0"}]
[5080,"29189111",29189111,"Whatman Uniflo 25mm 0.22 PES 500/PK","025","76","LAB FILTRATION DEVICES","505","EF Lab Cat Syringe Filters",{"v":336.1083361083361,"d":"336"},{"v":3028,"d":"3,028.0"}]
[5083,"2001-0100","28418654","ANOTOP 10/0.2 LC 100/PK","025","76","LAB FILTRATION DEVICES","490","EF Lab Cat Syringe Filters",{"v":1012,"d":"1,012"},{"v":9117.108,"d":"9,117"}]
[5087,"29022721","29022721","FILTRATION START KIT FOR AKTA","025","76","LAB FILTRATION DEVICES","490","EF Lab Cat Syringe Filters",578,{"v":5207.202,"d":"5,207"}]
[5090,"6747-2502","28420243","PURADISC 25/0.2 PVDF 200/PK","025","76","LAB FILTRATION DEVICES","490","EF Lab Cat Syringe Filters",639,{"v":5756.751,"d":"5,757"}]
[5093,"6750-2502","28420246","PURADISC 25/0.2 NYL 50/PK","025","76","LAB FILTRATION DEVICES","490","EF Lab Cat Syringe Filters",{"v":242.99999999999997,"d":"243"},{"v":2189.187,"d":"2,189"}]
[5097,"6751-2504","28420250","PURADISC 25/0.45 NYL 200/PK","025","76","LAB FILTRATION DEVICES","490","EF Lab Cat Syringe Filters",658,{"v":5927.9220000000005,"d":"5,928"}]
[5101,"6753-2504","28420254","PURADISC 25/0.45 NYL 1000/PK","025","76","LAB FILTRATION DEVICES","490","EF Lab Cat Syringe Filters",{"v":1746,"d":"1,746"},{"v":15729.714,"d":"15,730"}]
[5102,"6753-2510","28420255","PURADISC 25/1.0 NYL 1000/PK","025","76","LAB FILTRATION DEVICES","490","EF Lab Cat Syringe Filters",{"v":1730,"d":"1,730"},{"v":15585.57,"d":"15,586"}]
[5105,"6765-1304","28420262","PURADISC 13/0.45 PVDF 2000/PK","025","76","LAB FILTRATION DEVICES","490","EF Lab Cat Syringe Filters",{"v":3324,"d":"3,324"},{"v":29945.916,"d":"29,946"}]
[5108,"6768-1302","28420266","PURADISC 13/0.2 NYL 2000/PK","025","76","LAB FILTRATION DEVICES","490","EF Lab Cat Syringe Filters",{"v":3324,"d":"3,324"},{"v":29945.916,"d":"29,946"}]
[5112,"6775-1304","28420270","PURADISC 13/0.45 PTFE 50/PK","025","76","LAB FILTRATION DEVICES","490","EF Lab Cat Syringe Filters",{"v":180.54,"d":"181"},{"v":1626.48486,"d":"1,626"}]
[5115,"6777-1302","28420273","PURADISC 13/0.2 PVDF TT 50/PK","025","76","LAB FILTRATION DEVICES","490","EF Lab Cat Syringe Filters",{"v":183.6,"d":"184"},{"v":1654.0524,"d":"1,654"}]
[5118,"6779-0402","28420276","PURADISC 4/0.2 PVDF 100/PK","025","76","LAB FILTRATION DEVICES","490","EF Lab Cat Syringe Filters",364,{"v":3279.2760000000003,"d":"3,279"}]
[5122,"6780-1302","28420280","PURADISC 13/0.2 PES 50/PK","025","76","LAB FILTRATION DEVICES","490","EF Lab Cat Syringe Filters",291,{"v":2621.619,"d":"2,622"}]
[5126,"6780-2510","28420284","PURADISC 25/1.0 PES S 50/PK","025","76","LAB FILTRATION DEVICES","490","EF Lab Cat Syringe Filters",{"$f":"K5127/9.009","v":{"v":180.54,"d":"181"}},{"v":1626.48486,"d":"1,626"}]
[5127,"6781-1304","28420285","PURADISC 13/0.45 PES 500/PK","025","76","LAB FILTRATION DEVICES","490","EF Lab Cat Syringe Filters",{"v":1391,"d":"1,391"},{"v":12531.519,"d":"12,532"}]
[5130,"6781-2510","28420288","PURADISC 25/1.0 PES 200/PK","025","76","LAB FILTRATION DEVICES","490","EF Lab Cat Syringe Filters",652,{"v":5873.868,"d":"5,874"}]
[5133,"6783-0402","28420291","PURADISC 4/0.2 PTFE 500/PK","025","76","LAB FILTRATION DEVICES","490","EF Lab Cat Syringe Filters",922,{"v":8306.298,"d":"8,306"}]
[5137,"6783-2510","28420295","PURADISC 25/1.0 GD1 100/PK","025","76","LAB FILTRATION DEVICES","490","EF Lab Cat Syringe Filters",361,{"v":3252.2490000000003,"d":"3,252"}]
[5139,"6784-0402","28420297","PURADISC 4/0.2 PTFE 100/PK","025","76","LAB FILTRATION DEVICES","490","EF Lab Cat Syringe Filters",211,{"v":1900.8990000000001,"d":"1,901"}]
[5144,"6784-1310","28420302","PURADISC 13/1.0 PTFE 100/PK","025","76","LAB FILTRATION DEVICES","490","EF Lab Cat Syringe Filters",273,{"v":2459.457,"d":"2,459"}]
[5148,"6784-2504","28420306","PURADISC 25/0.45 PTFE 50/PK","025","76","LAB FILTRATION DEVICES","490","EF Lab Cat Syringe Filters",{"v":242.99999999999997,"d":"243"},{"v":2189.187,"d":"2,189"}]
[5151,"6785-1304","28420309","PURADISC 13/0.45 PP 500/PK","025","76","LAB FILTRATION DEVICES","490","EF Lab Cat Syringe Filters",{"v":1405,"d":"1,405"},{"v":12657.645,"d":"12,658"}]
[5152,"6785-2502","28420310","PURADISC 25/0.2 PTFE 200/PK","025","76","LAB FILTRATION DEVICES","490","EF Lab Cat Syringe Filters",658,{"v":5927.9220000000005,"d":"5,928"}]
[5155,"6786-1301","28420313","PURADISC 13/0.1 NYL S 50/PK","025","76","LAB FILTRATION DEVICES","490","EF Lab Cat Syringe Filters",464,{"v":4180.176,"d":"4,180"}]
[5158,"6786-2504","28420316","PURADISC 25/0.45 PP 50/PK","025","76","LAB FILTRATION DEVICES","490","EF Lab Cat Syringe Filters",{"v":242.99999999999997,"d":"243"},{"v":2189.187,"d":"2,189"}]
[5164,"6789-0402","28420322","PURADISC 4/0.2 NYL 100/PK","025","76","LAB FILTRATION DEVICES","490","EF Lab Cat Syringe Filters",209,{"v":1882.881,"d":"1,883"}]
[5166,"6789-1301","28420324","PURADISC 13/0.1 NYL 100/PK","025","76","LAB FILTRATION DEVICES","490","EF Lab Cat Syringe Filters",273,{"v":2459.457,"d":"2,459"}]
[5170,"6790-0404","28420329","PURADISC 4/0.45 NYL 500/PK","025","76","LAB FILTRATION DEVICES","490","EF Lab Cat Syringe Filters",923,{"v":8315.307,"d":"8,315"}]
[5173,"6790-2502","28420332","PURADISC 25/0.2 PP 1000/PK","025","76","LAB FILTRATION DEVICES","490","EF Lab Cat Syringe Filters",{"v":2404,"d":"2,404"},{"v":21657.636000000002,"d":"21,658"}]
[5176,"6791-1302","28420335","PURADISC 13/0.2 PVDF S 50/PK","025","76","LAB FILTRATION DEVICES","490","EF Lab Cat Syringe Filters",455,{"v":4099.095,"d":"4,099"}]
[5177,"6791-1304","28420336","PURADISC 13/0.45 PVDF S 50/PK","025","76","LAB FILTRATION DEVICES","490","EF Lab Cat Syringe Filters",431,{"v":3882.8790000000004,"d":"3,883"}]
[5180,"6792-1302","28420341","PURADISC 13/0.2 PVDF 500/PK","025","76","LAB FILTRATION DEVICES","490","EF Lab Cat Syringe Filters",{"v":1405,"d":"1,405"},{"v":12657.645,"d":"12,658"}]
[5185,"6794-2510","28420347","PURADISC 25/1.0 PES 1000/PK","025","76","LAB FILTRATION DEVICES","490","EF Lab Cat Syringe Filters",{"v":1730,"d":"1,730"},{"v":15585.57,"d":"15,586"}]
[5188,"6798-2501","28420351","PURADISC 25/0.1 PTFE 1000/PK","025","76","LAB FILTRATION DEVICES","490","EF Lab Cat Syringe Filters",{"v":1746,"d":"1,746"},{"v":15729.714,"d":"15,730"}]
[5191,"6798-2510","28420354","PURADISC 25/1.0 PTFE 1000/PK","025","76","LAB FILTRATION DEVICES","490","EF Lab Cat Syringe Filters",{"v":1746,"d":"1,746"},{"v":15729.714,"d":"15,730"}]
[5195,"6809-1012","28420386","ANOTOP 10/0.1 50/PK","025","76","LAB FILTRATION DEVICES","490","EF Lab Cat Syringe Filters",458,{"v":4126.122,"d":"4,126"}]
[5198,"6809-1112","28420389","ANOTOP 10/0.1 S 50/PK","025","76","LAB FILTRATION DEVICES","490","EF Lab Cat Syringe Filters",651,{"v":5864.859,"d":"5,865"}]
[5201,"6809-2012","28420392","ANOTOP 25/0.1 50/PK","025","76","LAB FILTRATION DEVICES","490","EF Lab Cat Syringe Filters",600,{"v":5405.400000000001,"d":"5,405"}]
[5202,"6809-2022","28420393","ANOTOP 25/0.2 50/PK","025","76","LAB FILTRATION DEVICES","490","EF Lab Cat Syringe Filters",597,{"v":5378.3730000000005,"d":"5,378"}]
[5206,"6809-2122","28420397","ANOTOP 25/0.2 S 50/PK","025","76","LAB FILTRATION DEVICES","490","EF Lab Cat Syringe Filters",915,{"v":8243.235,"d":"8,243"}]
[5209,"6809-3022","28420400","ANOTOP 10/0.2 GF 50/PK","025","76","LAB FILTRATION DEVICES","490","EF Lab Cat Syringe Filters",464,{"v":4180.176,"d":"4,180"}]
[5213,"6809-4002","28420404","ANOTOP 25/0.02 GF 50/PK","025","76","LAB FILTRATION DEVICES","490","EF Lab Cat Syringe Filters",704,{"v":6342.336,"d":"6,342"}]
[5216,"6809-4024","28420407","ANOTOP 25/0.2 GF 200/PK","025","76","LAB FILTRATION DEVICES","490","EF Lab Cat Syringe Filters",{"v":2671,"d":"2,671"},{"v":24063.039,"d":"24,063"}]
[5220,"6809-9232","28420422","ANOTOP 10/0.2 IC 50/PK","025","76","LAB FILTRATION DEVICES","490","EF Lab Cat Syringe Filters",674,{"v":6072.066,"d":"6,072"}]
[5223,"6809-9235","28420425","ANOTOP 10/0.2 IC 250/PK BLPK","025","76","LAB FILTRATION DEVICES","490","EF Lab Cat Syringe Filters",{"v":3123,"d":"3,123"},{"v":28135.107,"d":"28,135"}]
[5226,"6820-1316","28420429","PURADISC 13/1.6 GF/A 100/PK","025","76","LAB FILTRATION DEVICES","490","EF Lab Cat Syringe Filters",273,{"v":2459.457,"d":"2,459"}]
[5227,"6821-1310","28420430","PURADISC 13/1.0 GF/B 100/PK","025","76","LAB FILTRATION DEVICES","490","EF Lab Cat Syringe Filters",273,{"v":2459.457,"d":"2,459"}]
[5231,"6825-2517","28420434","PURADISC 25/0.7 GF/F 50/PK","025","76","LAB FILTRATION DEVICES","490","EF Lab Cat Syringe Filters",204,{"v":1837.836,"d":"1,838"}]
[5235,"6869-2504","28420488","GD/X 25/0.45 NYL S 150/PK","025","76","LAB FILTRATION DEVICES","490","EF Lab Cat Syringe Filters",563,{"v":5072.067,"d":"5,072"}]
[5238,"6870-2502","28420491","GD/X 25/0.2 NYL 150/PK","025","76","LAB FILTRATION DEVICES","490","EF Lab Cat Syringe Filters",272,{"v":2450.4480000000003,"d":"2,450"}]
[5241,"6871-1302","28420494","GD/X 13/0.2 NYL 1500/PK","025","76","LAB FILTRATION DEVICES","490","EF Lab Cat Syringe Filters",{"v":3181,"d":"3,181"},{"v":28657.629,"d":"28,658"}]
[5245,"6871-2550","28420498","GD/X 25/5.0 NYL 1500/PK","025","76","LAB FILTRATION DEVICES","490","EF Lab Cat Syringe Filters",{"v":3392,"d":"3,392"},{"v":30558.528000000002,"d":"30,559"}]
[5248,"6872-2502","28420501","GD/X 25/0.2 PVDF 150/PK","025","76","LAB FILTRATION DEVICES","490","EF Lab Cat Syringe Filters",558,{"v":5027.022,"d":"5,027"}]
[5252,"6873-2504","28420506","GD/X 25/0.45 PVDF 1500/PK","025","76","LAB FILTRATION DEVICES","490","EF Lab Cat Syringe Filters",{"v":3423,"d":"3,423"},{"v":30837.807,"d":"30,838"}]
[5253,"6874-1302","28420507","GD/X 13/0.2 PTFE 150/PK","025","76","LAB FILTRATION DEVICES","490","EF Lab Cat Syringe Filters",442,{"v":3981.978,"d":"3,982"}]
[5256,"6874-2504","28420510","GD/X 25/0.45 PTFE 150/PK","025","76","LAB FILTRATION DEVICES","490","EF Lab Cat Syringe Filters",272,{"v":2450.4480000000003,"d":"2,450"}]
[5260,"6875-2504","28420514","GD/X 25/0.45 PTFE 1500/PK","025","76","LAB FILTRATION DEVICES","490","EF Lab Cat Syringe Filters",{"v":3423,"d":"3,423"},{"v":30837.807,"d":"30,838"}]
[5263,"6876-2502","28420517","GD/X 25/0.2 PES 150/PK","025","76","LAB FILTRATION DEVICES","490","EF Lab Cat Syringe Filters",558,{"v":5027.022,"d":"5,027"}]
[5266,"6878-1304","28420520","GD/X 13/0.45 PP 150/PK","025","76","LAB FILTRATION DEVICES","490","EF Lab Cat Syringe Filters",442,{"v":3981.978,"d":"3,982"}]
[5270,"6880-1302","28420524","GD/X 13/0.2 CA 150/PK","025","76","LAB FILTRATION DEVICES","490","EF Lab Cat Syringe Filters",442,{"v":3981.978,"d":"3,982"}]
[5273,"6880-2504","28420527","GD/X 25/0.45 CA 150/PK","025","76","LAB FILTRATION DEVICES","490","EF Lab Cat Syringe Filters",599,{"v":5396.3910000000005,"d":"5,396"}]
[5275,"6882-1316","28420530","GD/X 13/1.6 GMF 150/PK","025","76","LAB FILTRATION DEVICES","490","EF Lab Cat Syringe Filters",442,{"v":3981.978,"d":"3,982"}]
[5278,"6883-2504","28422289","GD/X 25 RC 0.45UM 1500/PK","025","76","LAB FILTRATION DEVICES","490","EF Lab Cat Syringe Filters",{"v":3313,"d":"3,313"},{"v":29846.817000000003,"d":"29,847"}]
[5281,"6884-2510","28420535","GD/X 25/1.0 GMF 150/PK","025","76","LAB FILTRATION DEVICES","490","EF Lab Cat Syringe Filters",563,{"v":5072.067,"d":"5,072"}]
[5285,"6888-1327","28420539","GD/X 13/2.7 GMF 150/PK","025","76","LAB FILTRATION DEVICES","490","EF Lab Cat Syringe Filters",446,{"v":4018.014,"d":"4,018"}]
[5288,"6890-2507","28420542","GD/X 25/0.7 GMF 150/PK","025","76","LAB FILTRATION DEVICES","490","EF Lab Cat Syringe Filters",563,{"v":5072.067,"d":"5,072"}]
[5291,"6894-1304","28420545","GD/X 13/0.45 GMF 150/PK","025","76","LAB FILTRATION DEVICES","490","EF Lab Cat Syringe Filters",442,{"v":3981.978,"d":"3,982"}]
[5294,"6896-2502","28420548","GD/X 25/0.2 PES S 50/PK","025","76","LAB FILTRATION DEVICES","490","EF Lab Cat Syringe Filters",302,{"v":2720.7180000000003,"d":"2,721"}]
[5299,"6900-2504","28420553","GD/X 25/0.45 PVDF S 50/PK","025","76","LAB FILTRATION DEVICES","490","EF Lab Cat Syringe Filters",283,{"v":2549.547,"d":"2,550"}]
[5300,"6901-2502","28420554","GD/X 25/0.2 CA S 50/PK","025","76","LAB FILTRATION DEVICES","490","EF Lab Cat Syringe Filters",351,{"v":3162.159,"d":"3,162"}]
[5303,"6905-2502","28420559","GD/X 25/0.2 PES 1500/PK","025","76","LAB FILTRATION DEVICES","490","EF Lab Cat Syringe Filters",{"v":3392,"d":"3,392"},{"v":30558.528000000002,"d":"30,559"}]
[5306,"6971-2504","28420562","GD/XP 25/0.45 NYL 1500/PK","025","76","LAB FILTRATION DEVICES","490","EF Lab Cat Syringe Filters",{"v":3392,"d":"3,392"},{"v":30558.528000000002,"d":"30,559"}]
[5310,"6978-2504","28420566","GD/XP 25/0.45 PP 150/PK","025","76","LAB FILTRATION DEVICES","490","EF Lab Cat Syringe Filters",582,{"v":5243.238,"d":"5,243"}]
[5313,"6995-2504","28420579","GD/XP 25/0.45 PES 1500/PK","025","76","LAB FILTRATION DEVICES","490","EF Lab Cat Syringe Filters",{"v":3392,"d":"3,392"},{"v":30558.528000000002,"d":"30,559"}]
[5315,"7707-3100","29084952","850-DS 8-Channel Filter Plate 0.45um Nylon 50/PK","025","76","LAB FILTRATION DEVICES","490","EF Lab Cat Syringe Filters",504,{"v":4540.536,"d":"4,541"}]
[5321,"10462252","28415741","CELTRON 30/0.2 CAGF 50/PK","025","76","LAB FILTRATION DEVICES","490","EF Lab Cat Syringe Filters","询价","询价"]
[5324,"10462280","28415753","CELTRON 30/0.45 CNGF 500/PK PC","025","76","LAB FILTRATION DEVICES","490","EF Lab Cat Syringe Filters","询价","询价"]
[5325,"10463554","28415862","REZIST PREFIL 30/ GF52 500/PK","025","76","LAB FILTRATION DEVICES","490","EF Lab Cat Syringe Filters","询价","询价"]
[5328,"6992-2504","29118617","GDXP 25/0.45 DPPP 150/PK","025","76","LAB FILTRATION DEVICES","490","EF Lab Cat Syringe Filters","询价","询价"]
[5331,"29024820","29024820","GD/X 25/0.2 PP 150/PK PROMO","025","76","LAB FILTRATION DEVICES","490","EF Lab Cat Syringe Filters","询价","询价"]
[5335,"29024864","29024864","PURADISC 25/0.45PTFE 200/PK PR","025","76","LAB FILTRATION DEVICES","490","EF Lab Cat Syringe Filters","询价","询价"]
[5340,"29024863","29024863","PURADISC 25/0.2 PTFE 200/PK PR","025","76","LAB FILTRATION DEVICES","490","EF Lab Cat Syringe Filters","询价","询价"]
[5343,"29024815","29024815","GD/X 25/0.45 PTFE 150/PK PROMO","025","76","LAB FILTRATION DEVICES","490","EF Lab Cat Syringe Filters","询价","询价"]
[5346,"7707-3200","29084953","850-DS 8-Channel Filter Plate 0.45 PES 50/PK","025","76","LAB FILTRATION DEVICES","490","EF Lab Cat Syringe Filters","询价","询价"]
[5349,"29058886","29058886","Rebate Adjustment Code  PG 490","025","76","LAB FILTRATION DEVICES","490","EF Lab Cat Syringe Filters","询价","询价"]
[5350,"29024898","29024898","PURADISC25/0.45PP(DP)200/PK PR","025","76","LAB FILTRATION DEVICES","490","EF Lab Cat Syringe Filters","询价","询价"]
[5353,"29024819","29024819","GD/X 25/0.45 PVDF 150/PK PROMO","025","76","LAB FILTRATION DEVICES","490","EF Lab Cat Syringe Filters","询价","询价"]
[5356,"29024860","29024860","GD/X 25/0.45 GMF 150/PK PROMO","025","76","LAB FILTRATION DEVICES","490","EF Lab Cat Syringe Filters","询价","询价"]
[5361,"AV115NPUNYL","28421424","AV5 0.45uM NYL 50/PK","025","76","LAB FILTRATION DEVICES","491","EF Lab Cat Syringeless Filter",{"v":180.6,"d":"181"},{"v":1627.0254,"d":"1,627"}]
[5364,"AV125EAQU","28421431","AV12 0.2uM PVDF 50/PK","025","76","LAB FILTRATION DEVICES","491","EF Lab Cat Syringeless Filter",264,{"v":2378.376,"d":"2,378"}]
[5368,"AV125NPUAQU","28421435","AV12 0.45uM PVDF N/PRE 50/PK","025","76","LAB FILTRATION DEVICES","491","EF Lab Cat Syringeless Filter",264,{"v":2378.376,"d":"2,378"}]
[5371,"AV125SNAO","28421440","AV12 0.2uM NYL S 40/PK","025","76","LAB FILTRATION DEVICES","491","EF Lab Cat Syringeless Filter",404,{"v":3639.636,"d":"3,640"}]
[5374,"AV125UCA","28421443","AV12 0.45uM CA 50/PK","025","76","LAB FILTRATION DEVICES","491","EF Lab Cat Syringeless Filter",264,{"v":2378.376,"d":"2,378"}]
[5375,"AV125UGMF","28421444","AV12 0.45uM GMF 50/PK","025","76","LAB FILTRATION DEVICES","491","EF Lab Cat Syringeless Filter",264,{"v":2378.376,"d":"2,378"}]
[5378,"AV125UPP","28421447","AV12 0.45uM PP 50/PK","025","76","LAB FILTRATION DEVICES","491","EF Lab Cat Syringeless Filter",264,{"v":2378.376,"d":"2,378"}]
[5382,"AV525UORG","28421453","AV12 0.45uM PTFE 1000/PK","025","76","LAB FILTRATION DEVICES","491","EF Lab Cat Syringeless Filter",{"$f":"K5383/9.009","v":{"v":3964,"d":"3,964"}},{"v":35711.676,"d":"35,712"}]
[5386,"GN203NPEAQU","29011856","MUP G2 0.2uM PVDF 100/PK","025","76","LAB FILTRATION DEVICES","491","EF Lab Cat Syringeless Filter",710,{"v":6396.39,"d":"6,396"}]
[5389,"GN203NPEORG","29011859","MUP G2 0.2uM PTFE 100/PK","025","76","LAB FILTRATION DEVICES","491","EF Lab Cat Syringeless Filter",700,{"v":6306.3,"d":"6,306"}]
[5393,"GN203NPUAQU","29011858","MUP G2 0.45uM PVDF 100/PK","025","76","LAB FILTRATION DEVICES","491","EF Lab Cat Syringeless Filter",700,{"v":6306.3,"d":"6,306"}]
[5396,"GN203NPUORGSP","29012791","MUP G2 0.45uM PTFE 100/PK + HC","025","76","LAB FILTRATION DEVICES","491","EF Lab Cat Syringeless Filter",720,{"v":6486.4800000000005,"d":"6,486"}]
[5399,"MUPG2MCPWC8","29026196","MUP G2 MULTI COMP PUR/WH 1/PK","025","76","LAB FILTRATION DEVICES","491","EF Lab Cat Syringeless Filter",618,{"v":5567.562,"d":"5,568"}]
[5400,"MUPG2MCWT8","29036891","MUP G2 Multi Compressor Tray","025","76","LAB FILTRATION DEVICES","491","EF Lab Cat Syringeless Filter",{"v":40.8,"d":"41"},{"v":367.5672,"d":"368"}]
[5403,"UN113EORG","28421649","UP 0.2uM PTFE 50/PK","025","76","LAB FILTRATION DEVICES","491","EF Lab Cat Syringeless Filter",{"v":247.8,"d":"248"},{"v":2232.4302000000002,"d":"2,232"}]
[5408,"UN203APEAQU","28421655","MUP AMB 0.2uM PVDF 100/PK","025","76","LAB FILTRATION DEVICES","491","EF Lab Cat Syringeless Filter",374,{"v":3369.366,"d":"3,369"}]
[5411,"UN203APEPES","28421658","MUP AMB 0.2uM PES 100/PK","025","76","LAB FILTRATION DEVICES","491","EF Lab Cat Syringeless Filter",374,{"v":3369.366,"d":"3,369"}]
[5414,"UN203APUDPP","28421661","MUP AMB 0.45uM DPPP 100/PK","025","76","LAB FILTRATION DEVICES","491","EF Lab Cat Syringeless Filter",374,{"v":3369.366,"d":"3,369"}]
[5418,"UN203APUPES","28421665","MUP AMB 0.45uM PES 100/PK","025","76","LAB FILTRATION DEVICES","491","EF Lab Cat Syringeless Filter",374,{"v":3369.366,"d":"3,369"}]
[5421,"UN203NPENYL","28421668","MUP 0.2uM NYL 100/PK","025","76","LAB FILTRATION DEVICES","491","EF Lab Cat Syringeless Filter",338,{"v":3045.042,"d":"3,045"}]
[5424,"UN203NPEPP","28421671","MUP 0.2uM PP 100/PK","025","76","LAB FILTRATION DEVICES","491","EF Lab Cat Syringeless Filter",338,{"v":3045.042,"d":"3,045"}]
[5428,"UN203NPUGMF","28421675","MUP 0.45uM GMF 100/PK","025","76","LAB FILTRATION DEVICES","491","EF Lab Cat Syringeless Filter",335,{"v":3018.0150000000003,"d":"3,018"}]
[5429,"UN203NPUNYL","28421676","MUP 0.45uM NYL 100/PK","025","76","LAB FILTRATION DEVICES","491","EF Lab Cat Syringeless Filter",{"v":181.56,"d":"182"},{"v":1635.67404,"d":"1,636"}]
[5433,"UN203NPURC","28421680","MUP 0.45uM RC 100/PK","025","76","LAB FILTRATION DEVICES","491","EF Lab Cat Syringeless Filter",335,{"v":3018.0150000000003,"d":"3,018"}]
[5436,"UN503NPEORG","28421683","MUP 0.2uM PTFE 1000/PK","025","76","LAB FILTRATION DEVICES","491","EF Lab Cat Syringeless Filter",{"v":2791,"d":"2,791"},{"v":25144.119000000002,"d":"25,144"}]
[5439,"UN503NPUAQU","28421688","MUP 0.45uM PVDF 1000/PK","025","76","LAB FILTRATION DEVICES","491","EF Lab Cat Syringeless Filter",{"v":2791,"d":"2,791"},{"v":25144.119000000002,"d":"25,144"}]
[5443,"UN503NPUORG","28421693","MUP 0.45uM PTFE 1000/PK","025","76","LAB FILTRATION DEVICES","491","EF Lab Cat Syringeless Filter",{"v":1497,"d":"1,497"},{"v":13486.473,"d":"13,486"}]
[5446,"UN503NPURC","28421698","MUP 0.45uM RC 1000/PK","025","76","LAB FILTRATION DEVICES","491","EF Lab Cat Syringeless Filter",{"$f":"K5447/9.009","v":{"v":2305,"d":"2,305"}},{"v":20765.745,"d":"20,766"}]
[5449,"UN513UNYL","28421702","UP 0.45uM NYL 1000/PK","025","76","LAB FILTRATION DEVICES","491","EF Lab Cat Syringeless Filter",{"v":3734,"d":"3,734"},{"v":33639.606,"d":"33,640"}]
[5451,"US203APUNYL","28421704","MUP AMB SS 0.45uM NYL 100/PK","025","76","LAB FILTRATION DEVICES","491","EF Lab Cat Syringeless Filter",461,{"v":4153.149,"d":"4,153"}]
[5454,"US203NPEORG","28421707","MUP SS 0.2uM PTFE 100/PK","025","76","LAB FILTRATION DEVICES","491","EF Lab Cat Syringeless Filter",412,{"v":3711.708,"d":"3,712"}]
[5458,"US203NPUDPP","28421711","MUP SS 0.45uM DPP 100/PK","025","76","LAB FILTRATION DEVICES","491","EF Lab Cat Syringeless Filter",412,{"v":3711.708,"d":"3,712"}]
[5461,"US203NPUORG","28421714","MUP SS 0.45uM PTFE100/PK","025","76","LAB FILTRATION DEVICES","491","EF Lab Cat Syringeless Filter",412,{"v":3711.708,"d":"3,712"}]
[5464,"US503NPEAQU","28421718","MUP SS 0.2uM PVDF1000/PK","025","76","LAB FILTRATION DEVICES","491","EF Lab Cat Syringeless Filter",{"v":2907,"d":"2,907"},{"v":26189.163,"d":"26,189"}]
[5468,"US503NPEPP","28421722","MUP SS 0.2uM PP 1000/PK","025","76","LAB FILTRATION DEVICES","491","EF Lab Cat Syringeless Filter",{"v":2880,"d":"2,880"},{"v":25945.920000000002,"d":"25,946"}]
[5470,"US503NPUDPP","28421724","MUP SS 0.45uM DPP 1000/PK","025","76","LAB FILTRATION DEVICES","491","EF Lab Cat Syringeless Filter",{"v":2880,"d":"2,880"},{"v":25945.920000000002,"d":"25,946"}]
[5473,"US503NPUORG","28421727","MUP SS 0.45uM PTFE 1000/PK","025","76","LAB FILTRATION DEVICES","491","EF Lab Cat Syringeless Filter",{"v":2880,"d":"2,880"},{"v":25945.920000000002,"d":"25,946"}]
[5476,"GN203NPERC","29026673","MUP G2 0.2uM RC 100/PK","025","76","LAB FILTRATION DEVICES","491","EF Lab Cat Syringeless Filter","询价","询价"]
[5479,"GS203NPEPPSP","29026670","MUPG2 SS 0.2uM PP 100PK+HC","025","76","LAB FILTRATION DEVICES","491","EF Lab Cat Syringeless Filter","询价","询价"]
[5483,"GN503NPENYL","29026044","MUP G2 0.2uM NYL 1000/PK","025","76","LAB FILTRATION DEVICES","491","EF Lab Cat Syringeless Filter","询价","询价"]
[5486,"GN203NPUGMF","29026064","MUP G2 0.45uM GMF 100/PK","025","76","LAB FILTRATION DEVICES","491","EF Lab Cat Syringeless Filter","询价","询价"]
[5489,"GN503NPUORG","29026060","MUP G2 0.45uM PTFE 1000/PK","025","76","LAB FILTRATION DEVICES","491","EF Lab Cat Syringeless Filter","询价","询价"]
[5491,"GS203NPENYL","29026635","MUP G2 SS 0.2uM NYL 100/PK","025","76","LAB FILTRATION DEVICES","491","EF Lab Cat Syringeless Filter","询价","询价"]
[5497,"GN503NPEAQU","29028447","MUP G2 0.2uM PVDF 1000/PK","025","76","LAB FILTRATION DEVICES","491","EF Lab Cat Syringeless Filter","询价","询价"]
[5498,"GS203NPEPP","29018115","MUP G2 SS 0.2uM PP 100/PK","025","76","LAB FILTRATION DEVICES","491","EF Lab Cat Syringeless Filter","询价","询价"]
[5501,"GS203NPUORG","29018114","MUP G2 SS 0.45uM PTFE 100/PK","025","76","LAB FILTRATION DEVICES","491","EF Lab Cat Syringeless Filter","询价","询价"]
[5504,"GN503NPUAQU","29026041","MUP G2 0.45uM PVDF 1000/PK","025","76","LAB FILTRATION DEVICES","491","EF Lab Cat Syringeless Filter","询价","询价"]
[5508,"GS503NPUAQU","29030642","MUP G2 SS 0.45uM PVDF 1000/PK","025","76","LAB FILTRATION DEVICES","491","EF Lab Cat Syringeless Filter","询价","询价"]
[5511,"29025031","29025031","Mini-UniPrep 0.2RC (100) PROMO","025","76","LAB FILTRATION DEVICES","491","EF Lab Cat Syringeless Filter","询价","询价"]
[5516,"GN203NPUGMFSP","29026065","MUP G2 0.45uM GMF 100/PK + HC","025","76","LAB FILTRATION DEVICES","491","EF Lab Cat Syringeless Filter","询价","询价"]
[5519,"10463401","28415817","POLYDISC GW 0.45uM 50/PK","025","76","LAB FILTRATION DEVICES","492","EF Lab Catalogue Disc Filters",539,{"v":4855.851000000001,"d":"4,856"}]
[5522,"10463609","28415866","REZIST 50/0.2 PTFE 50/PK","025","76","LAB FILTRATION DEVICES","492","EF Lab Catalogue Disc Filters",528,{"v":4756.752,"d":"4,757"}]
[5523,"2227","28418841","POLYDISC HD 5.0 50/PK E/E","025","76","LAB FILTRATION DEVICES","492","EF Lab Catalogue Disc Filters",513,{"v":4621.617,"d":"4,622"}]
[5526,"6713-0425","28420168","POLYVENT 25MM 0.2 PTFE 50/PK","025","76","LAB FILTRATION DEVICES","492","EF Lab Catalogue Disc Filters",217,{"v":1954.953,"d":"1,955"}]
[5529,"6720-5001","28420211","POLYDISC 50 0.1 PTFE 10/PK","025","76","LAB FILTRATION DEVICES","492","EF Lab Catalogue Disc Filters",{"v":172.04,"d":"172"},{"v":1549.90836,"d":"1,550"}]
[5533,"6722-5000","28420219","VACUGUARD 50 0.45 PTFE 10/PK","025","76","LAB FILTRATION DEVICES","492","EF Lab Catalogue Disc Filters",202,{"v":1819.818,"d":"1,820"}]
[5537,"6724-5002","28420225","POLYDISC AS 0.2 GF/PES S 10/PK","025","76","LAB FILTRATION DEVICES","492","EF Lab Catalogue Disc Filters",{"v":174.1,"d":"174"},{"v":1568.4669,"d":"1,568"}]
[5541,"6725-5002A","28420232","SOLVENT IFD 0.2 PP 10/PK WO/O","025","76","LAB FILTRATION DEVICES","492","EF Lab Catalogue Disc Filters",{"v":199.86,"d":"200"},{"v":1800.5387400000002,"d":"1,801"}]
[5544,"6726-5002A","28420235","AQUEOUS IFD 0.2 NYL 10/PK WO/O","025","76","LAB FILTRATION DEVICES","492","EF Lab Catalogue Disc Filters",203,{"v":1828.827,"d":"1,829"}]
[5547,"10463608","28415865","REZIST 50/0.2 PTFE 10/PK","025","76","LAB FILTRATION DEVICES","492","EF Lab Catalogue Disc Filters","询价","询价"]
[5548,"10463610","28415867","REZIST 50/0.45 PTFE S 10/PK","025","76","LAB FILTRATION DEVICES","492","EF Lab Catalogue Disc Filters","询价","询价"]
[5551,"29058888","29058888","Rebate Adjustment Code  PG 492","025","76","LAB FILTRATION DEVICES","492","EF Lab Catalogue Disc Filters","询价","询价"]
[5555,"2107","28418726","STERIVENT 2000 0.2TF 1/PK B/B","025","76","LAB FILTRATION DEVICES","498","Catalog Capsules",{"v":163.34,"d":"163"},{"v":1471.53006,"d":"1,472"}]
[5558,"2601T","28418897","POLYCAP 36 0.2 PTFE 5/PK G/G","025","76","LAB FILTRATION DEVICES","498","Catalog Capsules",460,{"v":4144.14,"d":"4,144"}]
[5562,"2606T","28418909","POLYCAP 36 0.2 AS 5/PK G/G","025","76","LAB FILTRATION DEVICES","498","Catalog Capsules",420,{"v":3783.78,"d":"3,784"}]
[5566,"2611T","28418917","POLYCAP 36 .45/1.0 HD 5/PK G/G","025","76","LAB FILTRATION DEVICES","498","Catalog Capsules",319,{"v":2873.871,"d":"2,874"}]
[5569,"2614T","28418923","POLYCAP 36 10/20 HD 5/PK G/G","025","76","LAB FILTRATION DEVICES","498","Catalog Capsules",319,{"v":2873.871,"d":"2,874"}]
[5572,"2702M","28418939","POLYCAP 75 0.2 PTFE 5/PK F/F","025","76","LAB FILTRATION DEVICES","498","Catalog Capsules",596,{"v":5369.3640000000005,"d":"5,369"}]
[5573,"2702T","28418940","POLYCAP 75 0.2 PTFE 5/PK G/G","025","76","LAB FILTRATION DEVICES","498","Catalog Capsules",596,{"v":5369.3640000000005,"d":"5,369"}]
[5576,"2707NS","28418945","POLYCAP 75 0.45 AS 5/PK A/A","025","76","LAB FILTRATION DEVICES","498","Catalog Capsules",452,{"v":4072.068,"d":"4,072"}]
[5579,"2711T","28418949","POLYCAP 75 .45/1.0 HD 5/PK G/G","025","76","LAB FILTRATION DEVICES","498","Catalog Capsules",417,{"v":3756.753,"d":"3,757"}]
[5584,"2713T","28418955","POLYCAP 75 5/10 HD 5/PK G/G","025","76","LAB FILTRATION DEVICES","498","Catalog Capsules",417,{"v":3756.753,"d":"3,757"}]
[5587,"2800T","28418990","POLYCAP 150 0.1 PTFE 5/PK G/G","025","76","LAB FILTRATION DEVICES","498","Catalog Capsules",801,{"v":7216.209,"d":"7,216"}]
[5591,"2804T","28418996","POLYCAP 150 1.0 PTFE 5/PK G/G","025","76","LAB FILTRATION DEVICES","498","Catalog Capsules",801,{"v":7216.209,"d":"7,216"}]
[5594,"2810T","28419013","POLYCAP 150 .2/.45 HD 5/PK G/G","025","76","LAB FILTRATION DEVICES","498","Catalog Capsules",511,{"v":4603.599,"d":"4,604"}]
[5597,"2813T","28419023","POLYCAP 150 5/10 HD 5/PK G/G","025","76","LAB FILTRATION DEVICES","498","Catalog Capsules",511,{"v":4603.599,"d":"4,604"}]
[5598,"2814T","28419031","POLYCAP 150 10/20 HD 5/PK G/G","025","76","LAB FILTRATION DEVICES","498","Catalog Capsules",511,{"v":4603.599,"d":"4,604"}]
[5604,"6701-7510","28420113","POLYCAP 75 1.0 PTFE 1/PK A/A","025","76","LAB FILTRATION DEVICES","498","Catalog Capsules",{"v":133.17,"d":"133"},{"v":1199.7285299999999,"d":"1,200"}]
[5606,"6702-7500","28420115","HEPA-CAP 75 1/PK B/B","025","76","LAB FILTRATION DEVICES","498","Catalog Capsules",{"v":94.68,"d":"95"},{"v":852.9721200000001,"d":"853"}]
[5609,"6703-3611","28420118","POLYCAP 36 10.0 HD 1/PK A/A","025","76","LAB FILTRATION DEVICES","498","Catalog Capsules",{"v":62.42000000000001,"d":"62"},{"v":562.3417800000001,"d":"562"}]
[5612,"6703-7510","28420123","POLYCAP 75 1.0 HD 1/PK B/B","025","76","LAB FILTRATION DEVICES","498","Catalog Capsules",{"v":88.43,"d":"88"},{"v":796.66587,"d":"797"}]
[5616,"6704-1500","28420130","CARBON CAP 150 GF 1/PK B/B","025","76","LAB FILTRATION DEVICES","498","Catalog Capsules",{"v":139.41,"d":"139"},{"v":1255.94469,"d":"1,256"}]
[5619,"6705-3600","28420134","POLYC36SPF GF/1.0 PES 1/PK A/A","025","76","LAB FILTRATION DEVICES","498","Catalog Capsules",{"v":76.99,"d":"77"},{"v":693.60291,"d":"694"}]
[5620,"6705-3602","28420135","POLYCAP 36 0.2 AS 1/PK A/A S","025","76","LAB FILTRATION DEVICES","498","Catalog Capsules",{"v":65.55,"d":"66"},{"v":590.53995,"d":"591"}]
[5625,"6705-7510","28420141","POLYCAP 75 1.0 AS 1/PK B/B S","025","76","LAB FILTRATION DEVICES","498","Catalog Capsules",{"v":91.56,"d":"92"},{"v":824.86404,"d":"825"}]
[5627,"6708-3602","28420145","POLYCAP 36 0.2 AS 1/PK B/B S","025","76","LAB FILTRATION DEVICES","498","Catalog Capsules",{"v":65.55,"d":"66"},{"v":590.53995,"d":"591"}]
[5631,"6710-3602","28420154","POLYCAP 36 0.2 PTFE 1/PK B/B","025","76","LAB FILTRATION DEVICES","498","Catalog Capsules",{"v":92.6,"d":"93"},{"v":834.2334,"d":"834"}]
[5634,"6711-3602","28420161","POLYCAP 36 0.2 PTFE 1/PK F/A","025","76","LAB FILTRATION DEVICES","498","Catalog Capsules",{"v":101.96,"d":"102"},{"v":918.55764,"d":"919"}]
[5637,"6713-1075","28420169","POLYVENT 1000 0.2 PTFE 1/PK","025","76","LAB FILTRATION DEVICES","498","Catalog Capsules",{"v":130.05,"d":"130"},{"v":1171.6204500000001,"d":"1,172"}]
[5641,"6714-3604","28420180","POLYC36 .6/0.45 PES 1/PK A/A S","025","76","LAB FILTRATION DEVICES","498","Catalog Capsules",{"v":90.51,"d":"91"},{"v":815.4045900000001,"d":"815"}]
[5644,"6714-7502","28420183","POLYC75 0.2/0.2 PES 1/PK A/A S","025","76","LAB FILTRATION DEVICES","498","Catalog Capsules",{"v":144.62,"d":"145"},{"v":1302.88158,"d":"1,303"}]
[5646,"6715-3602","28420187","POLY36 .2/.2 PES 1/PK A/A/S/WB","025","76","LAB FILTRATION DEVICES","498","Catalog Capsules",{"$f":"K5647/9.009","v":{"v":95.72,"d":"96"}},{"v":862.34148,"d":"862"}]
[5649,"6715-3684","29030339","POLY36 .8/.2 PES 1/PK B/A/S/WB","025","76","LAB FILTRATION DEVICES","498","Catalog Capsules",103,{"v":927.927,"d":"928"}]
[5652,"6716-3602","28420195","POLY36 .2/.2 PES 1/PK F/A/S/WB","025","76","LAB FILTRATION DEVICES","498","Catalog Capsules",{"v":95.72,"d":"96"},{"v":862.34148,"d":"862"}]
[5656,"6717-9502","28420203","POLY150 0.2/0.2 PES 1/PK B/B/S","025","76","LAB FILTRATION DEVICES","498","Catalog Capsules",{"v":182.07,"d":"182"},{"v":1640.26863,"d":"1,640"}]
[5659,"6718-9582","28420209","POLY150 .8/0.2PES 1/PKB/A/S/WB","025","76","LAB FILTRATION DEVICES","498","Catalog Capsules",{"v":141.49,"d":"141"},{"v":1274.68341,"d":"1,275"}]
[5662,"6722-1003","28420218","VACUGUARD 150 0.45 TF/MS 1/PK","025","76","LAB FILTRATION DEVICES","498","Catalog Capsules",{"v":135.25,"d":"135"},{"v":1218.4672500000001,"d":"1,218"}]
[5666,"80590499","80590499","Domestic PE Process Capsules","025","76","LAB FILTRATION DEVICES","498","Catalog Capsules","询价","询价"]
[5667,"6715-7515","29024942","POLY75 .8/0.2PES 1P/K B/A/S/WB","025","76","LAB FILTRATION DEVICES","498","Catalog Capsules","询价","询价"]
[5671,"7700-2801","28420805","96W 800uL DYE TERM 25/PK","025","24","GENOMICS","502","MW Lab Cat Filter Plates",927,{"v":8351.343,"d":"8,351"},null,{"$f":"VLOOKUP(B5672,'[1]2018.7 '!A:C,3,)","v":"Active"},{"$f":"VLOOKUP(B5672,'[1]2018.7 '!A:M,13,)","v":"Ambient"},{"$f":"VLOOKUP(B5672,'[1]2018.7 '!A:N,14,)","v":"No"}]
[5674,"7700-2805","28420808","96W 800uL LDD 0.45 PP 25/PK","025","24","GENOMICS","502","MW Lab Cat Filter Plates",644,{"v":5801.796,"d":"5,802"},null,{"$f":"VLOOKUP(B5675,'[1]2018.7 '!A:C,3,)","v":"Active"},{"$f":"VLOOKUP(B5675,'[1]2018.7 '!A:M,13,)","v":"Ambient"},{"$f":"VLOOKUP(B5675,'[1]2018.7 '!A:N,14,)","v":"No"}]
[5677,"7700-9901","28420845","24W 10ML GF/C 25/PK","025","24","GENOMICS","502","MW Lab Cat Filter Plates",744,{"v":6702.696,"d":"6,703"},null,{"$f":"VLOOKUP(B5678,'[1]2018.7 '!A:C,3,)","v":"Active"},{"$f":"VLOOKUP(B5678,'[1]2018.7 '!A:M,13,)","v":"Ambient"},{"$f":"VLOOKUP(B5678,'[1]2018.7 '!A:N,14,)","v":"No"}]
[5681,"7701-1651","28420856","96W 650uL UNP CPS 50/PK","025","24","GENOMICS","503","MW Lab Cat Collection Plates",268,{"v":2414.4120000000003,"d":"2,414"},null,{"$f":"VLOOKUP(B5682,'[1]2018.7 '!A:C,3,)","v":"Active"},{"$f":"VLOOKUP(B5682,'[1]2018.7 '!A:M,13,)","v":"Ambient"},{"$f":"VLOOKUP(B5682,'[1]2018.7 '!A:N,14,)","v":"No"}]
[5684,"7701-5110","28420868","24W 10ML UNP NPP IRR/LID 25/PK","025","24","GENOMICS","503","MW Lab Cat Collection Plates",270,{"v":2432.4300000000003,"d":"2,432"},null,{"$f":"VLOOKUP(B5685,'[1]2018.7 '!A:C,3,)","v":"Active"},{"$f":"VLOOKUP(B5685,'[1]2018.7 '!A:M,13,)","v":"Ambient"},{"$f":"VLOOKUP(B5685,'[1]2018.7 '!A:N,14,)","v":"No"}]
[5688,"7704-1001","28420899","CPS MICROPLATE LID 100/PK","025","24","GENOMICS","505","MW Lab Cat Access & Hardware",{"v":154.53,"d":"155"},{"v":1392.16077,"d":"1,392"},null,{"$f":"VLOOKUP(B5689,'[1]2018.7 '!A:C,3,)","v":"Active"},{"$f":"VLOOKUP(B5689,'[1]2018.7 '!A:M,13,)","v":"Ambient"},{"$f":"VLOOKUP(B5689,'[1]2018.7 '!A:N,14,)","v":"No"}]
[5692,"35098","29012435","25MM HEPA FLL/MSL HW","025","79","CUSTOM LAB FILTRATION DEVICES","496","EF Custom",{"v":2.3278,"d":"2"},{"v":20.9711502,"d":"21"}]
[5695,"35074","28997953","25MM MTP BULK 200/PK","025","79","CUSTOM LAB FILTRATION DEVICES","496","EF Custom","询价","询价"]
[5696,"SD-MUP10TF","28422425","MUP 1.0um PTFE SD","025","79","CUSTOM LAB FILTRATION DEVICES","496","EF Custom","询价","询价"]
[5699,"50123","28419780","50MM 0.45UM TF MEDISCUS","025","79","CUSTOM LAB FILTRATION DEVICES","496","EF Custom","询价","询价"]
[5702,"11463410","28417821","PROFILL 25/0.2 RC","025","79","CUSTOM LAB FILTRATION DEVICES","496","EF Custom","询价","询价"]
[5706,"35001","28419389","25MM 74UM WPE","025","79","CUSTOM LAB FILTRATION DEVICES","496","EF Custom","询价","询价"]
[5709,"35015","28419396","25MM 20UM WPE","025","79","CUSTOM LAB FILTRATION DEVICES","496","EF Custom","询价","询价"]
[5713,"35043","28419404","25MM 0.2UM TF DOUBLE MSL","025","79","CUSTOM LAB FILTRATION DEVICES","496","EF Custom","询价","询价"]
[5717,"35084","28419417","25MM 5/10 HD W/ADA","025","79","CUSTOM LAB FILTRATION DEVICES","496","EF Custom","询价","询价"]
[5720,"35112","28419425","25MM 1.0UM TF DLL BRAVA","025","79","CUSTOM LAB FILTRATION DEVICES","496","EF Custom","询价","询价"]
[5721,"35122","28419426","25MM AQUA TOOL FILTER","025","79","CUSTOM LAB FILTRATION DEVICES","496","EF Custom","询价","询价"]
[5724,"35023","28419399","25MM 0.2UM DELNET DLL","025","79","CUSTOM LAB FILTRATION DEVICES","496","EF Custom","询价","询价"]
[5728,"35000","28419388","25MM 1.0UM PTFE","025","79","CUSTOM LAB FILTRATION DEVICES","496","EF Custom","询价","询价"]
[5731,"30030","28419218","25MM 0.45UM TF BIOHIT STERILE","025","79","CUSTOM LAB FILTRATION DEVICES","496","EF Custom","询价","询价"]
[5734,"51559","28995761","60MM MTP BULK 200/PK","025","79","CUSTOM LAB FILTRATION DEVICES","496","EF Custom","询价","询价"]
[5739,"6723-5018","29051363","50MM HEPA GF 1/8MPT INLET/OUTL","025","79","CUSTOM LAB FILTRATION DEVICES","496","EF Custom","询价","询价"]
[5742,"50060","28419766","50MM 1.0UM TF","025","79","CUSTOM LAB FILTRATION DEVICES","496","EF Custom","询价","询价"]
[5745,"50108","28419777","50MM GMF 0.2UM 1/4IN","025","79","CUSTOM LAB FILTRATION DEVICES","496","EF Custom","询价","询价"]
[5746,"50130","28419784","50MM ERIE MEDICAL","025","79","CUSTOM LAB FILTRATION DEVICES","496","EF Custom","询价","询价"]
[5749,"51502","28419816","60MM HEPA 1/4 SINGLE","025","79","CUSTOM LAB FILTRATION DEVICES","496","EF Custom","询价","询价"]
[5753,"51538","28419833","60MM ATMOS 312.0439.0","025","79","CUSTOM LAB FILTRATION DEVICES","496","EF Custom","询价","询价"]
[5755,"32007","28994706","13MM 0.45 PTFE PHILIPS","025","79","CUSTOM LAB FILTRATION DEVICES","496","EF Custom","询价","询价"]
[5760,"51558","28995692","60MM MTP 10 BAG 200/PK","025","79","CUSTOM LAB FILTRATION DEVICES","496","EF Custom","询价","询价"]
[5764,"3000743","29016670","SD-MUP PART KIT","025","79","CUSTOM LAB FILTRATION DEVICES","496","EF Custom","询价","询价"]
[5767,"51512","28419821","60MM HEPA 3/8-1/2- 1/4 MNPT","025","79","CUSTOM LAB FILTRATION DEVICES","496","EF Custom","询价","询价"]
[5770,"60177","28422082","CARBON CAP COLDER 1/PK FITTING","025","79","CUSTOM LAB FILTRATION DEVICES","501","PE Custom Capsules",{"v":131.5392,"d":"132"},{"v":1185.0366528,"d":"1,185"}]
[5771,"55107","29026481","36MM 0.2PTFE 1/4 - 3/8 HB 1 PK","025","79","CUSTOM LAB FILTRATION DEVICES","501","PE Custom Capsules","询价","询价"]
[5774,"60157","28420086","CAP75 10UM WPE INKJET","025","79","CUSTOM LAB FILTRATION DEVICES","501","PE Custom Capsules","询价","询价"]
[5780,"55006","28419978","CAP 36 GMF","025","79","CUSTOM LAB FILTRATION DEVICES","501","PE Custom Capsules","询价","询价"]
[5782,"55024","28419984","HEPA CAP TM 36 NUAIRE","025","79","CUSTOM LAB FILTRATION DEVICES","501","PE Custom Capsules","询价","询价"]
[5785,"55039","28419990","CAP 36 GMF","025","79","CUSTOM LAB FILTRATION DEVICES","501","PE Custom Capsules","询价","询价"]
[5789,"55096","28420016","CAP36 0.2UM AS 50/PK W","025","79","CUSTOM LAB FILTRATION DEVICES","501","PE Custom Capsules","询价","询价"]
[5792,"60012","28420048","CAP75 COULTER/AIR","025","79","CUSTOM LAB FILTRATION DEVICES","501","PE Custom Capsules","询价","询价"]
[5793,"60035","28420055","CAP75 PES 0.2UM HYSIS","025","79","CUSTOM LAB FILTRATION DEVICES","501","PE Custom Capsules","询价","询价"]
[5796,"70018","28420590","CAP150 HEPA - GENX","025","79","CUSTOM LAB FILTRATION DEVICES","501","PE Custom Capsules","询价","询价"]
[5801,"55038","28419989","CAP 36 HEPA NUAIRE 3/8","025","79","CUSTOM LAB FILTRATION DEVICES","501","PE Custom Capsules","询价","询价"]
[5804,"60014","29011957","CAP 75 0.2UM TF ST E","025","79","CUSTOM LAB FILTRATION DEVICES","501","PE Custom Capsules","询价","询价"]
[5807,"2755M","29060282","75MM 0.1/0.2PES F/F 25/PK NS","025","79","CUSTOM LAB FILTRATION DEVICES","501","PE Custom Capsules","询价","询价"]
[5810,"6050184","28999266","OEM 96W TOPSEAL 100/PK","025","53","CUSTOM MOLECULAR BIOLOGY","509","MW Custom Accessories & Hardware",23,{"v":207.207,"d":"207"},null,{"$f":"VLOOKUP(B5811,'[1]2018.7 '!A:C,3,)","v":"Active"},{"$f":"VLOOKUP(B5811,'[1]2018.7 '!A:M,13,)","v":"Ambient"},{"$f":"VLOOKUP(B5811,'[1]2018.7 '!A:N,14,)","v":"Reviewing"}]
[5814,"19152104010150","29102953","Sera-MagSpeedBead Amino, 5mL","025","08","MAGNETIC BEADS","054","Seramag",634,{"v":5711.706,"d":"5,712"},null,{"$f":"VLOOKUP(B5815,'[1]2018.7 '!A:C,3,)","v":"Active"},{"$f":"VLOOKUP(B5815,'[1]2018.7 '!A:M,13,)","v":"Wet Ice"},{"$f":"VLOOKUP(B5815,'[1]2018.7 '!A:N,14,)","v":"No"}]
[5817,"21152104010150","29102959","SpeedBead Blocked Strep, 5mL","025","08","MAGNETIC BEADS","054","Seramag",{"v":1074,"d":"1,074"},{"v":9675.666000000001,"d":"9,676"},null,{"$f":"VLOOKUP(B5818,'[1]2018.7 '!A:C,3,)","v":"Active"},{"$f":"VLOOKUP(B5818,'[1]2018.7 '!A:M,13,)","v":"Wet Ice"},{"$f":"VLOOKUP(B5818,'[1]2018.7 '!A:N,14,)","v":"No"}]
[5818,"21152104010350","29102961","SpeedBead Blocked Strep, 100mL","025","08","MAGNETIC BEADS","054","Seramag",{"v":6712,"d":"6,712"},{"v":60468.408,"d":"60,468"},null,{"$f":"VLOOKUP(B5819,'[1]2018.7 '!A:C,3,)","v":"Active"},{"$f":"VLOOKUP(B5819,'[1]2018.7 '!A:M,13,)","v":"Wet Ice"},{"$f":"VLOOKUP(B5819,'[1]2018.7 '!A:N,14,)","v":"No"}]
[5822,"24152105050450","29103110","Sera-Mag carboxylate, 1000mL","025","08","MAGNETIC BEADS","054","Seramag","询价","询价",null,{"$f":"VLOOKUP(B5823,'[1]2018.7 '!A:C,3,)","v":"Active"},{"$f":"VLOOKUP(B5823,'[1]2018.7 '!A:M,13,)","v":"Wet Ice"},{"$f":"VLOOKUP(B5823,'[1]2018.7 '!A:N,14,)","v":"No"}]
[5825,"28152103010350","29103112","Sera-Mag Oligo(dt), 100mL","025","08","MAGNETIC BEADS","054","Seramag",{"v":4430,"d":"4,430"},{"v":39909.87,"d":"39,910"}]
[5829,"30152103011150","29103125","Sera-Mag Strep lvl 3, 1mL","025","08","MAGNETIC BEADS","054","Seramag",{"v":174.43,"d":"174"},{"v":1571.4398700000002,"d":"1,571"},null,{"$f":"VLOOKUP(B5830,'[1]2018.7 '!A:C,3,)","v":"Active"},{"$f":"VLOOKUP(B5830,'[1]2018.7 '!A:M,13,)","v":"Wet Ice"},{"$f":"VLOOKUP(B5830,'[1]2018.7 '!A:N,14,)","v":"No"}]
[5832,"30152104010550","29104833","Sera-Mag Streptavidin","025","08","MAGNETIC BEADS","054","Seramag",{"v":23600,"d":"23,600"},{"v":212612.4,"d":"212,612"},null,{"$f":"VLOOKUP(B5833,'[1]2018.7 '!A:C,3,)","v":"Active"},{"$f":"VLOOKUP(B5833,'[1]2018.7 '!A:M,13,)","v":"Wet Ice"},{"$f":"VLOOKUP(B5833,'[1]2018.7 '!A:N,14,)","v":"No"}]
[5835,"30152105010350","29103130","Sera-Mag Streptavidin, 100mL","025","08","MAGNETIC BEADS","054","Seramag",{"v":6041,"d":"6,041"},{"v":54423.369,"d":"54,423"},null,{"$f":"VLOOKUP(B5836,'[1]2018.7 '!A:C,3,)","v":"Active"},{"$f":"VLOOKUP(B5836,'[1]2018.7 '!A:M,13,)","v":"Wet Ice"},{"$f":"VLOOKUP(B5836,'[1]2018.7 '!A:N,14,)","v":"No"}]
[5839,"38152103010150","29103133","Sera-Mag Oligo(dt), 5mL","025","08","MAGNETIC BEADS","054","Seramag",672,{"v":6054.048000000001,"d":"6,054"},null,{"$f":"VLOOKUP(B5840,'[1]2018.7 '!A:C,3,)","v":"Active"},{"$f":"VLOOKUP(B5840,'[1]2018.7 '!A:M,13,)","v":"Wet Ice"},{"$f":"VLOOKUP(B5840,'[1]2018.7 '!A:N,14,)","v":"No"}]
[5842,"44152105050250","29103137","Sera-Mag carboxylate, 15mL","025","08","MAGNETIC BEADS","054","Seramag",{"v":459.20000000000005,"d":"459"},{"v":4136.9328000000005,"d":"4,137"},null,{"$f":"VLOOKUP(B5843,'[1]2018.7 '!A:C,3,)","v":"Active"},{"$f":"VLOOKUP(B5843,'[1]2018.7 '!A:M,13,)","v":"Wet Ice"},{"$f":"VLOOKUP(B5843,'[1]2018.7 '!A:N,14,)","v":"No"}]
[5843,"44152105050350","29103138","Sera-Mag carboxylate, 100mL","025","08","MAGNETIC BEADS","054","Seramag",{"v":2385.5,"d":"2,386"},{"v":21490.9695,"d":"21,491"},null,{"$f":"VLOOKUP(B5844,'[1]2018.7 '!A:C,3,)","v":"Active"},{"$f":"VLOOKUP(B5844,'[1]2018.7 '!A:M,13,)","v":"Wet Ice"},{"$f":"VLOOKUP(B5844,'[1]2018.7 '!A:N,14,)","v":"No"}]
[5847,"45152105050350","29103146","SpeedBead carboxylate, 100mL","025","08","MAGNETIC BEADS","054","Seramag",{"v":2557.1,"d":"2,557"},{"v":23036.9139,"d":"23,037"},null,{"$f":"VLOOKUP(B5848,'[1]2018.7 '!A:C,3,)","v":"Active"},{"$f":"VLOOKUP(B5848,'[1]2018.7 '!A:M,13,)","v":"Wet Ice"},{"$f":"VLOOKUP(B5848,'[1]2018.7 '!A:N,14,)","v":"No"}]
[5850,"65152105050350","29103149","SpeedBead carboxylate, 100mL,","025","08","MAGNETIC BEADS","054","Seramag",{"v":2557.1,"d":"2,557"},{"v":23036.9139,"d":"23,037"},null,{"$f":"VLOOKUP(B5851,'[1]2018.7 '!A:C,3,)","v":"Active"},{"$f":"VLOOKUP(B5851,'[1]2018.7 '!A:M,13,)","v":"Wet Ice"},{"$f":"VLOOKUP(B5851,'[1]2018.7 '!A:N,14,)","v":"No"}]
[5854,"66152104011150","29103155","SpeedBead Streptavidin, 1mL","025","08","MAGNETIC BEADS","054","Seramag",336,{"v":3027.0240000000003,"d":"3,027"},null,{"$f":"VLOOKUP(B5855,'[1]2018.7 '!A:C,3,)","v":"Active"},{"$f":"VLOOKUP(B5855,'[1]2018.7 '!A:M,13,)","v":"Wet Ice"},{"$f":"VLOOKUP(B5855,'[1]2018.7 '!A:N,14,)","v":"No"}]
[5857,"78152104011150","29103160","SpeedBead Neutravavidin, 1mL","025","08","MAGNETIC BEADS","054","Seramag",336,{"v":3027.0240000000003,"d":"3,027"},null,{"$f":"VLOOKUP(B5858,'[1]2018.7 '!A:C,3,)","v":"Active"},{"$f":"VLOOKUP(B5858,'[1]2018.7 '!A:M,13,)","v":"Wet Ice"},{"$f":"VLOOKUP(B5858,'[1]2018.7 '!A:N,14,)","v":"No"}]
[5861,"S30345","29103335","Sera-Mag Strep Sample Pack","025","08","MAGNETIC BEADS","054","Seramag",538,{"v":4846.842000000001,"d":"4,847"},null,{"$f":"VLOOKUP(B5862,'[1]2018.7 '!A:C,3,)","v":"Phase Out"},{"$f":"VLOOKUP(B5862,'[1]2018.7 '!A:M,13,)","v":"Ambient"},{"$f":"VLOOKUP(B5862,'[1]2018.7 '!A:N,14,)","v":"reviewing"}]
[5864,"17371220","17371220","His Mag Sepharose excel 2x1 ml","025","50","CATALOGUE MAG BEADS","057","Mag Sepharose",226,{"v":2036.034,"d":"2,036"},null,{"$f":"VLOOKUP(B5865,'[1]2018.7 '!A:C,3,)","v":"Active"},{"$f":"VLOOKUP(B5865,'[1]2018.7 '!A:M,13,)","v":"Ambient"},{"$f":"VLOOKUP(B5865,'[1]2018.7 '!A:N,14,)","v":"No"}]
[5868,"28944008","28944008","Protein G Mag Sepharose 1 x 500ul","025","50","CATALOGUE MAG BEADS","057","Mag Sepharose",210,{"v":1891.89,"d":"1,892"},null,{"$f":"VLOOKUP(B5869,'[1]2018.7 '!A:C,3,)","v":"Active"},{"$f":"VLOOKUP(B5869,'[1]2018.7 '!A:M,13,)","v":"Ambient"},{"$f":"VLOOKUP(B5869,'[1]2018.7 '!A:N,14,)","v":"No"}]
[5869,"28944009","28944009","NHS Mag Sepharose 1x500ul","025","50","CATALOGUE MAG BEADS","057","Mag Sepharose",210,{"v":1891.89,"d":"1,892"},null,{"$f":"VLOOKUP(B5870,'[1]2018.7 '!A:C,3,)","v":"Active"},{"$f":"VLOOKUP(B5870,'[1]2018.7 '!A:M,13,)","v":"Ambient"},{"$f":"VLOOKUP(B5870,'[1]2018.7 '!A:N,14,)","v":"Yes"}]
[5872,"28951377","28951377","TiO2 Mag Sepharose 4x500ul","025","50","CATALOGUE MAG BEADS","057","Mag Sepharose",527,{"v":4747.743,"d":"4,748"},null,{"$f":"VLOOKUP(B5873,'[1]2018.7 '!A:C,3,)","v":"Active"},{"$f":"VLOOKUP(B5873,'[1]2018.7 '!A:M,13,)","v":"Ambient"},{"$f":"VLOOKUP(B5873,'[1]2018.7 '!A:N,14,)","v":"No"}]
[5875,"28951380","28951380","NHS Mag Sepharose 4x500ul","025","50","CATALOGUE MAG BEADS","057","Mag Sepharose",817,{"v":7360.353,"d":"7,360"},null,{"$f":"VLOOKUP(B5876,'[1]2018.7 '!A:C,3,)","v":"Active"},{"$f":"VLOOKUP(B5876,'[1]2018.7 '!A:M,13,)","v":"Ambient"},{"$f":"VLOOKUP(B5876,'[1]2018.7 '!A:N,14,)","v":"Yes"}]
[5879,"28967070","28967070","Protein G Mag Sepharose Xtra 5x1ml","025","50","CATALOGUE MAG BEADS","057","Mag Sepharose",543,{"v":4891.887000000001,"d":"4,892"},null,{"$f":"VLOOKUP(B5880,'[1]2018.7 '!A:C,3,)","v":"Active"},{"$f":"VLOOKUP(B5880,'[1]2018.7 '!A:M,13,)","v":"Ambient"},{"$f":"VLOOKUP(B5880,'[1]2018.7 '!A:N,14,)","v":"No"}]
[5882,"28979917","28979917","His Mag Sepharose Ni 10x1ml","025","50","CATALOGUE MAG BEADS","057","Mag Sepharose",602,{"v":5423.418000000001,"d":"5,423"},null,{"$f":"VLOOKUP(B5883,'[1]2018.7 '!A:C,3,)","v":"Phase Out"},{"$f":"VLOOKUP(B5883,'[1]2018.7 '!A:M,13,)","v":"Ambient"},{"$f":"VLOOKUP(B5883,'[1]2018.7 '!A:N,14,)","v":"No"}]
[5886,"28987211","28987211","DemoKit His Mag Sepharose Ni","025","50","CATALOGUE MAG BEADS","057","Mag Sepharose",{"v":33.66,"d":"34"},{"v":303.24294,"d":"303"}]
[5889,"10439200","28977811","BA-S85/20 200x200MM PK/25","025","52","OEM BLOTTING","489","Oem Blotting",{"v":470.00000000000006,"d":"470"},{"v":4234.2300000000005,"d":"4,234"},null,{"$f":"VLOOKUP(B5890,'[1]2018.7 '!A:C,3,)","v":"Active"},{"$f":"VLOOKUP(B5890,'[1]2018.7 '!A:M,13,)","v":"Ambient"},{"$f":"VLOOKUP(B5890,'[1]2018.7 '!A:N,14,)","v":"No"}]
[5893,"10447941","28415666","MINIFOLD-I SLOT-BLOT SYSTEM","025","21","NUCLEIC ACID BLOTTING AND DETECTION","513","BT Lab Cat Blotting Access",{"v":1307,"d":"1,307"},{"v":11774.763,"d":"11,775"},null,{"$f":"VLOOKUP(B5894,'[1]2018.7 '!A:C,3,)","v":"Active"},{"$f":"VLOOKUP(B5894,'[1]2018.7 '!A:M,13,)","v":"Ambient"},{"$f":"VLOOKUP(B5894,'[1]2018.7 '!A:N,14,)","v":"No"}]
[5894,"10483064","28416120","REACTION FOLD. 203x254MM 50/PK","025","21","NUCLEIC ACID BLOTTING AND DETECTION","513","BT Lab Cat Blotting Access",{"v":88.69,"d":"89"},{"v":799.00821,"d":"799"},null,{"$f":"VLOOKUP(B5895,'[1]2018.7 '!A:C,3,)","v":"Active"},{"$f":"VLOOKUP(B5895,'[1]2018.7 '!A:M,13,)","v":"Ambient"},{"$f":"VLOOKUP(B5895,'[1]2018.7 '!A:N,14,)","v":"No"}]
[5897,"18101044","18101044","MASKS (PKG 5) VACUGENE XL","025","21","NUCLEIC ACID BLOTTING AND DETECTION","513","BT Lab Cat Blotting Access",{"$f":"K5898/9.009","v":{"v":100.95,"d":"101"}},{"v":909.4585500000001,"d":"909"},null,{"$f":"VLOOKUP(B5898,'[1]2018.7 '!A:C,3,)","v":"Active"},{"$f":"VLOOKUP(B5898,'[1]2018.7 '!A:M,13,)","v":"Ambient"},{"$f":"VLOOKUP(B5898,'[1]2018.7 '!A:N,14,)","v":"No"}]
[5901,"RPN1606",25006070,"MEGAPRIME DNA LABELLING SYSTEM, DCTP, 30RXN","025","21","NUCLEIC ACID BLOTTING AND DETECTION","610","Nucleic Acid Labelling Kits",403,{"v":3630.627,"d":"3,631"},null,{"$f":"VLOOKUP(B5902,'[1]2018.7 '!A:C,3,)","v":"Active"},{"$f":"VLOOKUP(B5902,'[1]2018.7 '!A:M,13,)","v":"Dry Ice"},{"$f":"VLOOKUP(B5902,'[1]2018.7 '!A:N,14,)","v":"No"}]
[5904,"RPN1635",25006077,"RAPID-HYB BUFFER, 125ML","025","21","NUCLEIC ACID BLOTTING AND DETECTION","610","Nucleic Acid Labelling Kits",{"v":158.97,"d":"159"},{"v":1432.16073,"d":"1,432"},null,{"$f":"VLOOKUP(B5905,'[1]2018.7 '!A:C,3,)","v":"Active"},{"$f":"VLOOKUP(B5905,'[1]2018.7 '!A:M,13,)","v":"Ambient"},{"$f":"VLOOKUP(B5905,'[1]2018.7 '!A:N,14,)","v":"No"}]
[5907,"RPN3000",25006549,"ECL DIRECT NUCLEIC ACID","025","21","NUCLEIC ACID BLOTTING AND DETECTION","610","Nucleic Acid Labelling Kits",681,{"v":6135.129,"d":"6,135"},null,{"$f":"VLOOKUP(B5908,'[1]2018.7 '!A:C,3,)","v":"Active"},{"$f":"VLOOKUP(B5908,'[1]2018.7 '!A:M,13,)","v":"Ambient"},{"$f":"VLOOKUP(B5908,'[1]2018.7 '!A:N,14,)","v":"No"}]
[5910,"RPN3005",25006552,"ECL DIRECT NUCLEIC ACID","025","21","NUCLEIC ACID BLOTTING AND DETECTION","610","Nucleic Acid Labelling Kits",514,{"v":4630.626,"d":"4,631"},null,{"$f":"VLOOKUP(B5911,'[1]2018.7 '!A:C,3,)","v":"Active"},{"$f":"VLOOKUP(B5911,'[1]2018.7 '!A:M,13,)","v":"Ambient"},{"$f":"VLOOKUP(B5911,'[1]2018.7 '!A:N,14,)","v":"No"}]
[5915,"RPN3688",25000776,"ALKPHOS DIRECT HYBRIDISATION BUFFER","025","21","NUCLEIC ACID BLOTTING AND DETECTION","610","Nucleic Acid Labelling Kits",502,{"v":4522.518,"d":"4,523"},null,{"$f":"VLOOKUP(B5916,'[1]2018.7 '!A:C,3,)","v":"Active"},{"$f":"VLOOKUP(B5916,'[1]2018.7 '!A:M,13,)","v":"Ambient"},{"$f":"VLOOKUP(B5916,'[1]2018.7 '!A:N,14,)","v":"No"}]
[5918,"RPN1510B",25006033,"HYBOND-N+, 20X15CMX10CM","025","21","NUCLEIC ACID BLOTTING AND DETECTION","837","Nylon blotting",285,{"v":2567.565,"d":"2,568"},null,{"$f":"VLOOKUP(B5919,'[1]2018.7 '!A:C,3,)","v":"Active"},{"$f":"VLOOKUP(B5919,'[1]2018.7 '!A:M,13,)","v":"Ambient"},{"$f":"VLOOKUP(B5919,'[1]2018.7 '!A:N,14,)","v":"No"}]
[5919,"RPN1520B",25006036,"HYBOND-N+, 10X15CMX20CM","025","21","NUCLEIC ACID BLOTTING AND DETECTION","837","Nylon blotting",308,{"v":2774.772,"d":"2,775"},null,{"$f":"VLOOKUP(B5920,'[1]2018.7 '!A:C,3,)","v":"Active"},{"$f":"VLOOKUP(B5920,'[1]2018.7 '!A:M,13,)","v":"Ambient"},{"$f":"VLOOKUP(B5920,'[1]2018.7 '!A:N,14,)","v":"No"}]
[5922,"RPN1782B",25006127,"HYBOND-N+, 50X82MM DISCS,GRIDDED","025","21","NUCLEIC ACID BLOTTING AND DETECTION","837","Nylon blotting",314,{"v":2828.826,"d":"2,829"}]
[5926,"RPN203B",25006218,"HYBOND-N+, 20CMX3M","025","21","NUCLEIC ACID BLOTTING AND DETECTION","837","Nylon blotting",345,{"v":3108.105,"d":"3,108"},null,{"$f":"VLOOKUP(B5927,'[1]2018.7 '!A:C,3,)","v":"Active"},{"$f":"VLOOKUP(B5927,'[1]2018.7 '!A:M,13,)","v":"Ambient"},{"$f":"VLOOKUP(B5927,'[1]2018.7 '!A:N,14,)","v":"No"}]
[5929,"RPN203T",25006223,"HYBOND-NX NYLON MEMBRANE  20CMX3M ROLL","025","21","NUCLEIC ACID BLOTTING AND DETECTION","837","Nylon blotting",352,{"v":3171.168,"d":"3,171"},null,{"$f":"VLOOKUP(B5930,'[1]2018.7 '!A:C,3,)","v":"Active"},{"$f":"VLOOKUP(B5930,'[1]2018.7 '!A:M,13,)","v":"Ambient"},{"$f":"VLOOKUP(B5930,'[1]2018.7 '!A:N,14,)","v":"No"}]
[5931,"RPN2222S",25017110,"HYBOND-XL,10X22CMX22CM SHEETS","025","21","NUCLEIC ACID BLOTTING AND DETECTION","837","Nylon blotting",335,{"v":3018.0150000000003,"d":"3,018"},null,{"$f":"VLOOKUP(B5932,'[1]2018.7 '!A:C,3,)","v":"Active"},{"$f":"VLOOKUP(B5932,'[1]2018.7 '!A:M,13,)","v":"Ambient"},{"$f":"VLOOKUP(B5932,'[1]2018.7 '!A:N,14,)","v":"No"}]
[5937,"RPN303T",25006569,"HYBOND-NX NYLON MEMBRANE  30CMX3M ROLL","025","21","NUCLEIC ACID BLOTTING AND DETECTION","837","Nylon blotting",357,{"v":3216.213,"d":"3,216"},null,{"$f":"VLOOKUP(B5938,'[1]2018.7 '!A:C,3,)","v":"Active"},{"$f":"VLOOKUP(B5938,'[1]2018.7 '!A:M,13,)","v":"Ambient"},{"$f":"VLOOKUP(B5938,'[1]2018.7 '!A:N,14,)","v":"No"}]
[5940,"RPN82B",25006707,"HYBOND-N+, 50X82MM DISCS","025","21","NUCLEIC ACID BLOTTING AND DETECTION","837","Nylon blotting",204,{"v":1837.836,"d":"1,838"},null,{"$f":"VLOOKUP(B5941,'[1]2018.7 '!A:C,3,)","v":"Active"},{"$f":"VLOOKUP(B5941,'[1]2018.7 '!A:M,13,)","v":"Ambient"},{"$f":"VLOOKUP(B5941,'[1]2018.7 '!A:N,14,)","v":"No"}]
[5943,"10416094",28415350,"NYTRAN N2 200MMx3M 1/PK","025","21","NUCLEIC ACID BLOTTING AND DETECTION","837","Nylon blotting",408,{"v":3675.672,"d":"3,676"},null,{"$f":"VLOOKUP(B5944,'[1]2018.7 '!A:C,3,)","v":"Active"},{"$f":"VLOOKUP(B5944,'[1]2018.7 '!A:M,13,)","v":"Ambient"},{"$f":"VLOOKUP(B5944,'[1]2018.7 '!A:N,14,)","v":"No"}]
[5944,"10416096",28415351,"NYTRAN N2 300MMx3M 1/PK","025","21","NUCLEIC ACID BLOTTING AND DETECTION","837","Nylon blotting",442,{"v":3981.978,"d":"3,982"},null,{"$f":"VLOOKUP(B5945,'[1]2018.7 '!A:C,3,)","v":"Active"},{"$f":"VLOOKUP(B5945,'[1]2018.7 '!A:M,13,)","v":"Ambient"},{"$f":"VLOOKUP(B5945,'[1]2018.7 '!A:N,14,)","v":"No"}]
[5947,"10416216",28415365,"NYTRAN SPC 82MM 50/PK","025","21","NUCLEIC ACID BLOTTING AND DETECTION","837","Nylon blotting",294,{"v":2648.646,"d":"2,649"}]
[5951,"10416300",28415381,"TURBOBL KIT NY-SPC 100x150MM","025","21","NUCLEIC ACID BLOTTING AND DETECTION","837","Nylon blotting",{"v":177.83,"d":"178"},{"v":1602.0704700000001,"d":"1,602"},null,{"$f":"VLOOKUP(B5952,'[1]2018.7 '!A:C,3,)","v":"Active"},{"$f":"VLOOKUP(B5952,'[1]2018.7 '!A:M,13,)","v":"Ambient"},{"$f":"VLOOKUP(B5952,'[1]2018.7 '!A:N,14,)","v":"No"}]
[5956,"10416316",28415390,"TURBOBL KIT NY-SPC 150x200MM","025","21","NUCLEIC ACID BLOTTING AND DETECTION","837","Nylon blotting",307,{"v":2765.763,"d":"2,766"},null,{"$f":"VLOOKUP(B5957,'[1]2018.7 '!A:C,3,)","v":"Active"},{"$f":"VLOOKUP(B5957,'[1]2018.7 '!A:M,13,)","v":"Ambient"},{"$f":"VLOOKUP(B5957,'[1]2018.7 '!A:N,14,)","v":"No"}]
[5958,"10416324",28415394,"TURBOBL KIT NY-SPC 200x250MM","025","21","NUCLEIC ACID BLOTTING AND DETECTION","837","Nylon blotting",397,{"v":3576.5730000000003,"d":"3,577"},null,{"$f":"VLOOKUP(B5959,'[1]2018.7 '!A:C,3,)","v":"Active"},{"$f":"VLOOKUP(B5959,'[1]2018.7 '!A:M,13,)","v":"Ambient"},{"$f":"VLOOKUP(B5959,'[1]2018.7 '!A:N,14,)","v":"No"}]
[5962,"27079805",27079805,"REC TAQ DNA POLYMERASE 4X250U","025","24","GENOMICS","015","Amplification & Sequencing Components",418,{"v":3765.762,"d":"3,766"},null,{"$f":"VLOOKUP(B5963,'[1]2018.7 '!A:C,3,)","v":"Active"},{"$f":"VLOOKUP(B5963,'[1]2018.7 '!A:M,13,)","v":"Dry Ice"},{"$f":"VLOOKUP(B5963,'[1]2018.7 '!A:N,14,)","v":"No"}]
[5965,"27186004",27186004,"DC 5-TP ICE DI 250 MG","025","24","GENOMICS","015","Amplification & Sequencing Components",462,{"v":4162.158,"d":"4,162"},null,{"$f":"VLOOKUP(B5966,'[1]2018.7 '!A:C,3,)","v":"Active"},{"$f":"VLOOKUP(B5966,'[1]2018.7 '!A:M,13,)","v":"Dry Ice"},{"$f":"VLOOKUP(B5966,'[1]2018.7 '!A:N,14,)","v":"No"}]
[5966,"27188004",27188004,"DT 5-TP ICE DI 250 MG","025","24","GENOMICS","015","Amplification & Sequencing Components",462,{"v":4162.158,"d":"4,162"},null,{"$f":"VLOOKUP(B5967,'[1]2018.7 '!A:C,3,)","v":"Active"},{"$f":"VLOOKUP(B5967,'[1]2018.7 '!A:M,13,)","v":"Dry Ice"},{"$f":"VLOOKUP(B5967,'[1]2018.7 '!A:N,14,)","v":"No"}]
[5969,"27204501",27204501,"ULTRAPURE DDNTP SET DI  4X5 UM","025","24","GENOMICS","015","Amplification & Sequencing Components",{"v":241.99999999999997,"d":"242"},{"v":2180.178,"d":"2,180"},null,{"$f":"VLOOKUP(B5970,'[1]2018.7 '!A:C,3,)","v":"Active"},{"$f":"VLOOKUP(B5970,'[1]2018.7 '!A:M,13,)","v":"Dry Ice"},{"$f":"VLOOKUP(B5970,'[1]2018.7 '!A:N,14,)","v":"No"}]
[5972,"27206101",27206101,"DIDEOXY CTP 100 MM - 4 UMOL","025","24","GENOMICS","015","Amplification & Sequencing Components",231,{"v":2081.079,"d":"2,081"},null,{"$f":"VLOOKUP(B5973,'[1]2018.7 '!A:C,3,)","v":"Active"},{"$f":"VLOOKUP(B5973,'[1]2018.7 '!A:M,13,)","v":"Dry Ice"},{"$f":"VLOOKUP(B5973,'[1]2018.7 '!A:N,14,)","v":"No"}]
[5977,"27208601",27208601,"UTP 100 MM SOL. WI/DI 25 UM","025","24","GENOMICS","015","Amplification & Sequencing Components",{"v":66.69,"d":"67"},{"v":600.81021,"d":"601"},null,{"$f":"VLOOKUP(B5978,'[1]2018.7 '!A:C,3,)","v":"Active"},{"$f":"VLOOKUP(B5978,'[1]2018.7 '!A:M,13,)","v":"Dry Ice"},{"$f":"VLOOKUP(B5978,'[1]2018.7 '!A:N,14,)","v":"No"}]
[5980,"28406501",28406501,"DATP, 100 MMOLAR SOLN, 25UMOL","025","24","GENOMICS","015","Amplification & Sequencing Components",{"v":49.73,"d":"50"},{"v":448.01757,"d":"448"},null,{"$f":"VLOOKUP(B5981,'[1]2018.7 '!A:C,3,)","v":"Active"},{"$f":"VLOOKUP(B5981,'[1]2018.7 '!A:M,13,)","v":"Dry Ice"},{"$f":"VLOOKUP(B5981,'[1]2018.7 '!A:N,14,)","v":"No"}]
[5983,"28406511",28406511,"DCTP, 100 MMOLAR SOLN, 25UMOL","025","24","GENOMICS","015","Amplification & Sequencing Components",{"v":49.73,"d":"50"},{"v":448.01757,"d":"448"}]
[5987,"28406531",28406531,"DTTP, 100 MMOLAR SOLN, 25UMOL","025","24","GENOMICS","015","Amplification & Sequencing Components",{"v":49.73,"d":"50"},{"v":448.01757,"d":"448"},null,{"$f":"VLOOKUP(B5988,'[1]2018.7 '!A:C,3,)","v":"Phase Out"},{"$f":"VLOOKUP(B5988,'[1]2018.7 '!A:M,13,)","v":"Dry Ice"},{"$f":"VLOOKUP(B5988,'[1]2018.7 '!A:N,14,)","v":"No"}]
[5990,"28406542",28406542,"DUTP, 100 MMOLAR SOLN, 100UMOL","025","24","GENOMICS","015","Amplification & Sequencing Components",{"v":159.15,"d":"159"},{"v":1433.7823500000002,"d":"1,434"},null,{"$f":"VLOOKUP(B5991,'[1]2018.7 '!A:C,3,)","v":"Active"},{"$f":"VLOOKUP(B5991,'[1]2018.7 '!A:M,13,)","v":"Dry Ice"},{"$f":"VLOOKUP(B5991,'[1]2018.7 '!A:N,14,)","v":"No"}]
[5991,"28406551",28406551,"DNTP SET, 100 MM , 4 X 25UMOL","025","24","GENOMICS","015","Amplification & Sequencing Components",{"v":179.66,"d":"180"},{"v":1618.55694,"d":"1,619"},null,{"$f":"VLOOKUP(B5992,'[1]2018.7 '!A:C,3,)","v":"Active"},{"$f":"VLOOKUP(B5992,'[1]2018.7 '!A:M,13,)","v":"Dry Ice"},{"$f":"VLOOKUP(B5992,'[1]2018.7 '!A:N,14,)","v":"No"}]
[5994,"28406557",28406557,"DNTP SET - A,C,G,T, 1X10UMOL","025","24","GENOMICS","015","Amplification & Sequencing Components",{"v":74.65,"d":"75"},{"v":672.5218500000001,"d":"673"},null,{"$f":"VLOOKUP(B5995,'[1]2018.7 '!A:C,3,)","v":"Active"},{"$f":"VLOOKUP(B5995,'[1]2018.7 '!A:M,13,)","v":"Dry Ice"},{"$f":"VLOOKUP(B5995,'[1]2018.7 '!A:N,14,)","v":"No"}]
[5998,"E79000Y",25003962,"THERMO SEQUENASE DNA POLYMERASE, 1000U","025","24","GENOMICS","015","Amplification & Sequencing Components",885,{"v":7972.965,"d":"7,973"},null,{"$f":"VLOOKUP(B5999,'[1]2018.7 '!A:C,3,)","v":"Active"},{"$f":"VLOOKUP(B5999,'[1]2018.7 '!A:M,13,)","v":"Dry Ice"},{"$f":"VLOOKUP(B5999,'[1]2018.7 '!A:N,14,)","v":"No"}]
[6002,"17057202",17057202,"SEPHADEX G-25  DNA GR.100 G","025","24","GENOMICS","021","NAP",362,{"v":3261.2580000000003,"d":"3,261"},null,{"$f":"VLOOKUP(B6003,'[1]2018.7 '!A:C,3,)","v":"Active"},{"$f":"VLOOKUP(B6003,'[1]2018.7 '!A:M,13,)","v":"Ambient"},{"$f":"VLOOKUP(B6003,'[1]2018.7 '!A:N,14,)","v":"No"}]
[6005,"17057402",17057402,"SEPHADEX G-100 DNA GR.100 G","025","24","GENOMICS","021","NAP",436,{"v":3927.924,"d":"3,928"},null,{"$f":"VLOOKUP(B6006,'[1]2018.7 '!A:C,3,)","v":"Active"},{"$f":"VLOOKUP(B6006,'[1]2018.7 '!A:M,13,)","v":"Ambient"},{"$f":"VLOOKUP(B6006,'[1]2018.7 '!A:N,14,)","v":"No"}]
[6009,"17085302",17085302,"NAP-5   50 ST","025","24","GENOMICS","021","NAP",345,{"v":3108.105,"d":"3,108"},null,{"$f":"VLOOKUP(B6010,'[1]2018.7 '!A:C,3,)","v":"Active"},{"$f":"VLOOKUP(B6010,'[1]2018.7 '!A:M,13,)","v":"Ambient"},{"$f":"VLOOKUP(B6010,'[1]2018.7 '!A:N,14,)","v":"No"}]
[6012,"17085501",17085501,"NICK-COLUMN  20 ST","025","24","GENOMICS","021","NAP",200,{"v":1801.8000000000002,"d":"1,802"},null,{"$f":"VLOOKUP(B6013,'[1]2018.7 '!A:C,3,)","v":"Active"},{"$f":"VLOOKUP(B6013,'[1]2018.7 '!A:M,13,)","v":"Ambient"},{"$f":"VLOOKUP(B6013,'[1]2018.7 '!A:N,14,)","v":"No"}]
[6015,"27512001",27512001,"MICROSPIN S-200 HR, 50 COLUMNS","025","24","GENOMICS","021","NAP",{"v":240.99999999999997,"d":"241"},{"v":2171.169,"d":"2,171"},null,{"$f":"VLOOKUP(B6016,'[1]2018.7 '!A:C,3,)","v":"Active"},{"$f":"VLOOKUP(B6016,'[1]2018.7 '!A:M,13,)","v":"Ambient"},{"$f":"VLOOKUP(B6016,'[1]2018.7 '!A:N,14,)","v":"No"}]
[6016,"27513001",27513001,"MICROSPIN S-300 HR, 50 COLUMNS","025","24","GENOMICS","021","NAP",229,{"v":2063.061,"d":"2,063"},null,{"$f":"VLOOKUP(B6017,'[1]2018.7 '!A:C,3,)","v":"Active"},{"$f":"VLOOKUP(B6017,'[1]2018.7 '!A:M,13,)","v":"Ambient"},{"$f":"VLOOKUP(B6017,'[1]2018.7 '!A:N,14,)","v":"No"}]
[6019,"27533001",27533001,"MICROSPIN G-50 COLUMNS, 50 COLUMNS","025","24","GENOMICS","021","NAP",220,{"v":1981.98,"d":"1,982"},null,{"$f":"VLOOKUP(B6020,'[1]2018.7 '!A:C,3,)","v":"Active"},{"$f":"VLOOKUP(B6020,'[1]2018.7 '!A:M,13,)","v":"Ambient"},{"$f":"VLOOKUP(B6020,'[1]2018.7 '!A:N,14,)","v":"No"}]
[6023,"27534003",27534003,"AUTOSEQ G-50 1000 COLUMNS","025","24","GENOMICS","021","NAP",{"v":1832.9999999999998,"d":"1,833"},{"v":16513.497,"d":"16,513"},null,{"$f":"VLOOKUP(B6024,'[1]2018.7 '!A:C,3,)","v":"Active"},{"$f":"VLOOKUP(B6024,'[1]2018.7 '!A:M,13,)","v":"Ambient"},{"$f":"VLOOKUP(B6024,'[1]2018.7 '!A:N,14,)","v":"No"}]
[6027,"25-6601-97",29013588,"RTG GenomiPhi V3 Kit 480 rxns","025","24","GENOMICS","143","Phi29 DNA Amplification",{"v":2791.48,"d":"2,791"},{"v":25148.443320000002,"d":"25,148"},null,{"$f":"VLOOKUP(B6028,'[1]2018.7 '!A:C,3,)","v":"Active"},{"$f":"VLOOKUP(B6028,'[1]2018.7 '!A:M,13,)","v":"Ambient"},{"$f":"VLOOKUP(B6028,'[1]2018.7 '!A:N,14,)","v":"No"}]
[6030,"25-6603-97",29013593,"RTG GenomiPhi HY Kit 480 rxns","025","24","GENOMICS","143","Phi29 DNA Amplification",{"v":6779.69,"d":"6,780"},{"v":61078.22721,"d":"61,078"},null,{"$f":"VLOOKUP(B6031,'[1]2018.7 '!A:C,3,)","v":"Active"},{"$f":"VLOOKUP(B6031,'[1]2018.7 '!A:M,13,)","v":"Ambient"},{"$f":"VLOOKUP(B6031,'[1]2018.7 '!A:N,14,)","v":"No"}]
[6034,"25660020",25660020,"GENOMIPHI HY KIT 100 RXN","025","24","GENOMICS","143","Phi29 DNA Amplification",{"v":2020.5699999999997,"d":"2,021"},{"v":18203.31513,"d":"18,203"},null,{"$f":"VLOOKUP(B6035,'[1]2018.7 '!A:C,3,)","v":"Active"},{"$f":"VLOOKUP(B6035,'[1]2018.7 '!A:M,13,)","v":"Dry Ice"},{"$f":"VLOOKUP(B6035,'[1]2018.7 '!A:N,14,)","v":"No"}]
[6037,"25660030",25660030,"GENOMIPHI V2 DNA AMP KIT 25RXN","025","24","GENOMICS","143","Phi29 DNA Amplification",{"v":197.3,"d":"197"},{"v":1777.4757000000002,"d":"1,777"},null,{"$f":"VLOOKUP(B6038,'[1]2018.7 '!A:C,3,)","v":"Active"},{"$f":"VLOOKUP(B6038,'[1]2018.7 '!A:M,13,)","v":"Dry Ice"},{"$f":"VLOOKUP(B6038,'[1]2018.7 '!A:N,14,)","v":"No"}]
[6040,"28903529",28903529,"TempliPhi Seq Resolver Kit,20","025","24","GENOMICS","143","Phi29 DNA Amplification",300,{"v":2702.7000000000003,"d":"2,703"},null,{"$f":"VLOOKUP(B6041,'[1]2018.7 '!A:C,3,)","v":"Active"},{"$f":"VLOOKUP(B6041,'[1]2018.7 '!A:M,13,)","v":"Dry Ice"},{"$f":"VLOOKUP(B6041,'[1]2018.7 '!A:N,14,)","v":"No"}]
[6044,"29108039",29108039,"Single Cell GenomiPhi 100rxn kit","025","24","GENOMICS","143","Phi29 DNA Amplification",{"v":1826.9999999999998,"d":"1,827"},{"v":16459.443,"d":"16,459"},null,{"$f":"VLOOKUP(B6045,'[1]2018.7 '!A:C,3,)","v":"Active"},{"$f":"VLOOKUP(B6045,'[1]2018.7 '!A:M,13,)","v":"Dry Ice"},{"$f":"VLOOKUP(B6045,'[1]2018.7 '!A:N,14,)","v":"Yes"}]
[6045,"29108107",29108107,"Single Cell GenomiPhi 25rxn kit","025","24","GENOMICS","143","Phi29 DNA Amplification",{"v":507.5,"d":"508"},{"v":4572.0675,"d":"4,572"},null,{"$f":"VLOOKUP(B6046,'[1]2018.7 '!A:C,3,)","v":"Active"},{"$f":"VLOOKUP(B6046,'[1]2018.7 '!A:M,13,)","v":"Dry Ice"},{"$f":"VLOOKUP(B6046,'[1]2018.7 '!A:N,14,)","v":"Yes"}]
[6048,"25050072",25050072,"RNASPIN MINI (250)","025","24","GENOMICS","154","Nucleic Acid and Protein Extraction",{"v":1029,"d":"1,029"},{"v":9270.261,"d":"9,270"},null,{"$f":"VLOOKUP(B6049,'[1]2018.7 '!A:C,3,)","v":"Active"},{"$f":"VLOOKUP(B6049,'[1]2018.7 '!A:M,13,)","v":"Ambient"},{"$f":"VLOOKUP(B6049,'[1]2018.7 '!A:N,14,)","v":"Yes"}]
[6052,"27925802",27925802,"MRNA PURIF. KIT   WI   4 PUR","025","24","GENOMICS","154","Nucleic Acid and Protein Extraction",{"v":933.0000000000001,"d":"933"},{"v":8405.397,"d":"8,405"}]
[6055,"28904259",28904259,"illustra bacteria Mini (250)","025","24","GENOMICS","154","Nucleic Acid and Protein Extraction",{"v":1136,"d":"1,136"},{"v":10234.224,"d":"10,234"},null,{"$f":"VLOOKUP(B6056,'[1]2018.7 '!A:C,3,)","v":"Active"},{"$f":"VLOOKUP(B6056,'[1]2018.7 '!A:M,13,)","v":"Ambient"},{"$f":"VLOOKUP(B6056,'[1]2018.7 '!A:N,14,)","v":"No"}]
[6059,"28904270",28904270,"illustra plasmid Mini (250)","025","24","GENOMICS","154","Nucleic Acid and Protein Extraction",370,{"v":3333.33,"d":"3,333"},null,{"$f":"VLOOKUP(B6060,'[1]2018.7 '!A:C,3,)","v":"Active"},{"$f":"VLOOKUP(B6060,'[1]2018.7 '!A:M,13,)","v":"Ambient"},{"$f":"VLOOKUP(B6060,'[1]2018.7 '!A:N,14,)","v":"Yes"}]
[6062,"25150001",25150001,"HOT START MASTER MIX","025","24","GENOMICS","584","RT-PCR & PCR",{"v":142.88,"d":"143"},{"v":1287.20592,"d":"1,287"},null,{"$f":"VLOOKUP(B6063,'[1]2018.7 '!A:C,3,)","v":"Active"},{"$f":"VLOOKUP(B6063,'[1]2018.7 '!A:M,13,)","v":"Dry Ice"},{"$f":"VLOOKUP(B6063,'[1]2018.7 '!A:N,14,)","v":"No"}]
[6065,"27926401",27926401,"RTG YOU-PRIME FIRST-STRAND BEADS","025","24","GENOMICS","584","RT-PCR & PCR",{"v":475.00000000000006,"d":"475"},{"v":4279.275000000001,"d":"4,279"},null,{"$f":"VLOOKUP(B6066,'[1]2018.7 '!A:C,3,)","v":"Active"},{"$f":"VLOOKUP(B6066,'[1]2018.7 '!A:M,13,)","v":"Ambient"},{"$f":"VLOOKUP(B6066,'[1]2018.7 '!A:N,14,)","v":"No"}]
[6067,"27926701",27926701,"RTG RT-PCR 96RXN 12X8-STRIP TB","025","24","GENOMICS","584","RT-PCR & PCR",457,{"v":4117.113,"d":"4,117"},null,{"$f":"VLOOKUP(B6068,'[1]2018.7 '!A:C,3,)","v":"Active"},{"$f":"VLOOKUP(B6068,'[1]2018.7 '!A:M,13,)","v":"Ambient"},{"$f":"VLOOKUP(B6068,'[1]2018.7 '!A:N,14,)","v":"No"}]
[6070,"27955701",27955701,"PURETAQ RTG PCR 0.2ML-MWP 96RX","025","24","GENOMICS","584","RT-PCR & PCR",{"v":166.35,"d":"166"},{"v":1498.64715,"d":"1,499"},null,{"$f":"VLOOKUP(B6071,'[1]2018.7 '!A:C,3,)","v":"Active"},{"$f":"VLOOKUP(B6071,'[1]2018.7 '!A:M,13,)","v":"Ambient"},{"$f":"VLOOKUP(B6071,'[1]2018.7 '!A:N,14,)","v":"No"}]
[6074,"28900646",28900646,"Hot Start Mix RTG 0.5ml 100rxn","025","24","GENOMICS","584","RT-PCR & PCR",{"v":174.25,"d":"174"},{"v":1569.81825,"d":"1,570"},null,{"$f":"VLOOKUP(B6075,'[1]2018.7 '!A:C,3,)","v":"Active"},{"$f":"VLOOKUP(B6075,'[1]2018.7 '!A:M,13,)","v":"Ambient"},{"$f":"VLOOKUP(B6075,'[1]2018.7 '!A:N,14,)","v":"No"}]
[6077,"28903445",28903445,"GFX 96 PCR Purif Kit, 10x96","025","24","GENOMICS","708","DNA Labeling & PCR Clean-up",{"v":1561,"d":"1,561"},{"v":14063.049,"d":"14,063"},null,{"$f":"VLOOKUP(B6078,'[1]2018.7 '!A:C,3,)","v":"Active"},{"$f":"VLOOKUP(B6078,'[1]2018.7 '!A:M,13,)","v":"Ambient"},{"$f":"VLOOKUP(B6078,'[1]2018.7 '!A:N,14,)","v":"No"}]
[6080,"28903471",28903471,"GFX PCR DNA,Gel Band Purif,250","025","24","GENOMICS","708","DNA Labeling & PCR Clean-up",461,{"v":4153.149,"d":"4,153"},null,{"$f":"VLOOKUP(B6081,'[1]2018.7 '!A:C,3,)","v":"Active"},{"$f":"VLOOKUP(B6081,'[1]2018.7 '!A:M,13,)","v":"Ambient"},{"$f":"VLOOKUP(B6081,'[1]2018.7 '!A:N,14,)","v":"No"}]
[6084,"E70092Y",25003934,"SHRIMP ALKALINE PHOSPHATASE,500U","025","24","GENOMICS","708","DNA Labeling & PCR Clean-up",{"v":101.5,"d":"102"},{"v":914.4135,"d":"914"},null,{"$f":"VLOOKUP(B6085,'[1]2018.7 '!A:C,3,)","v":"Active"},{"$f":"VLOOKUP(B6085,'[1]2018.7 '!A:M,13,)","v":"Dry Ice"},{"$f":"VLOOKUP(B6085,'[1]2018.7 '!A:N,14,)","v":"No"}]
[6086,"US77702",29010361,"illustra ExoProStar 1-Step 100","025","24","GENOMICS","708","DNA Labeling & PCR Clean-up",{"v":101.5,"d":"102"},{"v":914.4135,"d":"914"},null,{"$f":"VLOOKUP(B6087,'[1]2018.7 '!A:C,3,)","v":"Active"},{"$f":"VLOOKUP(B6087,'[1]2018.7 '!A:M,13,)","v":"Dry Ice"},{"$f":"VLOOKUP(B6087,'[1]2018.7 '!A:N,14,)","v":"No"}]
[6091,"US78212",29002092,"illustra ExoProStar (2000 RCN)","025","24","GENOMICS","708","DNA Labeling & PCR Clean-up",{"v":971.9999999999999,"d":"972"},{"v":8756.748,"d":"8,757"},null,{"$f":"VLOOKUP(B6092,'[1]2018.7 '!A:C,3,)","v":"Active"},{"$f":"VLOOKUP(B6092,'[1]2018.7 '!A:M,13,)","v":"Dry Ice"},{"$f":"VLOOKUP(B6092,'[1]2018.7 '!A:N,14,)","v":"No"}]
[6092,"US78225",29002101,"illustra ExoProStar (5000 RCN)","025","24","GENOMICS","708","DNA Labeling & PCR Clean-up",{"v":2332,"d":"2,332"},{"v":21008.988,"d":"21,009"},null,{"$f":"VLOOKUP(B6093,'[1]2018.7 '!A:C,3,)","v":"Active"},{"$f":"VLOOKUP(B6093,'[1]2018.7 '!A:M,13,)","v":"Dry Ice"},{"$f":"VLOOKUP(B6093,'[1]2018.7 '!A:N,14,)","v":"No"}]
[6095,"US79050",29046324,"EXOPROSTAR S 500","025","24","GENOMICS","708","DNA Labeling & PCR Clean-up",314,{"v":2828.826,"d":"2,829"},null,{"$f":"VLOOKUP(B6096,'[1]2018.7 '!A:C,3,)","v":"Active"},{"$f":"VLOOKUP(B6096,'[1]2018.7 '!A:M,13,)","v":"Dry Ice"},{"$f":"VLOOKUP(B6096,'[1]2018.7 '!A:N,14,)","v":"No"}]
[6099,"27400701",27400701,"100 BASE-PAIR LADDER","025","24","GENOMICS","741","Biologicals",{"v":154.81,"d":"155"},{"v":1394.6832900000002,"d":"1,395"}]
[6102,"27411101",27411101,"LAMBDA DNA WD  500 UG","025","24","GENOMICS","741","Biologicals",{"v":181.37,"d":"181"},{"v":1633.96233,"d":"1,634"}]
[6105,"27456501",27456501,"SALMON TESTES SONICATED DNA","025","24","GENOMICS","741","Biologicals",341,{"v":3072.069,"d":"3,072"},null,{"$f":"VLOOKUP(B6106,'[1]2018.7 '!A:C,3,)","v":"Active"},{"$f":"VLOOKUP(B6106,'[1]2018.7 '!A:M,13,)","v":"Ambient"},{"$f":"VLOOKUP(B6106,'[1]2018.7 '!A:N,14,)","v":"No"}]
[6107,"27473201",27473201,"POLY(I)POLY(C), 265MG","025","24","GENOMICS","741","Biologicals",{"v":1725,"d":"1,725"},{"v":15540.525000000001,"d":"15,541"},null,{"$f":"VLOOKUP(B6108,'[1]2018.7 '!A:C,3,)","v":"Active"},{"$f":"VLOOKUP(B6108,'[1]2018.7 '!A:M,13,)","v":"Ambient"},{"$f":"VLOOKUP(B6108,'[1]2018.7 '!A:N,14,)","v":"No"}]
[6113,"10447724",28415647,"ELUTRAP BT1000 + ELECT CHAMB","025","24","GENOMICS","154","Nucleic Acid and Protein Extraction",{"v":1734,"d":"1,734"},{"v":15621.606,"d":"15,622"},null,{"$f":"VLOOKUP(B6114,'[1]2018.7 '!A:C,3,)","v":"Sales Stop"},{"$f":"VLOOKUP(B6114,'[1]2018.7 '!A:M,13,)","v":"Ambient"},{"$f":"VLOOKUP(B6114,'[1]2018.7 '!A:N,14,)","v":"No"}]
[6116,"28937348",28937348,"Rec Taq DNA Polymerase,Bk 25KU","025","24","GENOMICS","015","Amplification & Sequencing Components",{"v":5200,"d":"5,200"},{"v":46846.8,"d":"46,847"},null,{"$f":"VLOOKUP(B6117,'[1]2018.7 '!A:C,3,)","v":"Active"},{"$f":"VLOOKUP(B6117,'[1]2018.7 '!A:M,13,)","v":"Dry Ice"},{"$f":"VLOOKUP(B6117,'[1]2018.7 '!A:N,14,)","v":"Reviewing"}]
[6117,"RPN8501",25006716,"NUCLEON BACC1","025","24","GENOMICS","154","Nucleic Acid and Protein Extraction",{"v":172.55,"d":"173"},{"v":1554.50295,"d":"1,555"},null,{"$f":"VLOOKUP(B6118,'[1]2018.7 '!A:C,3,)","v":"Active"},{"$f":"VLOOKUP(B6118,'[1]2018.7 '!A:M,13,)","v":"Ambient"},{"$f":"VLOOKUP(B6118,'[1]2018.7 '!A:N,14,)","v":"Yes"}]
[6120,"RPN8510",25006720,"NUCLEON PHYTOPURE 50 PREPX0.1G","025","24","GENOMICS","154","Nucleic Acid and Protein Extraction",225,{"v":2027.025,"d":"2,027"},null,{"$f":"VLOOKUP(B6121,'[1]2018.7 '!A:C,3,)","v":"Active"},{"$f":"VLOOKUP(B6121,'[1]2018.7 '!A:M,13,)","v":"Ambient"},{"$f":"VLOOKUP(B6121,'[1]2018.7 '!A:N,14,)","v":"No"}]
[6124,"25900466",25900466,"CY 7 BIS NHS ESTER (10MG)Custom for Beckman Coulter and BD Biosciences","025","32","CUSTOM MOLECULAR REAGENTS","019","Custom Dye Labelling",{"v":2325,"d":"2,325"},{"v":20945.925,"d":"20,946"},null,{"$f":"VLOOKUP(B6125,'[1]2018.7 '!A:C,3,)","v":"Active"},{"$f":"VLOOKUP(B6125,'[1]2018.7 '!A:M,13,)","v":"Ambient"},{"$f":"VLOOKUP(B6125,'[1]2018.7 '!A:N,14,)","v":"No"}]
[6127,"25900481",25900481,"CY5 BIS NHS ESTER 10MG","025","32","CUSTOM MOLECULAR REAGENTS","019","Custom Dye Labelling",{"v":2325,"d":"2,325"},{"v":20945.925,"d":"20,946"},null,{"$f":"VLOOKUP(B6128,'[1]2018.7 '!A:C,3,)","v":"Active"},{"$f":"VLOOKUP(B6128,'[1]2018.7 '!A:M,13,)","v":"Ambient"},{"$f":"VLOOKUP(B6128,'[1]2018.7 '!A:N,14,)","v":"No"}]
[6132,"28904249",28904249,"Cy5 Amidite 100mg","025","32","CUSTOM MOLECULAR REAGENTS","019","Custom Dye Labelling",509,{"v":4585.581,"d":"4,586"},null,{"$f":"VLOOKUP(B6133,'[1]2018.7 '!A:C,3,)","v":"Active"},{"$f":"VLOOKUP(B6133,'[1]2018.7 '!A:M,13,)","v":"Dry Ice"},{"$f":"VLOOKUP(B6133,'[1]2018.7 '!A:N,14,)","v":"No"}]
[6135,"28904299",28904299,"Cy5 Amidite 20g pack","025","32","CUSTOM MOLECULAR REAGENTS","019","Custom Dye Labelling",{"v":56000,"d":"56,000"},{"v":504504,"d":"504,504"},null,{"$f":"VLOOKUP(B6136,'[1]2018.7 '!A:C,3,)","v":"Active"},{"$f":"VLOOKUP(B6136,'[1]2018.7 '!A:M,13,)","v":"Dry Ice"},{"$f":"VLOOKUP(B6136,'[1]2018.7 '!A:N,14,)","v":"No"}]
[6138,"28917299",28917299,"Cy3 Amidite, 1g","025","32","CUSTOM MOLECULAR REAGENTS","019","Custom Dye Labelling",{"v":4109,"d":"4,109"},{"v":37017.981,"d":"37,018"},null,{"$f":"VLOOKUP(B6139,'[1]2018.7 '!A:C,3,)","v":"Active"},{"$f":"VLOOKUP(B6139,'[1]2018.7 '!A:M,13,)","v":"Dry Ice"},{"$f":"VLOOKUP(B6139,'[1]2018.7 '!A:N,14,)","v":"No"}]
[6139,"28917301",28917301,"Cy3 Amidite, 10g","025","32","CUSTOM MOLECULAR REAGENTS","019","Custom Dye Labelling",{"v":31400.000000000004,"d":"31,400"},{"v":282882.60000000003,"d":"282,883"},null,{"$f":"VLOOKUP(B6140,'[1]2018.7 '!A:C,3,)","v":"Active"},{"$f":"VLOOKUP(B6140,'[1]2018.7 '!A:M,13,)","v":"Dry Ice"},{"$f":"VLOOKUP(B6140,'[1]2018.7 '!A:N,14,)","v":"No"}]
[6142,"28917705",28917705,"Cy5 NHS Ester, Custom bulk pack, 500mg","025","32","CUSTOM MOLECULAR REAGENTS","019","Custom Dye Labelling",{"v":31400.000000000004,"d":"31,400"},{"v":282882.60000000003,"d":"282,883"},null,{"$f":"VLOOKUP(B6143,'[1]2018.7 '!A:C,3,)","v":"Active"},{"$f":"VLOOKUP(B6143,'[1]2018.7 '!A:M,13,)","v":"Ambient"},{"$f":"VLOOKUP(B6143,'[1]2018.7 '!A:N,14,)","v":"No"}]
[6145,"28952401",28952401,"CY3 MONO NHS ESTER 100MG","025","32","CUSTOM MOLECULAR REAGENTS","019","Custom Dye Labelling",{"v":9887,"d":"9,887"},{"v":89071.98300000001,"d":"89,072"},null,{"$f":"VLOOKUP(B6146,'[1]2018.7 '!A:C,3,)","v":"Active"},{"$f":"VLOOKUP(B6146,'[1]2018.7 '!A:M,13,)","v":"Ambient"},{"$f":"VLOOKUP(B6146,'[1]2018.7 '!A:N,14,)","v":"No"}]
[6149,"29003081",29003081,"CY3-dUTP","025","32","CUSTOM MOLECULAR REAGENTS","019","Custom Dye Labelling",{"v":1604,"d":"1,604"},{"v":14450.436,"d":"14,450"},null,{"$f":"VLOOKUP(B6150,'[1]2018.7 '!A:C,3,)","v":"Active"},{"$f":"VLOOKUP(B6150,'[1]2018.7 '!A:M,13,)","v":"Dry Ice"},{"$f":"VLOOKUP(B6150,'[1]2018.7 '!A:N,14,)","v":"Reviewing"}]
[6153,"PA13136",25800275,"CY3 MALEIMIDE 25MG","025","32","CUSTOM MOLECULAR REAGENTS","019","Custom Dye Labelling",{"$f":"K6154/9.009","v":{"v":4361,"d":"4,361"}},{"v":39288.249,"d":"39,288"},null,{"$f":"VLOOKUP(B6154,'[1]2018.7 '!A:C,3,)","v":"Sales Stop"},{"$f":"VLOOKUP(B6154,'[1]2018.7 '!A:M,13,)","v":"Ambient"},{"$f":"VLOOKUP(B6154,'[1]2018.7 '!A:N,14,)","v":"Yes"}]
[6156,"PA15136",25800262,"CY 5 MALEIMIDE  25MG","025","32","CUSTOM MOLECULAR REAGENTS","019","Custom Dye Labelling",{"v":4361,"d":"4,361"},{"v":39288.249,"d":"39,288"},null,{"$f":"VLOOKUP(B6157,'[1]2018.7 '!A:C,3,)","v":"Active"},{"$f":"VLOOKUP(B6157,'[1]2018.7 '!A:M,13,)","v":"Ambient"},{"$f":"VLOOKUP(B6157,'[1]2018.7 '!A:N,14,)","v":"Yes"}]
[6160,"PA17002",25000700,"CY7 BIS NHS ESTER (50MG)","025","32","CUSTOM MOLECULAR REAGENTS","019","Custom Dye Labelling",{"v":7596,"d":"7,596"},{"v":68432.364,"d":"68,432"},null,{"$f":"VLOOKUP(B6161,'[1]2018.7 '!A:C,3,)","v":"Active"},{"$f":"VLOOKUP(B6161,'[1]2018.7 '!A:M,13,)","v":"Ambient"},{"$f":"VLOOKUP(B6161,'[1]2018.7 '!A:N,14,)","v":"No"}]
[6163,"29003136",29003136,"Custom RTG Proof of Principle Trial Epistem Format","025","32","CUSTOM MOLECULAR REAGENTS","140","Custom Ready-To-Go",{"v":15200.000000000002,"d":"15,200"},{"v":136936.80000000002,"d":"136,937"},null,{"$f":"VLOOKUP(B6164,'[1]2018.7 '!A:C,3,)","v":"Active"},{"$f":"VLOOKUP(B6164,'[1]2018.7 '!A:M,13,)","v":"Ambient"},{"$f":"VLOOKUP(B6164,'[1]2018.7 '!A:N,14,)","v":"Reviewing"}]
[6164,"29005370",29005370,"Custom RTG Proof of Principle Trial Small - Serum","025","32","CUSTOM MOLECULAR REAGENTS","140","Custom Ready-To-Go",{"v":8222,"d":"8,222"},{"v":74071.998,"d":"74,072"},null,{"$f":"VLOOKUP(B6165,'[1]2018.7 '!A:C,3,)","v":"Active"},{"$f":"VLOOKUP(B6165,'[1]2018.7 '!A:M,13,)","v":"Ambient"},{"$f":"VLOOKUP(B6165,'[1]2018.7 '!A:N,14,)","v":"Reviewing"}]
[6167,"28976085",28976085,"RadioPrep Kit","025","32","CUSTOM MOLECULAR REAGENTS","399","Contract Manufacturing 399",301,{"v":2711.7090000000003,"d":"2,712"},null,{"$f":"VLOOKUP(B6168,'[1]2018.7 '!A:C,3,)","v":"Active"},{"$f":"VLOOKUP(B6168,'[1]2018.7 '!A:M,13,)","v":"Wet Ice"},{"$f":"VLOOKUP(B6168,'[1]2018.7 '!A:N,14,)","v":"Reviewing"}]
[6170,"25900472",25900472,"CY3 NHS ESTER 150UG","025","44","CATALOGUE CYDYE","727","CyDye Protein Labelling",{"v":50.15,"d":"50"},{"v":451.80135,"d":"452"},null,{"$f":"VLOOKUP(B6171,'[1]2018.7 '!A:C,3,)","v":"Active"},{"$f":"VLOOKUP(B6171,'[1]2018.7 '!A:M,13,)","v":"Ambient"},{"$f":"VLOOKUP(B6171,'[1]2018.7 '!A:N,14,)","v":"No"}]
[6174,"PA13000",25005367,"CY3 BIS NHS ESTER (5MG)","025","44","CATALOGUE CYDYE","727","CyDye Protein Labelling",{"v":1022.55,"d":"1,023"},{"v":9212.15295,"d":"9,212"},null,{"$f":"VLOOKUP(B6175,'[1]2018.7 '!A:C,3,)","v":"Active"},{"$f":"VLOOKUP(B6175,'[1]2018.7 '!A:M,13,)","v":"Ambient"},{"$f":"VLOOKUP(B6175,'[1]2018.7 '!A:N,14,)","v":"No"}]
[6178,"PA13105",25800212,"CY3 MONO NHS ESTER  5MG","025","44","CATALOGUE CYDYE","727","CyDye Protein Labelling",{"v":1039.55,"d":"1,040"},{"v":9365.30595,"d":"9,365"},null,{"$f":"VLOOKUP(B6179,'[1]2018.7 '!A:C,3,)","v":"Active"},{"$f":"VLOOKUP(B6179,'[1]2018.7 '!A:M,13,)","v":"Ambient"},{"$f":"VLOOKUP(B6179,'[1]2018.7 '!A:N,14,)","v":"No"}]
[6182,"PA13130",25800276,"CY3 MALEIMIDE 5MG","025","44","CATALOGUE CYDYE","727","CyDye Protein Labelling",{"v":1039.55,"d":"1,040"},{"v":9365.30595,"d":"9,365"},null,{"$f":"VLOOKUP(B6183,'[1]2018.7 '!A:C,3,)","v":"Active"},{"$f":"VLOOKUP(B6183,'[1]2018.7 '!A:M,13,)","v":"Ambient"},{"$f":"VLOOKUP(B6183,'[1]2018.7 '!A:N,14,)","v":"Yes"}]
[6185,"PA15002",25005380,"CY5 BIS NHS ESTER (50MG)","025","44","CATALOGUE CYDYE","727","CyDye Protein Labelling",{"v":6053.7,"d":"6,054"},{"v":54537.7833,"d":"54,538"},null,{"$f":"VLOOKUP(B6186,'[1]2018.7 '!A:C,3,)","v":"Active"},{"$f":"VLOOKUP(B6186,'[1]2018.7 '!A:M,13,)","v":"Ambient"},{"$f":"VLOOKUP(B6186,'[1]2018.7 '!A:N,14,)","v":"No"}]
[6188,"PA15101",25190144,"CY5 MONO NHS ESTER  1MG","025","44","CATALOGUE CYDYE","727","CyDye Protein Labelling",{"v":305.15,"d":"305"},{"v":2749.09635,"d":"2,749"},null,{"$f":"VLOOKUP(B6189,'[1]2018.7 '!A:C,3,)","v":"Active"},{"$f":"VLOOKUP(B6189,'[1]2018.7 '!A:M,13,)","v":"Ambient"},{"$f":"VLOOKUP(B6189,'[1]2018.7 '!A:N,14,)","v":"No"}]
[6189,"PA15104",25005384,"CY5 MONO NHS ESTER(10MG)","025","44","CATALOGUE CYDYE","727","CyDye Protein Labelling",{"v":1481.55,"d":"1,482"},{"v":13347.283950000001,"d":"13,347"},null,{"$f":"VLOOKUP(B6190,'[1]2018.7 '!A:C,3,)","v":"Active"},{"$f":"VLOOKUP(B6190,'[1]2018.7 '!A:M,13,)","v":"Ambient"},{"$f":"VLOOKUP(B6190,'[1]2018.7 '!A:N,14,)","v":"No"}]
[6192,"PA15123",25800192,"CY5 SELECT-A-DYE KIT","025","44","CATALOGUE CYDYE","727","CyDye Protein Labelling",{"v":453.05,"d":"453"},{"v":4081.52745,"d":"4,082"},null,{"$f":"VLOOKUP(B6193,'[1]2018.7 '!A:C,3,)","v":"Active"},{"$f":"VLOOKUP(B6193,'[1]2018.7 '!A:M,13,)","v":"Ambient"},{"$f":"VLOOKUP(B6193,'[1]2018.7 '!A:N,14,)","v":"Yes"}]
[6195,"PA15601",25190149,"CY5.5 MONO NHS ESTER  1MG","025","44","CATALOGUE CYDYE","727","CyDye Protein Labelling",{"v":305.15,"d":"305"},{"v":2749.09635,"d":"2,749"},null,{"$f":"VLOOKUP(B6196,'[1]2018.7 '!A:C,3,)","v":"Active"},{"$f":"VLOOKUP(B6196,'[1]2018.7 '!A:M,13,)","v":"Ambient"},{"$f":"VLOOKUP(B6196,'[1]2018.7 '!A:N,14,)","v":"No"}]
[6200,"PA15636",25800254,"CY5.5 MALEIMIDE 25MG","025","44","CATALOGUE CYDYE","727","CyDye Protein Labelling",{"v":3474.8,"d":"3,475"},{"v":31304.473200000004,"d":"31,304"},null,{"$f":"VLOOKUP(B6201,'[1]2018.7 '!A:C,3,)","v":"Active"},{"$f":"VLOOKUP(B6201,'[1]2018.7 '!A:M,13,)","v":"Ambient"},{"$f":"VLOOKUP(B6201,'[1]2018.7 '!A:N,14,)","v":"Yes"}]
[6203,"PA17104",25800309,"Cy7 Mono NHS Ester, 10 mg","025","44","CATALOGUE CYDYE","727","CyDye Protein Labelling",{"v":1481.55,"d":"1,482"},{"v":13347.283950000001,"d":"13,347"},null,{"$f":"VLOOKUP(B6204,'[1]2018.7 '!A:C,3,)","v":"Active"},{"$f":"VLOOKUP(B6204,'[1]2018.7 '!A:M,13,)","v":"Ambient"},{"$f":"VLOOKUP(B6204,'[1]2018.7 '!A:N,14,)","v":"No"}]
[6207,"PA25031",25800674,"CY5 MALEIMIDE MONO DYE PACK","025","44","CATALOGUE CYDYE","727","CyDye Protein Labelling",{"v":327.25,"d":"327"},{"v":2948.19525,"d":"2,948"},null,{"$f":"VLOOKUP(B6208,'[1]2018.7 '!A:C,3,)","v":"Active"},{"$f":"VLOOKUP(B6208,'[1]2018.7 '!A:M,13,)","v":"Wet Ice"},{"$f":"VLOOKUP(B6208,'[1]2018.7 '!A:N,14,)","v":"Yes"}]
[6210,"PA33000",25005404,"CY3 AB KIT","025","44","CATALOGUE CYDYE","727","CyDye Protein Labelling",{"v":339.15,"d":"339"},{"v":3055.40235,"d":"3,055"},null,{"$f":"VLOOKUP(B6211,'[1]2018.7 '!A:C,3,)","v":"Active"},{"$f":"VLOOKUP(B6211,'[1]2018.7 '!A:M,13,)","v":"Ambient"},{"$f":"VLOOKUP(B6211,'[1]2018.7 '!A:N,14,)","v":"No"}]
[6213,"PA42001",25005415,"CY2-STREPTAVIDIN","025","44","CATALOGUE CYDYE","727","CyDye Protein Labelling",{"v":223.55,"d":"224"},{"v":2013.9619500000001,"d":"2,014"},null,{"$f":"VLOOKUP(B6214,'[1]2018.7 '!A:C,3,)","v":"Active"},{"$f":"VLOOKUP(B6214,'[1]2018.7 '!A:M,13,)","v":"Ambient"},{"$f":"VLOOKUP(B6214,'[1]2018.7 '!A:N,14,)","v":"No"}]
[6214,"PA43001",25005423,"CY3-STREPTAVIDIN","025","44","CATALOGUE CYDYE","727","CyDye Protein Labelling",{"v":223.55,"d":"224"},{"v":2013.9619500000001,"d":"2,014"},null,{"$f":"VLOOKUP(B6215,'[1]2018.7 '!A:C,3,)","v":"Active"},{"$f":"VLOOKUP(B6215,'[1]2018.7 '!A:M,13,)","v":"Ambient"},{"$f":"VLOOKUP(B6215,'[1]2018.7 '!A:N,14,)","v":"No"}]
[6220,"PA53026",25800182,"CY TM3 AMINOALLYL UTP","025","44","CATALOGUE CYDYE","729","Dye Labelled Nucleic Acids",{"v":665.55,"d":"666"},{"v":5995.93995,"d":"5,996"},null,{"$f":"VLOOKUP(B6221,'[1]2018.7 '!A:C,3,)","v":"Active"},{"$f":"VLOOKUP(B6221,'[1]2018.7 '!A:M,13,)","v":"Dry Ice"},{"$f":"VLOOKUP(B6221,'[1]2018.7 '!A:N,14,)","v":"No"}]
[6221,"PA53031",25800709,"CY3-DCTP, 250 NMOL","025","44","CATALOGUE CYDYE","729","Dye Labelled Nucleic Acids",{"v":3139.9,"d":"3,140"},{"v":28287.3591,"d":"28,287"},null,{"$f":"VLOOKUP(B6222,'[1]2018.7 '!A:C,3,)","v":"Active"},{"$f":"VLOOKUP(B6222,'[1]2018.7 '!A:M,13,)","v":"Dry Ice"},{"$f":"VLOOKUP(B6222,'[1]2018.7 '!A:N,14,)","v":"No"}]
[6225,"PA55022",25005446,"CY5-DUTP","025","44","CATALOGUE CYDYE","729","Dye Labelled Nucleic Acids",{"v":429.25,"d":"429"},{"v":3867.1132500000003,"d":"3,867"},null,{"$f":"VLOOKUP(B6226,'[1]2018.7 '!A:C,3,)","v":"Active"},{"$f":"VLOOKUP(B6226,'[1]2018.7 '!A:M,13,)","v":"Dry Ice"},{"$f":"VLOOKUP(B6226,'[1]2018.7 '!A:N,14,)","v":"No"}]
[6228,"PA55032",25800712,"CY5-DUTP, 250 NMOL","025","44","CATALOGUE CYDYE","729","Dye Labelled Nucleic Acids",{"v":3139.9,"d":"3,140"},{"v":28287.3591,"d":"28,287"},null,{"$f":"VLOOKUP(B6229,'[1]2018.7 '!A:C,3,)","v":"Active"},{"$f":"VLOOKUP(B6229,'[1]2018.7 '!A:M,13,)","v":"Dry Ice"},{"$f":"VLOOKUP(B6229,'[1]2018.7 '!A:N,14,)","v":"No"}]
[6232,"RPK0325",25190058,"MICROARRAY HYBRIDISATION BUFFER VERSION 2","025","44","CATALOGUE CYDYE","729","Dye Labelled Nucleic Acids",170,{"v":1531.53,"d":"1,532"},null,{"$f":"VLOOKUP(B6233,'[1]2018.7 '!A:C,3,)","v":"Active"},{"$f":"VLOOKUP(B6233,'[1]2018.7 '!A:M,13,)","v":"Dry Ice"},{"$f":"VLOOKUP(B6233,'[1]2018.7 '!A:N,14,)","v":"No"}]
[6235,"29033399",29033399,"THERMOSEQUENASE 1ML BULK PACK","025","32","CUSTOM MOLECULAR REAGENTS","152","Custom Molecular Biology",{"v":7455,"d":"7,455"},{"v":67162.095,"d":"67,162"},null,{"$f":"VLOOKUP(B6236,'[1]2018.7 '!A:C,3,)","v":"Active"},{"$f":"VLOOKUP(B6236,'[1]2018.7 '!A:M,13,)","v":"Dry Ice"},{"$f":"VLOOKUP(B6236,'[1]2018.7 '!A:N,14,)","v":"No"}]
[6238,"US79802-10ML",25020069,"THERMOSEQUENASE OPTIMISED REACTION BUFFER (CUSTOM PCKG)","025","32","CUSTOM MOLECULAR REAGENTS","152","Custom Molecular Biology",{"v":1310,"d":"1,310"},{"v":11801.79,"d":"11,802"},null,{"$f":"VLOOKUP(B6239,'[1]2018.7 '!A:C,3,)","v":"Active"},{"$f":"VLOOKUP(B6239,'[1]2018.7 '!A:M,13,)","v":"Dry Ice"},{"$f":"VLOOKUP(B6239,'[1]2018.7 '!A:N,14,)","v":"Reviewing"}]
[6241,"25900633",25900633,"NUCLEOTIDE MIX 10ML, 25MM","025","32","CUSTOM MOLECULAR REAGENTS","152","Custom Molecular Biology",{"v":1377,"d":"1,377"},{"v":12405.393,"d":"12,405"},null,{"$f":"VLOOKUP(B6242,'[1]2018.7 '!A:C,3,)","v":"Active"},{"$f":"VLOOKUP(B6242,'[1]2018.7 '!A:M,13,)","v":"Dry Ice"},{"$f":"VLOOKUP(B6242,'[1]2018.7 '!A:N,14,)","v":"No"}]
[6243,"27204064",27204064,"DUTP,BULK ML, 100 MILLIMOLAR SOLN","025","32","CUSTOM MOLECULAR REAGENTS","152","Custom Molecular Biology",{"v":147.27,"d":"147"},{"v":1326.7554300000002,"d":"1,327"},null,{"$f":"VLOOKUP(B6244,'[1]2018.7 '!A:C,3,)","v":"Active"},{"$f":"VLOOKUP(B6244,'[1]2018.7 '!A:M,13,)","v":"Dry Ice"},{"$f":"VLOOKUP(B6244,'[1]2018.7 '!A:N,14,)","v":"No"}]
[6247,"27205662",27205662,"ATP, 100 MM, BULK 1000 UMOL","025","32","CUSTOM MOLECULAR REAGENTS","152","Custom Molecular Biology",{"v":1698,"d":"1,698"},{"v":15297.282000000001,"d":"15,297"},null,{"$f":"VLOOKUP(B6248,'[1]2018.7 '!A:C,3,)","v":"Active"},{"$f":"VLOOKUP(B6248,'[1]2018.7 '!A:M,13,)","v":"Dry Ice"},{"$f":"VLOOKUP(B6248,'[1]2018.7 '!A:N,14,)","v":"No"}]
[6250,"27206662",27206662,"CTP, 100 MM, BULK 1000 UMOL","025","32","CUSTOM MOLECULAR REAGENTS","152","Custom Molecular Biology",{"v":1849,"d":"1,849"},{"v":16657.641,"d":"16,658"},null,{"$f":"VLOOKUP(B6251,'[1]2018.7 '!A:C,3,)","v":"Active"},{"$f":"VLOOKUP(B6251,'[1]2018.7 '!A:M,13,)","v":"Dry Ice"},{"$f":"VLOOKUP(B6251,'[1]2018.7 '!A:N,14,)","v":"No"}]
[6253,"27207460",27207460,"DNA POLY MIX, 10 MILLI M, 50ML","025","32","CUSTOM MOLECULAR REAGENTS","152","Custom Molecular Biology",{"v":3117,"d":"3,117"},{"v":28081.053,"d":"28,081"},null,{"$f":"VLOOKUP(B6254,'[1]2018.7 '!A:C,3,)","v":"Active"},{"$f":"VLOOKUP(B6254,'[1]2018.7 '!A:M,13,)","v":"Dry Ice"},{"$f":"VLOOKUP(B6254,'[1]2018.7 '!A:N,14,)","v":"No"}]
[6257,"27208400",27208400,"DNA POLYMERISATION MIX 25 MM","025","32","CUSTOM MOLECULAR REAGENTS","152","Custom Molecular Biology",203,{"v":1828.827,"d":"1,829"},null,{"$f":"VLOOKUP(B6258,'[1]2018.7 '!A:C,3,)","v":"Active"},{"$f":"VLOOKUP(B6258,'[1]2018.7 '!A:M,13,)","v":"Dry Ice"},{"$f":"VLOOKUP(B6258,'[1]2018.7 '!A:N,14,)","v":"No"}]
[6260,"27787802",27787802,"POLY(A)-PD(T)12-18","025","32","CUSTOM MOLECULAR REAGENTS","152","Custom Molecular Biology",716,{"v":6450.444,"d":"6,450"},null,{"$f":"VLOOKUP(B6261,'[1]2018.7 '!A:C,3,)","v":"Active"},{"$f":"VLOOKUP(B6261,'[1]2018.7 '!A:M,13,)","v":"Ambient"},{"$f":"VLOOKUP(B6261,'[1]2018.7 '!A:N,14,)","v":"No"}]
[6262,"27985004",27985004,"CDNA 1ST STR RXN MIX DTT CUST","025","32","CUSTOM MOLECULAR REAGENTS","152","Custom Molecular Biology",740,{"v":6666.66,"d":"6,667"},null,{"$f":"VLOOKUP(B6263,'[1]2018.7 '!A:C,3,)","v":"Active"},{"$f":"VLOOKUP(B6263,'[1]2018.7 '!A:M,13,)","v":"Dry Ice"},{"$f":"VLOOKUP(B6263,'[1]2018.7 '!A:N,14,)","v":"Yes"}]
[6265,"28406440",28406440,"DATP, 100 MMOLAR SOLN, 20ML","025","32","CUSTOM MOLECULAR REAGENTS","152","Custom Molecular Biology",{"v":4151,"d":"4,151"},{"v":37396.359000000004,"d":"37,396"},null,{"$f":"VLOOKUP(B6266,'[1]2018.7 '!A:C,3,)","v":"Active"},{"$f":"VLOOKUP(B6266,'[1]2018.7 '!A:M,13,)","v":"Dry Ice"},{"$f":"VLOOKUP(B6266,'[1]2018.7 '!A:N,14,)","v":"No"}]
[6268,"28406470",28406470,"DTTP, 100 MMOLAR SOLN, 20ML","025","32","CUSTOM MOLECULAR REAGENTS","152","Custom Molecular Biology",{"v":4151,"d":"4,151"},{"v":37396.359000000004,"d":"37,396"},null,{"$f":"VLOOKUP(B6269,'[1]2018.7 '!A:C,3,)","v":"Active"},{"$f":"VLOOKUP(B6269,'[1]2018.7 '!A:M,13,)","v":"Dry Ice"},{"$f":"VLOOKUP(B6269,'[1]2018.7 '!A:N,14,)","v":"No"}]
[6272,"C-4004",67610314,"xTAG Exo I 110ul Box of 100","025","32","CUSTOM MOLECULAR REAGENTS","152","Custom Molecular Biology",{"v":3408,"d":"3,408"},{"v":30702.672000000002,"d":"30,703"},null,{"$f":"VLOOKUP(B6273,'[1]2018.7 '!A:C,3,)","v":"Active"},{"$f":"VLOOKUP(B6273,'[1]2018.7 '!A:M,13,)","v":"Dry Ice"},{"$f":"VLOOKUP(B6273,'[1]2018.7 '!A:N,14,)","v":"Reviewing"}]
[6275,"10534104",28416577,"903 PUERTO RICO 1/PK","025","66","SAMPLE COLLECTION RESEARCH CUSTOM","527","903 Research Custom",{"v":0.87,"d":"1"},{"v":7.83783,"d":"8"}]
[6278,"10534737",28416841,"903 CDC 100/PK","025","66","SAMPLE COLLECTION RESEARCH CUSTOM","527","903 Research Custom",{"v":68.25,"d":"68"},{"v":614.86425,"d":"615"}]
[6282,"10530127",29138675,"VRL CF12 CARD 1/PK","025","66","SAMPLE COLLECTION RESEARCH CUSTOM","528","CF12 Custom Products",{"v":1.08,"d":"1"},{"v":9.72972,"d":"10"}]
[6283,"10530128",29143143,"US BIOTEK 12 SPOT CARD 1/PK","025","66","SAMPLE COLLECTION RESEARCH CUSTOM","528","CF12 Custom Products",{"v":0.84,"d":"1"},{"v":7.56756,"d":"8"}]
[6287,"29131552",29131552,"Indicating FTA elute casette with pouch and dessicant","025","66","SAMPLE COLLECTION RESEARCH CUSTOM","563","FTA Elute Custom Products",{"v":0.9,"d":"1"},{"v":8.1081,"d":"8"}]
[6290,"RPN202",25006198,"ANTI-BRDU ANTIBODY","025","68","BIOTRAK IMMUNOASSAYS","693","Biotrak Assays",777,{"v":6999.993,"d":"7,000"},null,{"$f":"VLOOKUP(B6291,'[1]2018.7 '!A:C,3,)","v":"Active"},{"$f":"VLOOKUP(B6291,'[1]2018.7 '!A:M,13,)","v":"Ambient"},{"$f":"VLOOKUP(B6291,'[1]2018.7 '!A:N,14,)","v":"No"}]
[6293,"RPN220",25006323,"THROMBOXANE B2, BIOTRAK EIA SYSTEM","025","68","BIOTRAK IMMUNOASSAYS","693","Biotrak Assays",742,{"v":6684.678,"d":"6,685"},null,{"$f":"VLOOKUP(B6294,'[1]2018.7 '!A:C,3,)","v":"Phase Out"},{"$f":"VLOOKUP(B6294,'[1]2018.7 '!A:M,13,)","v":"Ambient"},{"$f":"VLOOKUP(B6294,'[1]2018.7 '!A:N,14,)","v":"No"}]
[6297,"RPN225",25006345,"CAMP, BIOTRAK EIA SYSTEM, DRUG PRECURSORS","025","68","BIOTRAK IMMUNOASSAYS","695","2nd Messengers-EIA",777,{"v":6999.993,"d":"7,000"},null,{"$f":"VLOOKUP(B6298,'[1]2018.7 '!A:C,3,)","v":"Active"},{"$f":"VLOOKUP(B6298,'[1]2018.7 '!A:M,13,)","v":"Ambient"},{"$f":"VLOOKUP(B6298,'[1]2018.7 '!A:N,14,)","v":"Yes"}]
[6300,"RPN226",25006348,"CGMP, BIOTRAK EIA SYSTEM, DRUG PRECURSORS","025","68","BIOTRAK IMMUNOASSAYS","695","2nd Messengers-EIA",777,{"v":6999.993,"d":"7,000"},null,{"$f":"VLOOKUP(B6301,'[1]2018.7 '!A:C,3,)","v":"Active"},{"$f":"VLOOKUP(B6301,'[1]2018.7 '!A:M,13,)","v":"Ambient"},{"$f":"VLOOKUP(B6301,'[1]2018.7 '!A:N,14,)","v":"Yes"}]
[6303,"RPN2614",25006484,"MATRIX METALLOPROTEINASE-9 (MMP-9)","025","68","BIOTRAK IMMUNOASSAYS","707","MMP-ELISAS & Activity Assays",{"v":1022,"d":"1,022"},{"v":9207.198,"d":"9,207"},null,{"$f":"VLOOKUP(B6304,'[1]2018.7 '!A:C,3,)","v":"Active"},{"$f":"VLOOKUP(B6304,'[1]2018.7 '!A:M,13,)","v":"Dry Ice"},{"$f":"VLOOKUP(B6304,'[1]2018.7 '!A:N,14,)","v":"No"}]
[6308,"RPN4401",25190026,"AMDEX STREPTAVIDIN HORSERADISH PEROXIDASE CONJUGATE","025","68","BIOTRAK IMMUNOASSAYS","853","Immunoassay Accessories",{"v":1211,"d":"1,211"},{"v":10909.899000000001,"d":"10,910"},null,{"$f":"VLOOKUP(B6309,'[1]2018.7 '!A:C,3,)","v":"Active"},{"$f":"VLOOKUP(B6309,'[1]2018.7 '!A:M,13,)","v":"Ambient"},{"$f":"VLOOKUP(B6309,'[1]2018.7 '!A:N,14,)","v":"No"}]
[6311,"WB120410",28421906,"FTA ELUTE MICROCARD 100/PK","025","22","SAMPLE COLLECTION FORENSICS","519","FTA Elute Catalogue Products",516,{"v":4648.644,"d":"4,649"}]
[6312,"WB120411",28421907,"IND FTA ELUTE MICROCARD 100/PK","025","22","SAMPLE COLLECTION FORENSICS","519","FTA Elute Catalogue Products",646,{"v":5819.814,"d":"5,820"}]
[6315,"10531018",28416563,"903  PROTSAVER 5 SPOT 100/PK","025","77","SAMPLE COLLECTION RESEARCH","522","Proteinsaver 903",213,{"v":1918.9170000000001,"d":"1,919"}]
[6318,"10534612",28416778,"903 PROTEINSAVER US 100/PK","025","77","SAMPLE COLLECTION RESEARCH","522","Proteinsaver 903",{"v":162.94,"d":"163"},{"v":1467.9264600000001,"d":"1,468"}]
[6322,"10548232",28417398,"PLASTIC ZIPLOCK BAG 100/PK","025","77","SAMPLE COLLECTION RESEARCH","522","Proteinsaver 903",{"v":22.98,"d":"23"},{"v":207.02682000000001,"d":"207"}]
[6325,"WB120222",28987558,"FTA DMPK A IND 100/PK","025","77","SAMPLE COLLECTION RESEARCH","564","DMPK Sample Collection",724,{"v":6522.5160000000005,"d":"6,523"}]
[6329,"WB129248",28969489,"FTA DMPK STARTER PACK 1PK","025","77","SAMPLE COLLECTION RESEARCH","564","DMPK Sample Collection",357,{"v":3216.213,"d":"3,216"}]
[6333,"28989807",28989807,"10 x ECL Gel, 8-16%, 10 well","025","26","1D WB CONSUMABLES","085","ECL Gel System",{"v":128.75,"d":"129"},{"v":1159.90875,"d":"1,160"},null,{"$f":"VLOOKUP(B6334,'[1]2018.7 '!A:C,3,)","v":"Phase Out"},{"$f":"VLOOKUP(B6334,'[1]2018.7 '!A:M,13,)","v":"Wet Ice"},{"$f":"VLOOKUP(B6334,'[1]2018.7 '!A:N,14,)","v":"reviewing"}]
[6336,"28990156",28990156,"10 x ECL Gel, 12%, 15 well","025","26","1D WB CONSUMABLES","085","ECL Gel System",{"v":128.75,"d":"129"},{"v":1159.90875,"d":"1,160"}]
[6337,"28990157",28990157,"10 x ECL Gel, 4-12%, 15 well","025","26","1D WB CONSUMABLES","085","ECL Gel System",{"v":128.75,"d":"129"},{"v":1159.90875,"d":"1,160"},null,{"$f":"VLOOKUP(B6338,'[1]2018.7 '!A:C,3,)","v":"Phase Out"},{"$f":"VLOOKUP(B6338,'[1]2018.7 '!A:M,13,)","v":"Wet Ice"},{"$f":"VLOOKUP(B6338,'[1]2018.7 '!A:N,14,)","v":"reviewing"}]
[6340,"28990252",28990252,"Amersham ECL Gel Running Buffer","025","26","1D WB CONSUMABLES","085","ECL Gel System",{"v":42.23,"d":"42"},{"v":380.45007,"d":"380"}]
[6343,"17045101",17045101,"PHARMALYTE 2.5 - 5","025","26","1D WB CONSUMABLES","118","Gel Casting Reagents",406,{"v":3657.654,"d":"3,658"},null,{"$f":"VLOOKUP(B6344,'[1]2018.7 '!A:C,3,)","v":"Active"},{"$f":"VLOOKUP(B6344,'[1]2018.7 '!A:M,13,)","v":"Ambient"},{"$f":"VLOOKUP(B6344,'[1]2018.7 '!A:N,14,)","v":"No"}]
[6347,"17045601",17045601,"PHARMALYTE 3 - 10","025","26","1D WB CONSUMABLES","118","Gel Casting Reagents",406,{"v":3657.654,"d":"3,658"},null,{"$f":"VLOOKUP(B6348,'[1]2018.7 '!A:C,3,)","v":"Active"},{"$f":"VLOOKUP(B6348,'[1]2018.7 '!A:M,13,)","v":"Ambient"},{"$f":"VLOOKUP(B6348,'[1]2018.7 '!A:N,14,)","v":"No"}]
[6350,"17047201",17047201,"LOW PI CALIBRATION KIT PH 2.5-6.5","025","26","1D WB CONSUMABLES","118","Gel Casting Reagents",348,{"v":3135.132,"d":"3,135"},null,{"$f":"VLOOKUP(B6351,'[1]2018.7 '!A:C,3,)","v":"Active"},{"$f":"VLOOKUP(B6351,'[1]2018.7 '!A:M,13,)","v":"Ambient"},{"$f":"VLOOKUP(B6351,'[1]2018.7 '!A:N,14,)","v":"No"}]
[6355,"17115001",17115001,"SILVER STAINING KIT, PROTEIN","025","26","1D WB CONSUMABLES","118","Gel Casting Reagents",217,{"v":1954.953,"d":"1,955"},null,{"$f":"VLOOKUP(B6356,'[1]2018.7 '!A:C,3,)","v":"Active"},{"$f":"VLOOKUP(B6356,'[1]2018.7 '!A:M,13,)","v":"Ambient"},{"$f":"VLOOKUP(B6356,'[1]2018.7 '!A:N,14,)","v":"Yes"}]
[6358,"17131001",17131001,"READYSOL IEF,  40%, 1000 ML","025","26","1D WB CONSUMABLES","118","Gel Casting Reagents",202,{"v":1819.818,"d":"1,820"},null,{"$f":"VLOOKUP(B6359,'[1]2018.7 '!A:C,3,)","v":"Active"},{"$f":"VLOOKUP(B6359,'[1]2018.7 '!A:M,13,)","v":"Ambient"},{"$f":"VLOOKUP(B6359,'[1]2018.7 '!A:N,14,)","v":"Yes"}]
[6361,"17131301",17131301,"SDS 100 G","025","26","1D WB CONSUMABLES","118","Gel Casting Reagents",{"v":65.28,"d":"65"},{"v":588.10752,"d":"588"},null,{"$f":"VLOOKUP(B6362,'[1]2018.7 '!A:C,3,)","v":"Active"},{"$f":"VLOOKUP(B6362,'[1]2018.7 '!A:M,13,)","v":"Ambient"},{"$f":"VLOOKUP(B6362,'[1]2018.7 '!A:N,14,)","v":"Yes"}]
[6362,"17131401",17131401,"CHAPS 1 G","025","26","1D WB CONSUMABLES","118","Gel Casting Reagents",{"v":95.88,"d":"96"},{"v":863.78292,"d":"864"},null,{"$f":"VLOOKUP(B6363,'[1]2018.7 '!A:C,3,)","v":"Active"},{"$f":"VLOOKUP(B6363,'[1]2018.7 '!A:M,13,)","v":"Ambient"},{"$f":"VLOOKUP(B6363,'[1]2018.7 '!A:N,14,)","v":"No"}]
[6365,"17131802",17131802,"DTT, 5 G","025","26","1D WB CONSUMABLES","118","Gel Casting Reagents",{"v":127.5,"d":"128"},{"v":1148.6475,"d":"1,149"},null,{"$f":"VLOOKUP(B6366,'[1]2018.7 '!A:C,3,)","v":"Active"},{"$f":"VLOOKUP(B6366,'[1]2018.7 '!A:M,13,)","v":"Ambient"},{"$f":"VLOOKUP(B6366,'[1]2018.7 '!A:N,14,)","v":"No"}]
[6368,"17132301",17132301,"GLYCINE,  500 G","025","26","1D WB CONSUMABLES","118","Gel Casting Reagents",{"v":62.22,"d":"62"},{"v":560.53998,"d":"561"},null,{"$f":"VLOOKUP(B6369,'[1]2018.7 '!A:C,3,)","v":"Active"},{"$f":"VLOOKUP(B6369,'[1]2018.7 '!A:M,13,)","v":"Ambient"},{"$f":"VLOOKUP(B6369,'[1]2018.7 '!A:N,14,)","v":"No"}]
[6371,"17133001",17133001,"BIND-SILANE,  25 ML","025","26","1D WB CONSUMABLES","118","Gel Casting Reagents",{"v":158.1,"d":"158"},{"v":1424.3229,"d":"1,424"},null,{"$f":"VLOOKUP(B6372,'[1]2018.7 '!A:C,3,)","v":"Active"},{"$f":"VLOOKUP(B6372,'[1]2018.7 '!A:M,13,)","v":"Ambient"},{"$f":"VLOOKUP(B6372,'[1]2018.7 '!A:N,14,)","v":"No"}]
[6376,"80112936",80112936,"GELBOND PAG FILM 124X258MM (PKG/50)","025","26","1D WB CONSUMABLES","118","Gel Casting Reagents",341,{"v":3072.069,"d":"3,072"},null,{"$f":"VLOOKUP(B6377,'[1]2018.7 '!A:C,3,)","v":"Active"},{"$f":"VLOOKUP(B6377,'[1]2018.7 '!A:M,13,)","v":"Ambient"},{"$f":"VLOOKUP(B6377,'[1]2018.7 '!A:N,14,)","v":"No"}]
[6380,"3030-335",28419262,"3MM CHR 31.5X33.5CM 100/PK","025","26","1D WB CONSUMABLES","487","Catalogue Blotting Cellulose",{"v":176.46,"d":"176"},{"v":1589.7281400000002,"d":"1,590"},null,{"$f":"VLOOKUP(B6381,'[1]2018.7 '!A:C,3,)","v":"Active"},{"$f":"VLOOKUP(B6381,'[1]2018.7 '!A:M,13,)","v":"Ambient"},{"$f":"VLOOKUP(B6381,'[1]2018.7 '!A:N,14,)","v":"No"}]
[6383,"3030-6132",28419265,"3MM CHR 12X14CM 100/PK","025","26","1D WB CONSUMABLES","487","Catalogue Blotting Cellulose",{"v":27.54,"d":"28"},{"v":248.10786,"d":"248"},null,{"$f":"VLOOKUP(B6384,'[1]2018.7 '!A:C,3,)","v":"Active"},{"$f":"VLOOKUP(B6384,'[1]2018.7 '!A:M,13,)","v":"Ambient"},{"$f":"VLOOKUP(B6384,'[1]2018.7 '!A:N,14,)","v":"No"}]
[6386,"3030-6187",28419268,"3MM CHR 6X8IN 100/PK","025","26","1D WB CONSUMABLES","487","Catalogue Blotting Cellulose",{"v":57.11999999999999,"d":"57"},{"v":514.59408,"d":"515"},null,{"$f":"VLOOKUP(B6387,'[1]2018.7 '!A:C,3,)","v":"Phase Out"},{"$f":"VLOOKUP(B6387,'[1]2018.7 '!A:M,13,)","v":"Ambient"},{"$f":"VLOOKUP(B6387,'[1]2018.7 '!A:N,14,)","v":"No"}]
[6387,"3030-6188",28419269,"3MM CHR 15X20CM 100/PK","025","26","1D WB CONSUMABLES","487","Catalogue Blotting Cellulose",{"v":48.96,"d":"49"},{"v":441.08064,"d":"441"},null,{"$f":"VLOOKUP(B6388,'[1]2018.7 '!A:C,3,)","v":"Active"},{"$f":"VLOOKUP(B6388,'[1]2018.7 '!A:M,13,)","v":"Ambient"},{"$f":"VLOOKUP(B6388,'[1]2018.7 '!A:N,14,)","v":"No"}]
[6390,"3030-662",28419274,"3MM CHR 7.5CMx100M 1RL/PK","025","26","1D WB CONSUMABLES","487","Catalogue Blotting Cellulose",{"v":165.24,"d":"165"},{"v":1488.6471600000002,"d":"1,489"},null,{"$f":"VLOOKUP(B6391,'[1]2018.7 '!A:C,3,)","v":"Active"},{"$f":"VLOOKUP(B6391,'[1]2018.7 '!A:M,13,)","v":"Ambient"},{"$f":"VLOOKUP(B6391,'[1]2018.7 '!A:N,14,)","v":"No"}]
[6396,"3030-704",28419295,"3MM CHR 27CMX100M 1RL/PK","025","26","1D WB CONSUMABLES","487","Catalogue Blotting Cellulose",294,{"v":2648.646,"d":"2,649"},null,{"$f":"VLOOKUP(B6397,'[1]2018.7 '!A:C,3,)","v":"Active"},{"$f":"VLOOKUP(B6397,'[1]2018.7 '!A:M,13,)","v":"Ambient"},{"$f":"VLOOKUP(B6397,'[1]2018.7 '!A:N,14,)","v":"No"}]
[6398,"3030-866",28419301,"3MM CHR 8X10IN 100/PK","025","26","1D WB CONSUMABLES","487","Catalogue Blotting Cellulose",{"v":81.6,"d":"82"},{"v":735.1344,"d":"735"},null,{"$f":"VLOOKUP(B6399,'[1]2018.7 '!A:C,3,)","v":"Active"},{"$f":"VLOOKUP(B6399,'[1]2018.7 '!A:M,13,)","v":"Ambient"},{"$f":"VLOOKUP(B6399,'[1]2018.7 '!A:N,14,)","v":"No"}]
[6401,"3030-931",28419308,"3MM CHR 58X68CM 100/PK","025","26","1D WB CONSUMABLES","487","Catalogue Blotting Cellulose",584,{"v":5261.256,"d":"5,261"},null,{"$f":"VLOOKUP(B6402,'[1]2018.7 '!A:C,3,)","v":"Active"},{"$f":"VLOOKUP(B6402,'[1]2018.7 '!A:M,13,)","v":"Ambient"},{"$f":"VLOOKUP(B6402,'[1]2018.7 '!A:N,14,)","v":"No"}]
[6405,"28906838",28906838,"Hyperfilm ECL, 8x10 inches, 50 shts","025","26","1D WB CONSUMABLES","612","Hyperfilm",316,{"v":2846.844,"d":"2,847"},null,{"$f":"VLOOKUP(B6406,'[1]2018.7 '!A:C,3,)","v":"Active"},{"$f":"VLOOKUP(B6406,'[1]2018.7 '!A:M,13,)","v":"Ambient"},{"$f":"VLOOKUP(B6406,'[1]2018.7 '!A:N,14,)","v":"No"}]
[6408,"28906843",28906843,"Hyperfilm MP 18x24cm, 50shts","025","26","1D WB CONSUMABLES","612","Hyperfilm",322,{"v":2900.898,"d":"2,901"},null,{"$f":"VLOOKUP(B6409,'[1]2018.7 '!A:C,3,)","v":"Active"},{"$f":"VLOOKUP(B6409,'[1]2018.7 '!A:M,13,)","v":"Ambient"},{"$f":"VLOOKUP(B6409,'[1]2018.7 '!A:N,14,)","v":"No"}]
[6411,"28906846",28906846,"Hyperfilm MP 8x10in, 100 shts","025","26","1D WB CONSUMABLES","612","Hyperfilm",558,{"v":5027.022,"d":"5,027"},null,{"$f":"VLOOKUP(B6412,'[1]2018.7 '!A:C,3,)","v":"Active"},{"$f":"VLOOKUP(B6412,'[1]2018.7 '!A:M,13,)","v":"Ambient"},{"$f":"VLOOKUP(B6412,'[1]2018.7 '!A:N,14,)","v":"No"}]
[6412,"28906850",28906850,"Hyperfilm MP 18x24cm, 50shts","025","26","1D WB CONSUMABLES","612","Hyperfilm",322,{"v":2900.898,"d":"2,901"},null,{"$f":"VLOOKUP(B6413,'[1]2018.7 '!A:C,3,)","v":"Active"},{"$f":"VLOOKUP(B6413,'[1]2018.7 '!A:M,13,)","v":"Ambient"},{"$f":"VLOOKUP(B6413,'[1]2018.7 '!A:N,14,)","v":"No"}]
[6417,"RPN2108",25006264,"ECL WESTERN BLOTTING ANALYSIS SYSTEM","025","26","1D WB CONSUMABLES","633","ECL Proteins",208,{"v":1873.872,"d":"1,874"},null,{"$f":"VLOOKUP(B6418,'[1]2018.7 '!A:C,3,)","v":"Active"},{"$f":"VLOOKUP(B6418,'[1]2018.7 '!A:M,13,)","v":"Ambient"},{"$f":"VLOOKUP(B6418,'[1]2018.7 '!A:N,14,)","v":"No"}]
[6420,"RPN2125",25190157,"ECL BLOCKING AGENT","025","26","1D WB CONSUMABLES","633","ECL Proteins",{"v":76.5,"d":"77"},{"v":689.1885,"d":"689"},null,{"$f":"VLOOKUP(B6421,'[1]2018.7 '!A:C,3,)","v":"Active"},{"$f":"VLOOKUP(B6421,'[1]2018.7 '!A:M,13,)","v":"Ambient"},{"$f":"VLOOKUP(B6421,'[1]2018.7 '!A:N,14,)","v":"No"}]
[6423,"RPN2232",28980926,"ECL Prime Western Blotting Detection Reagent","025","26","1D WB CONSUMABLES","633","ECL Proteins",286,{"v":2576.574,"d":"2,577"},null,{"$f":"VLOOKUP(B6424,'[1]2018.7 '!A:C,3,)","v":"Active"},{"$f":"VLOOKUP(B6424,'[1]2018.7 '!A:M,13,)","v":"Ambient"},{"$f":"VLOOKUP(B6424,'[1]2018.7 '!A:N,14,)","v":"No"}]
[6426,"RPN3243",29117182,"ECL start WB detection reagent - 200ml","025","26","1D WB CONSUMABLES","633","ECL Proteins",153,{"v":1378.377,"d":"1,378"},null,{"$f":"VLOOKUP(B6427,'[1]2018.7 '!A:C,3,)","v":"Active"},{"$f":"VLOOKUP(B6427,'[1]2018.7 '!A:M,13,)","v":"Ambient"},{"$f":"VLOOKUP(B6427,'[1]2018.7 '!A:N,14,)","v":"No"}]
[6430,"10401116",28414963,"PROTRAN BA85 82MM 50/PK","025","26","1D WB CONSUMABLES","663","NC Membranes",130,{"v":1171.17,"d":"1,171"},null,{"$f":"VLOOKUP(B6431,'[1]2018.7 '!A:C,3,)","v":"Active"},{"$f":"VLOOKUP(B6431,'[1]2018.7 '!A:M,13,)","v":"Ambient"},{"$f":"VLOOKUP(B6431,'[1]2018.7 '!A:N,14,)","v":"No"}]
[6433,"10401164",28414975,"PROTRAN BA85 87MM 50/PK","025","26","1D WB CONSUMABLES","663","NC Membranes",137,{"v":1234.233,"d":"1,234"}]
[6436,"10402506",28415097,"PROTRAN BA85 25MM 100/PK","025","26","1D WB CONSUMABLES","663","NC Membranes",{"v":64.81,"d":"65"},{"v":583.87329,"d":"584"},null,{"$f":"VLOOKUP(B6437,'[1]2018.7 '!A:C,3,)","v":"Active"},{"$f":"VLOOKUP(B6437,'[1]2018.7 '!A:M,13,)","v":"Ambient"},{"$f":"VLOOKUP(B6437,'[1]2018.7 '!A:N,14,)","v":"No"}]
[6438,"10402548",28415102,"PROTRAN BA85 137MM 50/PK","025","26","1D WB CONSUMABLES","663","NC Membranes",268,{"v":2414.4120000000003,"d":"2,414"}]
[6441,"10405316",28415159,"PROTRAN BA85/20 82MM 50/PK","025","26","1D WB CONSUMABLES","663","NC Membranes",{"v":239.99999999999997,"d":"240"},{"v":2162.16,"d":"2,162"}]
[6445,"10600002",29046764,"PT 0.45UM 300MMx4M 1/PK","025","26","1D WB CONSUMABLES","663","NC Membranes",{"v":240.99999999999997,"d":"241"},{"v":2171.169,"d":"2,171"},null,{"$f":"VLOOKUP(B6446,'[1]2018.7 '!A:C,3,)","v":"Active"},{"$f":"VLOOKUP(B6446,'[1]2018.7 '!A:M,13,)","v":"Ambient"},{"$f":"VLOOKUP(B6446,'[1]2018.7 '!A:N,14,)","v":"No"}]
[6448,"10600005",29047974,"PT 0.1UM 200MMx4M 1/PK","025","26","1D WB CONSUMABLES","663","NC Membranes",346,{"v":3117.114,"d":"3,117"},null,{"$f":"VLOOKUP(B6449,'[1]2018.7 '!A:C,3,)","v":"Active"},{"$f":"VLOOKUP(B6449,'[1]2018.7 '!A:M,13,)","v":"Ambient"},{"$f":"VLOOKUP(B6449,'[1]2018.7 '!A:N,14,)","v":"No"}]
[6451,"10600008",29048061,"PTP 0.45UM 200MMx4M 1/PK","025","26","1D WB CONSUMABLES","663","NC Membranes",286,{"v":2576.574,"d":"2,577"},null,{"$f":"VLOOKUP(B6452,'[1]2018.7 '!A:C,3,)","v":"Active"},{"$f":"VLOOKUP(B6452,'[1]2018.7 '!A:M,13,)","v":"Ambient"},{"$f":"VLOOKUP(B6452,'[1]2018.7 '!A:N,14,)","v":"No"}]
[6455,"10600012",29048181,"PT 0.45UM 150MMx4M 1/PK","025","26","1D WB CONSUMABLES","663","NC Membranes",174,{"v":1567.566,"d":"1,568"},null,{"$f":"VLOOKUP(B6456,'[1]2018.7 '!A:C,3,)","v":"Active"},{"$f":"VLOOKUP(B6456,'[1]2018.7 '!A:M,13,)","v":"Ambient"},{"$f":"VLOOKUP(B6456,'[1]2018.7 '!A:N,14,)","v":"No"}]
[6458,"10600015",29047581,"PTS 0.2UM 300MMx4M 1/PK","025","26","1D WB CONSUMABLES","663","NC Membranes",413,{"v":3720.717,"d":"3,721"},null,{"$f":"VLOOKUP(B6459,'[1]2018.7 '!A:C,3,)","v":"Active"},{"$f":"VLOOKUP(B6459,'[1]2018.7 '!A:M,13,)","v":"Ambient"},{"$f":"VLOOKUP(B6459,'[1]2018.7 '!A:N,14,)","v":"No"}]
[6459,"10600016",29048248,"PTS 0.45UM 300MMx4M 1/PK","025","26","1D WB CONSUMABLES","663","NC Membranes",333,{"v":2999.9970000000003,"d":"3,000"},null,{"$f":"VLOOKUP(B6460,'[1]2018.7 '!A:C,3,)","v":"Active"},{"$f":"VLOOKUP(B6460,'[1]2018.7 '!A:M,13,)","v":"Ambient"},{"$f":"VLOOKUP(B6460,'[1]2018.7 '!A:N,14,)","v":"No"}]
[6463,"10600020",29048344,"PTS 0.45UM 150MMx4M 1/PK","025","26","1D WB CONSUMABLES","663","NC Membranes",{"v":236.00000000000003,"d":"236"},{"v":2126.1240000000003,"d":"2,126"},null,{"$f":"VLOOKUP(B6464,'[1]2018.7 '!A:C,3,)","v":"Active"},{"$f":"VLOOKUP(B6464,'[1]2018.7 '!A:M,13,)","v":"Ambient"},{"$f":"VLOOKUP(B6464,'[1]2018.7 '!A:N,14,)","v":"No"}]
[6466,"10600033",29049353,"PT 0.45UM 300x600MM 5/PK","025","26","1D WB CONSUMABLES","663","NC Membranes",380,{"v":3423.42,"d":"3,423"},null,{"$f":"VLOOKUP(B6467,'[1]2018.7 '!A:C,3,)","v":"Active"},{"$f":"VLOOKUP(B6467,'[1]2018.7 '!A:M,13,)","v":"Ambient"},{"$f":"VLOOKUP(B6467,'[1]2018.7 '!A:N,14,)","v":"No"}]
[6470,"10600037",29049364,"PTS 0.2UM 300x600MM 5/PK","025","26","1D WB CONSUMABLES","663","NC Membranes",327,{"v":2945.943,"d":"2,946"},null,{"$f":"VLOOKUP(B6471,'[1]2018.7 '!A:C,3,)","v":"Active"},{"$f":"VLOOKUP(B6471,'[1]2018.7 '!A:M,13,)","v":"Ambient"},{"$f":"VLOOKUP(B6471,'[1]2018.7 '!A:N,14,)","v":"No"}]
[6473,"10600043",29049662,"PT 0.2UM 200X200MM 25/PK","025","26","1D WB CONSUMABLES","663","NC Membranes",{"$f":"K6474/9.009","v":359},{"v":3234.231,"d":"3,234"},null,{"$f":"VLOOKUP(B6474,'[1]2018.7 '!A:C,3,)","v":"Active"},{"$f":"VLOOKUP(B6474,'[1]2018.7 '!A:M,13,)","v":"Ambient"},{"$f":"VLOOKUP(B6474,'[1]2018.7 '!A:N,14,)","v":"No"}]
[6476,"10600046",29049668,"PT 0.1UM 200X200MM 10/PK","025","26","1D WB CONSUMABLES","663","NC Membranes",310,{"v":2792.79,"d":"2,793"},null,{"$f":"VLOOKUP(B6477,'[1]2018.7 '!A:C,3,)","v":"Active"},{"$f":"VLOOKUP(B6477,'[1]2018.7 '!A:M,13,)","v":"Ambient"},{"$f":"VLOOKUP(B6477,'[1]2018.7 '!A:N,14,)","v":"No"}]
[6480,"10600050",29049683,"PTP 0.2UM 200X200MM 10/PK","025","26","1D WB CONSUMABLES","663","NC Membranes",279,{"v":2513.511,"d":"2,514"},null,{"$f":"VLOOKUP(B6481,'[1]2018.7 '!A:C,3,)","v":"Phase Out"},{"$f":"VLOOKUP(B6481,'[1]2018.7 '!A:M,13,)","v":"Ambient"},{"$f":"VLOOKUP(B6481,'[1]2018.7 '!A:N,14,)","v":"No"}]
[6484,"10600054",29049768,"PTS 0.2UM 200x200MM 10/PK","025","26","1D WB CONSUMABLES","663","NC Membranes",274,{"v":2468.466,"d":"2,468"},null,{"$f":"VLOOKUP(B6485,'[1]2018.7 '!A:C,3,)","v":"Phase Out"},{"$f":"VLOOKUP(B6485,'[1]2018.7 '!A:M,13,)","v":"Ambient"},{"$f":"VLOOKUP(B6485,'[1]2018.7 '!A:N,14,)","v":"No"}]
[6485,"10600062",29049789,"PT 0.45UM 140X160MM 25/PK","025","26","1D WB CONSUMABLES","663","NC Membranes",250,{"v":2252.25,"d":"2,252"},null,{"$f":"VLOOKUP(B6486,'[1]2018.7 '!A:C,3,)","v":"Active"},{"$f":"VLOOKUP(B6486,'[1]2018.7 '!A:M,13,)","v":"Ambient"},{"$f":"VLOOKUP(B6486,'[1]2018.7 '!A:N,14,)","v":"No"}]
[6488,"10600065",29049801,"PTP 0.45UM 140X160MM 25/PK","025","26","1D WB CONSUMABLES","663","NC Membranes",251,{"v":2261.259,"d":"2,261"},null,{"$f":"VLOOKUP(B6489,'[1]2018.7 '!A:C,3,)","v":"Active"},{"$f":"VLOOKUP(B6489,'[1]2018.7 '!A:M,13,)","v":"Ambient"},{"$f":"VLOOKUP(B6489,'[1]2018.7 '!A:N,14,)","v":"No"}]
[6491,"10600068",29049816,"PTS 0.2UM 140X160MM 25/PK","025","26","1D WB CONSUMABLES","663","NC Membranes",271,{"v":2441.4390000000003,"d":"2,441"},null,{"$f":"VLOOKUP(B6492,'[1]2018.7 '!A:C,3,)","v":"Phase Out"},{"$f":"VLOOKUP(B6492,'[1]2018.7 '!A:M,13,)","v":"Ambient"},{"$f":"VLOOKUP(B6492,'[1]2018.7 '!A:N,14,)","v":"No"}]
[6495,"10600075",29049876,"PT 0.2 UM 100x100MM 10/PK","025","26","1D WB CONSUMABLES","663","NC Membranes",143,{"v":1288.287,"d":"1,288"},null,{"$f":"VLOOKUP(B6496,'[1]2018.7 '!A:C,3,)","v":"Phase Out"},{"$f":"VLOOKUP(B6496,'[1]2018.7 '!A:M,13,)","v":"Ambient"},{"$f":"VLOOKUP(B6496,'[1]2018.7 '!A:N,14,)","v":"No"}]
[6498,"10600078",29049882,"PTP 0.45UM 100x100MM 25/PK","025","26","1D WB CONSUMABLES","663","NC Membranes",189,{"v":1702.701,"d":"1,703"},null,{"$f":"VLOOKUP(B6499,'[1]2018.7 '!A:C,3,)","v":"Phase Out"},{"$f":"VLOOKUP(B6499,'[1]2018.7 '!A:M,13,)","v":"Ambient"},{"$f":"VLOOKUP(B6499,'[1]2018.7 '!A:N,14,)","v":"No"}]
[6501,"10600081",29049892,"PTP 0.2UM 100x100MM 10/PK","025","26","1D WB CONSUMABLES","663","NC Membranes",145,{"v":1306.305,"d":"1,306"},null,{"$f":"VLOOKUP(B6502,'[1]2018.7 '!A:C,3,)","v":"Phase Out"},{"$f":"VLOOKUP(B6502,'[1]2018.7 '!A:M,13,)","v":"Ambient"},{"$f":"VLOOKUP(B6502,'[1]2018.7 '!A:N,14,)","v":"No"}]
[6505,"10600085",29049902,"PTS 0.2UM 100x100MM 10/PK","025","26","1D WB CONSUMABLES","663","NC Membranes",132,{"v":1189.188,"d":"1,189"},null,{"$f":"VLOOKUP(B6506,'[1]2018.7 '!A:C,3,)","v":"Phase Out"},{"$f":"VLOOKUP(B6506,'[1]2018.7 '!A:M,13,)","v":"Ambient"},{"$f":"VLOOKUP(B6506,'[1]2018.7 '!A:N,14,)","v":"No"}]
[6509,"10600096",29049907,"PTP 0.45UM 80X90MM 25/PK","025","26","1D WB CONSUMABLES","663","NC Membranes",115,{"v":1036.035,"d":"1,036"},null,{"$f":"VLOOKUP(B6510,'[1]2018.7 '!A:C,3,)","v":"Active"},{"$f":"VLOOKUP(B6510,'[1]2018.7 '!A:M,13,)","v":"Ambient"},{"$f":"VLOOKUP(B6510,'[1]2018.7 '!A:N,14,)","v":"No"}]
[6510,"10600097",29049912,"PTP 0.2UM 80X90MM 25/PK","025","26","1D WB CONSUMABLES","663","NC Membranes",155,{"v":1396.395,"d":"1,396"},null,{"$f":"VLOOKUP(B6511,'[1]2018.7 '!A:C,3,)","v":"Phase Out"},{"$f":"VLOOKUP(B6511,'[1]2018.7 '!A:M,13,)","v":"Ambient"},{"$f":"VLOOKUP(B6511,'[1]2018.7 '!A:N,14,)","v":"No"}]
[6513,"10600103",29049986,"PT 0.45UM/3MM 140X160MM 10/PK","025","26","1D WB CONSUMABLES","663","NC Membranes",188,{"v":1693.692,"d":"1,694"},null,{"$f":"VLOOKUP(B6514,'[1]2018.7 '!A:C,3,)","v":"Phase Out"},{"$f":"VLOOKUP(B6514,'[1]2018.7 '!A:M,13,)","v":"Ambient"},{"$f":"VLOOKUP(B6514,'[1]2018.7 '!A:N,14,)","v":"No"}]
[6516,"10600106",29050009,"PTP 0.45UM/3MM 140X160MM 10/PK","025","26","1D WB CONSUMABLES","663","NC Membranes",195,{"v":1756.755,"d":"1,757"},null,{"$f":"VLOOKUP(B6517,'[1]2018.7 '!A:C,3,)","v":"Phase Out"},{"$f":"VLOOKUP(B6517,'[1]2018.7 '!A:M,13,)","v":"Ambient"},{"$f":"VLOOKUP(B6517,'[1]2018.7 '!A:N,14,)","v":"No"}]
[6520,"10600114",29050139,"PT 0.45UM/3MM 80X90MM 10/PK","025","26","1D WB CONSUMABLES","663","NC Membranes",136,{"v":1225.2240000000002,"d":"1,225"},null,{"$f":"VLOOKUP(B6521,'[1]2018.7 '!A:C,3,)","v":"Active"},{"$f":"VLOOKUP(B6521,'[1]2018.7 '!A:M,13,)","v":"Ambient"},{"$f":"VLOOKUP(B6521,'[1]2018.7 '!A:N,14,)","v":"No"}]
[6523,"10600117",29050378,"PTP 0.45UM/3MM 80X90MM 10/PK","025","26","1D WB CONSUMABLES","663","NC Membranes",140,{"v":1261.26,"d":"1,261"},null,{"$f":"VLOOKUP(B6524,'[1]2018.7 '!A:C,3,)","v":"Active"},{"$f":"VLOOKUP(B6524,'[1]2018.7 '!A:M,13,)","v":"Ambient"},{"$f":"VLOOKUP(B6524,'[1]2018.7 '!A:N,14,)","v":"No"}]
[6526,"10600120",29050394,"PTS 0.2UM/3MM 80X90MM 10/PK","025","26","1D WB CONSUMABLES","663","NC Membranes",176,{"v":1585.584,"d":"1,586"},null,{"$f":"VLOOKUP(B6527,'[1]2018.7 '!A:C,3,)","v":"Active"},{"$f":"VLOOKUP(B6527,'[1]2018.7 '!A:M,13,)","v":"Ambient"},{"$f":"VLOOKUP(B6527,'[1]2018.7 '!A:N,14,)","v":"No"}]
[6531,"10600128",29091279,"PTS 0.2UM 102x133MM 10/PK","025","26","1D WB CONSUMABLES","663","NC Membranes",132,{"v":1189.188,"d":"1,189"},null,{"$f":"VLOOKUP(B6532,'[1]2018.7 '!A:C,3,)","v":"Phase Out"},{"$f":"VLOOKUP(B6532,'[1]2018.7 '!A:M,13,)","v":"Ambient"},{"$f":"VLOOKUP(B6532,'[1]2018.7 '!A:N,14,)","v":"No"}]
[6534,"RPN303C",25006564,"HYBOND-C, 30CMX3M","025","26","1D WB CONSUMABLES","663","NC Membranes",290,{"v":2612.61,"d":"2,613"},null,{"$f":"VLOOKUP(B6535,'[1]2018.7 '!A:C,3,)","v":"Phase Out"},{"$f":"VLOOKUP(B6535,'[1]2018.7 '!A:M,13,)","v":"Ambient"},{"$f":"VLOOKUP(B6535,'[1]2018.7 '!A:N,14,)","v":"reviewing"}]
[6535,"RPN82D",25006709,"HYBOND-ECL","025","26","1D WB CONSUMABLES","663","NC Membranes",226,{"v":2036.034,"d":"2,036"},null,{"$f":"VLOOKUP(B6536,'[1]2018.7 '!A:C,3,)","v":"Active"},{"$f":"VLOOKUP(B6536,'[1]2018.7 '!A:M,13,)","v":"Ambient"},{"$f":"VLOOKUP(B6536,'[1]2018.7 '!A:N,14,)","v":"No"}]
[6538,"NA931-100UL",25800684,"MOUSE IGG HRP LINKED WHOLE AB","025","26","1D WB CONSUMABLES","671","Secondary Detection",{"v":98.4,"d":"98"},{"v":886.4856000000001,"d":"886"},null,{"$f":"VLOOKUP(B6539,'[1]2018.7 '!A:C,3,)","v":"Active"},{"$f":"VLOOKUP(B6539,'[1]2018.7 '!A:M,13,)","v":"Wet Ice"},{"$f":"VLOOKUP(B6539,'[1]2018.7 '!A:N,14,)","v":"No"}]
[6541,"NA933-1ML",25005177,"HUMAN IGG HRP LINKED WHOLE AB","025","26","1D WB CONSUMABLES","671","Secondary Detection",521,{"v":4693.689,"d":"4,694"},null,{"$f":"VLOOKUP(B6542,'[1]2018.7 '!A:C,3,)","v":"Active"},{"$f":"VLOOKUP(B6542,'[1]2018.7 '!A:M,13,)","v":"Wet Ice"},{"$f":"VLOOKUP(B6542,'[1]2018.7 '!A:N,14,)","v":"No"}]
[6545,"NA935",25190170,"HRP GOAT ANTI-RAT IGG,WAB,1ML","025","26","1D WB CONSUMABLES","671","Secondary Detection",581,{"v":5234.229,"d":"5,234"},null,{"$f":"VLOOKUP(B6546,'[1]2018.7 '!A:C,3,)","v":"Active"},{"$f":"VLOOKUP(B6546,'[1]2018.7 '!A:M,13,)","v":"Wet Ice"},{"$f":"VLOOKUP(B6546,'[1]2018.7 '!A:N,14,)","v":"No"}]
[6547,"PA43009",25600303,"ECL PLEX G-A-M IGG, CY3, 150UG","025","26","1D WB CONSUMABLES","671","Secondary Detection",{"v":235.00000000000003,"d":"235"},{"v":2117.1150000000002,"d":"2,117"},null,{"$f":"VLOOKUP(B6548,'[1]2018.7 '!A:C,3,)","v":"Active"},{"$f":"VLOOKUP(B6548,'[1]2018.7 '!A:M,13,)","v":"Ambient"},{"$f":"VLOOKUP(B6548,'[1]2018.7 '!A:N,14,)","v":"No"}]
[6553,"RPN1231-100UL",25800686,"STREPTAVADIN-HRP CONJUGATE","025","26","1D WB CONSUMABLES","671","Secondary Detection",{"v":91.23,"d":"91"},{"v":821.89107,"d":"822"},null,{"$f":"VLOOKUP(B6554,'[1]2018.7 '!A:C,3,)","v":"Active"},{"$f":"VLOOKUP(B6554,'[1]2018.7 '!A:M,13,)","v":"Ambient"},{"$f":"VLOOKUP(B6554,'[1]2018.7 '!A:N,14,)","v":"No"}]
[6556,"RPN1236",25800687,"ANTI-GST HRP CONJUGATE - 75 UL","025","26","1D WB CONSUMABLES","671","Secondary Detection",261,{"v":2351.349,"d":"2,351"},null,{"$f":"VLOOKUP(B6557,'[1]2018.7 '!A:C,3,)","v":"Active"},{"$f":"VLOOKUP(B6557,'[1]2018.7 '!A:M,13,)","v":"Dry Ice"},{"$f":"VLOOKUP(B6557,'[1]2018.7 '!A:N,14,)","v":"No"}]
[6559,"10427804",29000539,"GB003 110x140MM 100/PK","025","26","1D WB CONSUMABLES","836","GB00 blotting paper",14,{"v":126.126,"d":"126"},null,{"$f":"VLOOKUP(B6560,'[1]2018.7 '!A:C,3,)","v":"Active"},{"$f":"VLOOKUP(B6560,'[1]2018.7 '!A:M,13,)","v":"Ambient"},{"$f":"VLOOKUP(B6560,'[1]2018.7 '!A:N,14,)","v":"No"}]
[6560,"10600021",29065726,"PVDF 0.2UM 260MMx4M 1/PK","025","26","1D WB CONSUMABLES","767","PVDF Membranes",360,{"v":3243.2400000000002,"d":"3,243"},null,{"$f":"VLOOKUP(B6561,'[1]2018.7 '!A:C,3,)","v":"Active"},{"$f":"VLOOKUP(B6561,'[1]2018.7 '!A:M,13,)","v":"Ambient"},{"$f":"VLOOKUP(B6561,'[1]2018.7 '!A:N,14,)","v":"No"}]
[6563,"10600029",29090659,"PVDF 0.45UM 150MMx4M 1/PK","025","26","1D WB CONSUMABLES","767","PVDF Membranes",{"v":238.00000000000003,"d":"238"},{"v":2144.1420000000003,"d":"2,144"},null,{"$f":"VLOOKUP(B6564,'[1]2018.7 '!A:C,3,)","v":"Active"},{"$f":"VLOOKUP(B6564,'[1]2018.7 '!A:M,13,)","v":"Ambient"},{"$f":"VLOOKUP(B6564,'[1]2018.7 '!A:N,14,)","v":"No"}]
[6566,"10600039",29065758,"PVDF 0.2UM 260X600MM 5/PK","025","26","1D WB CONSUMABLES","767","PVDF Membranes",412,{"v":3711.708,"d":"3,712"},null,{"$f":"VLOOKUP(B6567,'[1]2018.7 '!A:C,3,)","v":"Phase Out"},{"$f":"VLOOKUP(B6567,'[1]2018.7 '!A:M,13,)","v":"Ambient"},{"$f":"VLOOKUP(B6567,'[1]2018.7 '!A:N,14,)","v":"No"}]
[6572,"10600069",29090723,"PVDF 0.45UM 140X160MM 25/PK","025","26","1D WB CONSUMABLES","767","PVDF Membranes",198,{"v":1783.7820000000002,"d":"1,784"},null,{"$f":"VLOOKUP(B6573,'[1]2018.7 '!A:C,3,)","v":"Active"},{"$f":"VLOOKUP(B6573,'[1]2018.7 '!A:M,13,)","v":"Ambient"},{"$f":"VLOOKUP(B6573,'[1]2018.7 '!A:N,14,)","v":"No"}]
[6574,"10600087",29090784,"PVDF 0.45UM 100x100MM 10/PK","025","26","1D WB CONSUMABLES","767","PVDF Membranes",{"v":119.00000000000001,"d":"119"},{"v":1072.0710000000001,"d":"1,072"},null,{"$f":"VLOOKUP(B6575,'[1]2018.7 '!A:C,3,)","v":"Active"},{"$f":"VLOOKUP(B6575,'[1]2018.7 '!A:M,13,)","v":"Ambient"},{"$f":"VLOOKUP(B6575,'[1]2018.7 '!A:N,14,)","v":"No"}]
[6578,"10600091",29083358,"PVDF LF 0.2UM 100x100MM 10/PK","025","26","1D WB CONSUMABLES","767","PVDF Membranes",150,{"v":1351.3500000000001,"d":"1,351"},null,{"$f":"VLOOKUP(B6579,'[1]2018.7 '!A:C,3,)","v":"Phase Out"},{"$f":"VLOOKUP(B6579,'[1]2018.7 '!A:M,13,)","v":"Ambient"},{"$f":"VLOOKUP(B6579,'[1]2018.7 '!A:N,14,)","v":"No"}]
[6581,"10600101",29065842,"PVDF 0.2UM 80x90MM 25/PK","025","26","1D WB CONSUMABLES","767","PVDF Membranes",{"v":122.99999999999999,"d":"123"},{"v":1108.107,"d":"1,108"},null,{"$f":"VLOOKUP(B6582,'[1]2018.7 '!A:C,3,)","v":"Active"},{"$f":"VLOOKUP(B6582,'[1]2018.7 '!A:M,13,)","v":"Ambient"},{"$f":"VLOOKUP(B6582,'[1]2018.7 '!A:N,14,)","v":"No"}]
[6584,"10600121",29090802,"PVDF 0.45UM/3MM 80x90MM 10/PK","025","26","1D WB CONSUMABLES","767","PVDF Membranes",138,{"v":1243.242,"d":"1,243"},null,{"$f":"VLOOKUP(B6585,'[1]2018.7 '!A:C,3,)","v":"Active"},{"$f":"VLOOKUP(B6585,'[1]2018.7 '!A:M,13,)","v":"Ambient"},{"$f":"VLOOKUP(B6585,'[1]2018.7 '!A:N,14,)","v":"No"}]
[6585,"10600122",29065887,"PVDF 0.2UM/3MM 80x90MM 10/PK","025","26","1D WB CONSUMABLES","767","PVDF Membranes",133,{"v":1198.1970000000001,"d":"1,198"},null,{"$f":"VLOOKUP(B6586,'[1]2018.7 '!A:C,3,)","v":"Active"},{"$f":"VLOOKUP(B6586,'[1]2018.7 '!A:M,13,)","v":"Ambient"},{"$f":"VLOOKUP(B6586,'[1]2018.7 '!A:N,14,)","v":"No"}]
[6588,"RPN11642",25005966,"HYPERCASSETTE (NEUTRAL) 18 X 24CM","025","26","1D WB CONSUMABLES","783","A/R Products",312,{"v":2810.808,"d":"2,811"},null,{"$f":"VLOOKUP(B6589,'[1]2018.7 '!A:C,3,)","v":"Active"},{"$f":"VLOOKUP(B6589,'[1]2018.7 '!A:M,13,)","v":"Ambient"},{"$f":"VLOOKUP(B6589,'[1]2018.7 '!A:N,14,)","v":"No"}]
[6593,"RPN11648",25005972,"HYPERCASSETTE (NEUTRAL) 5 X 7IN","025","26","1D WB CONSUMABLES","783","A/R Products",312,{"v":2810.808,"d":"2,811"},null,{"$f":"VLOOKUP(B6594,'[1]2018.7 '!A:C,3,)","v":"Active"},{"$f":"VLOOKUP(B6594,'[1]2018.7 '!A:M,13,)","v":"Ambient"},{"$f":"VLOOKUP(B6594,'[1]2018.7 '!A:N,14,)","v":"No"}]
[6596,"RPN1662",25006084,"HYPERSCREEN, 18X24CM (PAIR)","025","26","1D WB CONSUMABLES","783","A/R Products",352,{"v":3171.168,"d":"3,171"},null,{"$f":"VLOOKUP(B6597,'[1]2018.7 '!A:C,3,)","v":"Active"},{"$f":"VLOOKUP(B6597,'[1]2018.7 '!A:M,13,)","v":"Ambient"},{"$f":"VLOOKUP(B6597,'[1]2018.7 '!A:N,14,)","v":"No"}]
[6599,"RPN1669",25006091,"HYPERSCREEN, 8X10IN (PAIR)","025","26","1D WB CONSUMABLES","783","A/R Products",384,{"v":3459.456,"d":"3,459"},null,{"$f":"VLOOKUP(B6600,'[1]2018.7 '!A:C,3,)","v":"Active"},{"$f":"VLOOKUP(B6600,'[1]2018.7 '!A:M,13,)","v":"Ambient"},{"$f":"VLOOKUP(B6600,'[1]2018.7 '!A:N,14,)","v":"No"}]
[6603,"RPN810",25190061,"ECL DUALVUE WESTERN MARKERS","025","26","1D WB CONSUMABLES","790","Cold Rainbow Markers",{"v":187.86,"d":"188"},{"v":1692.4307400000002,"d":"1,692"},null,{"$f":"VLOOKUP(B6604,'[1]2018.7 '!A:C,3,)","v":"Active"},{"$f":"VLOOKUP(B6604,'[1]2018.7 '!A:M,13,)","v":"Dry Ice"},{"$f":"VLOOKUP(B6604,'[1]2018.7 '!A:N,14,)","v":"No"}]
[6606,"10426880",28415420,"GB003 100x100MM 50/PK","025","26","1D WB CONSUMABLES","836","GB00 blotting paper",179,{"v":1612.611,"d":"1,613"},null,{"$f":"VLOOKUP(B6607,'[1]2018.7 '!A:C,3,)","v":"Active"},{"$f":"VLOOKUP(B6607,'[1]2018.7 '!A:M,13,)","v":"Ambient"},{"$f":"VLOOKUP(B6607,'[1]2018.7 '!A:N,14,)","v":"No"}]
[6609,"10426972",28415428,"GB005 150x150MM 25/PK","025","26","1D WB CONSUMABLES","836","GB00 blotting paper",89,{"v":801.801,"d":"802"},null,{"$f":"VLOOKUP(B6610,'[1]2018.7 '!A:C,3,)","v":"Active"},{"$f":"VLOOKUP(B6610,'[1]2018.7 '!A:M,13,)","v":"Ambient"},{"$f":"VLOOKUP(B6610,'[1]2018.7 '!A:N,14,)","v":"No"}]
[6610,"10426981",28415429,"GB005 200x200MM 25/PK","025","26","1D WB CONSUMABLES","836","GB00 blotting paper",110,{"v":990.99,"d":"991"},null,{"$f":"VLOOKUP(B6611,'[1]2018.7 '!A:C,3,)","v":"Active"},{"$f":"VLOOKUP(B6611,'[1]2018.7 '!A:M,13,)","v":"Ambient"},{"$f":"VLOOKUP(B6611,'[1]2018.7 '!A:N,14,)","v":"No"}]
[6614,"10427812",28415439,"GB003 150x200MM 100/PK","025","26","1D WB CONSUMABLES","836","GB00 blotting paper",78,{"v":702.702,"d":"703"},null,{"$f":"VLOOKUP(B6615,'[1]2018.7 '!A:C,3,)","v":"Active"},{"$f":"VLOOKUP(B6615,'[1]2018.7 '!A:M,13,)","v":"Ambient"},{"$f":"VLOOKUP(B6615,'[1]2018.7 '!A:N,14,)","v":"No"}]
[6618,"10547922",29001464,"GB003 200x250MM 100/PK","025","26","1D WB CONSUMABLES","836","GB00 blotting paper",51,{"v":459.459,"d":"459"},null,{"$f":"VLOOKUP(B6619,'[1]2018.7 '!A:C,3,)","v":"Active"},{"$f":"VLOOKUP(B6619,'[1]2018.7 '!A:M,13,)","v":"Ambient"},{"$f":"VLOOKUP(B6619,'[1]2018.7 '!A:N,14,)","v":"No"}]
[6621,"18115317",18115317,"TRICORN 10/200 GLASS COLUMN","021","42","PURIFICATION MEDIA","053","Empty Columns",535,{"v":4819.8150000000005,"d":"4,820"},null,{"$f":"VLOOKUP(B6622,'[1]2018.7 '!A:C,3,)","v":"Active"},{"$f":"VLOOKUP(B6622,'[1]2018.7 '!A:M,13,)","v":"Ambient"},{"$f":"VLOOKUP(B6622,'[1]2018.7 '!A:N,14,)","v":"No"}]
[6624,"19500201",19500201,"COLUMN C 10/20","021","42","PURIFICATION MEDIA","053","Empty Columns",{"v":242.99999999999997,"d":"243"},{"v":2189.187,"d":"2,189"},null,{"$f":"VLOOKUP(B6625,'[1]2018.7 '!A:C,3,)","v":"Active"},{"$f":"VLOOKUP(B6625,'[1]2018.7 '!A:M,13,)","v":"Ambient"},{"$f":"VLOOKUP(B6625,'[1]2018.7 '!A:N,14,)","v":"No"}]
[6628,"19510301",19510301,"COLUMN C 16/70","021","42","PURIFICATION MEDIA","053","Empty Columns",359,{"v":3234.231,"d":"3,234"},null,{"$f":"VLOOKUP(B6629,'[1]2018.7 '!A:C,3,)","v":"Active"},{"$f":"VLOOKUP(B6629,'[1]2018.7 '!A:M,13,)","v":"Ambient"},{"$f":"VLOOKUP(B6629,'[1]2018.7 '!A:N,14,)","v":"No"}]
[6631,"19520201",19520201,"COLUMN C 26/70","021","42","PURIFICATION MEDIA","053","Empty Columns",417,{"v":3756.753,"d":"3,757"},null,{"$f":"VLOOKUP(B6632,'[1]2018.7 '!A:C,3,)","v":"Active"},{"$f":"VLOOKUP(B6632,'[1]2018.7 '!A:M,13,)","v":"Ambient"},{"$f":"VLOOKUP(B6632,'[1]2018.7 '!A:N,14,)","v":"No"}]
[6632,"19520301",19520301,"COLUMN C 26/100","021","42","PURIFICATION MEDIA","053","Empty Columns",520,{"v":4684.68,"d":"4,685"},null,{"$f":"VLOOKUP(B6633,'[1]2018.7 '!A:C,3,)","v":"Active"},{"$f":"VLOOKUP(B6633,'[1]2018.7 '!A:M,13,)","v":"Ambient"},{"$f":"VLOOKUP(B6633,'[1]2018.7 '!A:N,14,)","v":"No"}]
[6635,"28406409",28406409,"TRICORN 5/50 COLUMN","021","42","PURIFICATION MEDIA","053","Empty Columns",702,{"v":6324.318,"d":"6,324"},null,{"$f":"VLOOKUP(B6636,'[1]2018.7 '!A:C,3,)","v":"Active"},{"$f":"VLOOKUP(B6636,'[1]2018.7 '!A:M,13,)","v":"Ambient"},{"$f":"VLOOKUP(B6636,'[1]2018.7 '!A:N,14,)","v":"No"}]
[6639,"28406413",28406413,"TRICORN 10/20 COLUMN","021","42","PURIFICATION MEDIA","053","Empty Columns",812,{"v":7315.308,"d":"7,315"},null,{"$f":"VLOOKUP(B6640,'[1]2018.7 '!A:C,3,)","v":"Active"},{"$f":"VLOOKUP(B6640,'[1]2018.7 '!A:M,13,)","v":"Ambient"},{"$f":"VLOOKUP(B6640,'[1]2018.7 '!A:N,14,)","v":"No"}]
[6643,"28406417",28406417,"TRICORN 10/200 COLUMN","021","42","PURIFICATION MEDIA","053","Empty Columns",{"v":936.0000000000001,"d":"936"},{"v":8432.424,"d":"8,432"},null,{"$f":"VLOOKUP(B6644,'[1]2018.7 '!A:C,3,)","v":"Active"},{"$f":"VLOOKUP(B6644,'[1]2018.7 '!A:M,13,)","v":"Ambient"},{"$f":"VLOOKUP(B6644,'[1]2018.7 '!A:N,14,)","v":"No"}]
[6646,"28964424",28964424,"HiScale 16/40","021","42","PURIFICATION MEDIA","053","Empty Columns",{"v":1201,"d":"1,201"},{"v":10819.809000000001,"d":"10,820"},null,{"$f":"VLOOKUP(B6647,'[1]2018.7 '!A:C,3,)","v":"Active"},{"$f":"VLOOKUP(B6647,'[1]2018.7 '!A:M,13,)","v":"Ambient"},{"$f":"VLOOKUP(B6647,'[1]2018.7 '!A:N,14,)","v":"No"}]
[6649,"28964445",28964445,"HiScale 50 20BH","021","42","PURIFICATION MEDIA","053","Empty Columns",{"v":2187,"d":"2,187"},{"v":19702.683,"d":"19,703"},null,{"$f":"VLOOKUP(B6650,'[1]2018.7 '!A:C,3,)","v":"Active"},{"$f":"VLOOKUP(B6650,'[1]2018.7 '!A:M,13,)","v":"Ambient"},{"$f":"VLOOKUP(B6650,'[1]2018.7 '!A:N,14,)","v":"No"}]
[6653,"28988937",28988937,"XK 16/20 column","021","42","PURIFICATION MEDIA","053","Empty Columns",731,{"v":6585.579000000001,"d":"6,586"},null,{"$f":"VLOOKUP(B6654,'[1]2018.7 '!A:C,3,)","v":"Active"},{"$f":"VLOOKUP(B6654,'[1]2018.7 '!A:M,13,)","v":"Ambient"},{"$f":"VLOOKUP(B6654,'[1]2018.7 '!A:N,14,)","v":"No"}]
[6656,"28988947",28988947,"XK 16/100 column","021","42","PURIFICATION MEDIA","053","Empty Columns",{"v":953.0000000000001,"d":"953"},{"v":8585.577000000001,"d":"8,586"},null,{"$f":"VLOOKUP(B6657,'[1]2018.7 '!A:C,3,)","v":"Active"},{"$f":"VLOOKUP(B6657,'[1]2018.7 '!A:M,13,)","v":"Ambient"},{"$f":"VLOOKUP(B6657,'[1]2018.7 '!A:N,14,)","v":"No"}]
[6660,"28988951",28988951,"XK 26/100 column","021","42","PURIFICATION MEDIA","053","Empty Columns",{"v":1157,"d":"1,157"},{"v":10423.413,"d":"10,423"},null,{"$f":"VLOOKUP(B6661,'[1]2018.7 '!A:C,3,)","v":"Active"},{"$f":"VLOOKUP(B6661,'[1]2018.7 '!A:M,13,)","v":"Ambient"},{"$f":"VLOOKUP(B6661,'[1]2018.7 '!A:N,14,)","v":"No"}]
[6661,"28988952",28988952,"XK 50/20 column","021","42","PURIFICATION MEDIA","053","Empty Columns",{"v":1164,"d":"1,164"},{"v":10486.476,"d":"10,486"},null,{"$f":"VLOOKUP(B6662,'[1]2018.7 '!A:C,3,)","v":"Active"},{"$f":"VLOOKUP(B6662,'[1]2018.7 '!A:M,13,)","v":"Ambient"},{"$f":"VLOOKUP(B6662,'[1]2018.7 '!A:N,14,)","v":"No"}]
[6664,"28988965",28988965,"XK 50/100 column","021","42","PURIFICATION MEDIA","053","Empty Columns",{"v":1683,"d":"1,683"},{"v":15162.147,"d":"15,162"},null,{"$f":"VLOOKUP(B6665,'[1]2018.7 '!A:C,3,)","v":"Active"},{"$f":"VLOOKUP(B6665,'[1]2018.7 '!A:M,13,)","v":"Ambient"},{"$f":"VLOOKUP(B6665,'[1]2018.7 '!A:N,14,)","v":"No"}]
[6668,"17116701",17116701,"HIPREP 16/60 SEPHACRYL S-300 HR","021","42","PURIFICATION MEDIA","061","Size Exclusion Columns",{"v":976.9999999999999,"d":"977"},{"v":8801.793,"d":"8,802"},null,{"$f":"VLOOKUP(B6669,'[1]2018.7 '!A:C,3,)","v":"Active"},{"$f":"VLOOKUP(B6669,'[1]2018.7 '!A:M,13,)","v":"Ambient"},{"$f":"VLOOKUP(B6669,'[1]2018.7 '!A:N,14,)","v":"No"}]
[6671,"17119601",17119601,"HIPREP 26/60 SEPHACRYL S-300 HR","021","42","PURIFICATION MEDIA","061","Size Exclusion Columns",{"v":1295,"d":"1,295"},{"v":11666.655,"d":"11,667"},null,{"$f":"VLOOKUP(B6672,'[1]2018.7 '!A:C,3,)","v":"Active"},{"$f":"VLOOKUP(B6672,'[1]2018.7 '!A:M,13,)","v":"Ambient"},{"$f":"VLOOKUP(B6672,'[1]2018.7 '!A:N,14,)","v":"No"}]
[6674,"17508701",17508701,"HIPREP 26/10 DESALTING","021","42","PURIFICATION MEDIA","061","Size Exclusion Columns",913,{"v":8225.217,"d":"8,225"},null,{"$f":"VLOOKUP(B6675,'[1]2018.7 '!A:C,3,)","v":"Active"},{"$f":"VLOOKUP(B6675,'[1]2018.7 '!A:M,13,)","v":"Ambient"},{"$f":"VLOOKUP(B6675,'[1]2018.7 '!A:N,14,)","v":"No"}]
[6678,"17517401",17517401,"SUPERDEX 75 10/300 GL","021","42","PURIFICATION MEDIA","061","Size Exclusion Columns",{"v":2809,"d":"2,809"},{"v":25306.281000000003,"d":"25,306"},null,{"$f":"VLOOKUP(B6679,'[1]2018.7 '!A:C,3,)","v":"Active"},{"$f":"VLOOKUP(B6679,'[1]2018.7 '!A:M,13,)","v":"Ambient"},{"$f":"VLOOKUP(B6679,'[1]2018.7 '!A:N,14,)","v":"No"}]
[6681,"28906561",28906561,"Superdex 200 5_150 GL","021","42","PURIFICATION MEDIA","061","Size Exclusion Columns",{"v":2730,"d":"2,730"},{"v":24594.57,"d":"24,595"}]
[6683,"28935604",28935604,"HiPrep 16/60 Sephacryl S-400 HR","021","42","PURIFICATION MEDIA","061","Size Exclusion Columns",{"v":976.9999999999999,"d":"977"},{"v":8801.793,"d":"8,802"},null,{"$f":"VLOOKUP(B6684,'[1]2018.7 '!A:C,3,)","v":"Active"},{"$f":"VLOOKUP(B6684,'[1]2018.7 '!A:M,13,)","v":"Ambient"},{"$f":"VLOOKUP(B6684,'[1]2018.7 '!A:N,14,)","v":"No"}]
[6686,"28935607",28935607,"HiPrep 26/60 Sephacryl S-500 HR","021","42","PURIFICATION MEDIA","061","Size Exclusion Columns",{"v":1295,"d":"1,295"},{"v":11666.655,"d":"11,667"},null,{"$f":"VLOOKUP(B6687,'[1]2018.7 '!A:C,3,)","v":"Active"},{"$f":"VLOOKUP(B6687,'[1]2018.7 '!A:M,13,)","v":"Ambient"},{"$f":"VLOOKUP(B6687,'[1]2018.7 '!A:N,14,)","v":"No"}]
[6689,"28989333",28989333,"HiLoad 16/600 Superdex 75 pg","021","42","PURIFICATION MEDIA","061","Size Exclusion Columns",{"v":3733,"d":"3,733"},{"v":33630.597,"d":"33,631"},null,{"$f":"VLOOKUP(B6690,'[1]2018.7 '!A:C,3,)","v":"Active"},{"$f":"VLOOKUP(B6690,'[1]2018.7 '!A:M,13,)","v":"Ambient"},{"$f":"VLOOKUP(B6690,'[1]2018.7 '!A:N,14,)","v":"No"}]
[6693,"28990944",28990944,"Superdex 200 Increase 10/300 GL","021","42","PURIFICATION MEDIA","061","Size Exclusion Columns",{"v":2974,"d":"2,974"},{"v":26792.766,"d":"26,793"},null,{"$f":"VLOOKUP(B6694,'[1]2018.7 '!A:C,3,)","v":"Active"},{"$f":"VLOOKUP(B6694,'[1]2018.7 '!A:M,13,)","v":"Ambient"},{"$f":"VLOOKUP(B6694,'[1]2018.7 '!A:N,14,)","v":"No"}]
[6696,"29036225",29036225,"SUPEROSE 12 3.2/300","021","42","PURIFICATION MEDIA","061","Size Exclusion Columns",{"v":3597,"d":"3,597"},{"v":32405.373,"d":"32,405"},null,{"$f":"VLOOKUP(B6697,'[1]2018.7 '!A:C,3,)","v":"Phase Out"},{"$f":"VLOOKUP(B6697,'[1]2018.7 '!A:M,13,)","v":"Ambient"},{"$f":"VLOOKUP(B6697,'[1]2018.7 '!A:N,14,)","v":"No"}]
[6700,"29048684",29048684,"HITRAP DESALTING, 1X5ML","021","42","PURIFICATION MEDIA","061","Size Exclusion Columns",90,{"v":810.8100000000001,"d":"811"},null,{"$f":"VLOOKUP(B6701,'[1]2018.7 '!A:C,3,)","v":"Active"},{"$f":"VLOOKUP(B6701,'[1]2018.7 '!A:M,13,)","v":"Ambient"},{"$f":"VLOOKUP(B6701,'[1]2018.7 '!A:N,14,)","v":"No"}]
[6702,"29091597",29091597,"Superose 6 Increase 5/150 GL","021","42","PURIFICATION MEDIA","061","Size Exclusion Columns",{"v":2974,"d":"2,974"},{"v":26792.766,"d":"26,793"},null,{"$f":"VLOOKUP(B6703,'[1]2018.7 '!A:C,3,)","v":"Active"},{"$f":"VLOOKUP(B6703,'[1]2018.7 '!A:M,13,)","v":"Ambient"},{"$f":"VLOOKUP(B6703,'[1]2018.7 '!A:N,14,)","v":"No"}]
[6707,"17371502",17371502,"Capto adhere ImpRes, 100 ml","021","42","PURIFICATION MEDIA","064","Multimodal media",{"v":936.0000000000001,"d":"936.0"},{"v":8432.424,"d":"8,432"},null,{"$f":"VLOOKUP(B6708,'[1]2018.7 '!A:C,3,)","v":"Active"},{"$f":"VLOOKUP(B6708,'[1]2018.7 '!A:M,13,)","v":"Ambient"},{"$f":"VLOOKUP(B6708,'[1]2018.7 '!A:N,14,)","v":"No"}]
[6708,"17371510",17371510,"HiTrap Capto adhere ImpRes 5x1 ml","021","42","PURIFICATION MEDIA","064","Multimodal media",{"v":534,"d":"534.0"},{"v":4810.8060000000005,"d":"4,811"},null,{"$f":"VLOOKUP(B6709,'[1]2018.7 '!A:C,3,)","v":"Active"},{"$f":"VLOOKUP(B6709,'[1]2018.7 '!A:M,13,)","v":"Ambient"},{"$f":"VLOOKUP(B6709,'[1]2018.7 '!A:N,14,)","v":"No"}]
[6711,"17371602",17371602,"Capto MMC ImpRes, 100 ml","021","42","PURIFICATION MEDIA","064","Multimodal media",{"v":816,"d":"816.0"},{"v":7351.344,"d":"7,351"},null,{"$f":"VLOOKUP(B6712,'[1]2018.7 '!A:C,3,)","v":"Active"},{"$f":"VLOOKUP(B6712,'[1]2018.7 '!A:M,13,)","v":"Ambient"},{"$f":"VLOOKUP(B6712,'[1]2018.7 '!A:N,14,)","v":"No"}]
[6714,"17531702",17531702,"Capto MMC 100ml","021","42","PURIFICATION MEDIA","064","Multimodal media",{"v":594,"d":"594.0"},{"v":5351.3460000000005,"d":"5,351"},null,{"$f":"VLOOKUP(B6715,'[1]2018.7 '!A:C,3,)","v":"Active"},{"$f":"VLOOKUP(B6715,'[1]2018.7 '!A:M,13,)","v":"Ambient"},{"$f":"VLOOKUP(B6715,'[1]2018.7 '!A:N,14,)","v":"No"}]
[6718,"17548101",17548101,"Capto Core 700, 25 mL","021","42","PURIFICATION MEDIA","064","Multimodal media",{"v":280,"d":"280.0"},{"v":2522.52,"d":"2,523"},null,{"$f":"VLOOKUP(B6719,'[1]2018.7 '!A:C,3,)","v":"Active"},{"$f":"VLOOKUP(B6719,'[1]2018.7 '!A:M,13,)","v":"Ambient"},{"$f":"VLOOKUP(B6719,'[1]2018.7 '!A:N,14,)","v":"No"}]
[6721,"17548151",17548151,"HiTrap Capto Core 700, 5 x 1 ml","021","42","PURIFICATION MEDIA","064","Multimodal media",{"v":385,"d":"385.0"},{"v":3468.465,"d":"3,468"},null,{"$f":"VLOOKUP(B6722,'[1]2018.7 '!A:C,3,)","v":"Active"},{"$f":"VLOOKUP(B6722,'[1]2018.7 '!A:M,13,)","v":"Ambient"},{"$f":"VLOOKUP(B6722,'[1]2018.7 '!A:N,14,)","v":"No"}]
[6723,"28405846",28405846,"5x5 ml Hitrap Capto adhere","021","42","PURIFICATION MEDIA","064","Multimodal media",{"v":1083,"d":"1,083.0"},{"v":9756.747000000001,"d":"9,757"},null,{"$f":"VLOOKUP(B6724,'[1]2018.7 '!A:C,3,)","v":"Active"},{"$f":"VLOOKUP(B6724,'[1]2018.7 '!A:M,13,)","v":"Ambient"},{"$f":"VLOOKUP(B6724,'[1]2018.7 '!A:N,14,)","v":"No"}]
[6729,"17003101",17003101,"SEPHADEX G-25 SUPERFINE   100 G","021","42","PURIFICATION MEDIA","071","Size Exclusion Gels",{"v":469.00000000000006,"d":"469"},{"v":4225.2210000000005,"d":"4,225"},null,{"$f":"VLOOKUP(B6730,'[1]2018.7 '!A:C,3,)","v":"Active"},{"$f":"VLOOKUP(B6730,'[1]2018.7 '!A:M,13,)","v":"Ambient"},{"$f":"VLOOKUP(B6730,'[1]2018.7 '!A:N,14,)","v":"No"}]
[6732,"17003301",17003301,"SEPHADEX G-25 MEDIUM   100 G","021","42","PURIFICATION MEDIA","071","Size Exclusion Gels",351,{"v":3162.159,"d":"3,162"},null,{"$f":"VLOOKUP(B6733,'[1]2018.7 '!A:C,3,)","v":"Active"},{"$f":"VLOOKUP(B6733,'[1]2018.7 '!A:M,13,)","v":"Ambient"},{"$f":"VLOOKUP(B6733,'[1]2018.7 '!A:N,14,)","v":"No"}]
[6733,"17003302",17003302,"SEPHADEX G-25 MEDIUM   500 G","021","42","PURIFICATION MEDIA","071","Size Exclusion Gels",{"v":1603,"d":"1,603"},{"v":14441.427,"d":"14,441"},null,{"$f":"VLOOKUP(B6734,'[1]2018.7 '!A:C,3,)","v":"Active"},{"$f":"VLOOKUP(B6734,'[1]2018.7 '!A:M,13,)","v":"Ambient"},{"$f":"VLOOKUP(B6734,'[1]2018.7 '!A:N,14,)","v":"No"}]
[6736,"17004101",17004101,"SEPHADEX G-50 SUPERFINE   100 G","021","42","PURIFICATION MEDIA","071","Size Exclusion Gels",518,{"v":4666.662,"d":"4,667"},null,{"$f":"VLOOKUP(B6737,'[1]2018.7 '!A:C,3,)","v":"Active"},{"$f":"VLOOKUP(B6737,'[1]2018.7 '!A:M,13,)","v":"Ambient"},{"$f":"VLOOKUP(B6737,'[1]2018.7 '!A:N,14,)","v":"No"}]
[6740,"17004302",17004302,"SEPHADEX G-50 MEDIUM   500 G","021","42","PURIFICATION MEDIA","071","Size Exclusion Gels",{"v":1894.0000000000002,"d":"1,894"},{"v":17063.046000000002,"d":"17,063"},null,{"$f":"VLOOKUP(B6741,'[1]2018.7 '!A:C,3,)","v":"Active"},{"$f":"VLOOKUP(B6741,'[1]2018.7 '!A:M,13,)","v":"Ambient"},{"$f":"VLOOKUP(B6741,'[1]2018.7 '!A:N,14,)","v":"No"}]
[6743,"17005101",17005101,"SEPHADEX G-75 SUPERFINE   100 G","021","42","PURIFICATION MEDIA","071","Size Exclusion Gels",648,{"v":5837.832,"d":"5,838"},null,{"$f":"VLOOKUP(B6744,'[1]2018.7 '!A:C,3,)","v":"Active"},{"$f":"VLOOKUP(B6744,'[1]2018.7 '!A:M,13,)","v":"Ambient"},{"$f":"VLOOKUP(B6744,'[1]2018.7 '!A:N,14,)","v":"No"}]
[6748,"17009010",17009010,"SEPHADEX LH-20,  25 G","021","42","PURIFICATION MEDIA","071","Size Exclusion Gels",198,{"v":1783.7820000000002,"d":"1,784"},null,{"$f":"VLOOKUP(B6749,'[1]2018.7 '!A:C,3,)","v":"Active"},{"$f":"VLOOKUP(B6749,'[1]2018.7 '!A:M,13,)","v":"Ambient"},{"$f":"VLOOKUP(B6749,'[1]2018.7 '!A:N,14,)","v":"No"}]
[6751,"17013001",17013001,"SEPHAROSE 2B   1 L","021","42","PURIFICATION MEDIA","071","Size Exclusion Gels",{"v":1046,"d":"1,046"},{"v":9423.414,"d":"9,423"},null,{"$f":"VLOOKUP(B6752,'[1]2018.7 '!A:C,3,)","v":{"$error":"#N/A"}},{"$f":"VLOOKUP(B6752,'[1]2018.7 '!A:M,13,)","v":{"$error":"#N/A"}},{"$f":"VLOOKUP(B6752,'[1]2018.7 '!A:N,14,)","v":"No"}]
[6754,"17016001",17016001,"SEPHAROSE CL-6B   1 L","021","42","PURIFICATION MEDIA","071","Size Exclusion Gels",{"v":1121,"d":"1,121"},{"v":10099.089,"d":"10,099"},null,{"$f":"VLOOKUP(B6755,'[1]2018.7 '!A:C,3,)","v":"Active"},{"$f":"VLOOKUP(B6755,'[1]2018.7 '!A:M,13,)","v":"Ambient"},{"$f":"VLOOKUP(B6755,'[1]2018.7 '!A:N,14,)","v":"No"}]
[6757,"17053601",17053601,"SUPEROSE 12 PREP GRADE 125 ML","021","42","PURIFICATION MEDIA","071","Size Exclusion Gels",831,{"v":7486.479,"d":"7,486"},null,{"$f":"VLOOKUP(B6758,'[1]2018.7 '!A:C,3,)","v":"Active"},{"$f":"VLOOKUP(B6758,'[1]2018.7 '!A:M,13,)","v":"Ambient"},{"$f":"VLOOKUP(B6758,'[1]2018.7 '!A:N,14,)","v":"No"}]
[6758,"17058401",17058401,"SEPHACRYL  S-200  HR  750 ML","021","42","PURIFICATION MEDIA","071","Size Exclusion Gels",904,{"v":8144.136,"d":"8,144"},null,{"$f":"VLOOKUP(B6759,'[1]2018.7 '!A:C,3,)","v":"Active"},{"$f":"VLOOKUP(B6759,'[1]2018.7 '!A:M,13,)","v":"Ambient"},{"$f":"VLOOKUP(B6759,'[1]2018.7 '!A:N,14,)","v":"No"}]
[6761,"17059910",17059910,"SEPHACRYL S-300 HR, 150 ML","021","42","PURIFICATION MEDIA","071","Size Exclusion Gels",{"v":235.00000000000003,"d":"235"},{"v":2117.1150000000002,"d":"2,117"},null,{"$f":"VLOOKUP(B6762,'[1]2018.7 '!A:C,3,)","v":"Active"},{"$f":"VLOOKUP(B6762,'[1]2018.7 '!A:M,13,)","v":"Ambient"},{"$f":"VLOOKUP(B6762,'[1]2018.7 '!A:N,14,)","v":"No"}]
[6765,"17061210",17061210,"SEPHACRYL S-100 HR, 150 ML","021","42","PURIFICATION MEDIA","071","Size Exclusion Gels",{"v":235.00000000000003,"d":"235"},{"v":2117.1150000000002,"d":"2,117"},null,{"$f":"VLOOKUP(B6766,'[1]2018.7 '!A:C,3,)","v":"Active"},{"$f":"VLOOKUP(B6766,'[1]2018.7 '!A:M,13,)","v":"Ambient"},{"$f":"VLOOKUP(B6766,'[1]2018.7 '!A:N,14,)","v":"No"}]
[6769,"17104301",17104301,"SUPERDEX 200 PREP GRADE 150 ML","021","42","PURIFICATION MEDIA","071","Size Exclusion Gels",932,{"v":8396.388,"d":"8,396"},null,{"$f":"VLOOKUP(B6770,'[1]2018.7 '!A:C,3,)","v":"Active"},{"$f":"VLOOKUP(B6770,'[1]2018.7 '!A:M,13,)","v":"Ambient"},{"$f":"VLOOKUP(B6770,'[1]2018.7 '!A:N,14,)","v":"No"}]
[6772,"28403842",28403842,"GEL FILTRATION CAL KIT HMW","021","42","PURIFICATION MEDIA","071","Size Exclusion Gels",765,{"v":6891.885,"d":"6,892"},null,{"$f":"VLOOKUP(B6773,'[1]2018.7 '!A:C,3,)","v":"Active"},{"$f":"VLOOKUP(B6773,'[1]2018.7 '!A:M,13,)","v":"Ambient"},{"$f":"VLOOKUP(B6773,'[1]2018.7 '!A:N,14,)","v":"No"}]
[6776,"11000353",11000353,"SUPEROSE 12, 13?M, 5 ML","021","42","PURIFICATION MEDIA","086","CDP Chromatography",790,{"v":7117.110000000001,"d":"7,117"},null,{"$f":"VLOOKUP(B6777,'[1]2018.7 '!A:C,3,)","v":"Active"},{"$f":"VLOOKUP(B6777,'[1]2018.7 '!A:M,13,)","v":"Ambient"},{"$f":"VLOOKUP(B6777,'[1]2018.7 '!A:N,14,)","v":"Reviewing"}]
[6779,"11000683",11000683,"BOTTOM PIECE BIOPILOT 60","021","42","PURIFICATION MEDIA","086","CDP Chromatography",788,{"v":7099.092000000001,"d":"7,099"},null,{"$f":"VLOOKUP(B6780,'[1]2018.7 '!A:C,3,)","v":"Active"},{"$f":"VLOOKUP(B6780,'[1]2018.7 '!A:M,13,)","v":"Ambient"},{"$f":"VLOOKUP(B6780,'[1]2018.7 '!A:N,14,)","v":"Reviewing"}]
[6782,"11000695",11000695,"Q SEPHAROSE HP, T 5/100 GL","021","42","PURIFICATION MEDIA","086","CDP Chromatography",{"v":4645,"d":"4,645"},{"v":41846.805,"d":"41,847"},null,{"$f":"VLOOKUP(B6783,'[1]2018.7 '!A:C,3,)","v":"Active"},{"$f":"VLOOKUP(B6783,'[1]2018.7 '!A:M,13,)","v":"Ambient"},{"$f":"VLOOKUP(B6783,'[1]2018.7 '!A:N,14,)","v":"No"}]
[6783,"11000696",11000696,"MONO S, TRICORN 5/100 GL","021","42","PURIFICATION MEDIA","086","CDP Chromatography",{"v":5489,"d":"5,489"},{"v":49450.401000000005,"d":"49,450"},null,{"$f":"VLOOKUP(B6784,'[1]2018.7 '!A:C,3,)","v":"Active"},{"$f":"VLOOKUP(B6784,'[1]2018.7 '!A:M,13,)","v":"Ambient"},{"$f":"VLOOKUP(B6784,'[1]2018.7 '!A:N,14,)","v":"No"}]
[6786,"11000912",11000912,"RPROT.A SEPH.FF,XK16/20,25ML","021","42","PURIFICATION MEDIA","086","CDP Chromatography",{"v":7288,"d":"7,288"},{"v":65657.592,"d":"65,658"},null,{"$f":"VLOOKUP(B6787,'[1]2018.7 '!A:C,3,)","v":"Active"},{"$f":"VLOOKUP(B6787,'[1]2018.7 '!A:M,13,)","v":"Ambient"},{"$f":"VLOOKUP(B6787,'[1]2018.7 '!A:N,14,)","v":"Reviewing"}]
[6790,"11001212",11001212,"SUPERDEX 200 PG XK16/100, 80CM","021","42","PURIFICATION MEDIA","086","CDP Chromatography",{"v":5689,"d":"5,689"},{"v":51252.201,"d":"51,252"},null,{"$f":"VLOOKUP(B6791,'[1]2018.7 '!A:C,3,)","v":"Active"},{"$f":"VLOOKUP(B6791,'[1]2018.7 '!A:M,13,)","v":"Ambient"},{"$f":"VLOOKUP(B6791,'[1]2018.7 '!A:N,14,)","v":"No"}]
[6794,"11001307",11001307,"TOP ADAPTOR CASING, BP 60/100","021","42","PURIFICATION MEDIA","086","CDP Chromatography",{"$f":"K6795/9.009","v":{"v":1025,"d":"1,025"}},{"v":9234.225,"d":"9,234"},null,{"$f":"VLOOKUP(B6795,'[1]2018.7 '!A:C,3,)","v":"Active"},{"$f":"VLOOKUP(B6795,'[1]2018.7 '!A:M,13,)","v":"Ambient"},{"$f":"VLOOKUP(B6795,'[1]2018.7 '!A:N,14,)","v":"Reviewing"}]
[6797,"11002640",11002640,"SP SEPHAROSE HP, XK 50/30","021","42","PURIFICATION MEDIA","086","CDP Chromatography",{"v":5498,"d":"5,498"},{"v":49531.482,"d":"49,531"},null,{"$f":"VLOOKUP(B6798,'[1]2018.7 '!A:C,3,)","v":"Active"},{"$f":"VLOOKUP(B6798,'[1]2018.7 '!A:M,13,)","v":"Ambient"},{"$f":"VLOOKUP(B6798,'[1]2018.7 '!A:N,14,)","v":"Reviewing"}]
[6801,"11003294",11003294,"SEPHACRYL S-500HR XK16/40 30CM","021","42","PURIFICATION MEDIA","086","CDP Chromatography",{"v":4888,"d":"4,888"},{"v":44035.992,"d":"44,036"},null,{"$f":"VLOOKUP(B6802,'[1]2018.7 '!A:C,3,)","v":"Active"},{"$f":"VLOOKUP(B6802,'[1]2018.7 '!A:M,13,)","v":"Ambient"},{"$f":"VLOOKUP(B6802,'[1]2018.7 '!A:N,14,)","v":"Reviewing"}]
[6804,"11003524",11003524,"SEPHADEX G-25M,XK50/30,18-21CM","021","42","PURIFICATION MEDIA","086","CDP Chromatography",{"v":5660,"d":"5,660"},{"v":50990.94,"d":"50,991"},null,{"$f":"VLOOKUP(B6805,'[1]2018.7 '!A:C,3,)","v":"Active"},{"$f":"VLOOKUP(B6805,'[1]2018.7 '!A:M,13,)","v":"Ambient"},{"$f":"VLOOKUP(B6805,'[1]2018.7 '!A:N,14,)","v":"Reviewing"}]
[6805,"11003530",11003530,"SUPERDEX 30 PG, XK 50/100","021","42","PURIFICATION MEDIA","086","CDP Chromatography",{"v":15489,"d":"15,489"},{"v":139540.401,"d":"139,540"},null,{"$f":"VLOOKUP(B6806,'[1]2018.7 '!A:C,3,)","v":"Active"},{"$f":"VLOOKUP(B6806,'[1]2018.7 '!A:M,13,)","v":"Ambient"},{"$f":"VLOOKUP(B6806,'[1]2018.7 '!A:N,14,)","v":"No"}]
[6808,"17142212",17142212,"RESOURCE 15 PHE, 6ML (CDP)","021","42","PURIFICATION MEDIA","086","CDP Chromatography",{"v":2573,"d":"2,573"},{"v":23180.157,"d":"23,180"},null,{"$f":"VLOOKUP(B6809,'[1]2018.7 '!A:C,3,)","v":"Active"},{"$f":"VLOOKUP(B6809,'[1]2018.7 '!A:M,13,)","v":"Ambient"},{"$f":"VLOOKUP(B6809,'[1]2018.7 '!A:N,14,)","v":"No"}]
[6811,"17371912",17371912,"HiTrap 5 x 5 mL Capto Butyl ImpRes","021","42","PURIFICATION MEDIA","086","CDP Chromatography",{"v":941.0000000000001,"d":"941.0"},{"v":8477.469000000001,"d":"8,477"},null,{"$f":"VLOOKUP(B6812,'[1]2018.7 '!A:C,3,)","v":"Active"},{"$f":"VLOOKUP(B6812,'[1]2018.7 '!A:M,13,)","v":"Ambient"},{"$f":"VLOOKUP(B6812,'[1]2018.7 '!A:N,14,)","v":"No"}]
[6816,"17545812",17545812,"HiTrap 1x5 ml, KappaSelect","021","42","PURIFICATION MEDIA","086","CDP Chromatography",{"v":1006,"d":"1,006"},{"v":9063.054,"d":"9,063"},null,{"$f":"VLOOKUP(B6817,'[1]2018.7 '!A:C,3,)","v":"Active"},{"$f":"VLOOKUP(B6817,'[1]2018.7 '!A:M,13,)","v":"Ambient"},{"$f":"VLOOKUP(B6817,'[1]2018.7 '!A:N,14,)","v":"No"}]
[6819,"17546214",17546214,"HiPrep 16/10 Capto Heparin","021","42","PURIFICATION MEDIA","086","CDP Chromatography",{"v":1500,"d":"1,500.0"},{"v":13513.5,"d":"13,514"},null,{"$f":"VLOOKUP(B6820,'[1]2018.7 '!A:C,3,)","v":"Active"},{"$f":"VLOOKUP(B6820,'[1]2018.7 '!A:M,13,)","v":"Ambient"},{"$f":"VLOOKUP(B6820,'[1]2018.7 '!A:N,14,)","v":"No"}]
[6822,"17548212",17548212,"HiTrap 1x5 ml, LambdaFabSelect","021","42","PURIFICATION MEDIA","086","CDP Chromatography",{"v":1017,"d":"1,017"},{"v":9162.153,"d":"9,162"},null,{"$f":"VLOOKUP(B6823,'[1]2018.7 '!A:C,3,)","v":"Active"},{"$f":"VLOOKUP(B6823,'[1]2018.7 '!A:M,13,)","v":"Ambient"},{"$f":"VLOOKUP(B6823,'[1]2018.7 '!A:N,14,)","v":"No"}]
[6826,"17548411",17548411,"HiTrap 5x1 ml Capto Phenyl ImpRes","021","42","PURIFICATION MEDIA","086","CDP Chromatography",{"v":392,"d":"392.0"},{"v":3531.5280000000002,"d":"3,532"},null,{"$f":"VLOOKUP(B6827,'[1]2018.7 '!A:C,3,)","v":"Active"},{"$f":"VLOOKUP(B6827,'[1]2018.7 '!A:M,13,)","v":"Ambient"},{"$f":"VLOOKUP(B6827,'[1]2018.7 '!A:N,14,)","v":"No"}]
[6829,"25900483",25900483,"IMMOBILINE II PK4.6","021","42","PURIFICATION MEDIA","086","CDP Chromatography",{"v":3185,"d":"3,185"},{"v":28693.665,"d":"28,694"},null,{"$f":"VLOOKUP(B6830,'[1]2018.7 '!A:C,3,)","v":"Active"},{"$f":"VLOOKUP(B6830,'[1]2018.7 '!A:M,13,)","v":"Ambient"},{"$f":"VLOOKUP(B6830,'[1]2018.7 '!A:N,14,)","v":"Yes"}]
[6830,"25900484",25900484,"IMMOBILINE II PK 9.3","021","42","PURIFICATION MEDIA","086","CDP Chromatography",{"v":3185,"d":"3,185"},{"v":28693.665,"d":"28,694"},null,{"$f":"VLOOKUP(B6831,'[1]2018.7 '!A:C,3,)","v":"Active"},{"$f":"VLOOKUP(B6831,'[1]2018.7 '!A:M,13,)","v":"Ambient"},{"$f":"VLOOKUP(B6831,'[1]2018.7 '!A:N,14,)","v":"Yes"}]
[6836,"28404111",28404111,"SP-SEPHAROSE FF XK 50/20 10 CM","021","42","PURIFICATION MEDIA","086","CDP Chromatography",{"v":7045,"d":"7,045"},{"v":63468.405,"d":"63,468"},null,{"$f":"VLOOKUP(B6837,'[1]2018.7 '!A:C,3,)","v":"Active"},{"$f":"VLOOKUP(B6837,'[1]2018.7 '!A:M,13,)","v":"Ambient"},{"$f":"VLOOKUP(B6837,'[1]2018.7 '!A:N,14,)","v":"Reviewing"}]
[6837,"28404330",28404330,"SEPHAROSE CL-6B TRICORN 10/300","021","42","PURIFICATION MEDIA","086","CDP Chromatography",{"v":4738,"d":"4,738"},{"v":42684.642,"d":"42,685"}]
[6841,"28406141",28406141,"SEPHADEX G-25 FINE, XK 16/70","021","42","PURIFICATION MEDIA","086","CDP Chromatography",{"v":4527,"d":"4,527"},{"v":40783.743,"d":"40,784"},null,{"$f":"VLOOKUP(B6842,'[1]2018.7 '!A:C,3,)","v":"Active"},{"$f":"VLOOKUP(B6842,'[1]2018.7 '!A:M,13,)","v":"Ambient"},{"$f":"VLOOKUP(B6842,'[1]2018.7 '!A:N,14,)","v":"No"}]
[6844,"28408517",28408517,"SUPEROSE 6, TRICORN 5/200 GL","021","42","PURIFICATION MEDIA","086","CDP Chromatography",{"v":5806,"d":"5,806"},{"v":52306.254,"d":"52,306"}]
[6847,"28411211",28411211,"HiTrap 5x1 ml, AVB Sepharose HP","021","42","PURIFICATION MEDIA","086","CDP Chromatography",{"v":1392,"d":"1,392"},{"v":12540.528,"d":"12,541"},null,{"$f":"VLOOKUP(B6848,'[1]2018.7 '!A:C,3,)","v":"Active"},{"$f":"VLOOKUP(B6848,'[1]2018.7 '!A:M,13,)","v":"Ambient"},{"$f":"VLOOKUP(B6848,'[1]2018.7 '!A:N,14,)","v":"No"}]
[6851,"28900004",28900004,"Superdex 75 prep grade XK 50/100, 81 cm","021","42","PURIFICATION MEDIA","086","CDP Chromatography",{"v":14979.000000000002,"d":"14,979"},{"v":134945.81100000002,"d":"134,946"},null,{"$f":"VLOOKUP(B6852,'[1]2018.7 '!A:C,3,)","v":"Active"},{"$f":"VLOOKUP(B6852,'[1]2018.7 '!A:M,13,)","v":"Ambient"},{"$f":"VLOOKUP(B6852,'[1]2018.7 '!A:N,14,)","v":"No"}]
[6854,"28901117",28901117,"Source 15PHE, Tricorn 10/100 GL","021","42","PURIFICATION MEDIA","086","CDP Chromatography",{"v":5066,"d":"5,066"},{"v":45639.594000000005,"d":"45,640"},null,{"$f":"VLOOKUP(B6855,'[1]2018.7 '!A:C,3,)","v":"Active"},{"$f":"VLOOKUP(B6855,'[1]2018.7 '!A:M,13,)","v":"Ambient"},{"$f":"VLOOKUP(B6855,'[1]2018.7 '!A:N,14,)","v":"No"}]
[6857,"28901121",28901121,"Sepharose 6 Fast Flow XK 16/40","021","42","PURIFICATION MEDIA","086","CDP Chromatography",{"v":4511,"d":"4,511"},{"v":40639.599,"d":"40,640"},null,{"$f":"VLOOKUP(B6858,'[1]2018.7 '!A:C,3,)","v":"Active"},{"$f":"VLOOKUP(B6858,'[1]2018.7 '!A:M,13,)","v":"Ambient"},{"$f":"VLOOKUP(B6858,'[1]2018.7 '!A:N,14,)","v":"Reviewing"}]
[6859,"28902672",28902672,"Pharmalyte pH 4.2-4.9, 250ml","021","42","PURIFICATION MEDIA","086","CDP Chromatography",{"v":9220,"d":"9,220"},{"v":83062.98,"d":"83,063"}]
[6862,"28903251",28903251,"Sepharose 6 Fast Flow, Xk 50/60, 55 cm","021","42","PURIFICATION MEDIA","086","CDP Chromatography",{"v":5827,"d":"5,827"},{"v":52495.443,"d":"52,495"},null,{"$f":"VLOOKUP(B6863,'[1]2018.7 '!A:C,3,)","v":"Active"},{"$f":"VLOOKUP(B6863,'[1]2018.7 '!A:M,13,)","v":"Ambient"},{"$f":"VLOOKUP(B6863,'[1]2018.7 '!A:N,14,)","v":"No"}]
[6866,"28906235",28906235,"Sephadex G-25 Coarse, XK 50/60, 55 cm","021","42","PURIFICATION MEDIA","086","CDP Chromatography",{"v":6084,"d":"6,084"},{"v":54810.756,"d":"54,811"},null,{"$f":"VLOOKUP(B6867,'[1]2018.7 '!A:C,3,)","v":"Active"},{"$f":"VLOOKUP(B6867,'[1]2018.7 '!A:M,13,)","v":"Ambient"},{"$f":"VLOOKUP(B6867,'[1]2018.7 '!A:N,14,)","v":"No"}]
[6869,"28906474",28906474,"SUPERDEX 200 PG, TRICORN 10/600 GL","021","42","PURIFICATION MEDIA","086","CDP Chromatography",{"v":5976,"d":"5,976"},{"v":53837.784,"d":"53,838"},null,{"$f":"VLOOKUP(B6870,'[1]2018.7 '!A:C,3,)","v":"Active"},{"$f":"VLOOKUP(B6870,'[1]2018.7 '!A:M,13,)","v":"Ambient"},{"$f":"VLOOKUP(B6870,'[1]2018.7 '!A:N,14,)","v":"No"}]
[6873,"28907550",28907550,"PHENYL SEPH HP T10/100GL 9.1cm","021","42","PURIFICATION MEDIA","086","CDP Chromatography",{"v":4326,"d":"4,326"},{"v":38972.934,"d":"38,973"},null,{"$f":"VLOOKUP(B6874,'[1]2018.7 '!A:C,3,)","v":"Active"},{"$f":"VLOOKUP(B6874,'[1]2018.7 '!A:M,13,)","v":"Ambient"},{"$f":"VLOOKUP(B6874,'[1]2018.7 '!A:N,14,)","v":"No"}]
[6876,"28908406",28908406,"Capto MMC, XK 26/20","021","42","PURIFICATION MEDIA","086","CDP Chromatography",{"v":6232,"d":"6,232.0"},{"v":56144.088,"d":"56,144"},null,{"$f":"VLOOKUP(B6877,'[1]2018.7 '!A:C,3,)","v":"Active"},{"$f":"VLOOKUP(B6877,'[1]2018.7 '!A:M,13,)","v":"Ambient"},{"$f":"VLOOKUP(B6877,'[1]2018.7 '!A:N,14,)","v":"Reviewing"}]
[6878,"28909415",28909415,"HiTrap5X1ML GammaBindPlus CL6B","021","42","PURIFICATION MEDIA","086","CDP Chromatography",{"v":1902.0000000000002,"d":"1,902"},{"v":17135.118000000002,"d":"17,135"},null,{"$f":"VLOOKUP(B6879,'[1]2018.7 '!A:C,3,)","v":"Active"},{"$f":"VLOOKUP(B6879,'[1]2018.7 '!A:M,13,)","v":"Ambient"},{"$f":"VLOOKUP(B6879,'[1]2018.7 '!A:N,14,)","v":"Reviewing"}]
[6881,"28917930",28917930,"Source 15RPC, Tricorn 10/300 GL","021","42","PURIFICATION MEDIA","086","CDP Chromatography",{"v":6854,"d":"6,854"},{"v":61747.686,"d":"61,748"},null,{"$f":"VLOOKUP(B6882,'[1]2018.7 '!A:C,3,)","v":"Active"},{"$f":"VLOOKUP(B6882,'[1]2018.7 '!A:M,13,)","v":"Ambient"},{"$f":"VLOOKUP(B6882,'[1]2018.7 '!A:N,14,)","v":"No"}]
[6884,"28918391",28918391,"Sepharose CL-2B, XK 16/20, 15 cm","021","42","PURIFICATION MEDIA","086","CDP Chromatography",{"v":4107,"d":"4,107"},{"v":36999.963,"d":"37,000"},null,{"$f":"VLOOKUP(B6885,'[1]2018.7 '!A:C,3,)","v":"Active"},{"$f":"VLOOKUP(B6885,'[1]2018.7 '!A:M,13,)","v":"Ambient"},{"$f":"VLOOKUP(B6885,'[1]2018.7 '!A:N,14,)","v":"Reviewing"}]
[6887,"28918667",28918667,"DEAE Sephadex A-25, XK 16/70, 55 cm","021","42","PURIFICATION MEDIA","086","CDP Chromatography",{"v":6413,"d":"6,413"},{"v":57774.717000000004,"d":"57,775"},null,{"$f":"VLOOKUP(B6888,'[1]2018.7 '!A:C,3,)","v":"Active"},{"$f":"VLOOKUP(B6888,'[1]2018.7 '!A:M,13,)","v":"Ambient"},{"$f":"VLOOKUP(B6888,'[1]2018.7 '!A:N,14,)","v":"No"}]
[6891,"28920950",28920950,"Source 15RPC, XK 26/20","021","42","PURIFICATION MEDIA","086","CDP Chromatography",{"v":7235,"d":"7,235"},{"v":65180.115000000005,"d":"65,180"},null,{"$f":"VLOOKUP(B6892,'[1]2018.7 '!A:C,3,)","v":"Active"},{"$f":"VLOOKUP(B6892,'[1]2018.7 '!A:M,13,)","v":"Ambient"},{"$f":"VLOOKUP(B6892,'[1]2018.7 '!A:N,14,)","v":"Reviewing"}]
[6894,"28921032",28921032,"Source 15Q, Tricorn 10/200 GL","021","42","PURIFICATION MEDIA","086","CDP Chromatography",{"v":5347,"d":"5,347"},{"v":48171.123,"d":"48,171"},null,{"$f":"VLOOKUP(B6895,'[1]2018.7 '!A:C,3,)","v":"Active"},{"$f":"VLOOKUP(B6895,'[1]2018.7 '!A:M,13,)","v":"Ambient"},{"$f":"VLOOKUP(B6895,'[1]2018.7 '!A:N,14,)","v":"No"}]
[6898,"28925694",28925694,"Superdex Peptide, T 10x200 GL","021","42","PURIFICATION MEDIA","086","CDP Chromatography",{"v":6018,"d":"6,018"},{"v":54216.162000000004,"d":"54,216"}]
[6899,"28926186",28926186,"Superdex 75 pg XK 16x100,70 cm","021","42","PURIFICATION MEDIA","086","CDP Chromatography",{"v":5403,"d":"5,403"},{"v":48675.627,"d":"48,676"},null,{"$f":"VLOOKUP(B6900,'[1]2018.7 '!A:C,3,)","v":"Active"},{"$f":"VLOOKUP(B6900,'[1]2018.7 '!A:M,13,)","v":"Ambient"},{"$f":"VLOOKUP(B6900,'[1]2018.7 '!A:N,14,)","v":"No"}]
[6905,"28928340",28928340,"Source 15S, Tricorn 10x300 GL","021","42","PURIFICATION MEDIA","086","CDP Chromatography",{"v":6854,"d":"6,854"},{"v":61747.686,"d":"61,748"},null,{"$f":"VLOOKUP(B6906,'[1]2018.7 '!A:C,3,)","v":"Active"},{"$f":"VLOOKUP(B6906,'[1]2018.7 '!A:M,13,)","v":"Ambient"},{"$f":"VLOOKUP(B6906,'[1]2018.7 '!A:N,14,)","v":"No"}]
[6906,"28928515",28928515,"HiTrap 1x5ml, 2 5 ADP Seph4B","021","42","PURIFICATION MEDIA","086","CDP Chromatography",{"v":1597,"d":"1,597"},{"v":14387.373000000001,"d":"14,387"},null,{"$f":"VLOOKUP(B6907,'[1]2018.7 '!A:C,3,)","v":"Active"},{"$f":"VLOOKUP(B6907,'[1]2018.7 '!A:M,13,)","v":"Ambient"},{"$f":"VLOOKUP(B6907,'[1]2018.7 '!A:N,14,)","v":"No"}]
[6909,"28928734",28928734,"Empty BioPilot 60x100 column","021","42","PURIFICATION MEDIA","086","CDP Chromatography",{"v":10292,"d":"10,292"},{"v":92720.628,"d":"92,721"},null,{"$f":"VLOOKUP(B6910,'[1]2018.7 '!A:C,3,)","v":"Active"},{"$f":"VLOOKUP(B6910,'[1]2018.7 '!A:M,13,)","v":"Ambient"},{"$f":"VLOOKUP(B6910,'[1]2018.7 '!A:N,14,)","v":"Reviewing"}]
[6913,"28931733",28931733,"HiTrap5x5ml PlasmidSelect Xtra","021","42","PURIFICATION MEDIA","086","CDP Chromatography",{"v":3653.9999999999995,"d":"3,654"},{"v":32918.886,"d":"32,919"},null,{"$f":"VLOOKUP(B6914,'[1]2018.7 '!A:C,3,)","v":"Active"},{"$f":"VLOOKUP(B6914,'[1]2018.7 '!A:M,13,)","v":"Ambient"},{"$f":"VLOOKUP(B6914,'[1]2018.7 '!A:N,14,)","v":"No"}]
[6916,"28932314",28932314,"Sephadex G-100,XK50x60,51-52cm","021","42","PURIFICATION MEDIA","086","CDP Chromatography",{"v":7501,"d":"7,501"},{"v":67576.509,"d":"67,577"},null,{"$f":"VLOOKUP(B6917,'[1]2018.7 '!A:C,3,)","v":"Active"},{"$f":"VLOOKUP(B6917,'[1]2018.7 '!A:M,13,)","v":"Ambient"},{"$f":"VLOOKUP(B6917,'[1]2018.7 '!A:N,14,)","v":"No"}]
[6919,"28933085",28933085,"SP Sepharose FF, XK26x20,10cm","021","42","PURIFICATION MEDIA","086","CDP Chromatography",{"v":5535,"d":"5,535"},{"v":49864.815,"d":"49,865"},null,{"$f":"VLOOKUP(B6920,'[1]2018.7 '!A:C,3,)","v":"Active"},{"$f":"VLOOKUP(B6920,'[1]2018.7 '!A:M,13,)","v":"Ambient"},{"$f":"VLOOKUP(B6920,'[1]2018.7 '!A:N,14,)","v":"No"}]
[6924,"28934733",28934733,"Jacket, BioPilot 60/100","021","42","PURIFICATION MEDIA","086","CDP Chromatography",{"v":950.0000000000001,"d":"950"},{"v":8558.550000000001,"d":"8,559"},null,{"$f":"VLOOKUP(B6925,'[1]2018.7 '!A:C,3,)","v":"Active"},{"$f":"VLOOKUP(B6925,'[1]2018.7 '!A:M,13,)","v":"Ambient"},{"$f":"VLOOKUP(B6925,'[1]2018.7 '!A:N,14,)","v":"Reviewing"}]
[6927,"28934736",28934736,"Sephadex G-50Fine,XK26x40,35cm","021","42","PURIFICATION MEDIA","086","CDP Chromatography",{"v":5251,"d":"5,251"},{"v":47306.259,"d":"47,306"},null,{"$f":"VLOOKUP(B6928,'[1]2018.7 '!A:C,3,)","v":"Active"},{"$f":"VLOOKUP(B6928,'[1]2018.7 '!A:M,13,)","v":"Ambient"},{"$f":"VLOOKUP(B6928,'[1]2018.7 '!A:N,14,)","v":"Reviewing"}]
[6930,"28936055",28936055,"PreDictor Capto adhere 100ul","021","42","PURIFICATION MEDIA","086","CDP Chromatography",{"v":1600,"d":"1,600.0"},{"v":14414.400000000001,"d":"14,414"},null,{"$f":"VLOOKUP(B6931,'[1]2018.7 '!A:C,3,)","v":"Active"},{"$f":"VLOOKUP(B6931,'[1]2018.7 '!A:M,13,)","v":"Ambient"},{"$f":"VLOOKUP(B6931,'[1]2018.7 '!A:N,14,)","v":"No"}]
[6931,"28936698",28936698,"MultiTrap Protein G HP 150ul","021","42","PURIFICATION MEDIA","086","CDP Chromatography",{"v":9682,"d":"9,682"},{"v":87225.138,"d":"87,225"},null,{"$f":"VLOOKUP(B6932,'[1]2018.7 '!A:C,3,)","v":"Active"},{"$f":"VLOOKUP(B6932,'[1]2018.7 '!A:M,13,)","v":"Ambient"},{"$f":"VLOOKUP(B6932,'[1]2018.7 '!A:N,14,)","v":"No"}]
[6934,"28937531",28937531,"SEPHAROSE CL-2B,XK 16X100,85cm","021","42","PURIFICATION MEDIA","086","CDP Chromatography",{"v":6604,"d":"6,604"},{"v":59495.436,"d":"59,495"},null,{"$f":"VLOOKUP(B6935,'[1]2018.7 '!A:C,3,)","v":"Active"},{"$f":"VLOOKUP(B6935,'[1]2018.7 '!A:M,13,)","v":"Ambient"},{"$f":"VLOOKUP(B6935,'[1]2018.7 '!A:N,14,)","v":"No"}]
[6938,"28944080",28944080,"DEAE SEPHAROSE FF, XK 50/20 10-11 CM","021","42","PURIFICATION MEDIA","086","CDP Chromatography",{"v":5779,"d":"5,779"},{"v":52063.011,"d":"52,063"},null,{"$f":"VLOOKUP(B6939,'[1]2018.7 '!A:C,3,)","v":"Active"},{"$f":"VLOOKUP(B6939,'[1]2018.7 '!A:M,13,)","v":"Ambient"},{"$f":"VLOOKUP(B6939,'[1]2018.7 '!A:N,14,)","v":"Reviewing"}]
[6941,"28944610",28944610,"Sephadex G-25 Medium, XK 26/70, 49-51 cm","021","42","PURIFICATION MEDIA","086","CDP Chromatography",{"v":5295,"d":"5,295"},{"v":47702.655,"d":"47,703"}]
[6945,"28948113",28948113,"PACKING TUBE, BIOPILOT 60/100","021","42","PURIFICATION MEDIA","086","CDP Chromatography",{"v":12533,"d":"12,533"},{"v":112909.797,"d":"112,910"},null,{"$f":"VLOOKUP(B6946,'[1]2018.7 '!A:C,3,)","v":"Active"},{"$f":"VLOOKUP(B6946,'[1]2018.7 '!A:M,13,)","v":"Ambient"},{"$f":"VLOOKUP(B6946,'[1]2018.7 '!A:N,14,)","v":"Reviewing"}]
[6949,"28952703",28952703,"Sepharose CL-4B, XK 26/40, 30-32 cm","021","42","PURIFICATION MEDIA","086","CDP Chromatography",{"v":5362,"d":"5,362"},{"v":48306.258,"d":"48,306"},null,{"$f":"VLOOKUP(B6950,'[1]2018.7 '!A:C,3,)","v":"Active"},{"$f":"VLOOKUP(B6950,'[1]2018.7 '!A:M,13,)","v":"Ambient"},{"$f":"VLOOKUP(B6950,'[1]2018.7 '!A:N,14,)","v":"Reviewing"}]
[6952,"28956916",28956916,"SEPHACRYL S-200 HR, T 10x300 GL","021","42","PURIFICATION MEDIA","086","CDP Chromatography",{"v":4376,"d":"4,376"},{"v":39423.384,"d":"39,423"},null,{"$f":"VLOOKUP(B6953,'[1]2018.7 '!A:C,3,)","v":"Active"},{"$f":"VLOOKUP(B6953,'[1]2018.7 '!A:M,13,)","v":"Ambient"},{"$f":"VLOOKUP(B6953,'[1]2018.7 '!A:N,14,)","v":"No"}]
[6955,"28963734",28963734,"MONO Q, TRICORN 10/20 GL","021","42","PURIFICATION MEDIA","086","CDP Chromatography",{"v":6210,"d":"6,210"},{"v":55945.89,"d":"55,946"},null,{"$f":"VLOOKUP(B6956,'[1]2018.7 '!A:C,3,)","v":"Active"},{"$f":"VLOOKUP(B6956,'[1]2018.7 '!A:M,13,)","v":"Ambient"},{"$f":"VLOOKUP(B6956,'[1]2018.7 '!A:N,14,)","v":"No"}]
[6956,"28963821",28963821,"MONO Q,TRICORN 10/50 GL,2.5ml","021","42","PURIFICATION MEDIA","086","CDP Chromatography",{"v":6312,"d":"6,312"},{"v":56864.808000000005,"d":"56,865"},null,{"$f":"VLOOKUP(B6957,'[1]2018.7 '!A:C,3,)","v":"Active"},{"$f":"VLOOKUP(B6957,'[1]2018.7 '!A:M,13,)","v":"Ambient"},{"$f":"VLOOKUP(B6957,'[1]2018.7 '!A:N,14,)","v":"Reviewing"}]
[6959,"29206374","29206374","PreDictor MabSelect SuRe LX (4x96), 75 ul","021","42","PURIFICATION MEDIA","086","CDP Chromatography",{"v":1600,"d":"1,600"},{"v":14414.400000000001,"d":"14,414"},null,{"$f":"VLOOKUP(B6960,'[1]2018.7 '!A:C,3,)","v":"Active"},{"$f":"VLOOKUP(B6960,'[1]2018.7 '!A:M,13,)","v":"Ambient"},{"$f":"VLOOKUP(B6960,'[1]2018.7 '!A:N,14,)","v":"No"}]
[6963,"28978346",28978346,"SP Sepharose XL XK50/30 15CM","021","42","PURIFICATION MEDIA","086","CDP Chromatography",{"v":6479,"d":"6,479"},{"v":58369.311,"d":"58,369"},null,{"$f":"VLOOKUP(B6964,'[1]2018.7 '!A:C,3,)","v":"Active"},{"$f":"VLOOKUP(B6964,'[1]2018.7 '!A:M,13,)","v":"Ambient"},{"$f":"VLOOKUP(B6964,'[1]2018.7 '!A:N,14,)","v":"Reviewing"}]
[6966,"28980194",28980194,"MacroCap SP XK50/30, 19-20 CM","021","42","PURIFICATION MEDIA","086","CDP Chromatography",{"v":9128,"d":"9,128"},{"v":82234.152,"d":"82,234"},null,{"$f":"VLOOKUP(B6967,'[1]2018.7 '!A:C,3,)","v":"Active"},{"$f":"VLOOKUP(B6967,'[1]2018.7 '!A:M,13,)","v":"Ambient"},{"$f":"VLOOKUP(B6967,'[1]2018.7 '!A:N,14,)","v":"Reviewing"}]
[6970,"28983908",28983908,"SEPHACRYL S-400 HR, XK16/70, 45-47cm","021","42","PURIFICATION MEDIA","086","CDP Chromatography",{"v":5906,"d":"5,906"},{"v":53207.154,"d":"53,207"},null,{"$f":"VLOOKUP(B6971,'[1]2018.7 '!A:C,3,)","v":"Active"},{"$f":"VLOOKUP(B6971,'[1]2018.7 '!A:M,13,)","v":"Ambient"},{"$f":"VLOOKUP(B6971,'[1]2018.7 '!A:N,14,)","v":"No"}]
[6974,"28985854",28985854,"AVB Sepharose HP, XK 26/20, 11.5-12.5 cm","021","42","PURIFICATION MEDIA","086","CDP Chromatography",{"v":6217,"d":"6,217"},{"v":56008.953,"d":"56,009"},null,{"$f":"VLOOKUP(B6975,'[1]2018.7 '!A:C,3,)","v":"Active"},{"$f":"VLOOKUP(B6975,'[1]2018.7 '!A:M,13,)","v":"Ambient"},{"$f":"VLOOKUP(B6975,'[1]2018.7 '!A:N,14,)","v":"No"}]
[6977,"28988786",28988786,"SEPHACRYL S-500 HR, XK 50/100 90-95cm","021","42","PURIFICATION MEDIA","086","CDP Chromatography",{"v":7908,"d":"7,908"},{"v":71243.172,"d":"71,243"},null,{"$f":"VLOOKUP(B6978,'[1]2018.7 '!A:C,3,)","v":"Active"},{"$f":"VLOOKUP(B6978,'[1]2018.7 '!A:M,13,)","v":"Ambient"},{"$f":"VLOOKUP(B6978,'[1]2018.7 '!A:N,14,)","v":"No"}]
[6978,"28990014",28990014,"Protein G Sepharose HP HiScale 26/20, 10-11cm","021","42","PURIFICATION MEDIA","086","CDP Chromatography",{"v":7858.000000000001,"d":"7,858"},{"v":70792.72200000001,"d":"70,793"},null,{"$f":"VLOOKUP(B6979,'[1]2018.7 '!A:C,3,)","v":"Active"},{"$f":"VLOOKUP(B6979,'[1]2018.7 '!A:M,13,)","v":"Ambient"},{"$f":"VLOOKUP(B6979,'[1]2018.7 '!A:N,14,)","v":"No"}]
[6981,"28991225",28991225,"Superose 6 pg XK 16/100, 80-81 cm","021","42","PURIFICATION MEDIA","086","CDP Chromatography",{"v":5086,"d":"5,086"},{"v":45819.774000000005,"d":"45,820"},null,{"$f":"VLOOKUP(B6982,'[1]2018.7 '!A:C,3,)","v":"Active"},{"$f":"VLOOKUP(B6982,'[1]2018.7 '!A:M,13,)","v":"Ambient"},{"$f":"VLOOKUP(B6982,'[1]2018.7 '!A:N,14,)","v":"No"}]
[6984,"28991365",28991365,"Superose 6 pg XK16/20, 10-11 cm","021","42","PURIFICATION MEDIA","086","CDP Chromatography",{"v":4664,"d":"4,664"},{"v":42017.976,"d":"42,018"},null,{"$f":"VLOOKUP(B6985,'[1]2018.7 '!A:C,3,)","v":"Active"},{"$f":"VLOOKUP(B6985,'[1]2018.7 '!A:M,13,)","v":"Ambient"},{"$f":"VLOOKUP(B6985,'[1]2018.7 '!A:N,14,)","v":"Reviewing"}]
[6987,"28991847",28991847,"PreDictor Protein G FF, 100ul (8x96)","021","42","PURIFICATION MEDIA","086","CDP Chromatography",{"v":3200,"d":"3,200"},{"v":28828.800000000003,"d":"28,829"},null,{"$f":"VLOOKUP(B6988,'[1]2018.7 '!A:C,3,)","v":"Active"},{"$f":"VLOOKUP(B6988,'[1]2018.7 '!A:M,13,)","v":"Ambient"},{"$f":"VLOOKUP(B6988,'[1]2018.7 '!A:N,14,)","v":"No"}]
[6992,"28992139",28992139,"Sephadex G-25 SF, Tricorn 5/200 GL","021","42","PURIFICATION MEDIA","086","CDP Chromatography",{"v":5096,"d":"5,096"},{"v":45909.864,"d":"45,910"},null,{"$f":"VLOOKUP(B6993,'[1]2018.7 '!A:C,3,)","v":"Active"},{"$f":"VLOOKUP(B6993,'[1]2018.7 '!A:M,13,)","v":"Ambient"},{"$f":"VLOOKUP(B6993,'[1]2018.7 '!A:N,14,)","v":"No"}]
[6995,"28993651",28993651,"HiTrap 30x1ml, Sephadex G-75","021","42","PURIFICATION MEDIA","086","CDP Chromatography",{"v":3458,"d":"3,458"},{"v":31153.122,"d":"31,153"},null,{"$f":"VLOOKUP(B6996,'[1]2018.7 '!A:C,3,)","v":"Active"},{"$f":"VLOOKUP(B6996,'[1]2018.7 '!A:M,13,)","v":"Ambient"},{"$f":"VLOOKUP(B6996,'[1]2018.7 '!A:N,14,)","v":"No"}]
[6999,"28996111",28996111,"HIPREP 26/10, Lysine Seph 4B","021","42","PURIFICATION MEDIA","086","CDP Chromatography",{"v":3581,"d":"3,581"},{"v":32261.229000000003,"d":"32,261"},null,{"$f":"VLOOKUP(B7000,'[1]2018.7 '!A:C,3,)","v":"Active"},{"$f":"VLOOKUP(B7000,'[1]2018.7 '!A:M,13,)","v":"Ambient"},{"$f":"VLOOKUP(B7000,'[1]2018.7 '!A:N,14,)","v":"Reviewing"}]
[7002,"28997517",28997517,"Superdex 75 prep grade,5/150 GL","021","42","PURIFICATION MEDIA","086","CDP Chromatography",{"v":4999,"d":"4,999"},{"v":45035.991,"d":"45,036"},null,{"$f":"VLOOKUP(B7003,'[1]2018.7 '!A:C,3,)","v":"Active"},{"$f":"VLOOKUP(B7003,'[1]2018.7 '!A:M,13,)","v":"Ambient"},{"$f":"VLOOKUP(B7003,'[1]2018.7 '!A:N,14,)","v":"No"}]
[7003,"28998786",28998786,"PreDictor VIIISelect, 150ul (20x96)","021","42","PURIFICATION MEDIA","086","CDP Chromatography",{"v":8000,"d":"8,000"},{"v":72072,"d":"72,072"}]
[7006,"29133749",29133749,"PreDictor IEX/HIC Screening, 50ul (4x96)","021","42","PURIFICATION MEDIA","086","CDP Chromatography",{"v":1600,"d":"1,600"},{"v":14414.400000000001,"d":"14,414"},null,{"$f":"VLOOKUP(B7007,'[1]2018.7 '!A:C,3,)","v":"Active"},{"$f":"VLOOKUP(B7007,'[1]2018.7 '!A:M,13,)","v":"Ambient"},{"$f":"VLOOKUP(B7007,'[1]2018.7 '!A:N,14,)","v":"No"}]
[7012,"29003365",29003365,"Protein L Restricted License","021","42","PURIFICATION MEDIA","086","CDP Chromatography",312,{"v":2810.808,"d":"2,811"},null,{"$f":"VLOOKUP(B7013,'[1]2018.7 '!A:C,3,)","v":"Active"},{"$f":"VLOOKUP(B7013,'[1]2018.7 '!A:M,13,)","v":"Dry Ice"},{"$f":"VLOOKUP(B7013,'[1]2018.7 '!A:N,14,)","v":"No"}]
[7014,"29004869",29004869,"IMMOBILINE II PK 7.0, 200 ml","021","42","PURIFICATION MEDIA","086","CDP Chromatography",{"v":3858,"d":"3,858"},{"v":34756.722,"d":"34,757"},null,{"$f":"VLOOKUP(B7015,'[1]2018.7 '!A:C,3,)","v":"Active"},{"$f":"VLOOKUP(B7015,'[1]2018.7 '!A:M,13,)","v":"Ambient"},{"$f":"VLOOKUP(B7015,'[1]2018.7 '!A:N,14,)","v":"Yes"}]
[7017,"29012514",29012514,"PreDictor Capto Phenyl (hs), Isotherm (4x96)","021","42","PURIFICATION MEDIA","086","CDP Chromatography",{"v":1600,"d":"1,600.0"},{"v":14414.400000000001,"d":"14,414"},null,{"$f":"VLOOKUP(B7018,'[1]2018.7 '!A:C,3,)","v":"Active"},{"$f":"VLOOKUP(B7018,'[1]2018.7 '!A:M,13,)","v":"Ambient"},{"$f":"VLOOKUP(B7018,'[1]2018.7 '!A:N,14,)","v":"No"}]
[7020,"29017400",29017400,"HiTrap 20x5 ml SP Sepharose Big Beads","021","42","PURIFICATION MEDIA","086","CDP Chromatography",{"v":2811,"d":"2,811"},{"v":25324.299000000003,"d":"25,324"},null,{"$f":"VLOOKUP(B7021,'[1]2018.7 '!A:C,3,)","v":"Active"},{"$f":"VLOOKUP(B7021,'[1]2018.7 '!A:M,13,)","v":"Ambient"},{"$f":"VLOOKUP(B7021,'[1]2018.7 '!A:N,14,)","v":"No"}]
[7024,"29028750",29028750,"Butyl Seph 4FF HS 16/20 19-20cm","021","42","PURIFICATION MEDIA","086","CDP Chromatography",{"v":5785,"d":"5,785"},{"v":52117.065,"d":"52,117"},null,{"$f":"VLOOKUP(B7025,'[1]2018.7 '!A:C,3,)","v":"Active"},{"$f":"VLOOKUP(B7025,'[1]2018.7 '!A:M,13,)","v":"Ambient"},{"$f":"VLOOKUP(B7025,'[1]2018.7 '!A:N,14,)","v":"Reviewing"}]
[7027,"29030338",29030338,"BUTYL SEPH.HP, HS50/20,10-12cm","021","42","PURIFICATION MEDIA","086","CDP Chromatography",{"v":7496.000000000001,"d":"7,496"},{"v":67531.464,"d":"67,531"},null,{"$f":"VLOOKUP(B7028,'[1]2018.7 '!A:C,3,)","v":"Active"},{"$f":"VLOOKUP(B7028,'[1]2018.7 '!A:M,13,)","v":"Ambient"},{"$f":"VLOOKUP(B7028,'[1]2018.7 '!A:N,14,)","v":"Reviewing"}]
[7028,"29032732",29032732,"Capto MMC, HiScale 16/20","021","42","PURIFICATION MEDIA","086","CDP Chromatography",{"v":5844,"d":"5,844.0"},{"v":52648.596000000005,"d":"52,649"},null,{"$f":"VLOOKUP(B7029,'[1]2018.7 '!A:C,3,)","v":"Active"},{"$f":"VLOOKUP(B7029,'[1]2018.7 '!A:M,13,)","v":"Ambient"},{"$f":"VLOOKUP(B7029,'[1]2018.7 '!A:N,14,)","v":"Reviewing"}]
[7033,"29055184",29055184,"Sephadex G-50F XK 16/20, 10cm","021","42","PURIFICATION MEDIA","086","CDP Chromatography",{"v":4696,"d":"4,696"},{"v":42306.264,"d":"42,306"},null,{"$f":"VLOOKUP(B7034,'[1]2018.7 '!A:C,3,)","v":"Active"},{"$f":"VLOOKUP(B7034,'[1]2018.7 '!A:M,13,)","v":"Ambient"},{"$f":"VLOOKUP(B7034,'[1]2018.7 '!A:N,14,)","v":"No"}]
[7035,"29055216",29055216,"Sephadex G-50F XK 50/20, 10 cm","021","42","PURIFICATION MEDIA","086","CDP Chromatography",{"v":5237,"d":"5,237"},{"v":47180.133,"d":"47,180"},null,{"$f":"VLOOKUP(B7036,'[1]2018.7 '!A:C,3,)","v":"Active"},{"$f":"VLOOKUP(B7036,'[1]2018.7 '!A:M,13,)","v":"Ambient"},{"$f":"VLOOKUP(B7036,'[1]2018.7 '!A:N,14,)","v":"No"}]
[7039,"29056116",29056116,"MacroCap SP XK 16/20, 9-10cm","021","42","PURIFICATION MEDIA","086","CDP Chromatography",{"v":5789,"d":"5,789"},{"v":52153.101,"d":"52,153"},null,{"$f":"VLOOKUP(B7040,'[1]2018.7 '!A:C,3,)","v":"Active"},{"$f":"VLOOKUP(B7040,'[1]2018.7 '!A:M,13,)","v":"Ambient"},{"$f":"VLOOKUP(B7040,'[1]2018.7 '!A:N,14,)","v":"Reviewing"}]
[7042,"90100005",90100005,"SUPEROSE 12 PG XK16/60","021","42","PURIFICATION MEDIA","086","CDP Chromatography",{"v":3925.0000000000005,"d":"3,925"},{"v":35360.325000000004,"d":"35,360"},null,{"$f":"VLOOKUP(B7043,'[1]2018.7 '!A:C,3,)","v":"Active"},{"$f":"VLOOKUP(B7043,'[1]2018.7 '!A:M,13,)","v":"Ambient"},{"$f":"VLOOKUP(B7043,'[1]2018.7 '!A:N,14,)","v":"No"}]
[7046,"90100019",90100019,"HEPARIN SEPHAROSE HP 50 ML","021","42","PURIFICATION MEDIA","086","CDP Chromatography",{"v":2473,"d":"2,473"},{"v":22279.257,"d":"22,279"},null,{"$f":"VLOOKUP(B7047,'[1]2018.7 '!A:C,3,)","v":"Active"},{"$f":"VLOOKUP(B7047,'[1]2018.7 '!A:M,13,)","v":"Ambient"},{"$f":"VLOOKUP(B7047,'[1]2018.7 '!A:N,14,)","v":"No"}]
[7049,"90100023",90100023,"MONO Q, 10 ML","021","42","PURIFICATION MEDIA","086","CDP Chromatography",{"v":5966,"d":"5,966"},{"v":53747.694,"d":"53,748"},null,{"$f":"VLOOKUP(B7050,'[1]2018.7 '!A:C,3,)","v":"Active"},{"$f":"VLOOKUP(B7050,'[1]2018.7 '!A:M,13,)","v":"Ambient"},{"$f":"VLOOKUP(B7050,'[1]2018.7 '!A:N,14,)","v":"Reviewing"}]
[7052,"90100036",90100036,"CHELATING SEPHAROSE HP, 100 ML","021","42","PURIFICATION MEDIA","086","CDP Chromatography",{"v":2800,"d":"2,800"},{"v":25225.2,"d":"25,225"},null,{"$f":"VLOOKUP(B7053,'[1]2018.7 '!A:C,3,)","v":"Active"},{"$f":"VLOOKUP(B7053,'[1]2018.7 '!A:M,13,)","v":"Ambient"},{"$f":"VLOOKUP(B7053,'[1]2018.7 '!A:N,14,)","v":"Reviewing"}]
[7054,"90100041",90100041,"HEPARIN SEPHAROSE HP, 200 ML","021","42","PURIFICATION MEDIA","086","CDP Chromatography",{"v":5764,"d":"5,764"},{"v":51927.876000000004,"d":"51,928"},null,{"$f":"VLOOKUP(B7055,'[1]2018.7 '!A:C,3,)","v":"Active"},{"$f":"VLOOKUP(B7055,'[1]2018.7 '!A:M,13,)","v":"Ambient"},{"$f":"VLOOKUP(B7055,'[1]2018.7 '!A:N,14,)","v":"No"}]
[7057,"90100045",90100045,"SUPERDEX 200 PG, XK 50/100","021","42","PURIFICATION MEDIA","086","CDP Chromatography",{"v":15486,"d":"15,486"},{"v":139513.374,"d":"139,513"},null,{"$f":"VLOOKUP(B7058,'[1]2018.7 '!A:C,3,)","v":"Active"},{"$f":"VLOOKUP(B7058,'[1]2018.7 '!A:M,13,)","v":"Ambient"},{"$f":"VLOOKUP(B7058,'[1]2018.7 '!A:N,14,)","v":"No"}]
[7060,"90100059",90100059,"Q SEPHAROSE FF, XK 50/20","021","42","PURIFICATION MEDIA","086","CDP Chromatography",{"v":7045,"d":"7,045"},{"v":63468.405,"d":"63,468"},null,{"$f":"VLOOKUP(B7061,'[1]2018.7 '!A:C,3,)","v":"Active"},{"$f":"VLOOKUP(B7061,'[1]2018.7 '!A:M,13,)","v":"Ambient"},{"$f":"VLOOKUP(B7061,'[1]2018.7 '!A:N,14,)","v":"Reviewing"}]
[7064,"90100086",90100086,"SEPHACRYL S-400HR, XK16/70","021","42","PURIFICATION MEDIA","086","CDP Chromatography",{"v":3964,"d":"3,964"},{"v":35711.676,"d":"35,712"},null,{"$f":"VLOOKUP(B7065,'[1]2018.7 '!A:C,3,)","v":"Active"},{"$f":"VLOOKUP(B7065,'[1]2018.7 '!A:M,13,)","v":"Ambient"},{"$f":"VLOOKUP(B7065,'[1]2018.7 '!A:N,14,)","v":"No"}]
[7067,"90100093",90100093,"PROTEIN G SEPHAROSE HP, 50 ML","021","42","PURIFICATION MEDIA","086","CDP Chromatography",{"v":4044.9999999999995,"d":"4,045"},{"v":36441.405,"d":"36,441"},null,{"$f":"VLOOKUP(B7068,'[1]2018.7 '!A:C,3,)","v":"Active"},{"$f":"VLOOKUP(B7068,'[1]2018.7 '!A:M,13,)","v":"Ambient"},{"$f":"VLOOKUP(B7068,'[1]2018.7 '!A:N,14,)","v":"No"}]
[7071,"90100113",90100113,"HITRAP 5X5ML HIC KIT","021","42","PURIFICATION MEDIA","086","CDP Chromatography",576,{"v":5189.184,"d":"5,189"},null,{"$f":"VLOOKUP(B7072,'[1]2018.7 '!A:C,3,)","v":"Active"},{"$f":"VLOOKUP(B7072,'[1]2018.7 '!A:M,13,)","v":"Ambient"},{"$f":"VLOOKUP(B7072,'[1]2018.7 '!A:N,14,)","v":"No"}]
[7074,"90100123",90100123,"BLUE SEPHAROSE HP, 50 ML","021","42","PURIFICATION MEDIA","086","CDP Chromatography",{"v":1531,"d":"1,531"},{"v":13792.779,"d":"13,793"},null,{"$f":"VLOOKUP(B7075,'[1]2018.7 '!A:C,3,)","v":"Active"},{"$f":"VLOOKUP(B7075,'[1]2018.7 '!A:M,13,)","v":"Ambient"},{"$f":"VLOOKUP(B7075,'[1]2018.7 '!A:N,14,)","v":"No"}]
[7075,"90100124",90100124,"CHELATING SEPHAROSE HP, 50 ML","021","42","PURIFICATION MEDIA","086","CDP Chromatography",{"v":1881,"d":"1,881"},{"v":16945.929,"d":"16,946"},null,{"$f":"VLOOKUP(B7076,'[1]2018.7 '!A:C,3,)","v":"Active"},{"$f":"VLOOKUP(B7076,'[1]2018.7 '!A:M,13,)","v":"Ambient"},{"$f":"VLOOKUP(B7076,'[1]2018.7 '!A:N,14,)","v":"Reviewing"}]
[7079,"90100151",90100151,"PROTEIN G SEPH FF, XK 16x20","021","42","PURIFICATION MEDIA","086","CDP Chromatography",{"v":4785,"d":"4,785"},{"v":43108.065,"d":"43,108"},null,{"$f":"VLOOKUP(B7080,'[1]2018.7 '!A:C,3,)","v":"Active"},{"$f":"VLOOKUP(B7080,'[1]2018.7 '!A:M,13,)","v":"Ambient"},{"$f":"VLOOKUP(B7080,'[1]2018.7 '!A:N,14,)","v":"Reviewing"}]
[7082,"90100167",90100167,"PROTEIN G SEPH. FF, XK 26/20","021","42","PURIFICATION MEDIA","086","CDP Chromatography",{"v":6902,"d":"6,902"},{"v":62180.118,"d":"62,180"},null,{"$f":"VLOOKUP(B7083,'[1]2018.7 '!A:C,3,)","v":"Active"},{"$f":"VLOOKUP(B7083,'[1]2018.7 '!A:M,13,)","v":"Ambient"},{"$f":"VLOOKUP(B7083,'[1]2018.7 '!A:N,14,)","v":"Reviewing"}]
[7086,"90100184",90100184,"SUPEROSE 12 PG,  XK 26/100","021","42","PURIFICATION MEDIA","086","CDP Chromatography",{"v":6250,"d":"6,250"},{"v":56306.25,"d":"56,306"},null,{"$f":"VLOOKUP(B7087,'[1]2018.7 '!A:C,3,)","v":"Active"},{"$f":"VLOOKUP(B7087,'[1]2018.7 '!A:M,13,)","v":"Ambient"},{"$f":"VLOOKUP(B7087,'[1]2018.7 '!A:N,14,)","v":"No"}]
[7089,"90100193",90100193,"HITRAP 5X1ML HEPARIN SEPH 6FF","021","42","PURIFICATION MEDIA","086","CDP Chromatography",598,{"v":5387.3820000000005,"d":"5,387"},null,{"$f":"VLOOKUP(B7090,'[1]2018.7 '!A:C,3,)","v":"Active"},{"$f":"VLOOKUP(B7090,'[1]2018.7 '!A:M,13,)","v":"Ambient"},{"$f":"VLOOKUP(B7090,'[1]2018.7 '!A:N,14,)","v":"No"}]
[7092,"90100207",90100207,"SEPHACRYL S-400HR, XK 50/100","021","42","PURIFICATION MEDIA","086","CDP Chromatography",{"v":7945,"d":"7,945"},{"v":71576.505,"d":"71,577"},null,{"$f":"VLOOKUP(B7093,'[1]2018.7 '!A:C,3,)","v":"Active"},{"$f":"VLOOKUP(B7093,'[1]2018.7 '!A:M,13,)","v":"Ambient"},{"$f":"VLOOKUP(B7093,'[1]2018.7 '!A:N,14,)","v":"No"}]
[7096,"90100227",90100227,"SUPEROSE 6 PG, XK 26/100","021","42","PURIFICATION MEDIA","086","CDP Chromatography",{"v":6250,"d":"6,250"},{"v":56306.25,"d":"56,306"},null,{"$f":"VLOOKUP(B7097,'[1]2018.7 '!A:C,3,)","v":"Active"},{"$f":"VLOOKUP(B7097,'[1]2018.7 '!A:M,13,)","v":"Ambient"},{"$f":"VLOOKUP(B7097,'[1]2018.7 '!A:N,14,)","v":"No"}]
[7100,"90100265",90100265,"BLUE SEPHAROSE HP, 20 ML","021","42","PURIFICATION MEDIA","086","CDP Chromatography",760,{"v":6846.84,"d":"6,847"},null,{"$f":"VLOOKUP(B7101,'[1]2018.7 '!A:C,3,)","v":"Active"},{"$f":"VLOOKUP(B7101,'[1]2018.7 '!A:M,13,)","v":"Ambient"},{"$f":"VLOOKUP(B7101,'[1]2018.7 '!A:N,14,)","v":"Reviewing"}]
[7103,"90100297",90100297,"SEPHACRYL S-300 HR, XK 26/70","021","42","PURIFICATION MEDIA","086","CDP Chromatography",{"v":4842,"d":"4,842"},{"v":43621.578,"d":"43,622"},null,{"$f":"VLOOKUP(B7104,'[1]2018.7 '!A:C,3,)","v":"Active"},{"$f":"VLOOKUP(B7104,'[1]2018.7 '!A:M,13,)","v":"Ambient"},{"$f":"VLOOKUP(B7104,'[1]2018.7 '!A:N,14,)","v":"No"}]
[7104,"90100304",90100304,"HEPARIN SEPHAROSE HP XK 26/20","021","42","PURIFICATION MEDIA","086","CDP Chromatography",{"v":5922,"d":"5,922"},{"v":53351.298,"d":"53,351"},null,{"$f":"VLOOKUP(B7105,'[1]2018.7 '!A:C,3,)","v":"Active"},{"$f":"VLOOKUP(B7105,'[1]2018.7 '!A:M,13,)","v":"Ambient"},{"$f":"VLOOKUP(B7105,'[1]2018.7 '!A:N,14,)","v":"No"}]
[7107,"90100318",90100318,"HITRAP 2X5 ML,IGM PURIFICATION","021","42","PURIFICATION MEDIA","086","CDP Chromatography",{"v":1446,"d":"1,446"},{"v":13027.014000000001,"d":"13,027"},null,{"$f":"VLOOKUP(B7108,'[1]2018.7 '!A:C,3,)","v":"Active"},{"$f":"VLOOKUP(B7108,'[1]2018.7 '!A:M,13,)","v":"Ambient"},{"$f":"VLOOKUP(B7108,'[1]2018.7 '!A:N,14,)","v":"Reviewing"}]
[7111,"90100333",90100333,"SOURCE 15S, HR 16/10","021","42","PURIFICATION MEDIA","086","CDP Chromatography",{"v":4454,"d":"4,454"},{"v":40126.086,"d":"40,126"},null,{"$f":"VLOOKUP(B7112,'[1]2018.7 '!A:C,3,)","v":"Active"},{"$f":"VLOOKUP(B7112,'[1]2018.7 '!A:M,13,)","v":"Ambient"},{"$f":"VLOOKUP(B7112,'[1]2018.7 '!A:N,14,)","v":"No"}]
[7114,"90100340",90100340,"SUPERDEX 200 PG, XK 16/20","021","42","PURIFICATION MEDIA","086","CDP Chromatography",{"$f":"K7115/9.009","v":{"v":3170,"d":"3,170"}},{"v":28558.530000000002,"d":"28,559"},null,{"$f":"VLOOKUP(B7115,'[1]2018.7 '!A:C,3,)","v":"Active"},{"$f":"VLOOKUP(B7115,'[1]2018.7 '!A:M,13,)","v":"Ambient"},{"$f":"VLOOKUP(B7115,'[1]2018.7 '!A:N,14,)","v":"Reviewing"}]
[7117,"90100353",90100353,"SEPHAROSE CL-2B, XK 16/70","021","42","PURIFICATION MEDIA","086","CDP Chromatography",{"v":4652,"d":"4,652"},{"v":41909.868,"d":"41,910"},null,{"$f":"VLOOKUP(B7118,'[1]2018.7 '!A:C,3,)","v":"Active"},{"$f":"VLOOKUP(B7118,'[1]2018.7 '!A:M,13,)","v":"Ambient"},{"$f":"VLOOKUP(B7118,'[1]2018.7 '!A:N,14,)","v":"No"}]
[7121,"90100368",90100368,"SEPHAROSE 6FF, XK 50/30, 25 CM","021","42","PURIFICATION MEDIA","086","CDP Chromatography",{"v":5002,"d":"5,002"},{"v":45063.018000000004,"d":"45,063"},null,{"$f":"VLOOKUP(B7122,'[1]2018.7 '!A:C,3,)","v":"Active"},{"$f":"VLOOKUP(B7122,'[1]2018.7 '!A:M,13,)","v":"Ambient"},{"$f":"VLOOKUP(B7122,'[1]2018.7 '!A:N,14,)","v":"Reviewing"}]
[7125,"90100391",90100391,"SOURCE 30S, HR 16/10","021","42","PURIFICATION MEDIA","086","CDP Chromatography",{"v":4442,"d":"4,442"},{"v":40017.978,"d":"40,018"},null,{"$f":"VLOOKUP(B7126,'[1]2018.7 '!A:C,3,)","v":"Active"},{"$f":"VLOOKUP(B7126,'[1]2018.7 '!A:M,13,)","v":"Ambient"},{"$f":"VLOOKUP(B7126,'[1]2018.7 '!A:N,14,)","v":"Reviewing"}]
[7128,"90100397",90100397,"HITRAP 5X1ML IGG SEPHAROSE 6FF","021","42","PURIFICATION MEDIA","086","CDP Chromatography",{"v":1632,"d":"1,632"},{"v":14702.688,"d":"14,703"},null,{"$f":"VLOOKUP(B7129,'[1]2018.7 '!A:C,3,)","v":"Active"},{"$f":"VLOOKUP(B7129,'[1]2018.7 '!A:M,13,)","v":"Ambient"},{"$f":"VLOOKUP(B7129,'[1]2018.7 '!A:N,14,)","v":"No"}]
[7129,"90100400",90100400,"NHS-ACT SEPHAROSE HP, 100 ML","021","42","PURIFICATION MEDIA","086","CDP Chromatography",{"v":3244,"d":"3,244"},{"v":29225.196,"d":"29,225"},null,{"$f":"VLOOKUP(B7130,'[1]2018.7 '!A:C,3,)","v":"Active"},{"$f":"VLOOKUP(B7130,'[1]2018.7 '!A:M,13,)","v":"Wet Ice"},{"$f":"VLOOKUP(B7130,'[1]2018.7 '!A:N,14,)","v":"Yes"}]
[7132,"90100404",90100404,"SEPHADEX G-25FINE XK50/30 25CM","021","42","PURIFICATION MEDIA","086","CDP Chromatography",{"v":6044,"d":"6,044"},{"v":54450.396,"d":"54,450"},null,{"$f":"VLOOKUP(B7133,'[1]2018.7 '!A:C,3,)","v":"Active"},{"$f":"VLOOKUP(B7133,'[1]2018.7 '!A:M,13,)","v":"Ambient"},{"$f":"VLOOKUP(B7133,'[1]2018.7 '!A:N,14,)","v":"Reviewing"}]
[7136,"90100428",90100428,"MONO S, 2 ML","021","42","PURIFICATION MEDIA","086","CDP Chromatography",{"v":2494,"d":"2,494"},{"v":22468.446,"d":"22,468"},null,{"$f":"VLOOKUP(B7137,'[1]2018.7 '!A:C,3,)","v":"Active"},{"$f":"VLOOKUP(B7137,'[1]2018.7 '!A:M,13,)","v":"Ambient"},{"$f":"VLOOKUP(B7137,'[1]2018.7 '!A:N,14,)","v":"Reviewing"}]
[7139,"90100432",90100432,"SEPHACRYL S-100 HR, XK 50/100","021","42","PURIFICATION MEDIA","086","CDP Chromatography",{"v":7945,"d":"7,945"},{"v":71576.505,"d":"71,577"},null,{"$f":"VLOOKUP(B7140,'[1]2018.7 '!A:C,3,)","v":"Active"},{"$f":"VLOOKUP(B7140,'[1]2018.7 '!A:M,13,)","v":"Ambient"},{"$f":"VLOOKUP(B7140,'[1]2018.7 '!A:N,14,)","v":"No"}]
[7142,"90100440",90100440,"Sephadex G-25 F, XK 26/40","021","42","PURIFICATION MEDIA","086","CDP Chromatography",{"v":5124,"d":"5,124"},{"v":46162.116,"d":"46,162"},null,{"$f":"VLOOKUP(B7143,'[1]2018.7 '!A:C,3,)","v":"Active"},{"$f":"VLOOKUP(B7143,'[1]2018.7 '!A:M,13,)","v":"Ambient"},{"$f":"VLOOKUP(B7143,'[1]2018.7 '!A:N,14,)","v":"Reviewing"}]
[7147,"90100454",90100454,"SP SEPHAROSE FF, XK 50/30","021","42","PURIFICATION MEDIA","086","CDP Chromatography",{"v":6126,"d":"6,126"},{"v":55189.134000000005,"d":"55,189"},null,{"$f":"VLOOKUP(B7148,'[1]2018.7 '!A:C,3,)","v":"Active"},{"$f":"VLOOKUP(B7148,'[1]2018.7 '!A:M,13,)","v":"Ambient"},{"$f":"VLOOKUP(B7148,'[1]2018.7 '!A:N,14,)","v":"Reviewing"}]
[7150,"90100461",90100461,"SUPEROSE 6, 100 ML","021","42","PURIFICATION MEDIA","086","CDP Chromatography",{"v":8559,"d":"8,559"},{"v":77108.031,"d":"77,108"},null,{"$f":"VLOOKUP(B7151,'[1]2018.7 '!A:C,3,)","v":"Active"},{"$f":"VLOOKUP(B7151,'[1]2018.7 '!A:M,13,)","v":"Ambient"},{"$f":"VLOOKUP(B7151,'[1]2018.7 '!A:N,14,)","v":"No"}]
[7151,"90100462",90100462,"Q SEPHAROSE XL, XK 50/30 15 CM","021","42","PURIFICATION MEDIA","086","CDP Chromatography",{"v":6126,"d":"6,126"},{"v":55189.134000000005,"d":"55,189"}]
[7154,"90100466",90100466,"Sephacryl S-200 HR, XK 26/100","021","42","PURIFICATION MEDIA","086","CDP Chromatography",{"v":5020,"d":"5,020"},{"v":45225.18,"d":"45,225"},null,{"$f":"VLOOKUP(B7155,'[1]2018.7 '!A:C,3,)","v":"Active"},{"$f":"VLOOKUP(B7155,'[1]2018.7 '!A:M,13,)","v":"Ambient"},{"$f":"VLOOKUP(B7155,'[1]2018.7 '!A:N,14,)","v":"No"}]
[7157,"90100472",90100472,"SUPERDEX PEPTIDE, 25 ML","021","42","PURIFICATION MEDIA","086","CDP Chromatography",{"v":2889,"d":"2,889"},{"v":26027.001,"d":"26,027"}]
[7161,"90100480",90100480,"HITRAP 5X5ML CHELATING SEPH FF","021","42","PURIFICATION MEDIA","086","CDP Chromatography",{"v":1078,"d":"1,078"},{"v":9711.702000000001,"d":"9,712"},null,{"$f":"VLOOKUP(B7162,'[1]2018.7 '!A:C,3,)","v":"Active"},{"$f":"VLOOKUP(B7162,'[1]2018.7 '!A:M,13,)","v":"Ambient"},{"$f":"VLOOKUP(B7162,'[1]2018.7 '!A:N,14,)","v":"No"}]
[7163,"90100485",90100485,"SEPHACRYL S-1000SF T 10/300 GL","021","42","PURIFICATION MEDIA","086","CDP Chromatography",{"v":4335,"d":"4,335"},{"v":39054.015,"d":"39,054"},null,{"$f":"VLOOKUP(B7164,'[1]2018.7 '!A:C,3,)","v":"Active"},{"$f":"VLOOKUP(B7164,'[1]2018.7 '!A:M,13,)","v":"Ambient"},{"$f":"VLOOKUP(B7164,'[1]2018.7 '!A:N,14,)","v":"No"}]
[7168,"90100493",90100493,"Sephadex G-25 M, XK 50/100","021","42","PURIFICATION MEDIA","086","CDP Chromatography",{"v":6072,"d":"6,072"},{"v":54702.648,"d":"54,703"}]
[7172,"90100511",90100511,"IgM PURIFICATION MEDIA, 50 ML","021","42","PURIFICATION MEDIA","086","CDP Chromatography",{"v":3447,"d":"3,447"},{"v":31054.023,"d":"31,054"},null,{"$f":"VLOOKUP(B7173,'[1]2018.7 '!A:C,3,)","v":"Active"},{"$f":"VLOOKUP(B7173,'[1]2018.7 '!A:M,13,)","v":"Ambient"},{"$f":"VLOOKUP(B7173,'[1]2018.7 '!A:N,14,)","v":"Reviewing"}]
[7175,"90100807",90100807,"SUPERDEX 75 PG XK 50/60 (CDP)","021","42","PURIFICATION MEDIA","086","CDP Chromatography",{"v":12025,"d":"12,025"},{"v":108333.225,"d":"108,333"},null,{"$f":"VLOOKUP(B7176,'[1]2018.7 '!A:C,3,)","v":"Active"},{"$f":"VLOOKUP(B7176,'[1]2018.7 '!A:M,13,)","v":"Ambient"},{"$f":"VLOOKUP(B7176,'[1]2018.7 '!A:N,14,)","v":"No"}]
[7176,"90100809",90100809,"SUPERDEX 75 PG XK 16/100 (CDP)","021","42","PURIFICATION MEDIA","086","CDP Chromatography",{"v":5453,"d":"5,453"},{"v":49126.077000000005,"d":"49,126"},null,{"$f":"VLOOKUP(B7177,'[1]2018.7 '!A:C,3,)","v":"Active"},{"$f":"VLOOKUP(B7177,'[1]2018.7 '!A:M,13,)","v":"Ambient"},{"$f":"VLOOKUP(B7177,'[1]2018.7 '!A:N,14,)","v":"No"}]
[7179,"11001303",11001303,"HITRAP CAPTO Q, 5X5ML","021","42","PURIFICATION MEDIA","880","IEX Columns",{"v":696,"d":"696.0"},{"v":6270.264,"d":"6,270"},"促销品种",{"$f":"VLOOKUP(B7180,'[1]2018.7 '!A:C,3,)","v":"Active"},{"$f":"VLOOKUP(B7180,'[1]2018.7 '!A:M,13,)","v":"Ambient"},{"$f":"VLOOKUP(B7180,'[1]2018.7 '!A:N,14,)","v":"No"}]
[7182,"17067101",17067101,"MONO Q PC 1.6/5","021","42","PURIFICATION MEDIA","880","IEX Columns",{"v":2510,"d":"2,510"},{"v":22612.59,"d":"22,613"},null,{"$f":"VLOOKUP(B7183,'[1]2018.7 '!A:C,3,)","v":"Active"},{"$f":"VLOOKUP(B7183,'[1]2018.7 '!A:M,13,)","v":"Ambient"},{"$f":"VLOOKUP(B7183,'[1]2018.7 '!A:N,14,)","v":"No"}]
[7188,"17115301",17115301,"HITRAP Q HP, 5 X 1 ML","021","42","PURIFICATION MEDIA","880","IEX Columns",193,{"v":1738.737,"d":"1,739"},null,{"$f":"VLOOKUP(B7189,'[1]2018.7 '!A:C,3,)","v":"Active"},{"$f":"VLOOKUP(B7189,'[1]2018.7 '!A:M,13,)","v":"Ambient"},{"$f":"VLOOKUP(B7189,'[1]2018.7 '!A:N,14,)","v":"No"}]
[7190,"17117701",17117701,"RESOURCE Q, 1 ML","021","42","PURIFICATION MEDIA","880","IEX Columns",{"v":1198,"d":"1,198"},{"v":10792.782000000001,"d":"10,793"},null,{"$f":"VLOOKUP(B7191,'[1]2018.7 '!A:C,3,)","v":"Active"},{"$f":"VLOOKUP(B7191,'[1]2018.7 '!A:M,13,)","v":"Ambient"},{"$f":"VLOOKUP(B7191,'[1]2018.7 '!A:N,14,)","v":"No"}]
[7194,"17371747",17371747,"HiScreen Capto S ImpAct","021","42","PURIFICATION MEDIA","880","IEX Columns",{"v":195,"d":"195.0"},{"v":1756.755,"d":"1,757"},null,{"$f":"VLOOKUP(B7195,'[1]2018.7 '!A:C,3,)","v":"Active"},{"$f":"VLOOKUP(B7195,'[1]2018.7 '!A:M,13,)","v":"Ambient"},{"$f":"VLOOKUP(B7195,'[1]2018.7 '!A:N,14,)","v":"No"}]
[7197,"17505301",17505301,"HITRAP Q FF, 5 X 1 ML","021","42","PURIFICATION MEDIA","880","IEX Columns",185,{"v":1666.665,"d":"1,667"},null,{"$f":"VLOOKUP(B7198,'[1]2018.7 '!A:C,3,)","v":"Active"},{"$f":"VLOOKUP(B7198,'[1]2018.7 '!A:M,13,)","v":"Ambient"},{"$f":"VLOOKUP(B7198,'[1]2018.7 '!A:N,14,)","v":"No"}]
[7200,"17505601",17505601,"HITRAP CM FF, 5 X 1 ML","021","42","PURIFICATION MEDIA","880","IEX Columns",185,{"v":1666.665,"d":"1,667"},null,{"$f":"VLOOKUP(B7201,'[1]2018.7 '!A:C,3,)","v":"Active"},{"$f":"VLOOKUP(B7201,'[1]2018.7 '!A:M,13,)","v":"Ambient"},{"$f":"VLOOKUP(B7201,'[1]2018.7 '!A:N,14,)","v":"No"}]
[7201,"17515401",17515401,"HITRAP DEAE FF 5 X 5 ML","021","42","PURIFICATION MEDIA","880","IEX Columns",402,{"v":3621.618,"d":"3,622"},null,{"$f":"VLOOKUP(B7202,'[1]2018.7 '!A:C,3,)","v":"Active"},{"$f":"VLOOKUP(B7202,'[1]2018.7 '!A:M,13,)","v":"Ambient"},{"$f":"VLOOKUP(B7202,'[1]2018.7 '!A:N,14,)","v":"No"}]
[7204,"17515701",17515701,"HITRAP SP FF, 5 X 5 ML","021","42","PURIFICATION MEDIA","880","IEX Columns",402,{"v":3621.618,"d":"3,622"},null,{"$f":"VLOOKUP(B7205,'[1]2018.7 '!A:C,3,)","v":"Active"},{"$f":"VLOOKUP(B7205,'[1]2018.7 '!A:M,13,)","v":"Ambient"},{"$f":"VLOOKUP(B7205,'[1]2018.7 '!A:N,14,)","v":"No"}]
[7209,"17516201",17516201,"HITRAP ANX FF (HIGHSUB)5 X 1ML","021","42","PURIFICATION MEDIA","880","IEX Columns",185,{"v":1666.665,"d":"1,667"},null,{"$f":"VLOOKUP(B7210,'[1]2018.7 '!A:C,3,)","v":"Active"},{"$f":"VLOOKUP(B7210,'[1]2018.7 '!A:M,13,)","v":"Ambient"},{"$f":"VLOOKUP(B7210,'[1]2018.7 '!A:N,14,)","v":"No"}]
[7212,"17516701",17516701,"MONO Q 10/100 GL","021","42","PURIFICATION MEDIA","880","IEX Columns",{"v":8592,"d":"8,592"},{"v":77405.32800000001,"d":"77,405"},null,{"$f":"VLOOKUP(B7213,'[1]2018.7 '!A:C,3,)","v":"Active"},{"$f":"VLOOKUP(B7213,'[1]2018.7 '!A:M,13,)","v":"Ambient"},{"$f":"VLOOKUP(B7213,'[1]2018.7 '!A:N,14,)","v":"No"}]
[7215,"17517101",17517101,"MONO P 5/200 GL","021","42","PURIFICATION MEDIA","880","IEX Columns",{"v":3031,"d":"3,031"},{"v":27306.279000000002,"d":"27,306"}]
[7219,"17518101",17518101,"SOURCE 15Q 4.6/100 PE","021","42","PURIFICATION MEDIA","880","IEX Columns",{"v":1365,"d":"1,365"},{"v":12297.285,"d":"12,297"},null,{"$f":"VLOOKUP(B7220,'[1]2018.7 '!A:C,3,)","v":"Active"},{"$f":"VLOOKUP(B7220,'[1]2018.7 '!A:M,13,)","v":"Ambient"},{"$f":"VLOOKUP(B7220,'[1]2018.7 '!A:N,14,)","v":"No"}]
[7222,"17544123",17544123,"HITRAP CAPTO S, 5X5 ML","021","42","PURIFICATION MEDIA","880","IEX Columns",{"v":726,"d":"726.0"},{"v":6540.534000000001,"d":"6,541"},"促销品种",{"$f":"VLOOKUP(B7223,'[1]2018.7 '!A:C,3,)","v":"Active"},{"$f":"VLOOKUP(B7223,'[1]2018.7 '!A:M,13,)","v":"Ambient"},{"$f":"VLOOKUP(B7223,'[1]2018.7 '!A:N,14,)","v":"No"}]
[7225,"17546855",17546855,"HiTrap Capto SP ImpRes 5x5mL","021","42","PURIFICATION MEDIA","880","IEX Columns",{"v":808,"d":"808.0"},{"v":7279.272,"d":"7,279"},"促销品种",{"$f":"VLOOKUP(B7226,'[1]2018.7 '!A:C,3,)","v":"Active"},{"$f":"VLOOKUP(B7226,'[1]2018.7 '!A:M,13,)","v":"Ambient"},{"$f":"VLOOKUP(B7226,'[1]2018.7 '!A:N,14,)","v":"No"}]
[7226,"17547015",17547015,"HiScreen Capto Q ImpRes","021","42","PURIFICATION MEDIA","880","IEX Columns",{"v":192,"d":"192.0"},{"v":1729.728,"d":"1,730"},"促销品种",{"$f":"VLOOKUP(B7227,'[1]2018.7 '!A:C,3,)","v":"Active"},{"$f":"VLOOKUP(B7227,'[1]2018.7 '!A:M,13,)","v":"Ambient"},{"$f":"VLOOKUP(B7227,'[1]2018.7 '!A:N,14,)","v":"No"}]
[7230,"28916537",28916537,"HiTrap Capto DEAE, 5X1ML","021","42","PURIFICATION MEDIA","880","IEX Columns",{"v":287,"d":"287.0"},{"v":2585.583,"d":"2,586"},null,{"$f":"VLOOKUP(B7231,'[1]2018.7 '!A:C,3,)","v":"Active"},{"$f":"VLOOKUP(B7231,'[1]2018.7 '!A:M,13,)","v":"Ambient"},{"$f":"VLOOKUP(B7231,'[1]2018.7 '!A:N,14,)","v":"No"}]
[7233,"28926979",28926979,"HiScreen Capto S","021","42","PURIFICATION MEDIA","880","IEX Columns",{"v":172,"d":"172.0"},{"v":1549.548,"d":"1,550"},null,{"$f":"VLOOKUP(B7234,'[1]2018.7 '!A:C,3,)","v":"Active"},{"$f":"VLOOKUP(B7234,'[1]2018.7 '!A:M,13,)","v":"Ambient"},{"$f":"VLOOKUP(B7234,'[1]2018.7 '!A:N,14,)","v":"No"}]
[7237,"28936540",28936540,"HiPrep SP XL 16/10","021","42","PURIFICATION MEDIA","880","IEX Columns",817,{"v":7360.353,"d":"7,360"},null,{"$f":"VLOOKUP(B7238,'[1]2018.7 '!A:C,3,)","v":"Active"},{"$f":"VLOOKUP(B7238,'[1]2018.7 '!A:M,13,)","v":"Ambient"},{"$f":"VLOOKUP(B7238,'[1]2018.7 '!A:N,14,)","v":"No"}]
[7240,"28936543",28936543,"HiPrep Q FF 16/10","021","42","PURIFICATION MEDIA","880","IEX Columns",817,{"v":7360.353,"d":"7,360"},null,{"$f":"VLOOKUP(B7241,'[1]2018.7 '!A:C,3,)","v":"Active"},{"$f":"VLOOKUP(B7241,'[1]2018.7 '!A:M,13,)","v":"Ambient"},{"$f":"VLOOKUP(B7241,'[1]2018.7 '!A:N,14,)","v":"No"}]
[7244,"28950513",28950513,"HiScreen SP FF","021","42","PURIFICATION MEDIA","880","IEX Columns",142,{"v":1279.278,"d":"1,279"},null,{"$f":"VLOOKUP(B7245,'[1]2018.7 '!A:C,3,)","v":"Active"},{"$f":"VLOOKUP(B7245,'[1]2018.7 '!A:M,13,)","v":"Ambient"},{"$f":"VLOOKUP(B7245,'[1]2018.7 '!A:N,14,)","v":"No"}]
[7247,"29018182",29018182,"HiPrep Q HP 16/10","021","42","PURIFICATION MEDIA","880","IEX Columns",{"v":982.9999999999999,"d":"983"},{"v":8855.847,"d":"8,856"},null,{"$f":"VLOOKUP(B7248,'[1]2018.7 '!A:C,3,)","v":"Active"},{"$f":"VLOOKUP(B7248,'[1]2018.7 '!A:M,13,)","v":"Ambient"},{"$f":"VLOOKUP(B7248,'[1]2018.7 '!A:N,14,)","v":"No"}]
[7250,"29051325",29051325,"HITRAP Q HP, 1 X 1 ML","021","42","PURIFICATION MEDIA","880","IEX Columns",51,{"v":459.459,"d":"459"},null,{"$f":"VLOOKUP(B7251,'[1]2018.7 '!A:C,3,)","v":"Active"},{"$f":"VLOOKUP(B7251,'[1]2018.7 '!A:M,13,)","v":"Ambient"},{"$f":"VLOOKUP(B7251,'[1]2018.7 '!A:N,14,)","v":"No"}]
[7251,"17014701",17014701,"SOURCE 15PHE, 50 ML","021","42","PURIFICATION MEDIA","881","HIC Gels",{"v":1695,"d":"1,695"},{"v":15270.255000000001,"d":"15,270"},null,{"$f":"VLOOKUP(B7252,'[1]2018.7 '!A:C,3,)","v":"Phase Out"},{"$f":"VLOOKUP(B7252,'[1]2018.7 '!A:M,13,)","v":"Ambient"},{"$f":"VLOOKUP(B7252,'[1]2018.7 '!A:N,14,)","v":"No"}]
[7255,"17094602",17094602,"OCTYL SEPHAROSE 4 FAST FLOW 200 ML","021","42","PURIFICATION MEDIA","881","HIC Gels",880,{"v":7927.92,"d":"7,928"},null,{"$f":"VLOOKUP(B7256,'[1]2018.7 '!A:C,3,)","v":"Active"},{"$f":"VLOOKUP(B7256,'[1]2018.7 '!A:M,13,)","v":"Ambient"},{"$f":"VLOOKUP(B7256,'[1]2018.7 '!A:N,14,)","v":"No"}]
[7259,"17097305",17097305,"PHENYL SEPHAROSE 6FF (HS) 200 ML","021","42","PURIFICATION MEDIA","881","HIC Gels",894,{"v":8054.046,"d":"8,054"},null,{"$f":"VLOOKUP(B7260,'[1]2018.7 '!A:C,3,)","v":"Active"},{"$f":"VLOOKUP(B7260,'[1]2018.7 '!A:M,13,)","v":"Ambient"},{"$f":"VLOOKUP(B7260,'[1]2018.7 '!A:N,14,)","v":"No"}]
[7262,"17098001",17098001,"BUTYL SEPHAROSE 4 FAST FLOW 200 ML","021","42","PURIFICATION MEDIA","881","HIC Gels",903,{"v":8135.127,"d":"8,135"},null,{"$f":"VLOOKUP(B7263,'[1]2018.7 '!A:C,3,)","v":"Active"},{"$f":"VLOOKUP(B7263,'[1]2018.7 '!A:M,13,)","v":"Ambient"},{"$f":"VLOOKUP(B7263,'[1]2018.7 '!A:N,14,)","v":"No"}]
[7265,"17543202",17543202,"Butyl Sepharose HP, 200ml","021","42","PURIFICATION MEDIA","881","HIC Gels",{"v":1004,"d":"1,004"},{"v":9045.036,"d":"9,045"},null,{"$f":"VLOOKUP(B7266,'[1]2018.7 '!A:C,3,)","v":"Active"},{"$f":"VLOOKUP(B7266,'[1]2018.7 '!A:M,13,)","v":"Ambient"},{"$f":"VLOOKUP(B7266,'[1]2018.7 '!A:N,14,)","v":"No"}]
[7269,"17118401",17118401,"RESOURCE ETH 1 ML","021","42","PURIFICATION MEDIA","882","HIC Columns",997,{"v":8981.973,"d":"8,982"},null,{"$f":"VLOOKUP(B7270,'[1]2018.7 '!A:C,3,)","v":"Active"},{"$f":"VLOOKUP(B7270,'[1]2018.7 '!A:M,13,)","v":"Ambient"},{"$f":"VLOOKUP(B7270,'[1]2018.7 '!A:N,14,)","v":"No"}]
[7272,"17118701",17118701,"RESOURCE HIC TEST KIT","021","42","PURIFICATION MEDIA","882","HIC Columns",{"v":2320,"d":"2,320"},{"v":20900.88,"d":"20,901"},null,{"$f":"VLOOKUP(B7273,'[1]2018.7 '!A:C,3,)","v":"Active"},{"$f":"VLOOKUP(B7273,'[1]2018.7 '!A:M,13,)","v":"Ambient"},{"$f":"VLOOKUP(B7273,'[1]2018.7 '!A:N,14,)","v":"No"}]
[7276,"17135701",17135701,"HITRAP BUTYL FF, 5 X 1 ML","021","42","PURIFICATION MEDIA","882","HIC Columns",{"v":245.99999999999997,"d":"246"},{"v":2216.214,"d":"2,216"},null,{"$f":"VLOOKUP(B7277,'[1]2018.7 '!A:C,3,)","v":"Active"},{"$f":"VLOOKUP(B7277,'[1]2018.7 '!A:M,13,)","v":"Ambient"},{"$f":"VLOOKUP(B7277,'[1]2018.7 '!A:N,14,)","v":"No"}]
[7277,"17135901",17135901,"HITRAP OCTYL FF, 5 X 1 ML","021","42","PURIFICATION MEDIA","882","HIC Columns",{"v":245.99999999999997,"d":"246"},{"v":2216.214,"d":"2,216"},null,{"$f":"VLOOKUP(B7278,'[1]2018.7 '!A:C,3,)","v":"Active"},{"$f":"VLOOKUP(B7278,'[1]2018.7 '!A:M,13,)","v":"Ambient"},{"$f":"VLOOKUP(B7278,'[1]2018.7 '!A:N,14,)","v":"No"}]
[7280,"17519401",17519401,"HITRAP PHENYL FF (LS), 5X 5ML","021","42","PURIFICATION MEDIA","882","HIC Columns",546,{"v":4918.914,"d":"4,919"},null,{"$f":"VLOOKUP(B7281,'[1]2018.7 '!A:C,3,)","v":"Active"},{"$f":"VLOOKUP(B7281,'[1]2018.7 '!A:M,13,)","v":"Ambient"},{"$f":"VLOOKUP(B7281,'[1]2018.7 '!A:N,14,)","v":"No"}]
[7284,"28411001",28411001,"HiTrap Butyl HP,  5x1ml","021","42","PURIFICATION MEDIA","882","HIC Columns",254,{"v":2288.286,"d":"2,288"},null,{"$f":"VLOOKUP(B7285,'[1]2018.7 '!A:C,3,)","v":"Active"},{"$f":"VLOOKUP(B7285,'[1]2018.7 '!A:M,13,)","v":"Ambient"},{"$f":"VLOOKUP(B7285,'[1]2018.7 '!A:N,14,)","v":"No"}]
[7287,"28926984",28926984,"HiScreen Butyl FF","021","42","PURIFICATION MEDIA","882","HIC Columns",175,{"v":1576.575,"d":"1,577"},null,{"$f":"VLOOKUP(B7288,'[1]2018.7 '!A:C,3,)","v":"Active"},{"$f":"VLOOKUP(B7288,'[1]2018.7 '!A:M,13,)","v":"Ambient"},{"$f":"VLOOKUP(B7288,'[1]2018.7 '!A:N,14,)","v":"No"}]
[7290,"28926988",28926988,"HiScreen Phenyl FF, high sub","021","42","PURIFICATION MEDIA","882","HIC Columns",175,{"v":1576.575,"d":"1,577"},null,{"$f":"VLOOKUP(B7291,'[1]2018.7 '!A:C,3,)","v":"Active"},{"$f":"VLOOKUP(B7291,'[1]2018.7 '!A:M,13,)","v":"Ambient"},{"$f":"VLOOKUP(B7291,'[1]2018.7 '!A:N,14,)","v":"No"}]
[7294,"28936548",28936548,"HiPrep Octyl FF 16/10","021","42","PURIFICATION MEDIA","882","HIC Columns",824,{"v":7423.416,"d":"7,423"},null,{"$f":"VLOOKUP(B7295,'[1]2018.7 '!A:C,3,)","v":"Active"},{"$f":"VLOOKUP(B7295,'[1]2018.7 '!A:M,13,)","v":"Ambient"},{"$f":"VLOOKUP(B7295,'[1]2018.7 '!A:N,14,)","v":"No"}]
[7297,"28992472",28992472,"HiScreen Capto Phenyl (high sub)","021","42","PURIFICATION MEDIA","882","HIC Columns",{"v":196,"d":"196.0"},{"v":1765.7640000000001,"d":"1,766"},null,{"$f":"VLOOKUP(B7298,'[1]2018.7 '!A:C,3,)","v":"Active"},{"$f":"VLOOKUP(B7298,'[1]2018.7 '!A:M,13,)","v":"Ambient"},{"$f":"VLOOKUP(B7298,'[1]2018.7 '!A:N,14,)","v":"No"}]
[7301,"11001253",11001253,"TRICORN 5 COARSE FILTER KIT","021","42","PURIFICATION MEDIA","883","Column accessories",141,{"v":1270.269,"d":"1,270"},null,{"$f":"VLOOKUP(B7302,'[1]2018.7 '!A:C,3,)","v":"Active"},{"$f":"VLOOKUP(B7302,'[1]2018.7 '!A:M,13,)","v":"Ambient"},{"$f":"VLOOKUP(B7302,'[1]2018.7 '!A:N,14,)","v":"No"}]
[7302,"11001254",11001254,"TRICORN 10 COARSE FILTER KIT","021","42","PURIFICATION MEDIA","883","Column accessories",141,{"v":1270.269,"d":"1,270"},null,{"$f":"VLOOKUP(B7303,'[1]2018.7 '!A:C,3,)","v":"Active"},{"$f":"VLOOKUP(B7303,'[1]2018.7 '!A:M,13,)","v":"Ambient"},{"$f":"VLOOKUP(B7303,'[1]2018.7 '!A:N,14,)","v":"No"}]
[7305,"18001171",18001171,"INNER ADJUSTING TUBE","021","42","PURIFICATION MEDIA","883","Column accessories",82,{"v":738.738,"d":"739"},null,{"$f":"VLOOKUP(B7306,'[1]2018.7 '!A:C,3,)","v":"Active"},{"$f":"VLOOKUP(B7306,'[1]2018.7 '!A:M,13,)","v":"Ambient"},{"$f":"VLOOKUP(B7306,'[1]2018.7 '!A:N,14,)","v":"No"}]
[7309,"18001175",18001175,"THERMOSTAT JACKET TUBE XK16/100","021","42","PURIFICATION MEDIA","883","Column accessories",304,{"v":2738.736,"d":"2,739"},null,{"$f":"VLOOKUP(B7310,'[1]2018.7 '!A:C,3,)","v":"Active"},{"$f":"VLOOKUP(B7310,'[1]2018.7 '!A:M,13,)","v":"Ambient"},{"$f":"VLOOKUP(B7310,'[1]2018.7 '!A:N,14,)","v":"Reviewing"}]
[7312,"18025391",18025391,"O-RING, 64,77 X 2,62","021","42","PURIFICATION MEDIA","883","Column accessories",49,{"v":441.44100000000003,"d":"441"},null,{"$f":"VLOOKUP(B7313,'[1]2018.7 '!A:C,3,)","v":"Active"},{"$f":"VLOOKUP(B7313,'[1]2018.7 '!A:M,13,)","v":"Ambient"},{"$f":"VLOOKUP(B7313,'[1]2018.7 '!A:N,14,)","v":"No"}]
[7315,"18100084",18100084,"CHROM TUBE XK26/20","021","42","PURIFICATION MEDIA","883","Column accessories",177,{"v":1594.593,"d":"1,595"},null,{"$f":"VLOOKUP(B7316,'[1]2018.7 '!A:C,3,)","v":"Active"},{"$f":"VLOOKUP(B7316,'[1]2018.7 '!A:M,13,)","v":"Ambient"},{"$f":"VLOOKUP(B7316,'[1]2018.7 '!A:N,14,)","v":"No"}]
[7318,"18102712",18102712,"UNION LUERLOCK FEMALE/M6 FEMALE","021","42","PURIFICATION MEDIA","883","Column accessories",{"v":59.00000000000001,"d":"59"},{"v":531.5310000000001,"d":"532"},null,{"$f":"VLOOKUP(B7319,'[1]2018.7 '!A:C,3,)","v":"Active"},{"$f":"VLOOKUP(B7319,'[1]2018.7 '!A:M,13,)","v":"Ambient"},{"$f":"VLOOKUP(B7319,'[1]2018.7 '!A:N,14,)","v":"No"}]
[7323,"18115301",18115301,"TRICORN 5 COLUMN BOTTOM UNIT","021","42","PURIFICATION MEDIA","883","Column accessories",151,{"v":1360.3590000000002,"d":"1,360"},null,{"$f":"VLOOKUP(B7324,'[1]2018.7 '!A:C,3,)","v":"Active"},{"$f":"VLOOKUP(B7324,'[1]2018.7 '!A:M,13,)","v":"Ambient"},{"$f":"VLOOKUP(B7324,'[1]2018.7 '!A:N,14,)","v":"No"}]
[7324,"18115303",18115303,"TRICORN O-RING 3X1 PFR","021","42","PURIFICATION MEDIA","883","Column accessories",220,{"v":1981.98,"d":"1,982"},null,{"$f":"VLOOKUP(B7325,'[1]2018.7 '!A:C,3,)","v":"Active"},{"$f":"VLOOKUP(B7325,'[1]2018.7 '!A:M,13,)","v":"Ambient"},{"$f":"VLOOKUP(B7325,'[1]2018.7 '!A:N,14,)","v":"No"}]
[7327,"18115306",18115306,"TRICORN 5/100 GLASS TUBE","021","42","PURIFICATION MEDIA","883","Column accessories",419,{"v":3774.771,"d":"3,775"},null,{"$f":"VLOOKUP(B7328,'[1]2018.7 '!A:C,3,)","v":"Active"},{"$f":"VLOOKUP(B7328,'[1]2018.7 '!A:M,13,)","v":"Ambient"},{"$f":"VLOOKUP(B7328,'[1]2018.7 '!A:N,14,)","v":"No"}]
[7330,"18115310",18115310,"TRICORN 10 COLUMN BOTTOM UNIT","021","42","PURIFICATION MEDIA","883","Column accessories",151,{"v":1360.3590000000002,"d":"1,360"},null,{"$f":"VLOOKUP(B7331,'[1]2018.7 '!A:C,3,)","v":"Active"},{"$f":"VLOOKUP(B7331,'[1]2018.7 '!A:M,13,)","v":"Ambient"},{"$f":"VLOOKUP(B7331,'[1]2018.7 '!A:N,14,)","v":"No"}]
[7334,"18115316",18115316,"TRICORN 10/150 GLASS TUBE","021","42","PURIFICATION MEDIA","883","Column accessories",455,{"v":4099.095,"d":"4,099"},null,{"$f":"VLOOKUP(B7335,'[1]2018.7 '!A:C,3,)","v":"Active"},{"$f":"VLOOKUP(B7335,'[1]2018.7 '!A:M,13,)","v":"Ambient"},{"$f":"VLOOKUP(B7335,'[1]2018.7 '!A:N,14,)","v":"No"}]
[7337,"18115320",18115320,"FILTER TOOL","021","42","PURIFICATION MEDIA","883","Column accessories",150,{"v":1351.3500000000001,"d":"1,351"},null,{"$f":"VLOOKUP(B7338,'[1]2018.7 '!A:C,3,)","v":"Active"},{"$f":"VLOOKUP(B7338,'[1]2018.7 '!A:M,13,)","v":"Ambient"},{"$f":"VLOOKUP(B7338,'[1]2018.7 '!A:N,14,)","v":"No"}]
[7339,"18115322",18115322,"TRICORN PACKING CONNECTOR 5-10","021","42","PURIFICATION MEDIA","883","Column accessories",82,{"v":738.738,"d":"739"},null,{"$f":"VLOOKUP(B7340,'[1]2018.7 '!A:C,3,)","v":"Active"},{"$f":"VLOOKUP(B7340,'[1]2018.7 '!A:M,13,)","v":"Ambient"},{"$f":"VLOOKUP(B7340,'[1]2018.7 '!A:N,14,)","v":"No"}]
[7345,"18115345",18115345,"PACKING CONNECTOR XK 26","021","42","PURIFICATION MEDIA","883","Column accessories",{"v":120.99999999999999,"d":"121"},{"v":1090.089,"d":"1,090"},null,{"$f":"VLOOKUP(B7346,'[1]2018.7 '!A:C,3,)","v":"Active"},{"$f":"VLOOKUP(B7346,'[1]2018.7 '!A:M,13,)","v":"Ambient"},{"$f":"VLOOKUP(B7346,'[1]2018.7 '!A:N,14,)","v":"No"}]
[7348,"18154401",18154401,"TOP ASSEMBLY HR 16","021","42","PURIFICATION MEDIA","883","Column accessories",200,{"v":1801.8000000000002,"d":"1,802"},null,{"$f":"VLOOKUP(B7349,'[1]2018.7 '!A:C,3,)","v":"Active"},{"$f":"VLOOKUP(B7349,'[1]2018.7 '!A:M,13,)","v":"Ambient"},{"$f":"VLOOKUP(B7349,'[1]2018.7 '!A:N,14,)","v":"No"}]
[7349,"18154501",18154501,"BOTTOM ASSEMBLY HR 16","021","42","PURIFICATION MEDIA","883","Column accessories",189,{"v":1702.701,"d":"1,703"},null,{"$f":"VLOOKUP(B7350,'[1]2018.7 '!A:C,3,)","v":"Active"},{"$f":"VLOOKUP(B7350,'[1]2018.7 '!A:M,13,)","v":"Ambient"},{"$f":"VLOOKUP(B7350,'[1]2018.7 '!A:N,14,)","v":"No"}]
[7352,"18358501",18358501,"FILTER KIT, HR 16","021","42","PURIFICATION MEDIA","883","Column accessories",220,{"v":1981.98,"d":"1,982"},null,{"$f":"VLOOKUP(B7353,'[1]2018.7 '!A:C,3,)","v":"Active"},{"$f":"VLOOKUP(B7353,'[1]2018.7 '!A:M,13,)","v":"Ambient"},{"$f":"VLOOKUP(B7353,'[1]2018.7 '!A:N,14,)","v":"No"}]
[7355,"18635301",18635301,"FILTER HR 5 (REPL. 18-0427-01)","021","42","PURIFICATION MEDIA","883","Column accessories",272,{"v":2450.4480000000003,"d":"2,450"},null,{"$f":"VLOOKUP(B7356,'[1]2018.7 '!A:C,3,)","v":"Active"},{"$f":"VLOOKUP(B7356,'[1]2018.7 '!A:M,13,)","v":"Ambient"},{"$f":"VLOOKUP(B7356,'[1]2018.7 '!A:N,14,)","v":"No"}]
[7359,"18875801",18875801,"PLUNGER","021","42","PURIFICATION MEDIA","883","Column accessories",99,{"v":891.8910000000001,"d":"892"},null,{"$f":"VLOOKUP(B7360,'[1]2018.7 '!A:C,3,)","v":"Active"},{"$f":"VLOOKUP(B7360,'[1]2018.7 '!A:M,13,)","v":"Ambient"},{"$f":"VLOOKUP(B7360,'[1]2018.7 '!A:N,14,)","v":"No"}]
[7364,"18876501",18876501,"THERMOSTAT JACKET TUBE XK50/100","021","42","PURIFICATION MEDIA","883","Column accessories",415,{"v":3738.735,"d":"3,739"},null,{"$f":"VLOOKUP(B7365,'[1]2018.7 '!A:C,3,)","v":"Active"},{"$f":"VLOOKUP(B7365,'[1]2018.7 '!A:M,13,)","v":"Ambient"},{"$f":"VLOOKUP(B7365,'[1]2018.7 '!A:N,14,)","v":"No"}]
[7367,"18878701",18878701,"CONICAL ADAPTOR","021","42","PURIFICATION MEDIA","883","Column accessories",131,{"v":1180.179,"d":"1,180"},null,{"$f":"VLOOKUP(B7368,'[1]2018.7 '!A:C,3,)","v":"Active"},{"$f":"VLOOKUP(B7368,'[1]2018.7 '!A:M,13,)","v":"Ambient"},{"$f":"VLOOKUP(B7368,'[1]2018.7 '!A:N,14,)","v":"No"}]
[7370,"18879201",18879201,"CAP","021","42","PURIFICATION MEDIA","883","Column accessories",{"$f":"K7371/9.009","v":{"v":60.99999999999999,"d":"61"}},{"v":549.549,"d":"550"},null,{"$f":"VLOOKUP(B7371,'[1]2018.7 '!A:C,3,)","v":"Active"},{"$f":"VLOOKUP(B7371,'[1]2018.7 '!A:M,13,)","v":"Ambient"},{"$f":"VLOOKUP(B7371,'[1]2018.7 '!A:N,14,)","v":"No"}]
[7373,"18937701",18937701,"SUPPORT SCREEN","021","42","PURIFICATION MEDIA","883","Column accessories",70,{"v":630.63,"d":"631"},null,{"$f":"VLOOKUP(B7374,'[1]2018.7 '!A:C,3,)","v":"Active"},{"$f":"VLOOKUP(B7374,'[1]2018.7 '!A:M,13,)","v":"Ambient"},{"$f":"VLOOKUP(B7374,'[1]2018.7 '!A:N,14,)","v":"No"}]
[7374,"19011301",19011301,"CHROM TUBE XK 16/40","021","42","PURIFICATION MEDIA","883","Column accessories",177,{"v":1594.593,"d":"1,595"},null,{"$f":"VLOOKUP(B7375,'[1]2018.7 '!A:C,3,)","v":"Active"},{"$f":"VLOOKUP(B7375,'[1]2018.7 '!A:M,13,)","v":"Ambient"},{"$f":"VLOOKUP(B7375,'[1]2018.7 '!A:N,14,)","v":"No"}]
[7377,"19014501",19014501,"CHROM TUBE XK 26/40","021","42","PURIFICATION MEDIA","883","Column accessories",285,{"v":2567.565,"d":"2,568"},null,{"$f":"VLOOKUP(B7378,'[1]2018.7 '!A:C,3,)","v":"Active"},{"$f":"VLOOKUP(B7378,'[1]2018.7 '!A:M,13,)","v":"Ambient"},{"$f":"VLOOKUP(B7378,'[1]2018.7 '!A:N,14,)","v":"No"}]
[7380,"19016301",19016301,"O-RING","021","42","PURIFICATION MEDIA","883","Column accessories",54,{"v":486.486,"d":"486"},null,{"$f":"VLOOKUP(B7381,'[1]2018.7 '!A:C,3,)","v":"Active"},{"$f":"VLOOKUP(B7381,'[1]2018.7 '!A:M,13,)","v":"Ambient"},{"$f":"VLOOKUP(B7381,'[1]2018.7 '!A:N,14,)","v":"No"}]
[7385,"19052501",19052501,"CROM TUBE XK 50/60","021","42","PURIFICATION MEDIA","883","Column accessories",366,{"v":3297.2940000000003,"d":"3,297"},null,{"$f":"VLOOKUP(B7386,'[1]2018.7 '!A:C,3,)","v":"Active"},{"$f":"VLOOKUP(B7386,'[1]2018.7 '!A:M,13,)","v":"Ambient"},{"$f":"VLOOKUP(B7386,'[1]2018.7 '!A:N,14,)","v":"No"}]
[7388,"90100190",90100190,"HITRAP 5X1ML 2 5 ADP SEPH 4B","021","42","PURIFICATION MEDIA","086","CDP Chromatography",{"v":1200,"d":"1,200"},{"v":10810.800000000001,"d":"10,811"},null,{"$f":"VLOOKUP(B7389,'[1]2018.7 '!A:C,3,)","v":"Active"},{"$f":"VLOOKUP(B7389,'[1]2018.7 '!A:M,13,)","v":"Wet Ice"},{"$f":"VLOOKUP(B7389,'[1]2018.7 '!A:N,14,)","v":"No"}]
[7392,"19080101",19080101,"END PIECE","021","42","PURIFICATION MEDIA","883","Column accessories",127,{"v":1144.143,"d":"1,144"},null,{"$f":"VLOOKUP(B7393,'[1]2018.7 '!A:C,3,)","v":"Active"},{"$f":"VLOOKUP(B7393,'[1]2018.7 '!A:M,13,)","v":"Ambient"},{"$f":"VLOOKUP(B7393,'[1]2018.7 '!A:N,14,)","v":"Reviewing"}]
[7395,"19176701",19176701,"SUPPORT SCREEN","021","42","PURIFICATION MEDIA","883","Column accessories",40,{"v":360.36,"d":"360"},null,{"$f":"VLOOKUP(B7396,'[1]2018.7 '!A:C,3,)","v":"Active"},{"$f":"VLOOKUP(B7396,'[1]2018.7 '!A:M,13,)","v":"Ambient"},{"$f":"VLOOKUP(B7396,'[1]2018.7 '!A:N,14,)","v":"No"}]
[7398,"19500801",19500801,"NET RING 10 MICROMETER","021","42","PURIFICATION MEDIA","883","Column accessories",68,{"v":612.6120000000001,"d":"613"},null,{"$f":"VLOOKUP(B7399,'[1]2018.7 '!A:C,3,)","v":"Active"},{"$f":"VLOOKUP(B7399,'[1]2018.7 '!A:M,13,)","v":"Ambient"},{"$f":"VLOOKUP(B7399,'[1]2018.7 '!A:N,14,)","v":"No"}]
[7399,"19500901",19500901,"NET RING 80 MICROMETER","021","42","PURIFICATION MEDIA","883","Column accessories",68,{"v":612.6120000000001,"d":"613"},null,{"$f":"VLOOKUP(B7400,'[1]2018.7 '!A:C,3,)","v":"Active"},{"$f":"VLOOKUP(B7400,'[1]2018.7 '!A:M,13,)","v":"Ambient"},{"$f":"VLOOKUP(B7400,'[1]2018.7 '!A:N,14,)","v":"No"}]
[7402,"19502401",19502401,"BOTTOM END PIECE","021","42","PURIFICATION MEDIA","883","Column accessories",77,{"v":693.693,"d":"694"},null,{"$f":"VLOOKUP(B7403,'[1]2018.7 '!A:C,3,)","v":"Active"},{"$f":"VLOOKUP(B7403,'[1]2018.7 '!A:M,13,)","v":"Ambient"},{"$f":"VLOOKUP(B7403,'[1]2018.7 '!A:N,14,)","v":"No"}]
[7406,"19503701",19503701,"GLASS TUBE C 10/40","021","42","PURIFICATION MEDIA","883","Column accessories",180,{"v":1621.6200000000001,"d":"1,622"},null,{"$f":"VLOOKUP(B7407,'[1]2018.7 '!A:C,3,)","v":"Active"},{"$f":"VLOOKUP(B7407,'[1]2018.7 '!A:M,13,)","v":"Ambient"},{"$f":"VLOOKUP(B7407,'[1]2018.7 '!A:N,14,)","v":"No"}]
[7410,"19512001",19512001,"FRICTION RING C 16","021","42","PURIFICATION MEDIA","883","Column accessories",113,{"v":1018.017,"d":"1,018"},null,{"$f":"VLOOKUP(B7411,'[1]2018.7 '!A:C,3,)","v":"Active"},{"$f":"VLOOKUP(B7411,'[1]2018.7 '!A:M,13,)","v":"Ambient"},{"$f":"VLOOKUP(B7411,'[1]2018.7 '!A:N,14,)","v":"No"}]
[7413,"19512701",19512701,"SEALING RING C 16","021","42","PURIFICATION MEDIA","883","Column accessories",{"v":59.00000000000001,"d":"59"},{"v":531.5310000000001,"d":"532"},null,{"$f":"VLOOKUP(B7414,'[1]2018.7 '!A:C,3,)","v":"Active"},{"$f":"VLOOKUP(B7414,'[1]2018.7 '!A:M,13,)","v":"Ambient"},{"$f":"VLOOKUP(B7414,'[1]2018.7 '!A:N,14,)","v":"No"}]
[7417,"19514001",19514001,"GLASS TUBE C 16/100","021","42","PURIFICATION MEDIA","883","Column accessories",250,{"v":2252.25,"d":"2,252"},null,{"$f":"VLOOKUP(B7418,'[1]2018.7 '!A:C,3,)","v":"Active"},{"$f":"VLOOKUP(B7418,'[1]2018.7 '!A:M,13,)","v":"Ambient"},{"$f":"VLOOKUP(B7418,'[1]2018.7 '!A:N,14,)","v":"No"}]
[7420,"19520801",19520801,"RESERVOIR RC 26","021","42","PURIFICATION MEDIA","883","Column accessories",231,{"v":2081.079,"d":"2,081"},null,{"$f":"VLOOKUP(B7421,'[1]2018.7 '!A:C,3,)","v":"Active"},{"$f":"VLOOKUP(B7421,'[1]2018.7 '!A:M,13,)","v":"Ambient"},{"$f":"VLOOKUP(B7421,'[1]2018.7 '!A:N,14,)","v":"No"}]
[7423,"19784501",19784501,"MOVABLE SEAL","021","42","PURIFICATION MEDIA","883","Column accessories",99,{"v":891.8910000000001,"d":"892"},null,{"$f":"VLOOKUP(B7424,'[1]2018.7 '!A:C,3,)","v":"Active"},{"$f":"VLOOKUP(B7424,'[1]2018.7 '!A:M,13,)","v":"Ambient"},{"$f":"VLOOKUP(B7424,'[1]2018.7 '!A:N,14,)","v":"No"}]
[7424,"19784601",19784601,"INNER END PIECE","021","42","PURIFICATION MEDIA","883","Column accessories",92,{"v":828.828,"d":"829"},null,{"$f":"VLOOKUP(B7425,'[1]2018.7 '!A:C,3,)","v":"Active"},{"$f":"VLOOKUP(B7425,'[1]2018.7 '!A:M,13,)","v":"Ambient"},{"$f":"VLOOKUP(B7425,'[1]2018.7 '!A:N,14,)","v":"No"}]
[7427,"28406407",28406407,"TRICORN 10 COLUMN ADAPTOR UNIT","021","42","PURIFICATION MEDIA","883","Column accessories",186,{"v":1675.674,"d":"1,676"},null,{"$f":"VLOOKUP(B7428,'[1]2018.7 '!A:C,3,)","v":"Active"},{"$f":"VLOOKUP(B7428,'[1]2018.7 '!A:M,13,)","v":"Ambient"},{"$f":"VLOOKUP(B7428,'[1]2018.7 '!A:N,14,)","v":"No"}]
[7432,"28964777",28964777,"SPANNER WRENCH HiScale 26","021","42","PURIFICATION MEDIA","883","Column accessories",110,{"v":990.99,"d":"991"},null,{"$f":"VLOOKUP(B7433,'[1]2018.7 '!A:C,3,)","v":"Active"},{"$f":"VLOOKUP(B7433,'[1]2018.7 '!A:M,13,)","v":"Ambient"},{"$f":"VLOOKUP(B7433,'[1]2018.7 '!A:N,14,)","v":"No"}]
[7435,"28966374",28966374,"ACCESSORY KIT HiScale 26","021","42","PURIFICATION MEDIA","883","Column accessories",110,{"v":990.99,"d":"991"},null,{"$f":"VLOOKUP(B7436,'[1]2018.7 '!A:C,3,)","v":"Active"},{"$f":"VLOOKUP(B7436,'[1]2018.7 '!A:M,13,)","v":"Ambient"},{"$f":"VLOOKUP(B7436,'[1]2018.7 '!A:N,14,)","v":"No"}]
[7438,"28966379",28966379,"Net Ring 20um 16","021","42","PURIFICATION MEDIA","883","Column accessories",89,{"v":801.801,"d":"802"},null,{"$f":"VLOOKUP(B7439,'[1]2018.7 '!A:C,3,)","v":"Active"},{"$f":"VLOOKUP(B7439,'[1]2018.7 '!A:M,13,)","v":"Ambient"},{"$f":"VLOOKUP(B7439,'[1]2018.7 '!A:N,14,)","v":"No"}]
[7442,"28966384",28966384,"Adapter HiScale 26","021","42","PURIFICATION MEDIA","883","Column accessories",604,{"v":5441.436000000001,"d":"5,441"},null,{"$f":"VLOOKUP(B7443,'[1]2018.7 '!A:C,3,)","v":"Active"},{"$f":"VLOOKUP(B7443,'[1]2018.7 '!A:M,13,)","v":"Ambient"},{"$f":"VLOOKUP(B7443,'[1]2018.7 '!A:N,14,)","v":"No"}]
[7445,"28966648",28966648,"COLUMN TUBE HiScale 26 - 20","021","42","PURIFICATION MEDIA","883","Column accessories",{"v":1026,"d":"1,026"},{"v":9243.234,"d":"9,243"},null,{"$f":"VLOOKUP(B7446,'[1]2018.7 '!A:C,3,)","v":"Active"},{"$f":"VLOOKUP(B7446,'[1]2018.7 '!A:M,13,)","v":"Ambient"},{"$f":"VLOOKUP(B7446,'[1]2018.7 '!A:N,14,)","v":"No"}]
[7448,"28966652",28966652,"Column Tube HiScale 16/40","021","42","PURIFICATION MEDIA","883","Column accessories",785,{"v":7072.0650000000005,"d":"7,072"},null,{"$f":"VLOOKUP(B7449,'[1]2018.7 '!A:C,3,)","v":"Active"},{"$f":"VLOOKUP(B7449,'[1]2018.7 '!A:M,13,)","v":"Ambient"},{"$f":"VLOOKUP(B7449,'[1]2018.7 '!A:N,14,)","v":"No"}]
[7452,"28966656",28966656,"Tubing 2 mm i.d. cut HiScale 50","021","42","PURIFICATION MEDIA","883","Column accessories",98,{"v":882.8820000000001,"d":"883"},null,{"$f":"VLOOKUP(B7453,'[1]2018.7 '!A:C,3,)","v":"Active"},{"$f":"VLOOKUP(B7453,'[1]2018.7 '!A:M,13,)","v":"Ambient"},{"$f":"VLOOKUP(B7453,'[1]2018.7 '!A:N,14,)","v":"No"}]
[7453,"28978227",28978227,"O-ring","021","42","PURIFICATION MEDIA","883","Column accessories",76,{"v":684.684,"d":"685"},null,{"$f":"VLOOKUP(B7454,'[1]2018.7 '!A:C,3,)","v":"Active"},{"$f":"VLOOKUP(B7454,'[1]2018.7 '!A:M,13,)","v":"Ambient"},{"$f":"VLOOKUP(B7454,'[1]2018.7 '!A:N,14,)","v":"No"}]
[7457,"28985812",28985812,"1/16 male Luer female 50 pack","021","42","PURIFICATION MEDIA","883","Column accessories",803,{"v":7234.227,"d":"7,234"},null,{"$f":"VLOOKUP(B7458,'[1]2018.7 '!A:C,3,)","v":"Active"},{"$f":"VLOOKUP(B7458,'[1]2018.7 '!A:M,13,)","v":"Ambient"},{"$f":"VLOOKUP(B7458,'[1]2018.7 '!A:N,14,)","v":"No"}]
[7460,"28989858",28989858,"Packing Reservoir RK 16/26","021","42","PURIFICATION MEDIA","883","Column accessories",497,{"v":4477.473,"d":"4,477"},null,{"$f":"VLOOKUP(B7461,'[1]2018.7 '!A:C,3,)","v":"Active"},{"$f":"VLOOKUP(B7461,'[1]2018.7 '!A:M,13,)","v":"Ambient"},{"$f":"VLOOKUP(B7461,'[1]2018.7 '!A:N,14,)","v":"No"}]
[7463,"28989877",28989877,"Adapter XK 26","021","42","PURIFICATION MEDIA","883","Column accessories",431,{"v":3882.8790000000004,"d":"3,883"},null,{"$f":"VLOOKUP(B7464,'[1]2018.7 '!A:C,3,)","v":"Active"},{"$f":"VLOOKUP(B7464,'[1]2018.7 '!A:M,13,)","v":"Ambient"},{"$f":"VLOOKUP(B7464,'[1]2018.7 '!A:N,14,)","v":"No"}]
[7467,"28989888",28989888,"Bottom piece XK 50","021","42","PURIFICATION MEDIA","883","Column accessories",197,{"v":1774.7730000000001,"d":"1,775"},null,{"$f":"VLOOKUP(B7468,'[1]2018.7 '!A:C,3,)","v":"Active"},{"$f":"VLOOKUP(B7468,'[1]2018.7 '!A:M,13,)","v":"Ambient"},{"$f":"VLOOKUP(B7468,'[1]2018.7 '!A:N,14,)","v":"No"}]
[7470,"28989981",28989981,"Accessory kit XK 50","021","42","PURIFICATION MEDIA","883","Column accessories",255,{"v":2297.295,"d":"2,297"},null,{"$f":"VLOOKUP(B7471,'[1]2018.7 '!A:C,3,)","v":"Active"},{"$f":"VLOOKUP(B7471,'[1]2018.7 '!A:M,13,)","v":"Ambient"},{"$f":"VLOOKUP(B7471,'[1]2018.7 '!A:N,14,)","v":"No"}]
[7473,"17057501",17057501,"CHELATING SEPHAROSE FAST FLOW","021","42","PURIFICATION MEDIA","884","Affinity Tag Gels",{"v":467.00000000000006,"d":"467"},{"v":4207.203,"d":"4,207"},null,{"$f":"VLOOKUP(B7474,'[1]2018.7 '!A:C,3,)","v":"Active"},{"$f":"VLOOKUP(B7474,'[1]2018.7 '!A:M,13,)","v":"Ambient"},{"$f":"VLOOKUP(B7474,'[1]2018.7 '!A:N,14,)","v":"No"}]
[7475,"17075604",17075604,"GLUTATHIONE SEPHAROSE 4B, 300 ML","021","42","PURIFICATION MEDIA","884","Affinity Tag Gels",{"v":5673,"d":"5,673"},{"v":51108.057,"d":"51,108"},null,{"$f":"VLOOKUP(B7476,'[1]2018.7 '!A:C,3,)","v":"Active"},{"$f":"VLOOKUP(B7476,'[1]2018.7 '!A:M,13,)","v":"Ambient"},{"$f":"VLOOKUP(B7476,'[1]2018.7 '!A:N,14,)","v":"No"}]
[7478,"17092107",17092107,"IMAC SEPHAROSE 6 FF, 25 ML","021","42","PURIFICATION MEDIA","884","Affinity Tag Gels",306,{"v":2756.754,"d":"2,757"},null,{"$f":"VLOOKUP(B7479,'[1]2018.7 '!A:C,3,)","v":"Active"},{"$f":"VLOOKUP(B7479,'[1]2018.7 '!A:M,13,)","v":"Ambient"},{"$f":"VLOOKUP(B7479,'[1]2018.7 '!A:N,14,)","v":"No"}]
[7482,"17371203",17371203,"Ni Sepharose excel 500ml","021","42","PURIFICATION MEDIA","884","Affinity Tag Gels",{"v":6887,"d":"6,887"},{"v":62044.983,"d":"62,045"},null,{"$f":"VLOOKUP(B7483,'[1]2018.7 '!A:C,3,)","v":"Active"},{"$f":"VLOOKUP(B7483,'[1]2018.7 '!A:M,13,)","v":"Ambient"},{"$f":"VLOOKUP(B7483,'[1]2018.7 '!A:N,14,)","v":"No"}]
[7485,"17513203",17513203,"GLUTATHIONE SEPH 4 FF, 500 ML","021","42","PURIFICATION MEDIA","884","Affinity Tag Gels",{"v":8537,"d":"8,537"},{"v":76909.833,"d":"76,910"},null,{"$f":"VLOOKUP(B7486,'[1]2018.7 '!A:C,3,)","v":"Active"},{"$f":"VLOOKUP(B7486,'[1]2018.7 '!A:M,13,)","v":"Ambient"},{"$f":"VLOOKUP(B7486,'[1]2018.7 '!A:N,14,)","v":"No"}]
[7488,"17527901",17527901,"GLUTATHIONE SEPHAROSE HP 25 ML","021","42","PURIFICATION MEDIA","884","Affinity Tag Gels",854,{"v":7693.686000000001,"d":"7,694"},null,{"$f":"VLOOKUP(B7489,'[1]2018.7 '!A:C,3,)","v":"Active"},{"$f":"VLOOKUP(B7489,'[1]2018.7 '!A:M,13,)","v":"Ambient"},{"$f":"VLOOKUP(B7489,'[1]2018.7 '!A:N,14,)","v":"No"}]
[7492,"17531803",17531803,"NI SEPHAROSE 6FF, 500 ML","021","42","PURIFICATION MEDIA","884","Affinity Tag Gels",{"v":5739,"d":"5,739"},{"v":51702.651000000005,"d":"51,703"},null,{"$f":"VLOOKUP(B7493,'[1]2018.7 '!A:C,3,)","v":"Active"},{"$f":"VLOOKUP(B7493,'[1]2018.7 '!A:M,13,)","v":"Ambient"},{"$f":"VLOOKUP(B7493,'[1]2018.7 '!A:N,14,)","v":"No"}]
[7494,"28935597",28935597,"Dextrin Sepharose High Performance 25 ml","021","42","PURIFICATION MEDIA","884","Affinity Tag Gels",{"v":1171,"d":"1,171"},{"v":10549.539,"d":"10,550"},null,{"$f":"VLOOKUP(B7495,'[1]2018.7 '!A:C,3,)","v":"Active"},{"$f":"VLOOKUP(B7495,'[1]2018.7 '!A:M,13,)","v":"Ambient"},{"$f":"VLOOKUP(B7495,'[1]2018.7 '!A:N,14,)","v":"No"}]
[7497,"28935600",28935600,"StrepTactin Sepharose High Performance 50 ml","021","42","PURIFICATION MEDIA","884","Affinity Tag Gels",{"v":4440,"d":"4,440"},{"v":39999.96,"d":"40,000"},null,{"$f":"VLOOKUP(B7498,'[1]2018.7 '!A:C,3,)","v":"Active"},{"$f":"VLOOKUP(B7498,'[1]2018.7 '!A:M,13,)","v":"Wet Ice"},{"$f":"VLOOKUP(B7498,'[1]2018.7 '!A:N,14,)","v":"No"}]
[7500,"11000458",11000458,"HISTRAP FF CRUDE 5X1 ML","021","42","PURIFICATION MEDIA","885","Affinity Tag Columns",218,{"v":1963.962,"d":"1,964"},null,{"$f":"VLOOKUP(B7501,'[1]2018.7 '!A:C,3,)","v":"Active"},{"$f":"VLOOKUP(B7501,'[1]2018.7 '!A:M,13,)","v":"Ambient"},{"$f":"VLOOKUP(B7501,'[1]2018.7 '!A:N,14,)","v":"No"}]
[7503,"17040801",17040801,"HITRAP CHELATING HP, 5 X 1 ML","021","42","PURIFICATION MEDIA","885","Affinity Tag Columns",221,{"v":1990.989,"d":"1,991"},null,{"$f":"VLOOKUP(B7504,'[1]2018.7 '!A:C,3,)","v":"Active"},{"$f":"VLOOKUP(B7504,'[1]2018.7 '!A:M,13,)","v":"Ambient"},{"$f":"VLOOKUP(B7504,'[1]2018.7 '!A:N,14,)","v":"No"}]
[7507,"17092005",17092005,"HITRAP IMAC HP, 5 X 5 ML","021","42","PURIFICATION MEDIA","885","Affinity Tag Columns",774,{"v":6972.966,"d":"6,973"},null,{"$f":"VLOOKUP(B7508,'[1]2018.7 '!A:C,3,)","v":"Active"},{"$f":"VLOOKUP(B7508,'[1]2018.7 '!A:M,13,)","v":"Ambient"},{"$f":"VLOOKUP(B7508,'[1]2018.7 '!A:N,14,)","v":"No"}]
[7510,"17371205",17371205,"HisTrap excel 5x1ml","021","42","PURIFICATION MEDIA","885","Affinity Tag Columns",265,{"v":2387.385,"d":"2,387"},null,{"$f":"VLOOKUP(B7511,'[1]2018.7 '!A:C,3,)","v":"Active"},{"$f":"VLOOKUP(B7511,'[1]2018.7 '!A:M,13,)","v":"Ambient"},{"$f":"VLOOKUP(B7511,'[1]2018.7 '!A:N,14,)","v":"No"}]
[7513,"17513002",17513002,"GSTRAP FF, 2X1ML","021","42","PURIFICATION MEDIA","885","Affinity Tag Columns",201,{"v":1810.809,"d":"1,811"},null,{"$f":"VLOOKUP(B7514,'[1]2018.7 '!A:C,3,)","v":"Active"},{"$f":"VLOOKUP(B7514,'[1]2018.7 '!A:M,13,)","v":"Ambient"},{"$f":"VLOOKUP(B7514,'[1]2018.7 '!A:N,14,)","v":"No"}]
[7515,"17513102",17513102,"GSTRAP FF 5 X 5 ML","021","42","PURIFICATION MEDIA","885","Affinity Tag Columns",{"v":1528,"d":"1,528"},{"v":13765.752,"d":"13,766"},null,{"$f":"VLOOKUP(B7516,'[1]2018.7 '!A:C,3,)","v":"Active"},{"$f":"VLOOKUP(B7516,'[1]2018.7 '!A:M,13,)","v":"Ambient"},{"$f":"VLOOKUP(B7516,'[1]2018.7 '!A:N,14,)","v":"No"}]
[7521,"17525501",17525501,"HISTRAP FF 5 X 5 ML","021","42","PURIFICATION MEDIA","885","Affinity Tag Columns",682,{"v":6144.138,"d":"6,144"},null,{"$f":"VLOOKUP(B7522,'[1]2018.7 '!A:C,3,)","v":"Active"},{"$f":"VLOOKUP(B7522,'[1]2018.7 '!A:M,13,)","v":"Ambient"},{"$f":"VLOOKUP(B7522,'[1]2018.7 '!A:N,14,)","v":"No"}]
[7522,"17525502",17525502,"HISTRAP FF 100 X 5 ML","021","42","PURIFICATION MEDIA","885","Affinity Tag Columns","询价","询价",null,{"$f":"VLOOKUP(B7523,'[1]2018.7 '!A:C,3,)","v":"Order Stop"},{"$f":"VLOOKUP(B7523,'[1]2018.7 '!A:M,13,)","v":"Ambient"},{"$f":"VLOOKUP(B7523,'[1]2018.7 '!A:N,14,)","v":"No"}]
[7525,"17528201",17528201,"GSTRAP HP 1 X 5 ML","021","42","PURIFICATION MEDIA","885","Affinity Tag Columns",427,{"v":3846.8430000000003,"d":"3,847"},null,{"$f":"VLOOKUP(B7526,'[1]2018.7 '!A:C,3,)","v":"Active"},{"$f":"VLOOKUP(B7526,'[1]2018.7 '!A:M,13,)","v":"Ambient"},{"$f":"VLOOKUP(B7526,'[1]2018.7 '!A:N,14,)","v":"No"}]
[7528,"17528602",17528602,"HISTRAP FF CRUDE 100X5 ML","021","42","PURIFICATION MEDIA","885","Affinity Tag Columns",{"v":12991,"d":"12,991"},{"v":117035.91900000001,"d":"117,036"},null,{"$f":"VLOOKUP(B7529,'[1]2018.7 '!A:C,3,)","v":"Order Stop"},{"$f":"VLOOKUP(B7529,'[1]2018.7 '!A:M,13,)","v":"Ambient"},{"$f":"VLOOKUP(B7529,'[1]2018.7 '!A:N,14,)","v":"No"}]
[7532,"28400990",28400990,"HIS MULTITRAP FF","021","42","PURIFICATION MEDIA","885","Affinity Tag Columns",{"v":1141,"d":"1,141"},{"v":10279.269,"d":"10,279"},null,{"$f":"VLOOKUP(B7533,'[1]2018.7 '!A:C,3,)","v":"Active"},{"$f":"VLOOKUP(B7533,'[1]2018.7 '!A:M,13,)","v":"Ambient"},{"$f":"VLOOKUP(B7533,'[1]2018.7 '!A:N,14,)","v":"No"}]
[7535,"28401745",28401745,"GSTRAP 4B, 5 X 1 ML","021","42","PURIFICATION MEDIA","885","Affinity Tag Columns",425,{"v":3828.8250000000003,"d":"3,829"},null,{"$f":"VLOOKUP(B7536,'[1]2018.7 '!A:C,3,)","v":"Active"},{"$f":"VLOOKUP(B7536,'[1]2018.7 '!A:M,13,)","v":"Ambient"},{"$f":"VLOOKUP(B7536,'[1]2018.7 '!A:N,14,)","v":"No"}]
[7540,"28907548",28907548,"StrepTrap HP 5 x 5mL","021","42","PURIFICATION MEDIA","885","Affinity Tag Columns",{"v":2447,"d":"2,447"},{"v":22045.023,"d":"22,045"},null,{"$f":"VLOOKUP(B7541,'[1]2018.7 '!A:C,3,)","v":"Active"},{"$f":"VLOOKUP(B7541,'[1]2018.7 '!A:M,13,)","v":"Wet Ice"},{"$f":"VLOOKUP(B7541,'[1]2018.7 '!A:N,14,)","v":"No"}]
[7543,"28918779",28918779,"MBPTrap 1 x 5 mL","021","42","PURIFICATION MEDIA","885","Affinity Tag Columns",347,{"v":3126.123,"d":"3,126"},null,{"$f":"VLOOKUP(B7544,'[1]2018.7 '!A:C,3,)","v":"Active"},{"$f":"VLOOKUP(B7544,'[1]2018.7 '!A:M,13,)","v":"Ambient"},{"$f":"VLOOKUP(B7544,'[1]2018.7 '!A:N,14,)","v":"No"}]
[7546,"28932171",28932171,"His SpinTrap Kit","021","42","PURIFICATION MEDIA","885","Affinity Tag Columns",503,{"v":4531.527,"d":"4,532"},null,{"$f":"VLOOKUP(B7547,'[1]2018.7 '!A:C,3,)","v":"Active"},{"$f":"VLOOKUP(B7547,'[1]2018.7 '!A:M,13,)","v":"Ambient"},{"$f":"VLOOKUP(B7547,'[1]2018.7 '!A:N,14,)","v":"Yes"}]
[7547,"28936550",28936550,"GSTPrep FF 16/10","021","42","PURIFICATION MEDIA","885","Affinity Tag Columns",895,{"v":8063.055,"d":"8,063"},null,{"$f":"VLOOKUP(B7548,'[1]2018.7 '!A:C,3,)","v":"Active"},{"$f":"VLOOKUP(B7548,'[1]2018.7 '!A:M,13,)","v":"Ambient"},{"$f":"VLOOKUP(B7548,'[1]2018.7 '!A:N,14,)","v":"No"}]
[7550,"28950517",28950517,"HiScreen IMAC FF","021","42","PURIFICATION MEDIA","885","Affinity Tag Columns",219,{"v":1972.971,"d":"1,973"},null,{"$f":"VLOOKUP(B7551,'[1]2018.7 '!A:C,3,)","v":"Active"},{"$f":"VLOOKUP(B7551,'[1]2018.7 '!A:M,13,)","v":"Ambient"},{"$f":"VLOOKUP(B7551,'[1]2018.7 '!A:N,14,)","v":"No"}]
[7553,"28953766",28953766,"HiTrap TALON crude, 5 x 1 ml","021","42","PURIFICATION MEDIA","885","Affinity Tag Columns",218,{"v":1963.962,"d":"1,964"},null,{"$f":"VLOOKUP(B7554,'[1]2018.7 '!A:C,3,)","v":"Active"},{"$f":"VLOOKUP(B7554,'[1]2018.7 '!A:M,13,)","v":"Ambient"},{"$f":"VLOOKUP(B7554,'[1]2018.7 '!A:N,14,)","v":"No"}]
[7557,"29000593",29000593,"His SpinTrap TALON","021","42","PURIFICATION MEDIA","885","Affinity Tag Columns",538,{"v":4846.842000000001,"d":"4,847"},null,{"$f":"VLOOKUP(B7558,'[1]2018.7 '!A:C,3,)","v":"Active"},{"$f":"VLOOKUP(B7558,'[1]2018.7 '!A:M,13,)","v":"Ambient"},{"$f":"VLOOKUP(B7558,'[1]2018.7 '!A:N,14,)","v":"No"}]
[7561,"29048586",29048586,"HisTrap excel 1x1ml","021","42","PURIFICATION MEDIA","885","Affinity Tag Columns",69,{"v":621.621,"d":"622"},null,{"$f":"VLOOKUP(B7562,'[1]2018.7 '!A:C,3,)","v":"Active"},{"$f":"VLOOKUP(B7562,'[1]2018.7 '!A:M,13,)","v":"Ambient"},{"$f":"VLOOKUP(B7562,'[1]2018.7 '!A:N,14,)","v":"No"}]
[7565,"29048653",29048653,"StrepTrap HP 1 x 1mL","021","42","PURIFICATION MEDIA","885","Affinity Tag Columns",{"v":240.99999999999997,"d":"241"},{"v":2171.169,"d":"2,171"},null,{"$f":"VLOOKUP(B7566,'[1]2018.7 '!A:C,3,)","v":"Active"},{"$f":"VLOOKUP(B7566,'[1]2018.7 '!A:M,13,)","v":"Wet Ice"},{"$f":"VLOOKUP(B7566,'[1]2018.7 '!A:N,14,)","v":"No"}]
[7568,"17061801",17061801,"PROTEIN G SEPHAROSE 4 FF, 5 ML","021","42","PURIFICATION MEDIA","886","Affinity Ab Gels",665,{"v":5990.985000000001,"d":"5,991"},null,{"$f":"VLOOKUP(B7569,'[1]2018.7 '!A:C,3,)","v":"Active"},{"$f":"VLOOKUP(B7569,'[1]2018.7 '!A:M,13,)","v":"Ambient"},{"$f":"VLOOKUP(B7569,'[1]2018.7 '!A:N,14,)","v":"No"}]
[7571,"17078001",17078001,"PROTEIN A-SEPHAROSE CL-4B 1.5G","021","42","PURIFICATION MEDIA","886","Affinity Ab Gels",582,{"v":5243.238,"d":"5,243"},null,{"$f":"VLOOKUP(B7572,'[1]2018.7 '!A:C,3,)","v":"Active"},{"$f":"VLOOKUP(B7572,'[1]2018.7 '!A:M,13,)","v":"Ambient"},{"$f":"VLOOKUP(B7572,'[1]2018.7 '!A:N,14,)","v":"No"}]
[7572,"17088501",17088501,"GAMMABIND G SEPHAROSE, 5 ML","021","42","PURIFICATION MEDIA","886","Affinity Ab Gels",828,{"v":7459.452,"d":"7,459"},null,{"$f":"VLOOKUP(B7573,'[1]2018.7 '!A:C,3,)","v":"Active"},{"$f":"VLOOKUP(B7573,'[1]2018.7 '!A:M,13,)","v":"Ambient"},{"$f":"VLOOKUP(B7573,'[1]2018.7 '!A:N,14,)","v":"No"}]
[7575,"17088601",17088601,"GAMMABIND PLUS SEPHAROSE, 5 ML","021","42","PURIFICATION MEDIA","886","Affinity Ab Gels",717,{"v":6459.453,"d":"6,459"},null,{"$f":"VLOOKUP(B7576,'[1]2018.7 '!A:C,3,)","v":"Active"},{"$f":"VLOOKUP(B7576,'[1]2018.7 '!A:M,13,)","v":"Wet Ice"},{"$f":"VLOOKUP(B7576,'[1]2018.7 '!A:N,14,)","v":"No"}]
[7578,"17096302",17096302,"PROTEIN A SEPHAROSE CL-4B 500ML","021","42","PURIFICATION MEDIA","886","Affinity Ab Gels",{"v":19860,"d":"19,860"},{"v":178918.74000000002,"d":"178,919"},null,{"$f":"VLOOKUP(B7579,'[1]2018.7 '!A:C,3,)","v":"Active"},{"$f":"VLOOKUP(B7579,'[1]2018.7 '!A:M,13,)","v":"Ambient"},{"$f":"VLOOKUP(B7579,'[1]2018.7 '!A:N,14,)","v":"No"}]
[7582,"17127903",17127903,"R-PROTEIN A SEPHAROSE FF, 200 ML","021","42","PURIFICATION MEDIA","886","Affinity Ab Gels",{"v":4112,"d":"4,112"},{"v":37045.008,"d":"37,045"},null,{"$f":"VLOOKUP(B7583,'[1]2018.7 '!A:C,3,)","v":"Active"},{"$f":"VLOOKUP(B7583,'[1]2018.7 '!A:M,13,)","v":"Ambient"},{"$f":"VLOOKUP(B7583,'[1]2018.7 '!A:N,14,)","v":"No"}]
[7586,"17519901",17519901,"MABSELECT 25 ML","021","42","PURIFICATION MEDIA","886","Affinity Ab Gels",{"v":1016,"d":"1,016"},{"v":9153.144,"d":"9,153"},null,{"$f":"VLOOKUP(B7587,'[1]2018.7 '!A:C,3,)","v":"Active"},{"$f":"VLOOKUP(B7587,'[1]2018.7 '!A:M,13,)","v":"Ambient"},{"$f":"VLOOKUP(B7587,'[1]2018.7 '!A:N,14,)","v":"No"}]
[7590,"17528001",17528001,"NPROTEIN A SEPHAROSE 4 FF 5ML","021","42","PURIFICATION MEDIA","886","Affinity Ab Gels",612,{"v":5513.508,"d":"5,514"},null,{"$f":"VLOOKUP(B7591,'[1]2018.7 '!A:C,3,)","v":"Active"},{"$f":"VLOOKUP(B7591,'[1]2018.7 '!A:M,13,)","v":"Ambient"},{"$f":"VLOOKUP(B7591,'[1]2018.7 '!A:N,14,)","v":"No"}]
[7593,"17543801",17543801,"MABSELECT SURE 25 ML","021","42","PURIFICATION MEDIA","886","Affinity Ab Gels",{"v":3078,"d":"3,078"},{"v":27729.702,"d":"27,730"},null,{"$f":"VLOOKUP(B7594,'[1]2018.7 '!A:C,3,)","v":"Active"},{"$f":"VLOOKUP(B7594,'[1]2018.7 '!A:M,13,)","v":"Ambient"},{"$f":"VLOOKUP(B7594,'[1]2018.7 '!A:N,14,)","v":"No"}]
[7596,"17547402",17547402,"MabSelect SuRe LX 200 ML","021","42","PURIFICATION MEDIA","886","Affinity Ab Gels",{"v":6007,"d":"6,007"},{"v":54117.063,"d":"54,117"},null,{"$f":"VLOOKUP(B7597,'[1]2018.7 '!A:C,3,)","v":"Active"},{"$f":"VLOOKUP(B7597,'[1]2018.7 '!A:M,13,)","v":"Ambient"},{"$f":"VLOOKUP(B7597,'[1]2018.7 '!A:N,14,)","v":"No"}]
[7597,"17547801",17547801,"Capto L, 25 mL","021","42","PURIFICATION MEDIA","886","Affinity Ab Gels",{"v":1201,"d":"1,201.0"},{"v":10819.809000000001,"d":"10,820"},null,{"$f":"VLOOKUP(B7598,'[1]2018.7 '!A:C,3,)","v":"Active"},{"$f":"VLOOKUP(B7598,'[1]2018.7 '!A:M,13,)","v":"Ambient"},{"$f":"VLOOKUP(B7598,'[1]2018.7 '!A:N,14,)","v":"No"}]
[7600,"17600235",17600235,"IMMUNOPRECIP STARTER PACK","021","42","PURIFICATION MEDIA","886","Affinity Ab Gels",674,{"v":6072.066,"d":"6,072"},null,{"$f":"VLOOKUP(B7601,'[1]2018.7 '!A:C,3,)","v":"Active"},{"$f":"VLOOKUP(B7601,'[1]2018.7 '!A:M,13,)","v":"Ambient"},{"$f":"VLOOKUP(B7601,'[1]2018.7 '!A:N,14,)","v":"No"}]
[7603,"11003495",11003495,"HITRAP MABSELECT SURE, 5X5ML","021","42","PURIFICATION MEDIA","887","Affinity Ab Columns",{"v":4620,"d":"4,620"},{"v":41621.58,"d":"41,622"},null,{"$f":"VLOOKUP(B7604,'[1]2018.7 '!A:C,3,)","v":"Active"},{"$f":"VLOOKUP(B7604,'[1]2018.7 '!A:M,13,)","v":"Ambient"},{"$f":"VLOOKUP(B7604,'[1]2018.7 '!A:N,14,)","v":"No"}]
[7608,"17040401",17040401,"HITRAP PROTEIN G HP, 5 X 1 ML","021","42","PURIFICATION MEDIA","887","Affinity Ab Columns",793,{"v":7144.137000000001,"d":"7,144"},null,{"$f":"VLOOKUP(B7609,'[1]2018.7 '!A:C,3,)","v":"Active"},{"$f":"VLOOKUP(B7609,'[1]2018.7 '!A:M,13,)","v":"Ambient"},{"$f":"VLOOKUP(B7609,'[1]2018.7 '!A:N,14,)","v":"No"}]
[7611,"17040503",17040503,"HITRAP PROTEIN G HP, 5 X 5 ML","021","42","PURIFICATION MEDIA","887","Affinity Ab Columns",{"v":3126,"d":"3,126"},{"v":28162.134000000002,"d":"28,162"},null,{"$f":"VLOOKUP(B7612,'[1]2018.7 '!A:C,3,)","v":"Active"},{"$f":"VLOOKUP(B7612,'[1]2018.7 '!A:M,13,)","v":"Ambient"},{"$f":"VLOOKUP(B7612,'[1]2018.7 '!A:N,14,)","v":"No"}]
[7615,"17508001",17508001,"HITRAP RPROTEIN A FF, 1X5ML","021","42","PURIFICATION MEDIA","887","Affinity Ab Columns",748,{"v":6738.732,"d":"6,739"},null,{"$f":"VLOOKUP(B7616,'[1]2018.7 '!A:C,3,)","v":"Active"},{"$f":"VLOOKUP(B7616,'[1]2018.7 '!A:M,13,)","v":"Ambient"},{"$f":"VLOOKUP(B7616,'[1]2018.7 '!A:N,14,)","v":"No"}]
[7618,"17511101",17511101,"HITRAP IGY PURIFICATION 1X5 ML","021","42","PURIFICATION MEDIA","887","Affinity Ab Columns",755,{"v":6801.795,"d":"6,802"},null,{"$f":"VLOOKUP(B7619,'[1]2018.7 '!A:C,3,)","v":"Active"},{"$f":"VLOOKUP(B7619,'[1]2018.7 '!A:M,13,)","v":"Ambient"},{"$f":"VLOOKUP(B7619,'[1]2018.7 '!A:N,14,)","v":"No"}]
[7621,"17547815",17547815,"HiTrap Protein L, 1x5mL","021","42","PURIFICATION MEDIA","887","Affinity Ab Columns",810,{"v":7297.29,"d":"7,297"},null,{"$f":"VLOOKUP(B7622,'[1]2018.7 '!A:C,3,)","v":"Active"},{"$f":"VLOOKUP(B7622,'[1]2018.7 '!A:M,13,)","v":"Ambient"},{"$f":"VLOOKUP(B7622,'[1]2018.7 '!A:N,14,)","v":"No"}]
[7622,"17547851",17547851,"HiTrap Protein L, 5x1mL","021","42","PURIFICATION MEDIA","887","Affinity Ab Columns",844,{"v":7603.5960000000005,"d":"7,604"},null,{"$f":"VLOOKUP(B7623,'[1]2018.7 '!A:C,3,)","v":"Active"},{"$f":"VLOOKUP(B7623,'[1]2018.7 '!A:M,13,)","v":"Ambient"},{"$f":"VLOOKUP(B7623,'[1]2018.7 '!A:N,14,)","v":"No"}]
[7628,"28408260",28408260,"HITRAP MABSELECT XTRA, 1X5ML","021","42","PURIFICATION MEDIA","887","Affinity Ab Columns",825,{"v":7432.425,"d":"7,432"},null,{"$f":"VLOOKUP(B7629,'[1]2018.7 '!A:C,3,)","v":"Active"},{"$f":"VLOOKUP(B7629,'[1]2018.7 '!A:M,13,)","v":"Ambient"},{"$f":"VLOOKUP(B7629,'[1]2018.7 '!A:N,14,)","v":"No"}]
[7630,"28408347",28408347,"Ab SpinTrap","021","42","PURIFICATION MEDIA","887","Affinity Ab Columns",780,{"v":7027.02,"d":"7,027"},null,{"$f":"VLOOKUP(B7631,'[1]2018.7 '!A:C,3,)","v":"Active"},{"$f":"VLOOKUP(B7631,'[1]2018.7 '!A:M,13,)","v":"Ambient"},{"$f":"VLOOKUP(B7631,'[1]2018.7 '!A:N,14,)","v":"No"}]
[7633,"28903134",28903134,"Protein G HP SpinTrap","021","42","PURIFICATION MEDIA","887","Affinity Ab Columns",281,{"v":2531.529,"d":"2,532"},null,{"$f":"VLOOKUP(B7634,'[1]2018.7 '!A:C,3,)","v":"Active"},{"$f":"VLOOKUP(B7634,'[1]2018.7 '!A:M,13,)","v":"Ambient"},{"$f":"VLOOKUP(B7634,'[1]2018.7 '!A:N,14,)","v":"No"}]
[7636,"28926973",28926973,"HiScreen MabSelect","021","42","PURIFICATION MEDIA","887","Affinity Ab Columns",{"v":1113,"d":"1,113"},{"v":10027.017,"d":"10,027"},null,{"$f":"VLOOKUP(B7637,'[1]2018.7 '!A:C,3,)","v":"Active"},{"$f":"VLOOKUP(B7637,'[1]2018.7 '!A:M,13,)","v":"Ambient"},{"$f":"VLOOKUP(B7637,'[1]2018.7 '!A:N,14,)","v":"No"}]
[7640,"28985254",28985254,"rProtein A GraviTrap","021","42","PURIFICATION MEDIA","887","Affinity Ab Columns",{"v":1069,"d":"1,069"},{"v":9630.621000000001,"d":"9,631"},null,{"$f":"VLOOKUP(B7641,'[1]2018.7 '!A:C,3,)","v":"Active"},{"$f":"VLOOKUP(B7641,'[1]2018.7 '!A:M,13,)","v":"Ambient"},{"$f":"VLOOKUP(B7641,'[1]2018.7 '!A:N,14,)","v":"No"}]
[7643,"29048576",29048576,"HITRAP PROTEIN A HP, 1 X 1 ML","021","42","PURIFICATION MEDIA","887","Affinity Ab Columns",180,{"v":1621.6200000000001,"d":"1,622"},null,{"$f":"VLOOKUP(B7644,'[1]2018.7 '!A:C,3,)","v":"Active"},{"$f":"VLOOKUP(B7644,'[1]2018.7 '!A:M,13,)","v":"Ambient"},{"$f":"VLOOKUP(B7644,'[1]2018.7 '!A:N,14,)","v":"No"}]
[7644,"29048581",29048581,"HITRAP PROTEIN G HP, 1 X 1 ML","021","42","PURIFICATION MEDIA","887","Affinity Ab Columns",205,{"v":1846.845,"d":"1,847"},null,{"$f":"VLOOKUP(B7645,'[1]2018.7 '!A:C,3,)","v":"Active"},{"$f":"VLOOKUP(B7645,'[1]2018.7 '!A:M,13,)","v":"Ambient"},{"$f":"VLOOKUP(B7645,'[1]2018.7 '!A:N,14,)","v":"No"}]
[7649,"17044001",17044001,"CON-A SEPHAROSE 4B   100 ML","021","42","PURIFICATION MEDIA","888","Affinity Other Gels",875,{"v":7882.875,"d":"7,883"},null,{"$f":"VLOOKUP(B7650,'[1]2018.7 '!A:C,3,)","v":"Active"},{"$f":"VLOOKUP(B7650,'[1]2018.7 '!A:M,13,)","v":"Ambient"},{"$f":"VLOOKUP(B7650,'[1]2018.7 '!A:N,14,)","v":"No"}]
[7651,"17044401",17044401,"LENTIL LECTIN-SEPHAROSE 4 B 25 ML","021","42","PURIFICATION MEDIA","888","Affinity Other Gels",840,{"v":7567.56,"d":"7,568"},null,{"$f":"VLOOKUP(B7652,'[1]2018.7 '!A:C,3,)","v":"Active"},{"$f":"VLOOKUP(B7652,'[1]2018.7 '!A:M,13,)","v":"Ambient"},{"$f":"VLOOKUP(B7652,'[1]2018.7 '!A:N,14,)","v":"No"}]
[7655,"17057101",17057101,"ECH-SEPHAROSE 4B,  50 ML","021","42","PURIFICATION MEDIA","888","Affinity Other Gels",552,{"v":4972.968,"d":"4,973"},null,{"$f":"VLOOKUP(B7656,'[1]2018.7 '!A:C,3,)","v":{"$error":"#N/A"}},{"$f":"VLOOKUP(B7656,'[1]2018.7 '!A:M,13,)","v":{"$error":"#N/A"}},{"$f":"VLOOKUP(B7656,'[1]2018.7 '!A:N,14,)","v":"No"}]
[7658,"17070001",17070001,"2, 5 ADP-SEPHAROSE 4B   5 G","021","42","PURIFICATION MEDIA","888","Affinity Other Gels",{"v":1059,"d":"1,059"},{"v":9540.531,"d":"9,541"},null,{"$f":"VLOOKUP(B7659,'[1]2018.7 '!A:C,3,)","v":"Active"},{"$f":"VLOOKUP(B7659,'[1]2018.7 '!A:M,13,)","v":"Wet Ice"},{"$f":"VLOOKUP(B7659,'[1]2018.7 '!A:N,14,)","v":"No"}]
[7661,"17095601",17095601,"GELATIN-SEPHAROSE 4B,  25 ML","021","42","PURIFICATION MEDIA","888","Affinity Other Gels",276,{"v":2486.484,"d":"2,486"},null,{"$f":"VLOOKUP(B7662,'[1]2018.7 '!A:C,3,)","v":"Active"},{"$f":"VLOOKUP(B7662,'[1]2018.7 '!A:M,13,)","v":"Ambient"},{"$f":"VLOOKUP(B7662,'[1]2018.7 '!A:N,14,)","v":"No"}]
[7665,"17511301",17511301,"STREPTAVIDIN SEPHAROSE HP,5 ML","021","42","PURIFICATION MEDIA","888","Affinity Other Gels",549,{"v":4945.941,"d":"4,946"},null,{"$f":"VLOOKUP(B7666,'[1]2018.7 '!A:C,3,)","v":"Active"},{"$f":"VLOOKUP(B7666,'[1]2018.7 '!A:M,13,)","v":"Ambient"},{"$f":"VLOOKUP(B7666,'[1]2018.7 '!A:N,14,)","v":"No"}]
[7668,"17040601",17040601,"HITRAP HEPARIN HP, 5 X 1 ML","021","42","PURIFICATION MEDIA","889","Affinity Other Columns",252,{"v":2270.268,"d":"2,270"},null,{"$f":"VLOOKUP(B7669,'[1]2018.7 '!A:C,3,)","v":"Active"},{"$f":"VLOOKUP(B7669,'[1]2018.7 '!A:M,13,)","v":"Ambient"},{"$f":"VLOOKUP(B7669,'[1]2018.7 '!A:N,14,)","v":"No"}]
[7670,"17040703",17040703,"HiTrap Heparin HP 5x5ml","021","42","PURIFICATION MEDIA","889","Affinity Other Columns",{"v":1027,"d":"1,027"},{"v":9252.243,"d":"9,252"},null,{"$f":"VLOOKUP(B7671,'[1]2018.7 '!A:C,3,)","v":"Active"},{"$f":"VLOOKUP(B7671,'[1]2018.7 '!A:M,13,)","v":"Ambient"},{"$f":"VLOOKUP(B7671,'[1]2018.7 '!A:N,14,)","v":"No"}]
[7673,"17041301",17041301,"HITRAP BLUE HP, 1 X 5 ML","021","42","PURIFICATION MEDIA","889","Affinity Other Columns",201,{"v":1810.809,"d":"1,811"},null,{"$f":"VLOOKUP(B7674,'[1]2018.7 '!A:C,3,)","v":"Active"},{"$f":"VLOOKUP(B7674,'[1]2018.7 '!A:M,13,)","v":"Ambient"},{"$f":"VLOOKUP(B7674,'[1]2018.7 '!A:N,14,)","v":"No"}]
[7676,"17071701",17071701,"HITRAP NHS-ACTIV HP, 1 X 5 ML","021","42","PURIFICATION MEDIA","889","Affinity Other Columns",193,{"v":1738.737,"d":"1,739"},null,{"$f":"VLOOKUP(B7677,'[1]2018.7 '!A:C,3,)","v":"Active"},{"$f":"VLOOKUP(B7677,'[1]2018.7 '!A:M,13,)","v":"Wet Ice"},{"$f":"VLOOKUP(B7677,'[1]2018.7 '!A:N,14,)","v":"Yes"}]
[7680,"17514401",17514401,"HITRAP BENZAMIDINE FF 1 X 5 ML","021","42","PURIFICATION MEDIA","889","Affinity Other Columns",438,{"v":3945.942,"d":"3,946"},null,{"$f":"VLOOKUP(B7681,'[1]2018.7 '!A:C,3,)","v":"Active"},{"$f":"VLOOKUP(B7681,'[1]2018.7 '!A:M,13,)","v":"Ambient"},{"$f":"VLOOKUP(B7681,'[1]2018.7 '!A:N,14,)","v":"No"}]
[7683,"28913568",28913568,"Streptavidin HP SpinTrap Buffer kit","021","42","PURIFICATION MEDIA","889","Affinity Other Columns",360,{"v":3243.2400000000002,"d":"3,243"},null,{"$f":"VLOOKUP(B7684,'[1]2018.7 '!A:C,3,)","v":"Active"},{"$f":"VLOOKUP(B7684,'[1]2018.7 '!A:M,13,)","v":"Ambient"},{"$f":"VLOOKUP(B7684,'[1]2018.7 '!A:N,14,)","v":"No"}]
[7686,"28946603",28946603,"HiTrap Albumin IgG Depl,2x1 ml","021","42","PURIFICATION MEDIA","889","Affinity Other Columns",{"v":1220,"d":"1,220"},{"v":10990.98,"d":"10,991"},null,{"$f":"VLOOKUP(B7687,'[1]2018.7 '!A:C,3,)","v":"Active"},{"$f":"VLOOKUP(B7687,'[1]2018.7 '!A:M,13,)","v":"Ambient"},{"$f":"VLOOKUP(B7687,'[1]2018.7 '!A:N,14,)","v":"No"}]
[7690,"28978243",28978243,"HiScreen Blue FF","021","42","PURIFICATION MEDIA","889","Affinity Other Columns",{"$f":"K7691/9.009","v":{"v":237.00000000000003,"d":"237"}},{"v":2135.1330000000003,"d":"2,135"},null,{"$f":"VLOOKUP(B7691,'[1]2018.7 '!A:C,3,)","v":"Active"},{"$f":"VLOOKUP(B7691,'[1]2018.7 '!A:M,13,)","v":"Ambient"},{"$f":"VLOOKUP(B7691,'[1]2018.7 '!A:N,14,)","v":"No"}]
[7691,"28992474",28992474,"HiScreen Capto Blue","021","42","PURIFICATION MEDIA","889","Affinity Other Columns",{"v":249,"d":"249.0"},{"v":2243.241,"d":"2,243"},null,{"$f":"VLOOKUP(B7692,'[1]2018.7 '!A:C,3,)","v":"Active"},{"$f":"VLOOKUP(B7692,'[1]2018.7 '!A:M,13,)","v":"Ambient"},{"$f":"VLOOKUP(B7692,'[1]2018.7 '!A:N,14,)","v":"No"}]
[7695,"17018002",17018002,"DEAE-SEPHADEX A-50 500 G","021","42","PURIFICATION MEDIA","890","IEX Gels",{"v":2111,"d":"2,111"},{"v":19017.999,"d":"19,018"},null,{"$f":"VLOOKUP(B7696,'[1]2018.7 '!A:C,3,)","v":"Active"},{"$f":"VLOOKUP(B7696,'[1]2018.7 '!A:M,13,)","v":"Ambient"},{"$f":"VLOOKUP(B7696,'[1]2018.7 '!A:N,14,)","v":"No"}]
[7698,"17021001",17021001,"CM-SEPHADEX C-25   100 G","021","42","PURIFICATION MEDIA","890","IEX Gels",499,{"v":4495.491,"d":"4,495"},null,{"$f":"VLOOKUP(B7699,'[1]2018.7 '!A:C,3,)","v":"Active"},{"$f":"VLOOKUP(B7699,'[1]2018.7 '!A:M,13,)","v":"Ambient"},{"$f":"VLOOKUP(B7699,'[1]2018.7 '!A:N,14,)","v":"No"}]
[7701,"17022002",17022002,"CM-SEPHADEX C-50   500 G","021","42","PURIFICATION MEDIA","890","IEX Gels",{"v":2124,"d":"2,124"},{"v":19135.116,"d":"19,135"},null,{"$f":"VLOOKUP(B7702,'[1]2018.7 '!A:C,3,)","v":"Active"},{"$f":"VLOOKUP(B7702,'[1]2018.7 '!A:M,13,)","v":"Ambient"},{"$f":"VLOOKUP(B7702,'[1]2018.7 '!A:N,14,)","v":"No"}]
[7705,"17051001",17051001,"Q SEPHAROSE FAST FLOW  300  ML","021","42","PURIFICATION MEDIA","890","IEX Gels",554,{"v":4990.986,"d":"4,991"},null,{"$f":"VLOOKUP(B7706,'[1]2018.7 '!A:C,3,)","v":"Active"},{"$f":"VLOOKUP(B7706,'[1]2018.7 '!A:M,13,)","v":"Ambient"},{"$f":"VLOOKUP(B7706,'[1]2018.7 '!A:N,14,)","v":"No"}]
[7708,"17070910",17070910,"DEAE SEPHAROSE FAST FLOW,  25 ML","021","42","PURIFICATION MEDIA","890","IEX Gels",89,{"v":801.801,"d":"802"},null,{"$f":"VLOOKUP(B7709,'[1]2018.7 '!A:C,3,)","v":"Active"},{"$f":"VLOOKUP(B7709,'[1]2018.7 '!A:M,13,)","v":"Ambient"},{"$f":"VLOOKUP(B7709,'[1]2018.7 '!A:N,14,)","v":"No"}]
[7712,"17072901",17072901,"SP SEPHAROSE FAST FLOW, 300 ML","021","42","PURIFICATION MEDIA","890","IEX Gels",554,{"v":4990.986,"d":"4,991"},null,{"$f":"VLOOKUP(B7713,'[1]2018.7 '!A:C,3,)","v":"Active"},{"$f":"VLOOKUP(B7713,'[1]2018.7 '!A:M,13,)","v":"Ambient"},{"$f":"VLOOKUP(B7713,'[1]2018.7 '!A:N,14,)","v":"No"}]
[7716,"17094701",17094701,"SOURCE 15Q, 50 ML","021","42","PURIFICATION MEDIA","890","IEX Gels",{"v":1585,"d":"1,585"},{"v":14279.265000000001,"d":"14,279"},null,{"$f":"VLOOKUP(B7717,'[1]2018.7 '!A:C,3,)","v":"Active"},{"$f":"VLOOKUP(B7717,'[1]2018.7 '!A:M,13,)","v":"Ambient"},{"$f":"VLOOKUP(B7717,'[1]2018.7 '!A:N,14,)","v":"No"}]
[7719,"17108701",17108701,"SP SEPHAROSE HIGH PERF. 75 ML","021","42","PURIFICATION MEDIA","890","IEX Gels",328,{"v":2954.952,"d":"2,955"},null,{"$f":"VLOOKUP(B7720,'[1]2018.7 '!A:C,3,)","v":"Active"},{"$f":"VLOOKUP(B7720,'[1]2018.7 '!A:M,13,)","v":"Ambient"},{"$f":"VLOOKUP(B7720,'[1]2018.7 '!A:N,14,)","v":"No"}]
[7720,"17127301",17127301,"SOURCE 30S, 50 ML","021","42","PURIFICATION MEDIA","890","IEX Gels",996,{"v":8972.964,"d":"8,973"},null,{"$f":"VLOOKUP(B7721,'[1]2018.7 '!A:C,3,)","v":"Active"},{"$f":"VLOOKUP(B7721,'[1]2018.7 '!A:M,13,)","v":"Ambient"},{"$f":"VLOOKUP(B7721,'[1]2018.7 '!A:N,14,)","v":"No"}]
[7723,"17128710",17128710,"ANX SEPHAROSE FF HIGHSUB 25 ML","021","42","PURIFICATION MEDIA","890","IEX Gels",263,{"v":2369.367,"d":"2,369"},null,{"$f":"VLOOKUP(B7724,'[1]2018.7 '!A:C,3,)","v":"Active"},{"$f":"VLOOKUP(B7724,'[1]2018.7 '!A:M,13,)","v":"Ambient"},{"$f":"VLOOKUP(B7724,'[1]2018.7 '!A:N,14,)","v":"No"}]
[7726,"17507201",17507201,"Q SEPHAROSE XL, 300 ML","021","42","PURIFICATION MEDIA","890","IEX Gels",755,{"v":6801.795,"d":"6,802"},null,{"$f":"VLOOKUP(B7727,'[1]2018.7 '!A:C,3,)","v":"Active"},{"$f":"VLOOKUP(B7727,'[1]2018.7 '!A:M,13,)","v":"Ambient"},{"$f":"VLOOKUP(B7727,'[1]2018.7 '!A:N,14,)","v":"No"}]
[7730,"17544101",17544101,"CAPTO S, 100 ML","021","42","PURIFICATION MEDIA","890","IEX Gels",{"v":371,"d":"371.0"},{"v":3342.339,"d":"3,342"},null,{"$f":"VLOOKUP(B7731,'[1]2018.7 '!A:C,3,)","v":"Active"},{"$f":"VLOOKUP(B7731,'[1]2018.7 '!A:M,13,)","v":"Ambient"},{"$f":"VLOOKUP(B7731,'[1]2018.7 '!A:N,14,)","v":"No"}]
[7733,"17544301",17544301,"CAPTO DEAE, 100 ML","021","42","PURIFICATION MEDIA","890","IEX Gels",{"v":371,"d":"371.0"},{"v":3342.339,"d":"3,342"},null,{"$f":"VLOOKUP(B7734,'[1]2018.7 '!A:C,3,)","v":"Active"},{"$f":"VLOOKUP(B7734,'[1]2018.7 '!A:M,13,)","v":"Ambient"},{"$f":"VLOOKUP(B7734,'[1]2018.7 '!A:N,14,)","v":"No"}]
[7737,"17547010",17547010,"Capto Q ImpRes, 25 mL","021","42","PURIFICATION MEDIA","890","IEX Gels",{"v":135,"d":"135.0"},{"v":1216.2150000000001,"d":"1,216"},null,{"$f":"VLOOKUP(B7738,'[1]2018.7 '!A:C,3,)","v":"Active"},{"$f":"VLOOKUP(B7738,'[1]2018.7 '!A:M,13,)","v":"Ambient"},{"$f":"VLOOKUP(B7738,'[1]2018.7 '!A:N,14,)","v":"No"}]
[7741,"18114334",18114334,"REFERENCE MARKERS","025","51","2D ELECTROPHORESIS AND DETECTION","027","Protein Handling Instruments",326,{"v":2936.934,"d":"2,937"},null,{"$f":"VLOOKUP(B7742,'[1]2018.7 '!A:C,3,)","v":"Active"},{"$f":"VLOOKUP(B7742,'[1]2018.7 '!A:M,13,)","v":"Ambient"},{"$f":"VLOOKUP(B7742,'[1]2018.7 '!A:N,14,)","v":"No"}]
[7744,"18114364",18114364,"PICK HEAD DIAM 2, 1 MM GEL","025","51","2D ELECTROPHORESIS AND DETECTION","027","Protein Handling Instruments",{"v":235.00000000000003,"d":"235"},{"v":2117.1150000000002,"d":"2,117"},null,{"$f":"VLOOKUP(B7745,'[1]2018.7 '!A:C,3,)","v":"Active"},{"$f":"VLOOKUP(B7745,'[1]2018.7 '!A:M,13,)","v":"Ambient"},{"$f":"VLOOKUP(B7745,'[1]2018.7 '!A:N,14,)","v":"No"}]
[7745,"18114555",18114555,"SCANNER CALIBRATION KIT","025","51","2D ELECTROPHORESIS AND DETECTION","027","Protein Handling Instruments",{"v":479.00000000000006,"d":"479"},{"v":4315.311000000001,"d":"4,315"},null,{"$f":"VLOOKUP(B7746,'[1]2018.7 '!A:C,3,)","v":"Active"},{"$f":"VLOOKUP(B7746,'[1]2018.7 '!A:M,13,)","v":"Ambient"},{"$f":"VLOOKUP(B7746,'[1]2018.7 '!A:N,14,)","v":"No"}]
[7748,"18100226",18100226,"IEF/SDS SAMPLE APPL STRIP 52S(P/5","025","51","2D ELECTROPHORESIS AND DETECTION","110","MultiPhor Instruments",{"v":237.00000000000003,"d":"237"},{"v":2135.1330000000003,"d":"2,135"},null,{"$f":"VLOOKUP(B7749,'[1]2018.7 '!A:C,3,)","v":"Active"},{"$f":"VLOOKUP(B7749,'[1]2018.7 '!A:M,13,)","v":"Ambient"},{"$f":"VLOOKUP(B7749,'[1]2018.7 '!A:N,14,)","v":"No"}]
[7751,"18100431",18100431,"TRAY AND ELECTRODE HOLDER","025","51","2D ELECTROPHORESIS AND DETECTION","110","MultiPhor Instruments",{"v":1730,"d":"1,730"},{"v":15585.57,"d":"15,586"},null,{"$f":"VLOOKUP(B7752,'[1]2018.7 '!A:C,3,)","v":"Active"},{"$f":"VLOOKUP(B7752,'[1]2018.7 '!A:M,13,)","v":"Ambient"},{"$f":"VLOOKUP(B7752,'[1]2018.7 '!A:N,14,)","v":"Reviewing"}]
[7755,"18101375",18101375,"FILM REMOVER","025","51","2D ELECTROPHORESIS AND DETECTION","110","MultiPhor Instruments",{"v":1111,"d":"1,111"},{"v":10008.999,"d":"10,009"},null,{"$f":"VLOOKUP(B7756,'[1]2018.7 '!A:C,3,)","v":"Active"},{"$f":"VLOOKUP(B7756,'[1]2018.7 '!A:M,13,)","v":"Ambient"},{"$f":"VLOOKUP(B7756,'[1]2018.7 '!A:N,14,)","v":"No"}]
[7758,"18101866",18101866,"ELECTRODE (IMM DRYSTRIP KIT) ANODE","025","51","2D ELECTROPHORESIS AND DETECTION","110","MultiPhor Instruments",503,{"v":4531.527,"d":"4,532"},null,{"$f":"VLOOKUP(B7759,'[1]2018.7 '!A:C,3,)","v":"Active"},{"$f":"VLOOKUP(B7759,'[1]2018.7 '!A:M,13,)","v":"Ambient"},{"$f":"VLOOKUP(B7759,'[1]2018.7 '!A:N,14,)","v":"No"}]
[7763,"18110245",18110245,"SDS AMD NATIVE PAGE, IEF KIT","025","51","2D ELECTROPHORESIS AND DETECTION","110","MultiPhor Instruments",{"v":1894.0000000000002,"d":"1,894"},{"v":17063.046000000002,"d":"17,063"},null,{"$f":"VLOOKUP(B7764,'[1]2018.7 '!A:C,3,)","v":"Active"},{"$f":"VLOOKUP(B7764,'[1]2018.7 '!A:M,13,)","v":"Ambient"},{"$f":"VLOOKUP(B7764,'[1]2018.7 '!A:N,14,)","v":"No"}]
[7766,"18110426",18110426,"Tubing connector set, female and male","025","51","2D ELECTROPHORESIS AND DETECTION","110","MultiPhor Instruments",{"v":112.35,"d":"112"},{"v":1012.16115,"d":"1,012"},null,{"$f":"VLOOKUP(B7767,'[1]2018.7 '!A:C,3,)","v":"Active"},{"$f":"VLOOKUP(B7767,'[1]2018.7 '!A:M,13,)","v":"Ambient"},{"$f":"VLOOKUP(B7767,'[1]2018.7 '!A:N,14,)","v":"No"}]
[7769,"18112153",18112153,"EPH/IEF ELECTRODE ANODE","025","51","2D ELECTROPHORESIS AND DETECTION","110","MultiPhor Instruments",463,{"v":4171.167,"d":"4,171"},null,{"$f":"VLOOKUP(B7770,'[1]2018.7 '!A:C,3,)","v":"Active"},{"$f":"VLOOKUP(B7770,'[1]2018.7 '!A:M,13,)","v":"Ambient"},{"$f":"VLOOKUP(B7770,'[1]2018.7 '!A:N,14,)","v":"No"}]
[7770,"18112219",18112219,"EPH ELECTRODE CATHODE","025","51","2D ELECTROPHORESIS AND DETECTION","110","MultiPhor Instruments",{"v":468.00000000000006,"d":"468"},{"v":4216.212,"d":"4,216"},null,{"$f":"VLOOKUP(B7771,'[1]2018.7 '!A:C,3,)","v":"Active"},{"$f":"VLOOKUP(B7771,'[1]2018.7 '!A:M,13,)","v":"Ambient"},{"$f":"VLOOKUP(B7771,'[1]2018.7 '!A:N,14,)","v":"No"}]
[7773,"18113005",18113005,"EPS 3501XL POWER SUPPLY","025","51","2D ELECTROPHORESIS AND DETECTION","110","MultiPhor Instruments",{"v":2359,"d":"2,359"},{"v":21252.231,"d":"21,252"},null,{"$f":"VLOOKUP(B7774,'[1]2018.7 '!A:C,3,)","v":"Active"},{"$f":"VLOOKUP(B7774,'[1]2018.7 '!A:M,13,)","v":"Ambient"},{"$f":"VLOOKUP(B7774,'[1]2018.7 '!A:N,14,)","v":"No"}]
[7777,"80110656",80110656,"Cooling tubing, 8 mm i.d., 12 mm o.d.","025","51","2D ELECTROPHORESIS AND DETECTION","110","MultiPhor Instruments",{"v":190.05,"d":"190"},{"v":1712.16045,"d":"1,712"},null,{"$f":"VLOOKUP(B7778,'[1]2018.7 '!A:C,3,)","v":"Active"},{"$f":"VLOOKUP(B7778,'[1]2018.7 '!A:M,13,)","v":"Ambient"},{"$f":"VLOOKUP(B7778,'[1]2018.7 '!A:N,14,)","v":"No"}]
[7779,"80110687",80110687,"GLASS PL 200X260MM, 0,5MM U-FR(P/2","025","51","2D ELECTROPHORESIS AND DETECTION","110","MultiPhor Instruments",503,{"v":4531.527,"d":"4,532"},null,{"$f":"VLOOKUP(B7780,'[1]2018.7 '!A:C,3,)","v":"Active"},{"$f":"VLOOKUP(B7780,'[1]2018.7 '!A:M,13,)","v":"Ambient"},{"$f":"VLOOKUP(B7780,'[1]2018.7 '!A:N,14,)","v":"No"}]
[7784,"80110695",80110695,"GLASS PL 125X260MM,0,5MM U-FR RESW","025","51","2D ELECTROPHORESIS AND DETECTION","110","MultiPhor Instruments",359,{"v":3234.231,"d":"3,234"},null,{"$f":"VLOOKUP(B7785,'[1]2018.7 '!A:C,3,)","v":"Active"},{"$f":"VLOOKUP(B7785,'[1]2018.7 '!A:M,13,)","v":"Ambient"},{"$f":"VLOOKUP(B7785,'[1]2018.7 '!A:N,14,)","v":"No"}]
[7788,"80112952",80112952,"EPH EL WICK 104X253MM (PKG/500)","025","51","2D ELECTROPHORESIS AND DETECTION","110","MultiPhor Instruments",403,{"v":3630.627,"d":"3,631"},null,{"$f":"VLOOKUP(B7789,'[1]2018.7 '!A:C,3,)","v":"Active"},{"$f":"VLOOKUP(B7789,'[1]2018.7 '!A:M,13,)","v":"Ambient"},{"$f":"VLOOKUP(B7789,'[1]2018.7 '!A:N,14,)","v":"No"}]
[7791,"80644290",80644290,"MULTIPHOR II BS POSITIONER","025","51","2D ELECTROPHORESIS AND DETECTION","110","MultiPhor Instruments",529,{"v":4765.761,"d":"4,766"},null,{"$f":"VLOOKUP(B7792,'[1]2018.7 '!A:C,3,)","v":"Active"},{"$f":"VLOOKUP(B7792,'[1]2018.7 '!A:M,13,)","v":"Ambient"},{"$f":"VLOOKUP(B7792,'[1]2018.7 '!A:N,14,)","v":"No"}]
[7794,"11003461",11003461,"IPGPHOR 3 SAFETY HANDBOOK","025","51","2D ELECTROPHORESIS AND DETECTION","111","IPGphor Instruments",{"v":58.8,"d":"59"},{"v":529.7292,"d":"530"},null,{"$f":"VLOOKUP(B7795,'[1]2018.7 '!A:C,3,)","v":"Active"},{"$f":"VLOOKUP(B7795,'[1]2018.7 '!A:M,13,)","v":"Ambient"},{"$f":"VLOOKUP(B7795,'[1]2018.7 '!A:N,14,)","v":"Reviewing"}]
[7795,"28400145",28400145,"USB TO RS232 ADAPTER","025","51","2D ELECTROPHORESIS AND DETECTION","111","IPGphor Instruments",{"v":191.1,"d":"191"},{"v":1721.6199,"d":"1,722"},null,{"$f":"VLOOKUP(B7796,'[1]2018.7 '!A:C,3,)","v":"Active"},{"$f":"VLOOKUP(B7796,'[1]2018.7 '!A:M,13,)","v":"Ambient"},{"$f":"VLOOKUP(B7796,'[1]2018.7 '!A:N,14,)","v":"No"}]
[7798,"28933492",28933492,"IPGbox Kit","025","51","2D ELECTROPHORESIS AND DETECTION","111","IPGphor Instruments",{"v":103.95,"d":"104"},{"v":936.4855500000001,"d":"936"},null,{"$f":"VLOOKUP(B7799,'[1]2018.7 '!A:C,3,)","v":"Active"},{"$f":"VLOOKUP(B7799,'[1]2018.7 '!A:M,13,)","v":"Ambient"},{"$f":"VLOOKUP(B7799,'[1]2018.7 '!A:N,14,)","v":"No"}]
[7804,"80641649",80641649,"STRIP HOLDER 13 CM (6/PK)","025","51","2D ELECTROPHORESIS AND DETECTION","111","IPGphor Instruments",{"v":2971,"d":"2,971"},{"v":26765.739,"d":"26,766"},null,{"$f":"VLOOKUP(B7805,'[1]2018.7 '!A:C,3,)","v":"Active"},{"$f":"VLOOKUP(B7805,'[1]2018.7 '!A:M,13,)","v":"Ambient"},{"$f":"VLOOKUP(B7805,'[1]2018.7 '!A:N,14,)","v":"No"}]
[7806,"80641687",80641687,"STRIP HOLDER 7 CM (1/PK)","025","51","2D ELECTROPHORESIS AND DETECTION","111","IPGphor Instruments",515,{"v":4639.635,"d":"4,640"},null,{"$f":"VLOOKUP(B7807,'[1]2018.7 '!A:C,3,)","v":"Active"},{"$f":"VLOOKUP(B7807,'[1]2018.7 '!A:M,13,)","v":"Ambient"},{"$f":"VLOOKUP(B7807,'[1]2018.7 '!A:N,14,)","v":"No"}]
[7809,"80641744",80641744,"STRIP HOLDER 18 CM (1/PK)","025","51","2D ELECTROPHORESIS AND DETECTION","111","IPGphor Instruments",617,{"v":5558.553,"d":"5,559"},null,{"$f":"VLOOKUP(B7810,'[1]2018.7 '!A:C,3,)","v":"Active"},{"$f":"VLOOKUP(B7810,'[1]2018.7 '!A:M,13,)","v":"Ambient"},{"$f":"VLOOKUP(B7810,'[1]2018.7 '!A:N,14,)","v":"No"}]
[7813,"80646988",80646988,"IPGPHOR STRIP HOLDER, 24 CM","025","51","2D ELECTROPHORESIS AND DETECTION","111","IPGphor Instruments",{"v":3921.0000000000005,"d":"3,921"},{"v":35324.289000000004,"d":"35,324"},null,{"$f":"VLOOKUP(B7814,'[1]2018.7 '!A:C,3,)","v":"Active"},{"$f":"VLOOKUP(B7814,'[1]2018.7 '!A:M,13,)","v":"Ambient"},{"$f":"VLOOKUP(B7814,'[1]2018.7 '!A:N,14,)","v":"No"}]
[7816,"80649857",80649857,"CERAMIC TRAY MANIFOLD","025","51","2D ELECTROPHORESIS AND DETECTION","111","IPGphor Instruments",{"v":3353,"d":"3,353"},{"v":30207.177,"d":"30,207"},null,{"$f":"VLOOKUP(B7817,'[1]2018.7 '!A:C,3,)","v":"Active"},{"$f":"VLOOKUP(B7817,'[1]2018.7 '!A:M,13,)","v":"Ambient"},{"$f":"VLOOKUP(B7817,'[1]2018.7 '!A:N,14,)","v":"No"}]
[7817,"80649876",80649876,"ELECTRODE SET FOR MANIFOLD","025","51","2D ELECTROPHORESIS AND DETECTION","111","IPGphor Instruments",459,{"v":4135.131,"d":"4,135"},null,{"$f":"VLOOKUP(B7818,'[1]2018.7 '!A:C,3,)","v":"Active"},{"$f":"VLOOKUP(B7818,'[1]2018.7 '!A:M,13,)","v":"Ambient"},{"$f":"VLOOKUP(B7818,'[1]2018.7 '!A:N,14,)","v":"No"}]
[7820,"80111611",80111611,"Insulation for cooling tubing ?? ID x 3/8? WT","025","51","2D ELECTROPHORESIS AND DETECTION","112","MultiTemp",377,{"v":3396.393,"d":"3,396"},null,{"$f":"VLOOKUP(B7821,'[1]2018.7 '!A:C,3,)","v":"Active"},{"$f":"VLOOKUP(B7821,'[1]2018.7 '!A:M,13,)","v":"Ambient"},{"$f":"VLOOKUP(B7821,'[1]2018.7 '!A:N,14,)","v":"No"}]
[7825,"80646703",80646703,"ETTAN DALT BLANK CASS. INSERT","025","51","2D ELECTROPHORESIS AND DETECTION","113","2D DALT Systems",{"v":142.8,"d":"143"},{"v":1286.4852,"d":"1,286"},null,{"$f":"VLOOKUP(B7826,'[1]2018.7 '!A:C,3,)","v":"Active"},{"$f":"VLOOKUP(B7826,'[1]2018.7 '!A:M,13,)","v":"Ambient"},{"$f":"VLOOKUP(B7826,'[1]2018.7 '!A:N,14,)","v":"No"}]
[7828,"80646760",80646760,"ETTAN DALT FILLER SHEETS 1.0MM","025","51","2D ELECTROPHORESIS AND DETECTION","113","2D DALT Systems",{"v":123.9,"d":"124"},{"v":1116.2151000000001,"d":"1,116"},null,{"$f":"VLOOKUP(B7829,'[1]2018.7 '!A:C,3,)","v":"Active"},{"$f":"VLOOKUP(B7829,'[1]2018.7 '!A:M,13,)","v":"Ambient"},{"$f":"VLOOKUP(B7829,'[1]2018.7 '!A:N,14,)","v":"No"}]
[7831,"80647539",80647539,"ETTAN DALT GLASS SET","025","51","2D ELECTROPHORESIS AND DETECTION","113","2D DALT Systems",258,{"v":2324.322,"d":"2,324"},null,{"$f":"VLOOKUP(B7832,'[1]2018.7 '!A:C,3,)","v":"Active"},{"$f":"VLOOKUP(B7832,'[1]2018.7 '!A:M,13,)","v":"Ambient"},{"$f":"VLOOKUP(B7832,'[1]2018.7 '!A:N,14,)","v":"No"}]
[7834,"80648736",80648736,"ETTAN DALT SIX GRADIENT MAKER","025","51","2D ELECTROPHORESIS AND DETECTION","113","2D DALT Systems",890,{"v":8018.01,"d":"8,018"},null,{"$f":"VLOOKUP(B7835,'[1]2018.7 '!A:C,3,)","v":"Active"},{"$f":"VLOOKUP(B7835,'[1]2018.7 '!A:M,13,)","v":"Ambient"},{"$f":"VLOOKUP(B7835,'[1]2018.7 '!A:N,14,)","v":"No"}]
[7838,"17134201",17134201,"EXCELGEL SDS BUFFER STRIPS","025","51","2D ELECTROPHORESIS AND DETECTION","119","Multiphor Precast Gels",{"v":103.95,"d":"104"},{"v":936.4855500000001,"d":"936"},null,{"$f":"VLOOKUP(B7839,'[1]2018.7 '!A:C,3,)","v":"Active"},{"$f":"VLOOKUP(B7839,'[1]2018.7 '!A:M,13,)","v":"Ambient"},{"$f":"VLOOKUP(B7839,'[1]2018.7 '!A:N,14,)","v":"No"}]
[7841,"18103533",18103533,"CLEAN GEL ELECTRODE STRIPS","025","51","2D ELECTROPHORESIS AND DETECTION","119","Multiphor Precast Gels",{"v":85.05,"d":"85"},{"v":766.21545,"d":"766"},null,{"$f":"VLOOKUP(B7842,'[1]2018.7 '!A:C,3,)","v":"Active"},{"$f":"VLOOKUP(B7842,'[1]2018.7 '!A:M,13,)","v":"Ambient"},{"$f":"VLOOKUP(B7842,'[1]2018.7 '!A:N,14,)","v":"No"}]
[7842,"80125553",80125553,"EXCELGEL SDS 8-18, 6 GELS/PACK","025","51","2D ELECTROPHORESIS AND DETECTION","119","Multiphor Precast Gels",523,{"v":4711.707,"d":"4,712"},null,{"$f":"VLOOKUP(B7843,'[1]2018.7 '!A:C,3,)","v":"Active"},{"$f":"VLOOKUP(B7843,'[1]2018.7 '!A:M,13,)","v":"Ambient"},{"$f":"VLOOKUP(B7843,'[1]2018.7 '!A:N,14,)","v":"No"}]
[7846,"17123301",17123301,"IMMOBILINE DRYSTRIP PH 4-7, 18CM","025","51","2D ELECTROPHORESIS AND DETECTION","148","2D Reagents and Gels",{"v":166.26,"d":"166"},{"v":1497.83634,"d":"1,498"},null,{"$f":"VLOOKUP(B7847,'[1]2018.7 '!A:C,3,)","v":"Active"},{"$f":"VLOOKUP(B7847,'[1]2018.7 '!A:M,13,)","v":"Dry Ice"},{"$f":"VLOOKUP(B7847,'[1]2018.7 '!A:N,14,)","v":"No"}]
[7849,"17123601",17123601,"EXCELGEL XL SDS 12-14","025","51","2D ELECTROPHORESIS AND DETECTION","148","2D Reagents and Gels",274,{"v":2468.466,"d":"2,468"},null,{"$f":"VLOOKUP(B7850,'[1]2018.7 '!A:C,3,)","v":"Active"},{"$f":"VLOOKUP(B7850,'[1]2018.7 '!A:M,13,)","v":"Ambient"},{"$f":"VLOOKUP(B7850,'[1]2018.7 '!A:N,14,)","v":"No"}]
[7853,"17600088",17600088,"IPG-BUFFER, PH 3-10NL","025","51","2D ELECTROPHORESIS AND DETECTION","148","2D Reagents and Gels",{"v":71.4,"d":"71"},{"v":643.2426,"d":"643"},null,{"$f":"VLOOKUP(B7854,'[1]2018.7 '!A:C,3,)","v":"Active"},{"$f":"VLOOKUP(B7854,'[1]2018.7 '!A:M,13,)","v":"Ambient"},{"$f":"VLOOKUP(B7854,'[1]2018.7 '!A:N,14,)","v":"No"}]
[7856,"17600112",17600112,"IMMOBILINE DRYSTRIP PH 3-10NL, 7CM","025","51","2D ELECTROPHORESIS AND DETECTION","148","2D Reagents and Gels",{"v":132.6,"d":"133"},{"v":1194.5934,"d":"1,195"},null,{"$f":"VLOOKUP(B7857,'[1]2018.7 '!A:C,3,)","v":"Active"},{"$f":"VLOOKUP(B7857,'[1]2018.7 '!A:M,13,)","v":"Dry Ice"},{"$f":"VLOOKUP(B7857,'[1]2018.7 '!A:N,14,)","v":"No"}]
[7859,"17600115",17600115,"IMMOBILINE DRYSTRIP PH3-10NL, 13CM","025","51","2D ELECTROPHORESIS AND DETECTION","148","2D Reagents and Gels",{"v":166.26,"d":"166"},{"v":1497.83634,"d":"1,498"},null,{"$f":"VLOOKUP(B7860,'[1]2018.7 '!A:C,3,)","v":"Active"},{"$f":"VLOOKUP(B7860,'[1]2018.7 '!A:M,13,)","v":"Dry Ice"},{"$f":"VLOOKUP(B7860,'[1]2018.7 '!A:N,14,)","v":"No"}]
[7863,"17600244",17600244,"IMM. DRYSTRIP PH 3-10, 24 CM","025","51","2D ELECTROPHORESIS AND DETECTION","148","2D Reagents and Gels",{"v":194.82,"d":"195"},{"v":1755.13338,"d":"1,755"},null,{"$f":"VLOOKUP(B7864,'[1]2018.7 '!A:C,3,)","v":"Active"},{"$f":"VLOOKUP(B7864,'[1]2018.7 '!A:M,13,)","v":"Dry Ice"},{"$f":"VLOOKUP(B7864,'[1]2018.7 '!A:N,14,)","v":"No"}]
[7866,"17600250",17600250,"ETTAN DALT BUFFER KIT","025","51","2D ELECTROPHORESIS AND DETECTION","148","2D Reagents and Gels",{"v":143.82,"d":"144"},{"v":1295.67438,"d":"1,296"},null,{"$f":"VLOOKUP(B7867,'[1]2018.7 '!A:C,3,)","v":"Active"},{"$f":"VLOOKUP(B7867,'[1]2018.7 '!A:M,13,)","v":"Ambient"},{"$f":"VLOOKUP(B7867,'[1]2018.7 '!A:N,14,)","v":"No"}]
[7867,"17600318",17600318,"DESTREAK REAGENT","025","51","2D ELECTROPHORESIS AND DETECTION","148","2D Reagents and Gels",{"v":67.32,"d":"67"},{"v":606.48588,"d":"606"},null,{"$f":"VLOOKUP(B7868,'[1]2018.7 '!A:C,3,)","v":"Active"},{"$f":"VLOOKUP(B7868,'[1]2018.7 '!A:M,13,)","v":"Ambient"},{"$f":"VLOOKUP(B7868,'[1]2018.7 '!A:N,14,)","v":"Yes"}]
[7871,"17600375",17600375,"IMM.DRYSTRIP PH 3-11 NL, 13CM","025","51","2D ELECTROPHORESIS AND DETECTION","148","2D Reagents and Gels",{"v":166.26,"d":"166"},{"v":1497.83634,"d":"1,498"},null,{"$f":"VLOOKUP(B7872,'[1]2018.7 '!A:C,3,)","v":"Active"},{"$f":"VLOOKUP(B7872,'[1]2018.7 '!A:M,13,)","v":"Dry Ice"},{"$f":"VLOOKUP(B7872,'[1]2018.7 '!A:N,14,)","v":"No"}]
[7874,"17600440",17600440,"IPG BUFFER, PH 3-11 NL","025","51","2D ELECTROPHORESIS AND DETECTION","148","2D Reagents and Gels",{"v":80.58,"d":"81"},{"v":725.9452200000001,"d":"726"},null,{"$f":"VLOOKUP(B7875,'[1]2018.7 '!A:C,3,)","v":"Active"},{"$f":"VLOOKUP(B7875,'[1]2018.7 '!A:M,13,)","v":"Ambient"},{"$f":"VLOOKUP(B7875,'[1]2018.7 '!A:N,14,)","v":"No"}]
[7878,"28937452",28937452,"DIGE Buffer Kit","025","51","2D ELECTROPHORESIS AND DETECTION","148","2D Reagents and Gels",286,{"v":2576.574,"d":"2,577"},null,{"$f":"VLOOKUP(B7879,'[1]2018.7 '!A:C,3,)","v":"Active"},{"$f":"VLOOKUP(B7879,'[1]2018.7 '!A:M,13,)","v":"Ambient"},{"$f":"VLOOKUP(B7879,'[1]2018.7 '!A:N,14,)","v":"No"}]
[7881,"25800860",25800860,"CYDYE DIGE CY2 MINIMAL 10 NMOL","025","51","2D ELECTROPHORESIS AND DETECTION","795","2D DIGE-DYES",{"v":2237,"d":"2,237"},{"v":20153.133,"d":"20,153"},null,{"$f":"VLOOKUP(B7882,'[1]2018.7 '!A:C,3,)","v":"Active"},{"$f":"VLOOKUP(B7882,'[1]2018.7 '!A:M,13,)","v":"Dry Ice"},{"$f":"VLOOKUP(B7882,'[1]2018.7 '!A:N,14,)","v":"No"}]
[7885,"25800984",25800984,"CYDYE DIGE SCARCE SAMPLE+PREP","025","51","2D ELECTROPHORESIS AND DETECTION","795","2D DIGE-DYES",{"v":2289,"d":"2,289"},{"v":20621.601000000002,"d":"20,622"},null,{"$f":"VLOOKUP(B7886,'[1]2018.7 '!A:C,3,)","v":"Active"},{"$f":"VLOOKUP(B7886,'[1]2018.7 '!A:M,13,)","v":"Dry Ice"},{"$f":"VLOOKUP(B7886,'[1]2018.7 '!A:N,14,)","v":"Yes"}]
[7888,"25801083",25801083,"CYDYE DIGE CY3 MINIMAL 5 NMOL","025","51","2D ELECTROPHORESIS AND DETECTION","795","2D DIGE-DYES",{"v":1157,"d":"1,157"},{"v":10423.413,"d":"10,423"},null,{"$f":"VLOOKUP(B7889,'[1]2018.7 '!A:C,3,)","v":"Active"},{"$f":"VLOOKUP(B7889,'[1]2018.7 '!A:M,13,)","v":"Dry Ice"},{"$f":"VLOOKUP(B7889,'[1]2018.7 '!A:N,14,)","v":"No"}]
[7892,"RPK0272",25190027,"CYDYE DIGE CY2 MINIMAL 25 NMOL","025","51","2D ELECTROPHORESIS AND DETECTION","795","2D DIGE-DYES",{"v":3829,"d":"3,829"},{"v":34495.461,"d":"34,495"},null,{"$f":"VLOOKUP(B7893,'[1]2018.7 '!A:C,3,)","v":"Active"},{"$f":"VLOOKUP(B7893,'[1]2018.7 '!A:M,13,)","v":"Dry Ice"},{"$f":"VLOOKUP(B7893,'[1]2018.7 '!A:N,14,)","v":"No"}]
[7893,"RPK0273",25190028,"CYDYE DIGE CY3 MINIMAL 25 NMOL","025","51","2D ELECTROPHORESIS AND DETECTION","795","2D DIGE-DYES",{"v":3829,"d":"3,829"},{"v":34495.461,"d":"34,495"},null,{"$f":"VLOOKUP(B7894,'[1]2018.7 '!A:C,3,)","v":"Active"},{"$f":"VLOOKUP(B7894,'[1]2018.7 '!A:M,13,)","v":"Dry Ice"},{"$f":"VLOOKUP(B7894,'[1]2018.7 '!A:N,14,)","v":"No"}]
[7896,"27084601",27084601,"THROMBIN","021","92","PROTEIN SAMPLE PREPARATION","023","GST Small Scale",169,{"v":1522.521,"d":"1,523"},null,{"$f":"VLOOKUP(B7897,'[1]2018.7 '!A:C,3,)","v":"Active"},{"$f":"VLOOKUP(B7897,'[1]2018.7 '!A:M,13,)","v":"Dry Ice"},{"$f":"VLOOKUP(B7897,'[1]2018.7 '!A:N,14,)","v":"No"}]
[7899,"27152401",27152401,"M13K07     WI    1 V","021","92","PROTEIN SAMPLE PREPARATION","023","GST Small Scale",{"v":119.99999999999999,"d":"120"},{"v":1081.08,"d":"1,081"},null,{"$f":"VLOOKUP(B7900,'[1]2018.7 '!A:C,3,)","v":"Active"},{"$f":"VLOOKUP(B7900,'[1]2018.7 '!A:M,13,)","v":"Wet Ice"},{"$f":"VLOOKUP(B7900,'[1]2018.7 '!A:N,14,)","v":"No"}]
[7903,"27481001",27481001,"PEZZ 18 EXPRESION VECTOR","021","92","PROTEIN SAMPLE PREPARATION","023","GST Small Scale",655,{"v":5900.895,"d":"5,901"}]
[7906,"28954550",28954550,"PGEX-4T-2","021","92","PROTEIN SAMPLE PREPARATION","023","GST Small Scale",837,{"v":7540.533,"d":"7,541"}]
[7910,"28954651",28954651,"PGEX-6P-3 VECTOR","021","92","PROTEIN SAMPLE PREPARATION","023","GST Small Scale",826,{"v":7441.434,"d":"7,441"},null,{"$f":"VLOOKUP(B7911,'[1]2018.7 '!A:C,3,)","v":"Active"},{"$f":"VLOOKUP(B7911,'[1]2018.7 '!A:M,13,)","v":"Dry Ice"},{"$f":"VLOOKUP(B7911,'[1]2018.7 '!A:N,14,)","v":"No"}]
[7913,"11003400",11003400,"HIS BUFFER KIT","021","92","PROTEIN SAMPLE PREPARATION","024","His Small Scale",166,{"v":1495.4940000000001,"d":"1,495"},null,{"$f":"VLOOKUP(B7914,'[1]2018.7 '!A:C,3,)","v":"Active"},{"$f":"VLOOKUP(B7914,'[1]2018.7 '!A:M,13,)","v":"Ambient"},{"$f":"VLOOKUP(B7914,'[1]2018.7 '!A:N,14,)","v":"Yes"}]
[7917,"18321603",18321603,"LABMATE PD-10 BUFFER RESERVOIR","021","92","PROTEIN SAMPLE PREPARATION","074","Cleanup",55,{"v":495.495,"d":"495"},null,{"$f":"VLOOKUP(B7918,'[1]2018.7 '!A:C,3,)","v":"Active"},{"$f":"VLOOKUP(B7918,'[1]2018.7 '!A:M,13,)","v":"Ambient"},{"$f":"VLOOKUP(B7918,'[1]2018.7 '!A:N,14,)","v":"No"}]
[7918,"28918004",28918004,"PD SpinTrap G-25","021","92","PROTEIN SAMPLE PREPARATION","074","Cleanup",401,{"v":3612.609,"d":"3,613"},null,{"$f":"VLOOKUP(B7919,'[1]2018.7 '!A:C,3,)","v":"Active"},{"$f":"VLOOKUP(B7919,'[1]2018.7 '!A:M,13,)","v":"Ambient"},{"$f":"VLOOKUP(B7919,'[1]2018.7 '!A:N,14,)","v":"No"}]
[7921,"28918008",28918008,"PD MidiTrap G-25","021","92","PROTEIN SAMPLE PREPARATION","074","Cleanup",{"v":489.99999999999994,"d":"490"},{"v":4414.41,"d":"4,414"},null,{"$f":"VLOOKUP(B7922,'[1]2018.7 '!A:C,3,)","v":"Active"},{"$f":"VLOOKUP(B7922,'[1]2018.7 '!A:M,13,)","v":"Ambient"},{"$f":"VLOOKUP(B7922,'[1]2018.7 '!A:N,14,)","v":"No"}]
[7925,"28923244",28923244,"MidiSpin Adapter","021","92","PROTEIN SAMPLE PREPARATION","074","Cleanup",25,{"v":225.22500000000002,"d":"225"},null,{"$f":"VLOOKUP(B7926,'[1]2018.7 '!A:C,3,)","v":"Active"},{"$f":"VLOOKUP(B7926,'[1]2018.7 '!A:M,13,)","v":"Ambient"},{"$f":"VLOOKUP(B7926,'[1]2018.7 '!A:N,14,)","v":"No"}]
[7928,"28932223",28932223,"Vivaspin 500, 5 kDa MWCO PES","021","92","PROTEIN SAMPLE PREPARATION","074","Cleanup",106,{"v":954.9540000000001,"d":"955"},null,{"$f":"VLOOKUP(B7929,'[1]2018.7 '!A:C,3,)","v":"Active"},{"$f":"VLOOKUP(B7929,'[1]2018.7 '!A:M,13,)","v":"Ambient"},{"$f":"VLOOKUP(B7929,'[1]2018.7 '!A:N,14,)","v":"No"}]
[7931,"28932236",28932236,"Vivaspin 500, 50 kDa MWCO PES","021","92","PROTEIN SAMPLE PREPARATION","074","Cleanup",106,{"v":954.9540000000001,"d":"955"},null,{"$f":"VLOOKUP(B7932,'[1]2018.7 '!A:C,3,)","v":"Active"},{"$f":"VLOOKUP(B7932,'[1]2018.7 '!A:M,13,)","v":"Ambient"},{"$f":"VLOOKUP(B7932,'[1]2018.7 '!A:N,14,)","v":"No"}]
[7934,"28932245",28932245,"Vivaspin 2, 5 kDa MWCO PES","021","92","PROTEIN SAMPLE PREPARATION","074","Cleanup",131,{"v":1180.179,"d":"1,180"},null,{"$f":"VLOOKUP(B7935,'[1]2018.7 '!A:C,3,)","v":"Active"},{"$f":"VLOOKUP(B7935,'[1]2018.7 '!A:M,13,)","v":"Ambient"},{"$f":"VLOOKUP(B7935,'[1]2018.7 '!A:N,14,)","v":"No"}]
[7939,"28932293",28932293,"Vivaspin 6, 3 kDa MWCO PES","021","92","PROTEIN SAMPLE PREPARATION","074","Cleanup",146,{"v":1315.314,"d":"1,315"},null,{"$f":"VLOOKUP(B7940,'[1]2018.7 '!A:C,3,)","v":"Active"},{"$f":"VLOOKUP(B7940,'[1]2018.7 '!A:M,13,)","v":"Ambient"},{"$f":"VLOOKUP(B7940,'[1]2018.7 '!A:N,14,)","v":"No"}]
[7942,"28932317",28932317,"Vivaspin 6, 30 kDa MWCO PES","021","92","PROTEIN SAMPLE PREPARATION","074","Cleanup",146,{"v":1315.314,"d":"1,315"},null,{"$f":"VLOOKUP(B7943,'[1]2018.7 '!A:C,3,)","v":"Active"},{"$f":"VLOOKUP(B7943,'[1]2018.7 '!A:M,13,)","v":"Ambient"},{"$f":"VLOOKUP(B7943,'[1]2018.7 '!A:N,14,)","v":"No"}]
[7943,"28932318",28932318,"Vivaspin 6, 50 kDa MWCO PES","021","92","PROTEIN SAMPLE PREPARATION","074","Cleanup",146,{"v":1315.314,"d":"1,315"},null,{"$f":"VLOOKUP(B7944,'[1]2018.7 '!A:C,3,)","v":"Active"},{"$f":"VLOOKUP(B7944,'[1]2018.7 '!A:M,13,)","v":"Ambient"},{"$f":"VLOOKUP(B7944,'[1]2018.7 '!A:N,14,)","v":"No"}]
[7946,"28932359",28932359,"Vivaspin 20, 5 kDa MWCO PES","021","92","PROTEIN SAMPLE PREPARATION","074","Cleanup",{"$f":"K7947/9.009","v":137},{"v":1234.233,"d":"1,234"},null,{"$f":"VLOOKUP(B7947,'[1]2018.7 '!A:C,3,)","v":"Active"},{"$f":"VLOOKUP(B7947,'[1]2018.7 '!A:M,13,)","v":"Ambient"},{"$f":"VLOOKUP(B7947,'[1]2018.7 '!A:N,14,)","v":"No"}]
[7950,"28932363",28932363,"Vivaspin 20, 100 kDa MWCO PES","021","92","PROTEIN SAMPLE PREPARATION","074","Cleanup",137,{"v":1234.233,"d":"1,234"},null,{"$f":"VLOOKUP(B7951,'[1]2018.7 '!A:C,3,)","v":"Active"},{"$f":"VLOOKUP(B7951,'[1]2018.7 '!A:M,13,)","v":"Ambient"},{"$f":"VLOOKUP(B7951,'[1]2018.7 '!A:N,14,)","v":"No"}]
[7953,"80648394",80648394,"MINI DIALYSIS KIT,1 KDA,2 ML","021","92","PROTEIN SAMPLE PREPARATION","074","Cleanup",422,{"v":3801.7980000000002,"d":"3,802"},null,{"$f":"VLOOKUP(B7954,'[1]2018.7 '!A:C,3,)","v":"Active"},{"$f":"VLOOKUP(B7954,'[1]2018.7 '!A:M,13,)","v":"Ambient"},{"$f":"VLOOKUP(B7954,'[1]2018.7 '!A:N,14,)","v":"No"}]
[7955,"80648432",80648432,"MINI DIALYSIS KIT,8 KDA,2 ML","021","92","PROTEIN SAMPLE PREPARATION","074","Cleanup",418,{"v":3765.762,"d":"3,766"},null,{"$f":"VLOOKUP(B7956,'[1]2018.7 '!A:C,3,)","v":"Active"},{"$f":"VLOOKUP(B7956,'[1]2018.7 '!A:M,13,)","v":"Ambient"},{"$f":"VLOOKUP(B7956,'[1]2018.7 '!A:N,14,)","v":"No"}]
[7961,"28941279",28941279,"Mammalian Cell Lysis Buffer","021","92","PROTEIN SAMPLE PREPARATION","147","Protein Prep & Analysis Kits",137,{"v":1234.233,"d":"1,234"},null,{"$f":"VLOOKUP(B7962,'[1]2018.7 '!A:C,3,)","v":"Active"},{"$f":"VLOOKUP(B7962,'[1]2018.7 '!A:M,13,)","v":"Ambient"},{"$f":"VLOOKUP(B7962,'[1]2018.7 '!A:N,14,)","v":"No"}]
[7964,"28943524",28943524,"2-D ProteinExtraction BufferII","021","92","PROTEIN SAMPLE PREPARATION","147","Protein Prep & Analysis Kits",165,{"v":1486.4850000000001,"d":"1,486"},null,{"$f":"VLOOKUP(B7965,'[1]2018.7 '!A:C,3,)","v":"Phase Out"}]
[7967,"28943527",28943527,"2-DProteinExtractionBufferV","021","92","PROTEIN SAMPLE PREPARATION","147","Protein Prep & Analysis Kits",167,{"v":1504.5030000000002,"d":"1,505"},{"$nulls":3},{"$f":"VLOOKUP(B7968,'[1]2018.7 '!A:N,14,)","v":"No"}]
[7968,"28943528",28943528,"2-DProteinExtractionBufferVI","021","92","PROTEIN SAMPLE PREPARATION","147","Protein Prep & Analysis Kits",{"v":121.99999999999999,"d":"122"},{"v":1099.098,"d":"1,099"},null,{"$f":"VLOOKUP(B7969,'[1]2018.7 '!A:C,3,)","v":"Phase Out"},{"$f":"VLOOKUP(B7969,'[1]2018.7 '!A:M,13,)","v":{"$error":"#N/A"}},{"$f":"VLOOKUP(B7969,'[1]2018.7 '!A:N,14,)","v":"Yes"}]
[7971,"80648356",80648356,"2-D QUANT KIT","021","92","PROTEIN SAMPLE PREPARATION","147","Protein Prep & Analysis Kits",415,{"v":3738.735,"d":"3,739"},null,{"$f":"VLOOKUP(B7972,'[1]2018.7 '!A:C,3,)","v":"Active"},{"$f":"VLOOKUP(B7972,'[1]2018.7 '!A:M,13,)","v":"Wet Ice"},{"$f":"VLOOKUP(B7972,'[1]2018.7 '!A:N,14,)","v":"Yes"}]
[7975,"80650123",80650123,"PROTEASE INHIBITOR MIX","021","92","PROTEIN SAMPLE PREPARATION","147","Protein Prep & Analysis Kits",339,{"v":3054.051,"d":"3,054"},null,{"$f":"VLOOKUP(B7976,'[1]2018.7 '!A:C,3,)","v":"Active"},{"$f":"VLOOKUP(B7976,'[1]2018.7 '!A:M,13,)","v":"Ambient"},{"$f":"VLOOKUP(B7976,'[1]2018.7 '!A:N,14,)","v":"No"}]
[7980,"WB120065",28421873,"FTA PLANTSAVER 100/PK","025","22","SAMPLE COLLECTION FORENSICS","518","FTA Catalogue Products",500,{"v":4504.5,"d":"4,505"}]
[7982,"WB120205",28421884,"FTA CLASSIC 100/PK","025","22","SAMPLE COLLECTION FORENSICS","518","FTA Catalogue Products",505,{"v":4549.545,"d":"4,550"}]
[7986,"WB120211",28421888,"IND FTA MICROCARD 100/PK","025","22","SAMPLE COLLECTION FORENSICS","518","FTA Catalogue Products",438,{"v":3945.942,"d":"3,946"}]
[7989,"WB120239",29025445,"FTA BUCCAL COLLECTION KIT 50PK","025","22","SAMPLE COLLECTION FORENSICS","518","FTA Catalogue Products",281,{"v":2531.529,"d":"2,532"}]
[7990,"WB120305",28421891,"FTA CLASSIC 25/PK","025","22","SAMPLE COLLECTION FORENSICS","518","FTA Catalogue Products",354,{"v":3189.186,"d":"3,189"}]
[7993,"WB120310",28421894,"FTA MICROCARD 25/PK","025","22","SAMPLE COLLECTION FORENSICS","518","FTA Catalogue Products",{"v":242.99999999999997,"d":"243"},{"v":2189.187,"d":"2,189"}]
[7996,"WB120315",28421898,"IND FTA CLASSIC 250/PK","025","22","SAMPLE COLLECTION FORENSICS","518","FTA Catalogue Products",{"v":1461,"d":"1,461"},{"v":13162.149000000001,"d":"13,162"}]
[8001,"WB120356",28421903,"IND FTA MINICARD 25/PK","025","22","SAMPLE COLLECTION FORENSICS","518","FTA Catalogue Products",360,{"v":3243.2400000000002,"d":"3,243"}]
[8004,"WB100003",28421835,"DESICCANT 1000/PK","025","22","SAMPLE COLLECTION FORENSICS","520","FTA Accessories",270,{"v":2432.4300000000003,"d":"2,432"}]
[8007,"WB100024",28421845,"CLONESAVER RESEAL POUCH 50/PK","025","22","SAMPLE COLLECTION FORENSICS","520","FTA Accessories",{"v":128.47,"d":"128"},{"v":1157.38623,"d":"1,157"}]
[8011,"WB100032",28421851,"FOAM APPLICATOR 100/PK","025","22","SAMPLE COLLECTION FORENSICS","520","FTA Accessories",{"v":79.38,"d":"79"},{"v":715.13442,"d":"715"}]
[8014,"WB100036",28421854,"POUCH 3.75INX3IN 100/PK","025","22","SAMPLE COLLECTION FORENSICS","520","FTA Accessories",{"v":126.38000000000001,"d":"126"},{"v":1138.55742,"d":"1,139"}]
[8015,"WB100037",28421855,"POUCH 4.37INX6.5IN 100/PK","025","22","SAMPLE COLLECTION FORENSICS","520","FTA Accessories",{"v":108.63,"d":"109"},{"v":978.64767,"d":"979"}]
[8018,"WB100040",28421858,"UNICORE PUNCH 6.0MM 4/PK","025","22","SAMPLE COLLECTION FORENSICS","520","FTA Accessories",{"v":106.5,"d":"107"},{"v":959.4585000000001,"d":"959"}]
[8022,"WB100074",29002517,"25XUNI-CORE 1.20MM","025","22","SAMPLE COLLECTION FORENSICS","520","FTA Accessories",621,{"v":5594.589,"d":"5,595"}]
[8026,"WB100085",29002539,"HARRIS 25XUNI-CORE 10.00MM","025","22","SAMPLE COLLECTION FORENSICS","520","FTA Accessories","询价","询价"]
[8029,"WB120204",28421883,"FTA REAGENT 500ML 1/PK","025","22","SAMPLE COLLECTION FORENSICS","520","FTA Accessories",270,{"v":2432.4300000000003,"d":"2,432"}]
[8032,"WB129164",28421937,"CIFS FTA KIT 1/PK","025","22","SAMPLE COLLECTION FORENSICS","562","FTA Custom Products",12,{"v":108.108,"d":"108"}]
[8036,"WB129239",28422190,"SINGAPORE OFFENDER KIT 1","025","22","SAMPLE COLLECTION FORENSICS","562","FTA Custom Products",12,{"v":108.108,"d":"108"}]
[8039,"WB129246",28422450,"FTA TAIWAN CIB 100/PK","025","22","SAMPLE COLLECTION FORENSICS","562","FTA Custom Products",320,{"v":2882.88,"d":"2,883"}]
[8040,"WB129258",29006412,"MALAYSIA FTA KIT 1/PK","025","22","SAMPLE COLLECTION FORENSICS","562","FTA Custom Products",{"v":9.44,"d":"9"},{"v":85.04496,"d":"85"}]
[8043,"WB129265",28986358,"INSTECH FTA DMPK-C DISCS 100/PK","025","22","SAMPLE COLLECTION FORENSICS","562","FTA Custom Products",158,{"v":1423.422,"d":"1,423"}]
[8047,"98-201-150",29011499,"DRS QUAN 15CM 100/PK FAST","025","75","LAB FILTRATION CF","477","CF Double Ring",{"v":7.472616272616273,"d":"7"},{"v":67.3208,"d":"67"},"Whatman产品"]
[8051,"98-203-090",29130547,"DRS QUAN 9CM 100/PK SLOW","025","75","LAB FILTRATION CF","477","CF Double Ring",{"v":3.325863025863026,"d":"3"},{"v":29.9627,"d":"30"},"Whatman产品"]
[8054,"98-203-150",29024224,"DRS QUAN 15CM 100/PK SLOW","025","75","LAB FILTRATION CF","477","CF Double Ring",{"v":7.472616272616273,"d":"7"},{"v":67.3208,"d":"67"},"Whatman产品"]
[8058,"99-101-125",28429603,"DR QUAL 12.5CM 100/PK FAST","025","75","LAB FILTRATION CF","477","CF Double Ring",{"v":2.1894216894216894,"d":"2"},{"v":19.7245,"d":"20"},"Whatman产品"]
[8061,"99-101-952",28429608,"DR QUAL 60x60CM FAST","025","75","LAB FILTRATION CF","477","CF Double Ring",{"v":0.18881118881118883,"d":"0"},{"v":1.7010000000000003,"d":"2"},"Whatman产品"]
[8064,"99-102-070",28429615,"DR QUAL 7CM 100/PK MED","025","75","LAB FILTRATION CF","477","CF Double Ring",{"v":0.9512265512265513,"d":"1"},{"v":8.569600000000001,"d":"9"},"Whatman产品"]
[8068,"99-102-150",28429619,"DR QUAL 15CM 100/PK MED","025","75","LAB FILTRATION CF","477","CF Double Ring",{"v":2.813664113664114,"d":"3"},{"v":25.348300000000002,"d":"25"},"Whatman产品"]
[8069,"99-102-180",28429620,"DR QUAL 18CM 100/PK MED","025","75","LAB FILTRATION CF","477","CF Double Ring",{"v":3.8243423243423247,"d":"4"},{"v":34.453500000000005,"d":"34"},"Whatman产品"]
[8072,"99-102-955",28429627,"DR QUAL 80x80CM MED","025","75","LAB FILTRATION CF","477","CF Double Ring",{"v":0.3787878787878788,"d":"0"},{"v":3.4125,"d":"3"},"Whatman产品"]
[8076,"99-103-090",28429631,"DR QUAL 9CM 100/PK SLOW","025","75","LAB FILTRATION CF","477","CF Double Ring",{"v":1.3067932067932067,"d":"1"},{"v":11.7729,"d":"12"},"Whatman产品"]
[8079,"99-103-150",28429634,"DR QUAL 15CM 100/PK SLOW","025","75","LAB FILTRATION CF","477","CF Double Ring",{"v":2.813664113664114,"d":"3"},{"v":25.348300000000002,"d":"25"},"Whatman产品"]
[8083,"99-103-958",28429644,"DR QUAL 41x45CM SLOW","025","75","LAB FILTRATION CF","477","CF Double Ring",{"v":0.17365967365967366,"d":"0"},{"v":1.5645,"d":"2"},"Whatman产品"]
[8086,"99-201-110",28429674,"DR QUAN 11CM 100/PK FAST","025","75","LAB FILTRATION CF","477","CF Double Ring",{"v":4.67038517038517,"d":"5"},{"v":42.075500000000005,"d":"42"},"Whatman产品"]
[8089,"99-201-180",28429677,"DR QUAN 18CM 100/PK FAST","025","75","LAB FILTRATION CF","477","CF Double Ring",{"v":10.473781773781774,"d":"10"},{"v":94.3583,"d":"94"},"Whatman产品"]
[8091,"99-202-090",28429679,"DR QUAN 9CM 100/PK MED","025","75","LAB FILTRATION CF","477","CF Double Ring",{"v":3.4253302253302254,"d":"3"},{"v":30.858800000000002,"d":"31"},"Whatman产品"]
[8094,"99-202-150",28429682,"DR QUAN 15CM 100/PK MED","025","75","LAB FILTRATION CF","477","CF Double Ring",{"v":7.472616272616273,"d":"7"},{"v":67.3208,"d":"67"},"Whatman产品"]
[8098,"99-203-110",28429686,"DR QUAN 11CM 100/PK SLOW","025","75","LAB FILTRATION CF","477","CF Double Ring",{"v":4.67038517038517,"d":"5"},{"v":42.075500000000005,"d":"42"},"Whatman产品"]
[8101,"99-203-180",28429689,"DR QUAN 18CM 100/PK SLOW","025","75","LAB FILTRATION CF","477","CF Double Ring",{"v":10.473781773781774,"d":"10"},{"v":94.3583,"d":"94"},"Whatman产品"]
[8104,"99-601-090",29106077,"DR WS 9CM 100/PK FAST","025","75","LAB FILTRATION CF","477","CF Double Ring",{"v":1.3067932067932067,"d":"1"},{"v":11.7729,"d":"12"},"Whatman产品"]
[8108,"99-601-180",29106116,"DR WS 18CM 100/PK FAST","025","75","LAB FILTRATION CF","477","CF Double Ring",{"v":3.8243423243423247,"d":"4"},{"v":34.453500000000005,"d":"34"},"Whatman产品"]
[8110,"99-602-090",29106128,"DR WS 9CM 100/PK MED","025","75","LAB FILTRATION CF","477","CF Double Ring",{"v":1.3067932067932067,"d":"1"},{"v":11.7729,"d":"12"},"Whatman产品"]
[8115,"99-602-952",29108971,"DR WS 60CMX60CM 1/PK MED","025","75","LAB FILTRATION CF","477","CF Double Ring",{"v":0.1794982794982795,"d":"0"},{"v":1.6171000000000002,"d":"2"},"Whatman产品"]
[8116,"99-701-110",28429714,"DR DIFF PAPER11CM 100/PK FAST","025","75","LAB FILTRATION CF","477","CF Double Ring",{"v":2.1139638139638137,"d":"2"},{"v":19.0447,"d":"19"},"Whatman产品"]
[8119,"99-705-050",28429731,"PH TESTING PAPER 0.5-5.0","025","75","LAB FILTRATION CF","477","CF Double Ring",{"v":0.2781,"d":"0"},{"v":2.5054029,"d":"3"},"Whatman产品"]
[8123,"99-705-125",28429720,"DR PH TEST BASE PAPER 1250MM","025","75","LAB FILTRATION CF","477","CF Double Ring",{"v":7.237096237096236,"d":"7"},{"v":65.199,"d":"65"},"Whatman产品"]
[8126,"99-705-540",28429737,"PH TESTING PAPER 5.4-7.0","025","75","LAB FILTRATION CF","477","CF Double Ring",{"v":0.2781,"d":"0"},{"v":2.5054029,"d":"3"},"Whatman产品"]
[8129,"99-705-820",28429740,"PH TEST PAPER 8.2-10","025","75","LAB FILTRATION CF","477","CF Double Ring",{"v":0.2884000000000001,"d":"0"},{"v":2.598195600000001,"d":"3"},"Whatman产品"]
[8131,"99-705-900",28429742,"PH TEST PAPER 9-14","025","75","LAB FILTRATION CF","477","CF Double Ring",{"v":0.2884000000000001,"d":"0"},{"v":2.598195600000001,"d":"3"},"Whatman产品"]
[8137,"99-812-852",29011386,"DR CHR 101Mx7CM MED 1/PK","025","75","LAB FILTRATION CF","477","CF Double Ring",{"v":31.08003108003108,"d":"31"},280,"Whatman产品"]
[8140,"99-832-710",29149973,"DR CHR PAP 7CMx100M 3 MED 180G","025","75","LAB FILTRATION CF","477","CF Double Ring",{"v":34.410034410034406,"d":"34"},310,"Whatman产品"]
[8141,"99-832-952",28429722,"DR CHR PAP 60x60CM 3 MED 180G","025","75","LAB FILTRATION CF","477","CF Double Ring",{"v":1.5960483960483962,"d":"2"},{"v":14.378800000000002,"d":"14"},"Whatman产品"]
[8144,"17089109",17089109,"PERCOLL 6X1 L","022","01","DENSITY GRADIENT MEDIA","040","Liquid Density Gradient Media",{"v":2553,"d":"2,553"},{"v":22999.977000000003,"d":"23,000"},null,{"$f":"VLOOKUP(B8145,'[1]2018.7 '!A:C,3,)","v":"Active"},{"$f":"VLOOKUP(B8145,'[1]2018.7 '!A:M,13,)","v":"Ambient"},{"$f":"VLOOKUP(B8145,'[1]2018.7 '!A:N,14,)","v":"No"}]
[8148,"17544202",17544202,"FICOLL PAQUE PREMIUM 6X100ML","022","01","DENSITY GRADIENT MEDIA","040","Liquid Density Gradient Media",217,{"v":1954.953,"d":"1,955"},null,{"$f":"VLOOKUP(B8149,'[1]2018.7 '!A:C,3,)","v":"Active"},{"$f":"VLOOKUP(B8149,'[1]2018.7 '!A:M,13,)","v":"Ambient"},{"$f":"VLOOKUP(B8149,'[1]2018.7 '!A:N,14,)","v":"No"}]
[8151,"17544502",17544502,"Percoll PLUS 250 ML","022","01","DENSITY GRADIENT MEDIA","040","Liquid Density Gradient Media",290,{"v":2612.61,"d":"2,613"},null,{"$f":"VLOOKUP(B8152,'[1]2018.7 '!A:C,3,)","v":"Active"},{"$f":"VLOOKUP(B8152,'[1]2018.7 '!A:M,13,)","v":"Ambient"},{"$f":"VLOOKUP(B8152,'[1]2018.7 '!A:N,14,)","v":"No"}]
[8156,"17030010",17030010,"FICOLL PM 400 100 G","022","01","DENSITY GRADIENT MEDIA","225","Powder Density Gradient Media",248,{"v":2234.232,"d":"2,234"},null,{"$f":"VLOOKUP(B8157,'[1]2018.7 '!A:C,3,)","v":"Active"},{"$f":"VLOOKUP(B8157,'[1]2018.7 '!A:M,13,)","v":"Ambient"},{"$f":"VLOOKUP(B8157,'[1]2018.7 '!A:N,14,)","v":"No"}]
[8159,"17031010",17031010,"FICOLL PM 70 100 G","022","01","DENSITY GRADIENT MEDIA","225","Powder Density Gradient Media",321,{"v":2891.889,"d":"2,892"},null,{"$f":"VLOOKUP(B8160,'[1]2018.7 '!A:C,3,)","v":"Active"},{"$f":"VLOOKUP(B8160,'[1]2018.7 '!A:M,13,)","v":"Ambient"},{"$f":"VLOOKUP(B8160,'[1]2018.7 '!A:N,14,)","v":"No"}]
[8162,"18115269",18115269,"HB FICOLL PAQUE","022","07","CTT OTHERS","004","CTT Marketing",{"v":25.8,"d":"26"},{"v":232.43220000000002,"d":"232"},null,{"$f":"VLOOKUP(B8163,'[1]2018.7 '!A:C,3,)","v":"Active"},{"$f":"VLOOKUP(B8163,'[1]2018.7 '!A:M,13,)","v":"Ambient"},{"$f":"VLOOKUP(B8163,'[1]2018.7 '!A:N,14,)","v":"Reviewing"}]
[8163,"11003364",11003364,"ETTAN IPGPHOR 3","025","51","2D ELECTROPHORESIS AND DETECTION","111","IPGphor Instruments",{"v":12100,"d":"12,100"},{"v":109008.90000000001,"d":"109,009"},null,{"$f":"VLOOKUP(B8164,'[1]2018.7 '!A:C,3,)","v":"Active"},{"$f":"VLOOKUP(B8164,'[1]2018.7 '!A:M,13,)","v":"Ambient"},{"$f":"VLOOKUP(B8164,'[1]2018.7 '!A:N,14,)","v":"No"}]
[8166,"17548912",17548912,"HiTrap 5x5 ml Capto Lentil Lectin","021","42","PURIFICATION MEDIA","086","CDP Chromatography",{"v":4307,"d":"4,307.0"},{"v":38801.763,"d":"38,802"},null,{"$f":"VLOOKUP(B8167,'[1]2018.7 '!A:C,3,)","v":"Active"},{"$f":"VLOOKUP(B8167,'[1]2018.7 '!A:M,13,)","v":"Ambient"},{"$f":"VLOOKUP(B8167,'[1]2018.7 '!A:N,14,)","v":"No"}]
[8169,"10401180",28414978,"PROTRAN BA85 300x600MM 5/PK","025","62","CUSTOM MEMBRANES","479","MM Custom Dx",{"v":98.4,"d":"98"},{"v":886.4856000000001,"d":"886"}]
[8173,"50197",28419805,"50MM TF 0.2UM","025","75","LAB FILTRATION CF","469","CF Lab Catalogue Thimbles",{"v":9.96,"d":"10"},{"v":89.72964000000002,"d":"90"},"Whatman产品"]
[8177,"1853-050-50",29091629,"QM-H 50MM 50/PK","025","35","LAB FILTRATION GF","461","GF Lab Catalogue",230,{"v":2072.07,"d":"2,072"}]
[8180,"80-5123-17",29101867,"foam swab","025","22","SAMPLE COLLECTION FORENSICS","520","FTA Accessories",{"v":0.29,"d":"0"},{"v":2.61261,"d":"3"}]
[8184,"29118153",29118153,"Seahorse Glycolysis Kit - XF","025","32","CUSTOM MOLECULAR REAGENTS","140","Custom Ready-To-Go",232,{"v":2090.088,"d":"2,090"},null,{"$f":"VLOOKUP(B8185,'[1]2018.7 '!A:C,3,)","v":"Active"},{"$f":"VLOOKUP(B8185,'[1]2018.7 '!A:M,13,)","v":"Ambient"},{"$f":"VLOOKUP(B8185,'[1]2018.7 '!A:N,14,)","v":"No"}]
[8187,"29147017",29147017,"Sensor Chip CM7, 3-pack","021","82","BIACORE CONSUMABLES","916","Sensor chips  classic",{"v":1361,"d":"1,361"},{"v":12261.249,"d":"12,261"},null,{"$f":"VLOOKUP(B8188,'[1]2018.7 '!A:C,3,)","v":"Active"},{"$f":"VLOOKUP(B8188,'[1]2018.7 '!A:M,13,)","v":"Ambient"},{"$f":"VLOOKUP(B8188,'[1]2018.7 '!A:N,14,)","v":"No"}]
[8188,"29147020",29147020,"Series S Sensor chip CM7, 3-pack","021","82","BIACORE CONSUMABLES","917","Sensor chips  Series S",{"v":1347,"d":"1,347"},{"v":12135.123,"d":"12,135"},null,{"$f":"VLOOKUP(B8189,'[1]2018.7 '!A:C,3,)","v":"Active"},{"$f":"VLOOKUP(B8189,'[1]2018.7 '!A:M,13,)","v":"Ambient"},{"$f":"VLOOKUP(B8189,'[1]2018.7 '!A:N,14,)","v":"No"}]
[8191,"29149603",29149603,"Series S Sensor Chip CM5, 10-pack","021","82","BIACORE CONSUMABLES","917","Sensor chips  Series S",{"v":2093,"d":"2,093"},{"v":18855.837,"d":"18,856"},null,{"$f":"VLOOKUP(B8192,'[1]2018.7 '!A:C,3,)","v":"Active"},{"$f":"VLOOKUP(B8192,'[1]2018.7 '!A:M,13,)","v":"Ambient"},{"$f":"VLOOKUP(B8192,'[1]2018.7 '!A:N,14,)","v":"No"}]
[8194,"10530131",29153603,"903 Perforated 5 Circles 50pk","025","77","SAMPLE COLLECTION RESEARCH","522","Proteinsaver 903",{"v":13.52,"d":"14"},{"v":121.80168,"d":"122"}]
[8198,"1204-240",29154377,"4V 24CM 100/PK","025","75","LAB FILTRATION CF","467","CF Lab Catalogue Qualitative",{"v":93.82,"d":"94"},{"v":845.22438,"d":"845"},"Whatman产品"]
[8202,"WB129314",29154680,"RHODE ISLAND DNA KIT 1/PK","025","22","SAMPLE COLLECTION FORENSICS","562","FTA Custom Products",{"$f":"K8203/9.009","v":{"v":10.73,"d":"11"}},{"v":96.66657000000001,"d":"97"}]
[8206,"29155304",29155304,"Biacore DQ Q2 2015 offer 3","021","82","BIACORE CONSUMABLES","912","Biacore  inactive",{"v":2577,"d":"2,577"},{"v":23216.193,"d":"23,216"},null,{"$f":"VLOOKUP(B8207,'[1]2018.7 '!A:C,3,)","v":"Active"},{"$f":"VLOOKUP(B8207,'[1]2018.7 '!A:M,13,)","v":"Reviewing"},{"$f":"VLOOKUP(B8207,'[1]2018.7 '!A:N,14,)","v":"Reviewing"}]
[8209,"29155307",29155307,"Biacore DQ Q2 2015 offer 6","021","82","BIACORE CONSUMABLES","912","Biacore  inactive",{"v":1482,"d":"1,482"},{"v":13351.338,"d":"13,351"},null,{"$f":"VLOOKUP(B8210,'[1]2018.7 '!A:C,3,)","v":"Active"},{"$f":"VLOOKUP(B8210,'[1]2018.7 '!A:M,13,)","v":"Reviewing"},{"$f":"VLOOKUP(B8210,'[1]2018.7 '!A:N,14,)","v":"Reviewing"}]
[8212,"29155310",29155310,"Biacore DQ Q2 2015 offer 9","021","82","BIACORE CONSUMABLES","912","Biacore  inactive",464,{"v":4180.176,"d":"4,180"},null,{"$f":"VLOOKUP(B8213,'[1]2018.7 '!A:C,3,)","v":"Active"},{"$f":"VLOOKUP(B8213,'[1]2018.7 '!A:M,13,)","v":"Reviewing"},{"$f":"VLOOKUP(B8213,'[1]2018.7 '!A:N,14,)","v":"Reviewing"}]
[8213,"29155311",29155311,"Biacore DQ Q2 2015 offer 10","021","82","BIACORE CONSUMABLES","912","Biacore  inactive",{"v":1035,"d":"1,035"},{"v":9324.315,"d":"9,324"},null,{"$f":"VLOOKUP(B8214,'[1]2018.7 '!A:C,3,)","v":"Active"},{"$f":"VLOOKUP(B8214,'[1]2018.7 '!A:M,13,)","v":"Reviewing"},{"$f":"VLOOKUP(B8214,'[1]2018.7 '!A:N,14,)","v":"Reviewing"}]
[8216,"10530130",29156166,"33GLASS 635MMx457M 1/PK","025","62","CUSTOM MEMBRANES","466","GF Custom Medical & Clinical Diag",{"v":10500,"d":"10,500"},{"v":94594.5,"d":"94,595"}]
[8219,"WB129315",29158068,"CUSTOM FTA CARD KUWAIT 100/PK","025","22","SAMPLE COLLECTION FORENSICS","562","FTA Custom Products",{"v":195.6,"d":"196"},{"v":1762.1604,"d":"1,762"}]
[8224,"99-705-021",29159719,"DR PH TEST BASE PAPER 20CMX700M","025","75","LAB FILTRATION CF","477","CF Double Ring",{"v":8.1576,"d":"8"},{"v":73.4918184,"d":"73"},"Whatman产品"]
[8227,"10401611",29161302,"ME25 65MMx110M 1/PK","025","62","CUSTOM MEMBRANES","480","MM Custom",{"v":966.575,"d":"967"},{"v":8707.874175,"d":"8,708"}]
[8231,"1204-270",29161914,"4V 27CM 100/PK","025","75","LAB FILTRATION CF","467","CF Lab Catalogue Qualitative",{"v":107.3,"d":"107"},{"v":966.6657,"d":"967"},"Whatman产品"]
[8234,"1201-185",29162302,"1V 18.5CM 100/PK","025","75","LAB FILTRATION CF","467","CF Lab Catalogue Qualitative",{"v":40.47,"d":"40"},{"v":364.59423,"d":"365"},"Whatman产品"]
[8237,"29163055",29163055,"XF Cell Energy Phenotype test kit","025","32","CUSTOM MOLECULAR REAGENTS","140","Custom Ready-To-Go",{"v":181.74,"d":"182"},{"v":1637.2956600000002,"d":"1,637"},null,{"$f":"VLOOKUP(B8238,'[1]2018.7 '!A:C,3,)","v":"Active"},{"$f":"VLOOKUP(B8238,'[1]2018.7 '!A:M,13,)","v":"Ambient"},{"$f":"VLOOKUP(B8238,'[1]2018.7 '!A:N,14,)","v":"No"}]
[8238,"29163283",29163283,"HiPrep 26/10 Butyl Sepharose 6 Fast Flow","021","42","PURIFICATION MEDIA","086","CDP Chromatography",{"v":3400,"d":"3,400"},{"v":30630.600000000002,"d":"30,631"},null,{"$f":"VLOOKUP(B8239,'[1]2018.7 '!A:C,3,)","v":"Active"},{"$f":"VLOOKUP(B8239,'[1]2018.7 '!A:M,13,)","v":"Ambient"},{"$f":"VLOOKUP(B8239,'[1]2018.7 '!A:N,14,)","v":"Reviewing"}]
[8244,"29164745",29164745,"Biacore T200 consumables - 3","021","82","BIACORE CONSUMABLES","917","Sensor chips  Series S",{"v":9462,"d":"9,462"},{"v":85243.15800000001,"d":"85,243"},null,{"$f":"VLOOKUP(B8245,'[1]2018.7 '!A:C,3,)","v":"Active"},{"$f":"VLOOKUP(B8245,'[1]2018.7 '!A:M,13,)","v":"Reviewing"},{"$f":"VLOOKUP(B8245,'[1]2018.7 '!A:N,14,)","v":"Reviewing"}]
[8245,"29164748",29164748,"Biacore X100 consumables - 1","021","82","BIACORE CONSUMABLES","916","Sensor chips  classic",{"v":1859,"d":"1,859"},{"v":16747.731,"d":"16,748"},null,{"$f":"VLOOKUP(B8246,'[1]2018.7 '!A:C,3,)","v":"Active"},{"$f":"VLOOKUP(B8246,'[1]2018.7 '!A:M,13,)","v":"Reviewing"},{"$f":"VLOOKUP(B8246,'[1]2018.7 '!A:N,14,)","v":"Reviewing"}]
[8249,"29165236",29165236,"Biacore DQ Q3 2015 offer 1","021","82","BIACORE CONSUMABLES","912","Biacore  inactive",{"v":1019,"d":"1,019"},{"v":9180.171,"d":"9,180"},null,{"$f":"VLOOKUP(B8250,'[1]2018.7 '!A:C,3,)","v":"Active"},{"$f":"VLOOKUP(B8250,'[1]2018.7 '!A:M,13,)","v":"Reviewing"},{"$f":"VLOOKUP(B8250,'[1]2018.7 '!A:N,14,)","v":"Reviewing"}]
[8252,"29165239",29165239,"Biacore DQ Q3 2015 offer 4","021","82","BIACORE CONSUMABLES","912","Biacore  inactive",{"v":1240,"d":"1,240"},{"v":11171.16,"d":"11,171"},null,{"$f":"VLOOKUP(B8253,'[1]2018.7 '!A:C,3,)","v":"Active"},{"$f":"VLOOKUP(B8253,'[1]2018.7 '!A:M,13,)","v":"Reviewing"},{"$f":"VLOOKUP(B8253,'[1]2018.7 '!A:N,14,)","v":"Reviewing"}]
[8256,"10485196",29165599,"PVDF 0.45UM 280MMx50M 1/PK BIO-RAD","025","62","CUSTOM MEMBRANES","479","MM Custom Dx",{"v":3444,"d":"3,444"},{"v":31026.996000000003,"d":"31,027"}]
[8259,"10547036",29167162,"BA83 180MMx50M 1/PK","025","62","CUSTOM MEMBRANES","479","MM Custom Dx",{"v":1291.5,"d":"1,292"},{"v":11635.1235,"d":"11,635"}]
[8262,"29167242",29167242,"MUP 0.2uM PTFE 100/PK - PROMO20","025","76","LAB FILTRATION DEVICES","491","EF Lab Cat Syringeless Filter",260,{"v":2342.34,"d":"2,342"}]
[8265,"29167245",29167245,"MUP 0.45uM NYL 100/PK - PROMO20","025","76","LAB FILTRATION DEVICES","491","EF Lab Cat Syringeless Filter",260,{"v":2342.34,"d":"2,342"}]
[8267,"29167247",29167247,"MUP 0.45uM RC 100/PK - PROMO20","025","76","LAB FILTRATION DEVICES","490","EF Lab Cat Syringe Filters",260,{"v":2342.34,"d":"2,342"}]
[8271,"29167251",29167251,"MUP G2 0.2uM PTFE 100/PK + HC - PROMO20","025","76","LAB FILTRATION DEVICES","491","EF Lab Cat Syringeless Filter",289,{"v":2603.601,"d":"2,604"}]
[8274,"29167697",29167697,"MUP G2 0.45uM PVDF 100/PK + HC - PROMO20","025","76","LAB FILTRATION DEVICES","491","EF Lab Cat Syringeless Filter",289,{"v":2603.601,"d":"2,604"}]
[8277,"29167700",29167700,"MUP G2 MULTI COMP PUR/WH 1/PK - PROMO20","025","76","LAB FILTRATION DEVICES","491","EF Lab Cat Syringeless Filter",284,{"v":2558.556,"d":"2,559"}]
[8281,"29167704",29167704,"GD/X 25/0.2 PVDF 150/PK - PROMO20","025","76","LAB FILTRATION DEVICES","490","EF Lab Cat Syringe Filters",510,{"v":4594.59,"d":"4,595"}]
[8282,"29167705",29167705,"GD/X 25/0.2 PVDF S 50/PK - PROMO20","025","76","LAB FILTRATION DEVICES","490","EF Lab Cat Syringe Filters",{"v":169.04,"d":"169"},{"v":1522.88136,"d":"1,523"}]
[8286,"29167709",29167709,"GD/X 25 RC 0.2UM 150/PK - PROMO20","025","76","LAB FILTRATION DEVICES","490","EF Lab Cat Syringe Filters",652,{"v":5873.868,"d":"5,874"}]
[8287,"29167710",29167710,"GD/X 13/0.45 PVDF 150/PK - PROMO20","025","76","LAB FILTRATION DEVICES","490","EF Lab Cat Syringe Filters",404,{"v":3639.636,"d":"3,640"}]
[8288,"29167711",29167711,"GD/X 13/0.45 NYL 150/PK - PROMO20","025","76","LAB FILTRATION DEVICES","490","EF Lab Cat Syringe Filters",404,{"v":3639.636,"d":"3,640"}]
[8289,"29167712",29167712,"GD/X 13/0.45 PTFE 150/PK - PROMO20","025","76","LAB FILTRATION DEVICES","490","EF Lab Cat Syringe Filters",404,{"v":3639.636,"d":"3,640"}]
[8290,"29167713",29167713,"GD/X 25/0.45 PVDF 150/PK - PROMO20","025","76","LAB FILTRATION DEVICES","490","EF Lab Cat Syringe Filters",510,{"v":4594.59,"d":"4,595"}]
[8291,"29167714",29167714,"GD/X 25/0.45 PVDF S 50/PK - PROMO20","025","76","LAB FILTRATION DEVICES","490","EF Lab Cat Syringe Filters",{"v":169.04,"d":"169"},{"v":1522.88136,"d":"1,523"}]
[8292,"29167715",29167715,"GD/X 25/0.45 PVDF S 150/PK - PROMO20","025","76","LAB FILTRATION DEVICES","490","EF Lab Cat Syringe Filters",510,{"v":4594.59,"d":"4,595"}]
[8293,"29167725",29167725,"GD/X 25/0.45 NYL 150/PK - PROMO20","025","76","LAB FILTRATION DEVICES","490","EF Lab Cat Syringe Filters",510,{"v":4594.59,"d":"4,595"}]
[8294,"29167726",29167726,"GD/X 25/0.45 NYL S 150/PK - PROMO20","025","76","LAB FILTRATION DEVICES","490","EF Lab Cat Syringe Filters",510,{"v":4594.59,"d":"4,595"}]
[8295,"29167727",29167727,"GD/X 25/0.45 PTFE 150/PK - PROMO20","025","76","LAB FILTRATION DEVICES","490","EF Lab Cat Syringe Filters",510,{"v":4594.59,"d":"4,595"}]
[8296,"29167728",29167728,"GD/X 25 RC 0.45UM 150/PK - PROMO20","025","76","LAB FILTRATION DEVICES","490","EF Lab Cat Syringe Filters",570,{"v":5135.13,"d":"5,135"}]
[8297,"29167729",29167729,"GD/XP 25/0.45 PVDF 150/PK - PROMO20","025","76","LAB FILTRATION DEVICES","490","EF Lab Cat Syringe Filters",533,{"v":4801.7970000000005,"d":"4,802"}]
[8298,"29167730",29167730,"GD/XP 25/0.45 NYL 150/PK - PROMO20","025","76","LAB FILTRATION DEVICES","490","EF Lab Cat Syringe Filters",533,{"v":4801.7970000000005,"d":"4,802"}]
[8299,"29167731",29167731,"GD/XP 25/0.45 PTFE 150/PK - PROMO20","025","76","LAB FILTRATION DEVICES","490","EF Lab Cat Syringe Filters",533,{"v":4801.7970000000005,"d":"4,802"}]
[8300,"29167986",29167986,"SPARTAN 30/0.45 RC 500/PK - PROMO20","025","76","LAB FILTRATION DEVICES","490","EF Lab Cat Syringe Filters",{"v":1044,"d":"1,044"},{"v":9405.396,"d":"9,405"}]
[8301,"29167987",29167987,"SPARTAN 30/0.2 RC 500/PK - PROMO20","025","76","LAB FILTRATION DEVICES","490","EF Lab Cat Syringe Filters",{"v":1044,"d":"1,044"},{"v":9405.396,"d":"9,405"}]
[8302,"29167988",29167988,"GR 1 9.0CM 100/PK - PROMO20","025","75","LAB FILTRATION CF","467","CF Lab Catalogue Qualitative",{"v":11.91,"d":"12"},{"v":107.29719,"d":"107"},"Whatman产品"]
[8303,"29167989",29167989,"GR 1 11.0CM 100/PK - PROMO20","025","75","LAB FILTRATION CF","467","CF Lab Catalogue Qualitative",{"v":14.219999999999999,"d":"14"},{"v":128.10798,"d":"128"},"Whatman产品"]
[8304,"29167990",29167990,"GR 1 12.5CM 100/PK - PROMO20","025","75","LAB FILTRATION CF","467","CF Lab Catalogue Qualitative",{"v":14.219999999999999,"d":"14"},{"v":128.10798,"d":"128"},"Whatman产品"]
[8305,"29167991",29167991,"GR 1 15.0CM 100/PK - PROMO20","025","75","LAB FILTRATION CF","467","CF Lab Catalogue Qualitative",{"v":21.32,"d":"21"},{"v":192.07188000000002,"d":"192"},"Whatman产品"]
[8306,"29167992",29167992,"GR 1 18.5CM 100/PK - PROMO20","025","75","LAB FILTRATION CF","467","CF Lab Catalogue Qualitative",{"v":29.669999999999998,"d":"30"},{"v":267.29703,"d":"267"},"Whatman产品"]
[8307,"29167993",29167993,"GR 4 9CM 100/PK - PROMO20","025","75","LAB FILTRATION CF","467","CF Lab Catalogue Qualitative",{"v":13.09,"d":"13"},{"v":117.92781000000001,"d":"118"},"Whatman产品"]
[8308,"29167994",29167994,"GR 4 11CM 100/PK - PROMO20","025","75","LAB FILTRATION CF","467","CF Lab Catalogue Qualitative",{"v":16.62,"d":"17"},{"v":149.72958000000003,"d":"150"},"Whatman产品"]
[8309,"29168011",29168011,"GR 4 12.5CM 100/PK - PROMO20","025","75","LAB FILTRATION CF","467","CF Lab Catalogue Qualitative",{"v":21.32,"d":"21"},{"v":192.07188000000002,"d":"192"},"Whatman产品"]
[8310,"29168012",29168012,"GR 4 15CM 100/PK - PROMO20","025","75","LAB FILTRATION CF","467","CF Lab Catalogue Qualitative",{"v":27.26,"d":"27"},{"v":245.58534000000003,"d":"246"},"Whatman产品"]
[8311,"29168013",29168013,"GR 4 18.5CM 100/PK - PROMO20","025","75","LAB FILTRATION CF","467","CF Lab Catalogue Qualitative",{"v":40.36,"d":"40"},{"v":363.60324,"d":"364"},"Whatman产品"]
[8312,"29168014",29168014,"PURADISC 13/0.2 PVDF 50/PK - PROMO20","025","76","LAB FILTRATION DEVICES","490","EF Lab Cat Syringe Filters",208,{"v":1873.872,"d":"1,874"}]
[8313,"29168015",29168015,"PURADISC 13/0.45 PVDF 50/PK - PROMO20","025","76","LAB FILTRATION DEVICES","490","EF Lab Cat Syringe Filters",{"v":163.18,"d":"163"},{"v":1470.0886200000002,"d":"1,470"}]
[8314,"29168016",29168016,"PURADISC 13/0.2 PES STERILE 50/PK - PROMO20","025","76","LAB FILTRATION DEVICES","490","EF Lab Cat Syringe Filters",{"v":163.18,"d":"163"},{"v":1470.0886200000002,"d":"1,470"}]
[8315,"29168017",29168017,"PURADISC 13/0.45 PES STERILE 50/PK - PROMO20","025","76","LAB FILTRATION DEVICES","490","EF Lab Cat Syringe Filters",{"v":163.18,"d":"163"},{"v":1470.0886200000002,"d":"1,470"}]
[8316,"29168018",29168018,"PURADISC 25/0.2 PES STERILE 50/PK - PROMO20","025","76","LAB FILTRATION DEVICES","490","EF Lab Cat Syringe Filters",{"v":106.8,"d":"107"},{"v":962.1612,"d":"962"}]
[8317,"29168019",29168019,"PURADISC 25/0.45 PES STERILE 1000/PK - PROMO20","025","76","LAB FILTRATION DEVICES","490","EF Lab Cat Syringe Filters",{"v":2136,"d":"2,136"},{"v":19243.224000000002,"d":"19,243"}]
[8318,"29168020",29168020,"PURADISC 25/0.2 PVDF 200/PK - PROMO20","025","76","LAB FILTRATION DEVICES","490","EF Lab Cat Syringe Filters",562,{"v":5063.058,"d":"5,063"}]
[8319,"29168021",29168021,"PURADISC 25/0.2 NYLON 200/PK - PROMO20","025","76","LAB FILTRATION DEVICES","490","EF Lab Cat Syringe Filters",579,{"v":5216.211,"d":"5,216"}]
[8320,"29168022",29168022,"PURADISC 25/0.45 PVDF 200/PK - PROMO20","025","76","LAB FILTRATION DEVICES","490","EF Lab Cat Syringe Filters",562,{"v":5063.058,"d":"5,063"}]
[8321,"29168023",29168023,"PURADISC 25/0.45 NYLON 200/PK - PROMO20","025","76","LAB FILTRATION DEVICES","490","EF Lab Cat Syringe Filters",579,{"v":5216.211,"d":"5,216"}]
[8322,"29168025",29168025,"VACU-GUARD PTFE 50MM DISC - PROMO20","025","76","LAB FILTRATION DEVICES","492","EF Lab Catalogue Disc Filters",{"v":180.31,"d":"180"},{"v":1624.41279,"d":"1,624"}]
[8323,"29168026",29168026,"VACU-GUARD PTFE 60MM DISC - PROMO20","025","76","LAB FILTRATION DEVICES","492","EF Lab Catalogue Disc Filters",{"v":180.31,"d":"180"},{"v":1624.41279,"d":"1,624"}]
[8324,"10402008",29168063,"BA79 80x345MM 25/PK","025","62","CUSTOM MEMBRANES","475","CF Custom Medical & Clinical Diag",{"v":114.0825,"d":"114"},{"v":1027.7692425,"d":"1,028"}]
[8325,"29168125",29168125,"595 1/2 Folded Filters, 110 mm - PROMO","025","75","LAB FILTRATION CF","467","CF Lab Catalogue Qualitative",{"v":44.48,"d":"44"},{"v":400.72032,"d":"401"},"Whatman产品"]
[8326,"29168132",29168132,"595 1/2 Folded Filters, 150 mm - PROMO","025","75","LAB FILTRATION CF","467","CF Lab Catalogue Qualitative",{"v":56.73,"d":"57"},{"v":511.08056999999997,"d":"511"},"Whatman产品"]
[8327,"29168133",29168133,"595 1/2 Folded Filters, 185 mm - PROMO","025","75","LAB FILTRATION CF","467","CF Lab Catalogue Qualitative",{"v":68.97,"d":"69"},{"v":621.35073,"d":"621"},"Whatman产品"]
[8328,"29168134",29168134,"597 1/2 Folded Filters, 110 mm - PROMO","025","75","LAB FILTRATION CF","467","CF Lab Catalogue Qualitative",{"v":46.75,"d":"47"},{"v":421.17075,"d":"421"},"Whatman产品"]
[8329,"29168135",29168135,"597 1/2 Folded Filters, 125 mm - PROMO","025","75","LAB FILTRATION CF","467","CF Lab Catalogue Qualitative",{"v":55.66,"d":"56"},{"v":501.44094,"d":"501"},"Whatman产品"]
[8330,"29168142",29168142,"597 1/2 Folded Filters, 150 mm - PROMO","025","75","LAB FILTRATION CF","467","CF Lab Catalogue Qualitative",{"$f":"K8331/9.009","v":{"v":61.15,"d":"61"}},{"v":550.90035,"d":"551"},"Whatman产品"]
[8331,"29168172",29168172,"597 1/2 Folded Filters, 185 mm - PROMO","025","75","LAB FILTRATION CF","467","CF Lab Catalogue Qualitative",{"v":68.97,"d":"69"},{"v":621.35073,"d":"621"},"Whatman产品"]
[8332,"29168173",29168173,"602 H 1/2 Folded Filters, 125 mm, 100/pk - PROMO","025","75","LAB FILTRATION CF","467","CF Lab Catalogue Qualitative",{"v":47.82,"d":"48"},{"v":430.81038,"d":"431"},"Whatman产品"]
[8333,"29168174",29168174,"602 H 1/2 Folded Filters, 150 mm, 100/pk - PROMO","025","75","LAB FILTRATION CF","467","CF Lab Catalogue Qualitative",{"v":71.16,"d":"71"},{"v":641.08044,"d":"641"},"Whatman产品"]
[8334,"29168175",29168175,"602 H 1/2 Folded Filters, 185 mm, 100/pk - PROMO","025","75","LAB FILTRATION CF","467","CF Lab Catalogue Qualitative",{"v":104.56,"d":"105"},{"v":941.98104,"d":"942"},"Whatman产品"]
[8335,"29168177",29168177,"1573 1/2 Folded Filters, 125 mm, 100/pk - PROMO","025","75","LAB FILTRATION CF","467","CF Lab Catalogue Qualitative",{"v":58.99,"d":"59"},{"v":531.44091,"d":"531"},"Whatman产品"]
[8336,"29168180",29168180,"1573 1/2 Folded Filters, 150 mm, 100/pk - PROMO","025","75","LAB FILTRATION CF","467","CF Lab Catalogue Qualitative",{"v":58.99,"d":"59"},{"v":531.44091,"d":"531"},"Whatman产品"]
[8337,"29168182",29168182,"1573 1/2 Folded Filters, 185 mm, 100/pk - PROMO","025","75","LAB FILTRATION CF","467","CF Lab Catalogue Qualitative",{"v":75.65,"d":"76"},{"v":681.5308500000001,"d":"682"},"Whatman产品"]
[8338,"29168183",29168183,"1574 1/2 Folded Filters, 125 mm, 100/pk - PROMO","025","75","LAB FILTRATION CF","467","CF Lab Catalogue Qualitative",{"v":58.99,"d":"59"},{"v":531.44091,"d":"531"},"Whatman产品"]
[8339,"29168184",29168184,"0860 1/2 Folded Filters, 185 mm, 100/pk - PROMO","025","75","LAB FILTRATION CF","467","CF Lab Catalogue Qualitative",{"v":47.82,"d":"48"},{"v":430.81038,"d":"431"},"Whatman产品"]
[8340,"29168185",29168185,"RC55, RC, 0.45 Micro meter, 47 mm, 100/pk - PROMO","025","65","MEMBRANES","478","MM Lab Catalogue",216,{"v":1945.944,"d":"1,946"}]
[8341,"29168186",29168186,"RC55, RC, 0.45 Micro meter, 50 mm, 100/pk - PROMO","025","65","MEMBRANES","478","MM Lab Catalogue",219,{"v":1972.971,"d":"1,973"}]
[8342,"29168187",29168187,"RC58, RC, 0.2 Micro meter, 47 mm, 100/pk - PROMO","025","65","MEMBRANES","478","MM Lab Catalogue",216,{"v":1945.944,"d":"1,946"}]
[8343,"29168188",29168188,"RC58 RC, 0.2 Micro meter, 50 mm, 100/pk - PROMO","025","65","MEMBRANES","478","MM Lab Catalogue",219,{"v":1972.971,"d":"1,973"}]
[8344,"29168189",29168189,"TE36, PTFE, 0.45 Micro meter, 47 mm, 50/pk - PROMO","025","65","MEMBRANES","478","MM Lab Catalogue",224,{"v":2018.016,"d":"2,018"}]
[8345,"29168190",29168190,"TE36, PTFE, 0.45 Micro meter, 50 mm, 50/pk - PROMO","025","65","MEMBRANES","478","MM Lab Catalogue",228,{"v":2054.052,"d":"2,054"}]
[8346,"29168191",29168191,"TE35, PTFE, 0.2 Micro meter, 47 mm, 50/pk - PROMO","025","65","MEMBRANES","478","MM Lab Catalogue",224,{"v":2018.016,"d":"2,018"}]
[8347,"29168192",29168192,"TE35, PTFE, 0.2 Micro meter, 50 mm, 50/pk - PROMO","025","65","MEMBRANES","478","MM Lab Catalogue",228,{"v":2054.052,"d":"2,054"}]
[8348,"29168193",29168193,"NL16, Polyamide, 0.2 Micro meter, 47 mm, 100/pk - PROMO","025","65","MEMBRANES","478","MM Lab Catalogue",{"v":141.1,"d":"141"},{"v":1271.1699,"d":"1,271"}]
[8349,"29168194",29168194,"NL16, Polyamide, 0.2 Micro meter, 50 mm, 100/pk - PROMO","025","65","MEMBRANES","478","MM Lab Catalogue",{"v":143.13,"d":"143"},{"v":1289.45817,"d":"1,289"}]
[8350,"29168195",29168195,"NL17, Polyamide, 0.45 Micro meter, 47 mm, 100/pk - PROMO","025","65","MEMBRANES","478","MM Lab Catalogue",{"v":139.04,"d":"139"},{"v":1252.6113599999999,"d":"1,253"}]
[8351,"29168196",29168196,"NL17, Polyamide, 0.45 Micro meter, 50 mm, 100/pk - PROMO","025","65","MEMBRANES","478","MM Lab Catalogue",{"v":143.13,"d":"143"},{"v":1289.45817,"d":"1,289"}]
[8352,"29168197",29168197,"GV025/2 Vacuum Filter Holder, Glass, 60 ml, 25 mm, Glass Frit, 250 ml Erlenmeyer - PROMO","025","65","MEMBRANES","478","MM Lab Catalogue",341,{"v":3072.069,"d":"3,072"}]
[8353,"29168198",29168198,"GV050/0 Vacuum Filter Holder, Glass, 250 ml, 47/40 mm, Glass Frit - PROMO","025","65","MEMBRANES","478","MM Lab Catalogue",537,{"v":4837.8330000000005,"d":"4,838"}]
[8354,"29168199",29168199,"ME25/21 STL White, 0.45 Micro meter, 3.1 mm Black Grid, 47 mm, 400/pk - PROMO","025","65","MEMBRANES","483","Microbiology Membranes",413,{"v":3720.717,"d":"3,721"}]
[8355,"29168200",29168200,"ME25/21 STL White, 0.45 Micro meter, 3.1 mm Black Grid, 50 mm, 400/pk - PROMO","025","65","MEMBRANES","483","Microbiology Membranes",424,{"v":3819.8160000000003,"d":"3,820"}]
[8356,"29168201",29168201,"ME25/20 STL 0.45 Micro meter, 5 mm Black Grid, 50 mm, 400/pk - PROMO","025","65","MEMBRANES","483","Microbiology Membranes",434,{"v":3909.906,"d":"3,910"}]
[8357,"29168202",29168202,"ME25/31 STL Black, 0.45 Micro meter, 3.1 mm White Grid, 47 mm, 400/pk - PROMO","025","65","MEMBRANES","483","Microbiology Membranes",419,{"v":3774.771,"d":"3,775"}]
[8358,"29168203",29168203,"ME25/31 STL Black, 0.45 Micro meter, 3.1 mm White Grid, 50 mm, 400/pk - PROMO","025","65","MEMBRANES","483","Microbiology Membranes",424,{"v":3819.8160000000003,"d":"3,820"}]
[8359,"29168204",29168204,"ME25/31 ST Black, 0.45 Micro meter, 3.1 mm White Grid, Sterile, 47 mm, 100/pk - PROMO","025","65","MEMBRANES","483","Microbiology Membranes",{"v":126.53,"d":"127"},{"v":1139.90877,"d":"1,140"}]
[8360,"29168205",29168205,"ME25/31 ST Black, 0.45 Micro meter, 3.1 mm White Grid, Sterile, 47 mm, 1000/pk - PROMO","025","65","MEMBRANES","483","Microbiology Membranes",751,{"v":6765.759,"d":"6,766"}]
[8361,"29168206",29168206,"ME25/31 ST Black, 0.45 Micro meter, 3.1 mm White Grid, Sterile, 50 mm, 100/pk - PROMO","025","65","MEMBRANES","483","Microbiology Membranes",{"v":128.72,"d":"129"},{"v":1159.63848,"d":"1,160"}]
[8362,"29168207",29168207,"ME25/41 STL Green, 0.45 Micro meter, 3.1 mm Black Grid, 47 mm, 400/pk - PROMO","025","65","MEMBRANES","483","Microbiology Membranes",410,{"v":3693.69,"d":"3,694"}]
[8363,"29168208",29168208,"ME25/41 STL Green 0.45 Micro meter, 3.1 mm Black Grid, 50 mm, 400/pk - PROMO","025","65","MEMBRANES","483","Microbiology Membranes",424,{"v":3819.8160000000003,"d":"3,820"}]
[8364,"29168209",29168209,"MicroPlus-21 STL White 0.45 Micro meter, 3.1 mm Black Grid, 47 mm, 400/pk - PROMO","025","65","MEMBRANES","483","Microbiology Membranes",452,{"v":4072.068,"d":"4,072"}]
[8365,"29168210",29168210,"MicroPlus-21 STL White, 0.45 Micro meter, 3.1 mm Black Grid, 50 mm, 400/pk - PROMO","025","65","MEMBRANES","483","Microbiology Membranes",{"v":468.00000000000006,"d":"468"},{"v":4216.212,"d":"4,216"}]
[8366,"29168211",29168211,"MicroPlus-31 STL Black 0.45 Micro meter, 3.1 mm White Grid, 47 mm, 400/pk - PROMO","025","65","MEMBRANES","483","Microbiology Membranes",452,{"v":4072.068,"d":"4,072"}]
[8367,"29168212",29168212,"MicroPlus-31 STL Black, 0.45 Micro meter, 3.1 mm White Grid, 50 mm, 400/pk - PROMO","025","65","MEMBRANES","483","Microbiology Membranes",{"v":468.00000000000006,"d":"468"},{"v":4216.212,"d":"4,216"}]
[8368,"29168213",29168213,"MicroPlus-41 STL Green, 0.45 Micro meter, 3.1 mm Black Grid, 47 mm, 400/pk - PROMO","025","65","MEMBRANES","483","Microbiology Membranes",452,{"v":4072.068,"d":"4,072"}]
[8369,"29168214",29168214,"MicroPlus-41 STL Green, 0.45 Micro meter, 3.1 mm Black Grid, 50 mm, 400/pk - PROMO","025","65","MEMBRANES","483","Microbiology Membranes",{"v":468.00000000000006,"d":"468"},{"v":4216.212,"d":"4,216"}]
[8370,"29168215",29168215,"MicroPlus-31 ST Black, 0.45 Micro meter, 3.1 mm White Grid, Sterile, 50 mm, 100/pk - PROMO","025","65","MEMBRANES","483","Microbiology Membranes",{"v":141.81,"d":"142"},{"v":1277.56629,"d":"1,278"}]
[8371,"29168216",29168216,"Nuclepore Membrane Circles, 50 mm, 0.4 Micro meter pore size, 100/pk - PROMO","025","65","MEMBRANES","478","MM Lab Catalogue",{"v":137.43,"d":"137"},{"v":1238.10687,"d":"1,238"}]
[8372,"29168217",29168217,"Nuclepore Membrane Circles, 47 mm, 0.2 Micro meter pore size, 100/pk - PROMO","025","65","MEMBRANES","478","MM Lab Catalogue",{"v":136.23,"d":"136"},{"v":1227.2960699999999,"d":"1,227"}]
[8373,"29168348",29168348,"Nuclepore Membrane Circles, Black, 47 mm, 0.2 Micro meter pore size, 100/pk - PROMO","025","65","MEMBRANES","478","MM Lab Catalogue",{"v":144.01,"d":"144"},{"v":1297.38609,"d":"1,297"}]
[8374,"29168349",29168349,"Nuclepore Membrane Circles, 47 mm, 0.4 Micro meter pore size, 100/pk - PROMO","025","65","MEMBRANES","478","MM Lab Catalogue",{"v":136.23,"d":"136"},{"v":1227.2960699999999,"d":"1,227"}]
[8375,"29168351",29168351,"595 1/2 Folded Filters, 125 mm - PROMO","025","75","LAB FILTRATION CF","467","CF Lab Catalogue Qualitative",{"v":50.06,"d":"50"},{"v":450.99054,"d":"451"},"Whatman产品"]
[8376,"3030-6999",29168829,"3MM CHR 8.5 IN X 2500 LF","025","67","CUSTOM LAB FILTRATION CF & GF","474","CF Custom",{"v":472.77000000000004,"d":"473"},{"v":4259.18493,"d":"4,259"}]
[8377,"29169815",29169815,"S Sepharose Fast Flow, 200 ml","021","42","PURIFICATION MEDIA","086","CDP Chromatography",{"v":2153,"d":"2,153"},{"v":19396.377,"d":"19,396"},null,{"$f":"VLOOKUP(B8378,'[1]2018.7 '!A:C,3,)","v":"Active"},{"$f":"VLOOKUP(B8378,'[1]2018.7 '!A:M,13,)","v":"Ambient"},{"$f":"VLOOKUP(B8378,'[1]2018.7 '!A:N,14,)","v":"No"}]
[8378,"29169921",29169921,"HiScreen PlasmidSelect Extra","021","42","PURIFICATION MEDIA","086","CDP Chromatography",388,{"v":3495.492,"d":"3,495"},null,{"$f":"VLOOKUP(B8379,'[1]2018.7 '!A:C,3,)","v":"Active"},{"$f":"VLOOKUP(B8379,'[1]2018.7 '!A:M,13,)","v":"Ambient"},{"$f":"VLOOKUP(B8379,'[1]2018.7 '!A:N,14,)","v":"No"}]
[8379,"29170337",29170337,"Streptavidin Mag Sepharose 150x1ml, Qiagen","025","50","CATALOGUE MAG BEADS","057","Mag Sepharose",{"v":14700.000000000002,"d":"14,700"},{"v":132432.30000000002,"d":"132,432"},null,{"$f":"VLOOKUP(B8380,'[1]2018.7 '!A:C,3,)","v":"Active"},{"$f":"VLOOKUP(B8380,'[1]2018.7 '!A:M,13,)","v":"Ambient"},{"$f":"VLOOKUP(B8380,'[1]2018.7 '!A:N,14,)","v":"No"}]
[8380,"6713-7502",29170685,"POLYCAP 75 RPI 0.2 PTFE 50/PK","025","79","CUSTOM LAB FILTRATION DEVICES","501","PE Custom Capsules",{"v":2652,"d":"2,652"},{"v":23891.868000000002,"d":"23,892"}]
[8381,"3030900763",29172267,"GRADE 3MM CHR 300MMX300M 1PK","025","62","CUSTOM MEMBRANES","475","CF Custom Medical & Clinical Diag",{"v":225.5,"d":"226"},{"v":2031.5295,"d":"2,032"}]
[8382,"6809-0093",29172460,"ANOPORE 0.02 LF 74x110MM 100/PK","025","62","CUSTOM MEMBRANES","479","MM Custom Dx",{"v":3075,"d":"3,075"},{"v":27702.675,"d":"27,703"}]
[8383,"1454-105",29172627,"GR 54 10.5CM 100/PK","025","75","LAB FILTRATION CF","468","CF Lab Catalogue Quantitative",{"v":87.39,"d":"87"},{"v":787.29651,"d":"787"},"Whatman产品"]
[8384,"29172836",29172836,"Series S Sensor Chip CM5, Pack of 3","021","82","BIACORE CONSUMABLES","917","Sensor chips  Series S",421,{"v":3792.789,"d":"3,793"},null,{"$f":"VLOOKUP(B8385,'[1]2018.7 '!A:C,3,)","v":"Active"},{"$f":"VLOOKUP(B8385,'[1]2018.7 '!A:M,13,)","v":"Reviewing"},{"$f":"VLOOKUP(B8385,'[1]2018.7 '!A:N,14,)","v":"No"}]
[8385,"29172837",29172837,"Series S Sensor Chip CM4, Pack of 3","021","82","BIACORE CONSUMABLES","917","Sensor chips  Series S",675,{"v":6081.075,"d":"6,081"},null,{"$f":"VLOOKUP(B8386,'[1]2018.7 '!A:C,3,)","v":"Active"},{"$f":"VLOOKUP(B8386,'[1]2018.7 '!A:M,13,)","v":"Reviewing"},{"$f":"VLOOKUP(B8386,'[1]2018.7 '!A:N,14,)","v":"No"}]
[8386,"29172838",29172838,"Series S Sensor Chip SA, Pack of 3","021","82","BIACORE CONSUMABLES","917","Sensor chips  Series S",823,{"v":7414.407,"d":"7,414"},null,{"$f":"VLOOKUP(B8387,'[1]2018.7 '!A:C,3,)","v":"Active"},{"$f":"VLOOKUP(B8387,'[1]2018.7 '!A:M,13,)","v":"Reviewing"},{"$f":"VLOOKUP(B8387,'[1]2018.7 '!A:N,14,)","v":"No"}]
[8387,"29172839",29172839,"Series S Sensor Chip NTA, Pack of 3","021","82","BIACORE CONSUMABLES","917","Sensor chips  Series S",{"v":1308,"d":"1,308"},{"v":11783.772,"d":"11,784"},null,{"$f":"VLOOKUP(B8388,'[1]2018.7 '!A:C,3,)","v":"Active"},{"$f":"VLOOKUP(B8388,'[1]2018.7 '!A:M,13,)","v":"Reviewing"},{"$f":"VLOOKUP(B8388,'[1]2018.7 '!A:N,14,)","v":"No"}]
[8388,"29172840",29172840,"Sensor Chip CM5, Pack of 3","021","82","BIACORE CONSUMABLES","916","Sensor chips  classic",377,{"v":3396.393,"d":"3,396"},null,{"$f":"VLOOKUP(B8389,'[1]2018.7 '!A:C,3,)","v":"Active"},{"$f":"VLOOKUP(B8389,'[1]2018.7 '!A:M,13,)","v":"Reviewing"},{"$f":"VLOOKUP(B8389,'[1]2018.7 '!A:N,14,)","v":"No"}]
[8389,"29172841",29172841,"Sensor Chip SA, Pack of 3","021","82","BIACORE CONSUMABLES","916","Sensor chips  classic",672,{"v":6054.048000000001,"d":"6,054"},null,{"$f":"VLOOKUP(B8390,'[1]2018.7 '!A:C,3,)","v":"Active"},{"$f":"VLOOKUP(B8390,'[1]2018.7 '!A:M,13,)","v":"Reviewing"},{"$f":"VLOOKUP(B8390,'[1]2018.7 '!A:N,14,)","v":"No"}]
[8390,"29172842",29172842,"Amine Coupling Kit","021","82","BIACORE CONSUMABLES","913","Reagents and kits",{"v":236.00000000000003,"d":"236"},{"v":2126.1240000000003,"d":"2,126"},null,{"$f":"VLOOKUP(B8391,'[1]2018.7 '!A:C,3,)","v":"Active"},{"$f":"VLOOKUP(B8391,'[1]2018.7 '!A:M,13,)","v":"Reviewing"},{"$f":"VLOOKUP(B8391,'[1]2018.7 '!A:N,14,)","v":"No"}]
[8391,"29172843",29172843,"Human Antibody Capture Kit","021","82","BIACORE CONSUMABLES","913","Reagents and kits",442,{"v":3981.978,"d":"3,982"},null,{"$f":"VLOOKUP(B8392,'[1]2018.7 '!A:C,3,)","v":"Active"},{"$f":"VLOOKUP(B8392,'[1]2018.7 '!A:M,13,)","v":"Reviewing"},{"$f":"VLOOKUP(B8392,'[1]2018.7 '!A:N,14,)","v":"No"}]
[8392,"29172844",29172844,"HBS-EP+ 10x, 1000 ml","021","82","BIACORE CONSUMABLES","914","Buffers and solutions",314,{"v":2828.826,"d":"2,829"},null,{"$f":"VLOOKUP(B8393,'[1]2018.7 '!A:C,3,)","v":"Active"},{"$f":"VLOOKUP(B8393,'[1]2018.7 '!A:M,13,)","v":"Reviewing"},{"$f":"VLOOKUP(B8393,'[1]2018.7 '!A:N,14,)","v":"No"}]
[8393,"29172845",29172845,"Plastic Vials 7 mm","021","82","BIACORE CONSUMABLES","911","Consumables accessories",124,{"v":1117.116,"d":"1,117"},null,{"$f":"VLOOKUP(B8394,'[1]2018.7 '!A:C,3,)","v":"Active"},{"$f":"VLOOKUP(B8394,'[1]2018.7 '!A:M,13,)","v":"Reviewing"},{"$f":"VLOOKUP(B8394,'[1]2018.7 '!A:N,14,)","v":"No"}]
[8394,"29172859",29172859,"PT0151A SureTect Salmonella species PCR Tubes","025","32","CUSTOM MOLECULAR REAGENTS","140","Custom Ready-To-Go",{"$f":"K8395/9.009","v":{"v":73.95,"d":"74"}},{"v":666.21555,"d":"666"},null,{"$f":"VLOOKUP(B8395,'[1]2018.7 '!A:C,3,)","v":"Active"},{"$f":"VLOOKUP(B8395,'[1]2018.7 '!A:M,13,)","v":"Ambient"},{"$f":"VLOOKUP(B8395,'[1]2018.7 '!A:N,14,)","v":"No"}]
[8395,"29172867",29172867,"Capto SP ImpRes HiScale 50/20","021","42","PURIFICATION MEDIA","086","CDP Chromatography",{"v":7399,"d":"7,399.0"},{"v":66657.591,"d":"66,658"},null,{"$f":"VLOOKUP(B8396,'[1]2018.7 '!A:C,3,)","v":"Active"},{"$f":"VLOOKUP(B8396,'[1]2018.7 '!A:M,13,)","v":"Ambient"},{"$f":"VLOOKUP(B8396,'[1]2018.7 '!A:N,14,)","v":"No"}]
[8396,"3004-6998",29172878,"4CHR 300MM X 300M","025","62","CUSTOM MEMBRANES","475","CF Custom Medical & Clinical Diag",{"v":225.5,"d":"226"},{"v":2031.5295,"d":"2,032"}]
[8397,"29172917",29172917,"MabSelect HiScale 50/20","021","42","PURIFICATION MEDIA","086","CDP Chromatography",{"v":17390,"d":"17,390"},{"v":156666.51,"d":"156,667"},null,{"$f":"VLOOKUP(B8398,'[1]2018.7 '!A:C,3,)","v":"Active"},{"$f":"VLOOKUP(B8398,'[1]2018.7 '!A:M,13,)","v":"Ambient"},{"$f":"VLOOKUP(B8398,'[1]2018.7 '!A:N,14,)","v":"No"}]
[8398,"WB129320",29173337,"Slovakia Easicollect Device with Card 50/pk","025","22","SAMPLE COLLECTION FORENSICS","562","FTA Custom Products",327,{"v":2945.943,"d":"2,946"}]
[8399,"WB129317",29173338,"CUSTOM FTA PLANTSAVER 100/PK","025","22","SAMPLE COLLECTION FORENSICS","562","FTA Custom Products",360,{"v":3243.2400000000002,"d":"3,243"}]
[8400,"29173365",29173365,"Filter fan kit, 24v, Rittal","025","68","BIOTRAK IMMUNOASSAYS","853","Immunoassay Accessories",374,{"v":3369.366,"d":"3,369"},null,{"$f":"VLOOKUP(B8401,'[1]2018.7 '!A:C,3,)","v":"Active"},{"$f":"VLOOKUP(B8401,'[1]2018.7 '!A:M,13,)","v":"Ambient"},{"$f":"VLOOKUP(B8401,'[1]2018.7 '!A:N,14,)","v":"No"}]
[8401,"112834",29174168,"NUC PC 293MM 0.08uM 25PK SN","025","62","CUSTOM MEMBRANES","480","MM Custom",{"v":983.9999999999999,"d":"984"},{"v":8864.856,"d":"8,865"}]
[8402,"29174524",29174524,"Prepacked PreDictor plates 4x96, Fast Trak","021","42","PURIFICATION MEDIA","086","CDP Chromatography",{"v":1600,"d":"1,600"},{"v":14414.400000000001,"d":"14,414"},null,{"$f":"VLOOKUP(B8403,'[1]2018.7 '!A:C,3,)","v":"Active"},{"$f":"VLOOKUP(B8403,'[1]2018.7 '!A:M,13,)","v":"Ambient"},{"$f":"VLOOKUP(B8403,'[1]2018.7 '!A:N,14,)","v":"No"}]
[8403,"29174624",29174624,"Customized SUPERDEX 75 10/300 GL","021","42","PURIFICATION MEDIA","086","CDP Chromatography",{"v":3372,"d":"3,372"},{"v":30378.348,"d":"30,378"},null,{"$f":"VLOOKUP(B8404,'[1]2018.7 '!A:C,3,)","v":"Active"},{"$f":"VLOOKUP(B8404,'[1]2018.7 '!A:M,13,)","v":"Ambient"},{"$f":"VLOOKUP(B8404,'[1]2018.7 '!A:N,14,)","v":"No"}]
[8404,"WB129319",29175195,"IOWA CUSTOM FTA CARD 100/PK","025","22","SAMPLE COLLECTION FORENSICS","562","FTA Custom Products",360,{"v":3243.2400000000002,"d":"3,243"}]
[8405,"WB129310",29175910,"FINLAND FTA KIT 1/PK","025","22","SAMPLE COLLECTION FORENSICS","562","FTA Custom Products",{"v":12.39,"d":"12"},{"v":111.62151000000001,"d":"112"}]
[8406,"29176078",29176078,"VIIISelect HiPrep 16/10, 10 cm","021","42","PURIFICATION MEDIA","086","CDP Chromatography",{"v":8255,"d":"8,255"},{"v":74369.295,"d":"74,369"},null,{"$f":"VLOOKUP(B8407,'[1]2018.7 '!A:C,3,)","v":"Active"},{"$f":"VLOOKUP(B8407,'[1]2018.7 '!A:M,13,)","v":"Ambient"},{"$f":"VLOOKUP(B8407,'[1]2018.7 '!A:N,14,)","v":"No"}]
[8407,"10600131",29176219,"PT 0.2UM 65MMx4M 1/PK","025","62","CUSTOM MEMBRANES","479","MM Custom Dx",{"v":79.95,"d":"80"},{"v":720.2695500000001,"d":"720"}]
[8408,"US77720",29176221,"illustra ExoProStar 1-Step 2000","025","24","GENOMICS","708","DNA Labeling & PCR Clean-up",{"v":1642,"d":"1,642"},{"v":14792.778,"d":"14,793"},null,{"$f":"VLOOKUP(B8409,'[1]2018.7 '!A:C,3,)","v":"Active"},{"$f":"VLOOKUP(B8409,'[1]2018.7 '!A:M,13,)","v":"Dry Ice"},{"$f":"VLOOKUP(B8409,'[1]2018.7 '!A:N,14,)","v":"No"}]
[8409,"GS203NPUORGSP",29176222,"MUPG2 SS 0.45uM PTFE 100PK+HC","025","76","LAB FILTRATION DEVICES","491","EF Lab Cat Syringeless Filter",597,{"v":5378.3730000000005,"d":"5,378"}]
[8410,"10426932",29176346,"GB005 80x122MM 100/PK","025","67","CUSTOM LAB FILTRATION CF & GF","474","CF Custom",{"v":75.6432,"d":"76"},{"v":681.4695888,"d":"681"}]
[8411,"13406800",29177304,"ME25 SELECT/21 V 47MM ST 1000/PK","025","65","MEMBRANES","483","Microbiology Membranes",551,{"v":4963.959,"d":"4,964"}]
[8412,"10311996",29177903,"597 36.5x28.5MM 1000/PK","025","67","CUSTOM LAB FILTRATION CF & GF","474","CF Custom",{"v":269.86,"d":"270"},{"v":2431.16874,"d":"2,431"}]
[8413,"WB129325",29178474,"CIFS EASICOLLECT ASSORTMENT 1000/pk","025","22","SAMPLE COLLECTION FORENSICS","562","FTA Custom Products",{"v":3600,"d":"3,600"},{"v":32432.4,"d":"32,432"}]
[8414,"6809-0094",29178615,"ANOPORE 0.02 LF 74x110MM 1/PK","025","62","CUSTOM MEMBRANES","479","MM Custom Dx",{"v":30.749999999999996,"d":"31"},{"v":277.02675,"d":"277"}]
[8415,"29178988",29178988,"HiTrap 5x1 ml Q Sepharose Big Bead","021","42","PURIFICATION MEDIA","086","CDP Chromatography",756,{"v":6810.804,"d":"6,811"},null,{"$f":"VLOOKUP(B8416,'[1]2018.7 '!A:C,3,)","v":"Active"},{"$f":"VLOOKUP(B8416,'[1]2018.7 '!A:M,13,)","v":"Ambient"},{"$f":"VLOOKUP(B8416,'[1]2018.7 '!A:N,14,)","v":"No"}]
[8416,"29179315",29179315,"Series S Sensor Chip Protein G 1-p","021","82","BIACORE CONSUMABLES","917","Sensor chips  Series S",363,{"v":3270.2670000000003,"d":"3,270"},null,{"$f":"VLOOKUP(B8417,'[1]2018.7 '!A:C,3,)","v":"Active"},{"$f":"VLOOKUP(B8417,'[1]2018.7 '!A:M,13,)","v":"Ambient"},{"$f":"VLOOKUP(B8417,'[1]2018.7 '!A:N,14,)","v":"No"}]
[8417,"29179316",29179316,"Sensor Chip Protein G 1-p","021","82","BIACORE CONSUMABLES","916","Sensor chips  classic",302,{"v":2720.7180000000003,"d":"2,721"},null,{"$f":"VLOOKUP(B8418,'[1]2018.7 '!A:C,3,)","v":"Active"},{"$f":"VLOOKUP(B8418,'[1]2018.7 '!A:M,13,)","v":"Ambient"},{"$f":"VLOOKUP(B8418,'[1]2018.7 '!A:N,14,)","v":"No"}]
[8418,"29179350",29179350,"UP 0.2uM NYL 50/PK, PROMO","025","76","LAB FILTRATION DEVICES","491","EF Lab Cat Syringeless Filter",{"v":195.35,"d":"195"},{"v":1759.90815,"d":"1,760"}]
[8419,"29179351",29179351,"UP 0.2uM PTFE 50/PK, PROMO","025","76","LAB FILTRATION DEVICES","491","EF Lab Cat Syringeless Filter",{"v":195.35,"d":"195"},{"v":1759.90815,"d":"1,760"}]
[8420,"29179352",29179352,"UP 0.2uM PVDF 50/PK, PROMO","025","76","LAB FILTRATION DEVICES","491","EF Lab Cat Syringeless Filter",{"v":195.35,"d":"195"},{"v":1759.90815,"d":"1,760"}]
[8421,"29179353",29179353,"UP 0.45uM GMF 50/PK, PROMO","025","76","LAB FILTRATION DEVICES","491","EF Lab Cat Syringeless Filter",{"v":195.35,"d":"195"},{"v":1759.90815,"d":"1,760"}]
[8422,"29179354",29179354,"UP 0.45uM NYL 50/PK, PROMO","025","76","LAB FILTRATION DEVICES","491","EF Lab Cat Syringeless Filter",{"v":195.35,"d":"195"},{"v":1759.90815,"d":"1,760"}]
[8423,"9905-7001",29179420,"GR 1915 600MM x 680MM 500/PK","025","75","LAB FILTRATION CF","467","CF Lab Catalogue Qualitative",261,{"v":2351.349,"d":"2,351"},"Whatman产品"]
[8424,"29179478",29179478,"UP 0.45uM PTFE 50/PK, PROMO","025","76","LAB FILTRATION DEVICES","491","EF Lab Cat Syringeless Filter",{"v":195.35,"d":"195"},{"v":1759.90815,"d":"1,760"}]
[8425,"29179479",29179479,"UP 0.45uM PVDF 50/PK, PROMO","025","76","LAB FILTRATION DEVICES","491","EF Lab Cat Syringeless Filter",{"v":195.35,"d":"195"},{"v":1759.90815,"d":"1,760"}]
[8426,"29179501",29179501,"XF - Glycolysis stress test 2 kit","025","32","CUSTOM MOLECULAR REAGENTS","140","Custom Ready-To-Go",226,{"v":2036.034,"d":"2,036"},null,{"$f":"VLOOKUP(B8427,'[1]2018.7 '!A:C,3,)","v":"Active"},{"$f":"VLOOKUP(B8427,'[1]2018.7 '!A:M,13,)","v":"Ambient"},{"$f":"VLOOKUP(B8427,'[1]2018.7 '!A:N,14,)","v":"No"}]
[8427,"29179502",29179502,"XFp - Glycolysis stress test 2 kit","025","32","CUSTOM MOLECULAR REAGENTS","140","Custom Ready-To-Go",{"v":134.11,"d":"134"},{"v":1208.1969900000001,"d":"1,208"},null,{"$f":"VLOOKUP(B8428,'[1]2018.7 '!A:C,3,)","v":"Active"},{"$f":"VLOOKUP(B8428,'[1]2018.7 '!A:M,13,)","v":"Ambient"},{"$f":"VLOOKUP(B8428,'[1]2018.7 '!A:N,14,)","v":"No"}]
[8428,"1820900764",29180020,"GF/A 9.0CM 100/PK UC","025","67","CUSTOM LAB FILTRATION CF & GF","465","GF Custom",{"v":31.518,"d":"32"},{"v":283.945662,"d":"284"}]
[8429,"29180123",29180123,"GD/X 13/0.2 PTFE 150/PK, PROMO","025","76","LAB FILTRATION DEVICES","490","EF Lab Cat Syringe Filters",354,{"v":3189.186,"d":"3,189"}]
[8430,"29180124",29180124,"GD/X 13/0.45 PTFE 150/PK, PROMO","025","76","LAB FILTRATION DEVICES","490","EF Lab Cat Syringe Filters",354,{"v":3189.186,"d":"3,189"}]
[8431,"29180125",29180125,"GD/X 25/0.2 PTFE , PROMO","025","76","LAB FILTRATION DEVICES","490","EF Lab Cat Syringe Filters",446,{"v":4018.014,"d":"4,018"}]
[8432,"29180126",29180126,"GD/X 25/0.45 PTFE 150/PK, PROMO","025","76","LAB FILTRATION DEVICES","490","EF Lab Cat Syringe Filters",446,{"v":4018.014,"d":"4,018"}]
[8433,"29180535",29180535,"MabSelect Sure HiScale 50/20","021","42","PURIFICATION MEDIA","086","CDP Chromatography",{"v":21506,"d":"21,506"},{"v":193747.554,"d":"193,748"},null,{"$f":"VLOOKUP(B8434,'[1]2018.7 '!A:C,3,)","v":"Active"},{"$f":"VLOOKUP(B8434,'[1]2018.7 '!A:M,13,)","v":"Ambient"},{"$f":"VLOOKUP(B8434,'[1]2018.7 '!A:N,14,)","v":"No"}]
[8434,"29180544",29180544,"Sephacryl S-200 HR XK 16/100","021","42","PURIFICATION MEDIA","086","CDP Chromatography",{"v":4853,"d":"4,853"},{"v":43720.677,"d":"43,721"},null,{"$f":"VLOOKUP(B8435,'[1]2018.7 '!A:C,3,)","v":"Active"},{"$f":"VLOOKUP(B8435,'[1]2018.7 '!A:M,13,)","v":"Ambient"},{"$f":"VLOOKUP(B8435,'[1]2018.7 '!A:N,14,)","v":"No"}]
[8435,"29180814",29180814,"Native protein purification starter pack","021","42","PURIFICATION MEDIA","061","Size Exclusion Columns",{"v":3863,"d":"3,863"},{"v":34801.767,"d":"34,802"},null,{"$f":"VLOOKUP(B8436,'[1]2018.7 '!A:C,3,)","v":"Active"},{"$f":"VLOOKUP(B8436,'[1]2018.7 '!A:M,13,)","v":"Reviewing"},{"$f":"VLOOKUP(B8436,'[1]2018.7 '!A:N,14,)","v":"Reviewing"}]
[8436,"29180815",29180815,"HST-tagged protein purification starter pack","021","42","PURIFICATION MEDIA","061","Size Exclusion Columns",{"v":2902,"d":"2,902"},{"v":26144.118000000002,"d":"26,144"},null,{"$f":"VLOOKUP(B8437,'[1]2018.7 '!A:C,3,)","v":"Active"},{"$f":"VLOOKUP(B8437,'[1]2018.7 '!A:M,13,)","v":"Reviewing"},{"$f":"VLOOKUP(B8437,'[1]2018.7 '!A:N,14,)","v":"Reviewing"}]
[8437,"29180816",29180816,"Antibody purification starter pack","021","42","PURIFICATION MEDIA","061","Size Exclusion Columns",{"v":3696,"d":"3,696"},{"v":33297.264,"d":"33,297"},null,{"$f":"VLOOKUP(B8438,'[1]2018.7 '!A:C,3,)","v":"Active"},{"$f":"VLOOKUP(B8438,'[1]2018.7 '!A:M,13,)","v":"Reviewing"},{"$f":"VLOOKUP(B8438,'[1]2018.7 '!A:N,14,)","v":"Reviewing"}]
[8438,"6809-5503",29184242,"ANOD 47MM 0.02uM LF NO SUP 1/PK","025","62","CUSTOM MEMBRANES","479","MM Custom Dx",{"v":12.3,"d":"12"},{"v":110.81070000000001,"d":"111"}]
[8439,"WB129324",29184900,"GENEOTEC CUSTOM FTA CARD 100/PK","025","22","SAMPLE COLLECTION FORENSICS","562","FTA Custom Products",600,{"v":5405.400000000001,"d":"5,405"}]
[8440,"10350352","29185171","603 CELTHIMBLE 33x94MM EF 25/PK","025","75","LAB FILTRATION CF","469","CF Lab Catalogue Thimbles",{"v":110.16,"d":"110"},{"v":992.43144,"d":"992"},"Whatman产品"]
[8441,"29185318","29185318","Additional Software License Biacore S200 Promo","021","82","BIACORE CONSUMABLES","917","Sensor chips  Series S",{"v":2514,"d":"2,514"},{"v":22648.626,"d":"22,649"},null,{"$f":"VLOOKUP(B8442,'[1]2018.7 '!A:C,3,)","v":"Active"},{"$f":"VLOOKUP(B8442,'[1]2018.7 '!A:M,13,)","v":"Reviewing"},{"$f":"VLOOKUP(B8442,'[1]2018.7 '!A:N,14,)","v":"No"}]
[8442,"29185319","29185319","His Capture Kit Series S Promo","021","82","BIACORE CONSUMABLES","913","Reagents and kits",{"v":1128,"d":"1,128"},{"v":10162.152,"d":"10,162"},null,{"$f":"VLOOKUP(B8443,'[1]2018.7 '!A:C,3,)","v":"Active"},{"$f":"VLOOKUP(B8443,'[1]2018.7 '!A:M,13,)","v":"Reviewing"},{"$f":"VLOOKUP(B8443,'[1]2018.7 '!A:N,14,)","v":"No"}]
[8443,"29185320","29185320","His Capture Kit classic Promo","021","82","BIACORE CONSUMABLES","913","Reagents and kits",{"v":1074,"d":"1,074"},{"v":9675.666000000001,"d":"9,676"},null,{"$f":"VLOOKUP(B8444,'[1]2018.7 '!A:C,3,)","v":"Active"},{"$f":"VLOOKUP(B8444,'[1]2018.7 '!A:M,13,)","v":"Reviewing"},{"$f":"VLOOKUP(B8444,'[1]2018.7 '!A:N,14,)","v":"No"}]
[8444,"29185321","29185321","Series S Sensor Chip NTA Promo","021","82","BIACORE CONSUMABLES","917","Sensor chips  Series S",{"v":1505,"d":"1,505"},{"v":13558.545,"d":"13,559"},null,{"$f":"VLOOKUP(B8445,'[1]2018.7 '!A:C,3,)","v":"Active"},{"$f":"VLOOKUP(B8445,'[1]2018.7 '!A:M,13,)","v":"Reviewing"},{"$f":"VLOOKUP(B8445,'[1]2018.7 '!A:N,14,)","v":"No"}]
[8445,"29185322","29185322","Sensor Chip NTA Promo","021","82","BIACORE CONSUMABLES","917","Sensor chips  Series S",{"v":1186,"d":"1,186"},{"v":10684.674,"d":"10,685"},null,{"$f":"VLOOKUP(B8446,'[1]2018.7 '!A:C,3,)","v":"Active"},{"$f":"VLOOKUP(B8446,'[1]2018.7 '!A:M,13,)","v":"Reviewing"},{"$f":"VLOOKUP(B8446,'[1]2018.7 '!A:N,14,)","v":"No"}]
[8446,"29185323","29185323","Biotin CAPture Kit, Series S Promo","021","82","BIACORE CONSUMABLES","913","Reagents and kits",817,{"v":7360.353,"d":"7,360"},null,{"$f":"VLOOKUP(B8447,'[1]2018.7 '!A:C,3,)","v":"Active"},{"$f":"VLOOKUP(B8447,'[1]2018.7 '!A:M,13,)","v":"Reviewing"},{"$f":"VLOOKUP(B8447,'[1]2018.7 '!A:N,14,)","v":"No"}]
[8447,"29185324","29185324","Biotin CAPture Kit Promo","021","82","BIACORE CONSUMABLES","913","Reagents and kits",817,{"v":7360.353,"d":"7,360"},null,{"$f":"VLOOKUP(B8448,'[1]2018.7 '!A:C,3,)","v":"Active"},{"$f":"VLOOKUP(B8448,'[1]2018.7 '!A:M,13,)","v":"Reviewing"},{"$f":"VLOOKUP(B8448,'[1]2018.7 '!A:N,14,)","v":"No"}]
[8448,"29185325","29185325","PBS-P+ 10x buffer, 1000 ml Promo","021","82","BIACORE CONSUMABLES","914","Buffers and solutions",135,{"v":1216.2150000000001,"d":"1,216"},null,{"$f":"VLOOKUP(B8449,'[1]2018.7 '!A:C,3,)","v":"Active"},{"$f":"VLOOKUP(B8449,'[1]2018.7 '!A:M,13,)","v":"Reviewing"},{"$f":"VLOOKUP(B8449,'[1]2018.7 '!A:N,14,)","v":"No"}]
[8449,"29185326","29185326","PBS-P 10x buffer, 1000 ml Promo","021","82","BIACORE CONSUMABLES","914","Buffers and solutions",134,{"v":1207.2060000000001,"d":"1,207"},null,{"$f":"VLOOKUP(B8450,'[1]2018.7 '!A:C,3,)","v":"Active"},{"$f":"VLOOKUP(B8450,'[1]2018.7 '!A:M,13,)","v":"Reviewing"},{"$f":"VLOOKUP(B8450,'[1]2018.7 '!A:N,14,)","v":"No"}]
[8450,"3001-6983","29185786","GR 1CHR 2CMx1000FT","025","67","CUSTOM LAB FILTRATION CF & GF","474","CF Custom",{"v":88.2504,"d":"88"},{"v":795.0478536,"d":"795"}]
[8451,"WB129322","29186134","EASICOLLECT DEVICE POUCH 500/PK","025","22","SAMPLE COLLECTION FORENSICS","562","FTA Custom Products",300,{"v":2702.7000000000003,"d":"2,703"}]
[8452,"29188126","29188126","G 5-TP NA SALT 40G","025","32","CUSTOM MOLECULAR REAGENTS","152","Custom Molecular Biology",{"v":15200.000000000002,"d":"15,200"},{"v":136936.80000000002,"d":"136,937"},null,{"$f":"VLOOKUP(B8453,'[1]2018.7 '!A:C,3,)","v":"Active"},{"$f":"VLOOKUP(B8453,'[1]2018.7 '!A:M,13,)","v":"Dry Ice"},{"$f":"VLOOKUP(B8453,'[1]2018.7 '!A:N,14,)","v":"No"}]
[8453,"10537203","29188555","ACCUFLOW G 30MMx75M 1/PK","025","62","CUSTOM MEMBRANES","466","GF Custom Medical & Clinical Diag",807,{"v":7270.263,"d":"7,270"}]
[8454,"29188910","29188910","Superdex 200 Increase, 50 ml","021","42","PURIFICATION MEDIA","086","CDP Chromatography",{"v":4182,"d":"4,182"},{"v":37675.638,"d":"37,676"},null,{"$f":"VLOOKUP(B8455,'[1]2018.7 '!A:C,3,)","v":"Active"},{"$f":"VLOOKUP(B8455,'[1]2018.7 '!A:M,13,)","v":"Ambient"},{"$f":"VLOOKUP(B8455,'[1]2018.7 '!A:N,14,)","v":"No"}]
[8455,"29189055","29189055","Sephacryl S-300 HR, XK 50/60, 54-56 cm","021","42","PURIFICATION MEDIA","086","CDP Chromatography",{"v":5407,"d":"5,407"},{"v":48711.663,"d":"48,712"},null,{"$f":"VLOOKUP(B8456,'[1]2018.7 '!A:C,3,)","v":"Active"},{"$f":"VLOOKUP(B8456,'[1]2018.7 '!A:M,13,)","v":"Ambient"},{"$f":"VLOOKUP(B8456,'[1]2018.7 '!A:N,14,)","v":"No"}]
[8456,"29189182","29189182","Ni Sepharose 6FF XK50/20, 10 cm","021","42","PURIFICATION MEDIA","086","CDP Chromatography",{"v":5841,"d":"5,841"},{"v":52621.569,"d":"52,622"},null,{"$f":"VLOOKUP(B8457,'[1]2018.7 '!A:C,3,)","v":"Active"},{"$f":"VLOOKUP(B8457,'[1]2018.7 '!A:M,13,)","v":"Ambient"},{"$f":"VLOOKUP(B8457,'[1]2018.7 '!A:N,14,)","v":"No"}]
[8457,"29189190","29189190","Human Fab Binder, 4 ml","021","42","PURIFICATION MEDIA","086","CDP Chromatography",{"v":46511,"d":"46,511"},{"v":419017.599,"d":"419,018"},null,{"$f":"VLOOKUP(B8458,'[1]2018.7 '!A:C,3,)","v":"Active"},{"$f":"VLOOKUP(B8458,'[1]2018.7 '!A:M,13,)","v":"Wet Ice"},{"$f":"VLOOKUP(B8458,'[1]2018.7 '!A:N,14,)","v":"No"}]
[8458,"9535-7004","29189461","BFC180 300MMx315M 1/PK","025","62","CUSTOM MEMBRANES","475","CF Custom Medical & Clinical Diag",{"$f":"K8459/9.009","v":738},{"v":6648.642,"d":"6,649"}]
[8459,"8134-7003","29190206","Standard17 28.5MMx 50M 1/PK","025","62","CUSTOM MEMBRANES","466","GF Custom Medical & Clinical Diag",{"v":173.88,"d":"174"},{"v":1566.48492,"d":"1,566"}]
[8460,"29190463","29190463","Capto SP ImpRes HiScale 50/20, 10 cm","021","42","PURIFICATION MEDIA","086","CDP Chromatography",{"v":7375,"d":"7,375.0"},{"v":66441.375,"d":"66,441"},null,{"$f":"VLOOKUP(B8461,'[1]2018.7 '!A:C,3,)","v":"Active"},{"$f":"VLOOKUP(B8461,'[1]2018.7 '!A:M,13,)","v":"Ambient"},{"$f":"VLOOKUP(B8461,'[1]2018.7 '!A:N,14,)","v":"No"}]
[8461,"29190466","29190466","SOURCE 30RPC, ST 10/250","021","42","PURIFICATION MEDIA","086","CDP Chromatography",{"v":4790,"d":"4,790"},{"v":43153.11,"d":"43,153"},null,{"$f":"VLOOKUP(B8462,'[1]2018.7 '!A:C,3,)","v":"Active"},{"$f":"VLOOKUP(B8462,'[1]2018.7 '!A:M,13,)","v":"Ambient"},{"$f":"VLOOKUP(B8462,'[1]2018.7 '!A:N,14,)","v":"No"}]
[8462,"1823900765","29190486","GF/D 55MM 100/PK UC","025","67","CUSTOM LAB FILTRATION CF & GF","465","GF Custom",{"v":28.3662,"d":"28"},{"v":255.5510958,"d":"256"}]
[8463,"10600132",29190776,"PT 0.2UM 100MMx50M 1/PK","025","52","OEM BLOTTING","489","Oem Blotting",208,{"v":1873.872,"d":"1,874"},null,{"$f":"VLOOKUP(B8464,'[1]2018.7 '!A:C,3,)","v":"Active"},{"$f":"VLOOKUP(B8464,'[1]2018.7 '!A:M,13,)","v":"Ambient"},{"$f":"VLOOKUP(B8464,'[1]2018.7 '!A:N,14,)","v":"No"}]
[8464,"60190","29190904","75mm capsule filter with ULPA media 3/8 FNPT inlet/outlet 5/pk","025","79","CUSTOM LAB FILTRATION DEVICES","501","PE Custom Capsules",{"v":255.84,"d":"256"},{"v":2304.86256,"d":"2,305"}]
[8465,"10411140","29190917","ePTFE ZD 1.0uM 153MMx92M 1/PK","025","62","CUSTOM MEMBRANES","480","MM Custom",{"v":2050,"d":"2,050"},{"v":18468.45,"d":"18,468"}]
[8466,"1001-7005","29192291","GR 1 11.0CM 5000/PK","025","75","LAB FILTRATION CF","467","CF Lab Catalogue Qualitative",{"v":152.34,"d":"152"},{"v":1372.4310600000001,"d":"1,372"},"Whatman产品"]
[8467,"10320135","29192820","508 25MM 100/PK","025","67","CUSTOM LAB FILTRATION CF & GF","474","CF Custom",{"v":16.3564,"d":"16"},{"v":147.35480760000002,"d":"147"}]
[8468,"6781-2502PM","29194604","PURADISC 25/0.2 PES 200/PK, PROMO","025","76","LAB FILTRATION DEVICES","490","EF Lab Cat Syringe Filters",513,{"v":4621.617,"d":"4,622"}]
[8469,"6781-2504PM","29194605","PURADISC 25/0.45 PES 200/PK, PROMO","025","76","LAB FILTRATION DEVICES","490","EF Lab Cat Syringe Filters",513,{"v":4621.617,"d":"4,622"}]
[8470,"550210","29194948","13MM 1.6 GF/A 100/PK SETA","025","79","CUSTOM LAB FILTRATION DEVICES","496","EF Custom",{"v":167.7664,"d":"168"},{"v":1511.4074976000002,"d":"1,511"}]
[8471,"550211","29194949","CARBON CAP 75 GF 1/PK B/B SETA","025","79","CUSTOM LAB FILTRATION DEVICES","501","PE Custom Capsules",{"v":189.28,"d":"189"},{"v":1705.22352,"d":"1,705"}]
[8472,"6894-2504PM","29194999","GD/X 25/0.45 GMF 150/PK, PROMO","025","76","LAB FILTRATION DEVICES","490","EF Lab Cat Syringe Filters",371,{"v":3342.339,"d":"3,342"}]
[8473,"6870-2504PM","29195000","GD/X 25/0.45 NYL 150/PK, PROMO","025","76","LAB FILTRATION DEVICES","490","EF Lab Cat Syringe Filters",371,{"v":3342.339,"d":"3,342"}]
[8474,"1820-110PM","29195001","GF/A 11.0CM 100/PK, PROMO","025","35","LAB FILTRATION GF","461","GF Lab Catalogue",{"v":83.31,"d":"83"},{"v":750.53979,"d":"751"}]
[8475,"1820-150PM","29195002","GF/A 15CM 100/PK, PROMO","025","35","LAB FILTRATION GF","461","GF Lab Catalogue",{"v":143.71,"d":"144"},{"v":1294.6833900000001,"d":"1,295"}]
[8476,"1820-055PM","29195003","GF/A 5.5CM 100/PK, PROMO","025","35","LAB FILTRATION GF","461","GF Lab Catalogue",{"v":32.86,"d":"33"},{"v":296.03574000000003,"d":"296"}]
[8477,"1440-185PM","29195004","GR 40 18.5CM 100/PK, PROMO","025","75","LAB FILTRATION CF","468","CF Lab Catalogue Quantitative",{"v":68.13,"d":"68"},{"v":613.7831699999999,"d":"614"},"Whatman产品"]
[8478,"1441-185PM","29195005","GR 41 18.5CM 100/PK, PROMO","025","75","LAB FILTRATION CF","468","CF Lab Catalogue Quantitative",{"v":68.12,"d":"68"},{"v":613.69308,"d":"614"},"Whatman产品"]
[8479,"1442-185PM","29195006","GR 42 18.5CM 100/PK, PROMO","025","75","LAB FILTRATION CF","468","CF Lab Catalogue Quantitative",{"v":68.12,"d":"68"},{"v":613.69308,"d":"614"},"Whatman产品"]
[8480,"1443-150PM","29195007","GR 43 15CM 100/PK, PROMO","025","75","LAB FILTRATION CF","468","CF Lab Catalogue Quantitative",{"v":46.25,"d":"46"},{"v":416.66625,"d":"417"},"Whatman产品"]
[8481,"1444-150PM","29195008","GR 44 15CM 100/PK, PROMO","025","75","LAB FILTRATION CF","468","CF Lab Catalogue Quantitative",{"v":46.25,"d":"46"},{"v":416.66625,"d":"417"},"Whatman产品"]
[8482,"1540-125PM","29195009","GR 540 12.5CM 100/PK, PROMO","025","75","LAB FILTRATION CF","468","CF Lab Catalogue Quantitative",{"v":37.31,"d":"37"},{"v":336.12579000000005,"d":"336"},"Whatman产品"]
[8483,"1541-185PM","29195010","GR 541 18.5CM 100/PK, PROMO","025","75","LAB FILTRATION CF","468","CF Lab Catalogue Quantitative",{"v":77.92,"d":"78"},{"v":701.9812800000001,"d":"702"},"Whatman产品"]
[8484,"1542-150PM","29195011","GR 542 15CM 100/PK, PROMO","025","75","LAB FILTRATION CF","468","CF Lab Catalogue Quantitative",{"v":52.76,"d":"53"},{"v":475.31484,"d":"475"},"Whatman产品"]
[8485,"UN203NPEORG-PM","29195012","MUP 0.2uM PTFE 100/PK, PROMO","025","76","LAB FILTRATION DEVICES","491","EF Lab Cat Syringeless Filter",{"v":189.21,"d":"189"},{"v":1704.5928900000001,"d":"1,705"}]
[8486,"UN203NPUORG-PM","29195013","MUP 0.45uM PTFE 100/PK, PROMO","025","76","LAB FILTRATION DEVICES","491","EF Lab Cat Syringeless Filter",{"v":189.21,"d":"189"},{"v":1704.5928900000001,"d":"1,705"}]
[8487,"2614-991PM","29195014","PH IND pH 4.5-10 6X80MM 100/PK, PROMO","025","75","LAB FILTRATION CF","471","Lab Catalogue Speciality",{"v":17.25,"d":"17"},{"v":155.40525,"d":"155"}]
[8488,"2629-990PM","29195015","PH IND pH6-8.1 11x100MM 200/PK, PROMO","025","75","LAB FILTRATION CF","471","Lab Catalogue Speciality",{"v":27.84,"d":"28"},{"v":250.81056,"d":"251"}]
[8489,"6785-2502PM","29195016","PURADISC 25/0.2 PTFE 200/PK, PROMO","025","76","LAB FILTRATION DEVICES","490","EF Lab Cat Syringe Filters",362,{"v":3261.2580000000003,"d":"3,261"}]
[8490,"6785-2504PM","29195017","PURADISC 25/0.45 PTFE 200/PK, PROMO","025","76","LAB FILTRATION DEVICES","490","EF Lab Cat Syringe Filters",362,{"v":3261.2580000000003,"d":"3,261"}]
[8491,"1851-101PM","29195018","QMA 10.16CM 100/PK, PROMO","025","35","LAB FILTRATION GF","461","GF Lab Catalogue",270,{"v":2432.4300000000003,"d":"2,432"}]
[8492,"1851-047PM","29195019","QMA 4.7CM 100/PK, PROMO","025","35","LAB FILTRATION GF","461","GF Lab Catalogue",{"v":114.87999999999998,"d":"115"},{"v":1034.95392,"d":"1,035"}]
[8493,"10463062PM","29195020","SPARTAN 30/0.2 RC 500/PK, PROMO","025","76","LAB FILTRATION DEVICES","490","EF Lab Cat Syringe Filters",762,{"v":6864.858,"d":"6,865"}]
[8494,"10463052PM","29195021","SPARTAN 30/0.45 RC 500/PK, PROMO","025","76","LAB FILTRATION DEVICES","490","EF Lab Cat Syringe Filters",762,{"v":6864.858,"d":"6,865"}]
[8495,"2800-228PM","29195022","THIMBLE ST 22x80MM 25/PK, PROMO","025","75","LAB FILTRATION CF","469","CF Lab Catalogue Thimbles",{"v":80.38,"d":"80"},{"v":724.14342,"d":"724"},"Whatman产品"]
[8496,"2800-258PM","29195023","THIMBLE ST 25x80MM 25/PK, PROMO","025","75","LAB FILTRATION CF","469","CF Lab Catalogue Thimbles",{"v":80.38,"d":"80"},{"v":724.14342,"d":"724"},"Whatman产品"]
[8497,"2800-266PM","29195024","THIMBLE ST 26x60MM 25/PK, PROMO","025","75","LAB FILTRATION CF","469","CF Lab Catalogue Thimbles",{"v":86.8,"d":"87"},{"v":781.9812000000001,"d":"782"},"Whatman产品"]
[8498,"6722-5000PM","29195025","VACUGUARD 50 0.45 PTFE 10/PK, PROMO","025","76","LAB FILTRATION DEVICES","492","EF Lab Catalogue Disc Filters",{"v":150.26,"d":"150"},{"v":1353.69234,"d":"1,354"}]
[8499,"6722-5001PM","29195026","VACUGUARD 60 0.45 PTFE 10/PK, PROMO","025","76","LAB FILTRATION DEVICES","492","EF Lab Catalogue Disc Filters",{"v":150.26,"d":"150"},{"v":1353.69234,"d":"1,354"}]
[8500,"800988","29195102","NUC 0.4UM PC 11.7mm X 100M 1/PK","025","62","CUSTOM MEMBRANES","479","MM Custom Dx",{"v":307.5,"d":"308"},{"v":2770.2675,"d":"2,770"}]
[8501,"29195155","29195155","Sephadex G-50 Superfine XK 26/20,10 cm","021","42","PURIFICATION MEDIA","086","CDP Chromatography",{"v":4834,"d":"4,834"},{"v":43549.506,"d":"43,550"},null,{"$f":"VLOOKUP(B8502,'[1]2018.7 '!A:C,3,)","v":"Active"},{"$f":"VLOOKUP(B8502,'[1]2018.7 '!A:M,13,)","v":"Ambient"},{"$f":"VLOOKUP(B8502,'[1]2018.7 '!A:N,14,)","v":"No"}]
[8502,"29195527","29195527","Sephadex G-50 M XK 26/100, 90 cm","021","42","PURIFICATION MEDIA","086","CDP Chromatography",{"v":4315,"d":"4,315"},{"v":38873.835,"d":"38,874"},null,{"$f":"VLOOKUP(B8503,'[1]2018.7 '!A:C,3,)","v":"Active"},{"$f":"VLOOKUP(B8503,'[1]2018.7 '!A:M,13,)","v":"Ambient"},{"$f":"VLOOKUP(B8503,'[1]2018.7 '!A:N,14,)","v":"No"}]
[8503,"29195528","29195528","DEAE Sephadex A-25 XK 26/20, 10 cm","021","42","PURIFICATION MEDIA","086","CDP Chromatography",{"v":5563,"d":"5,563"},{"v":50117.067,"d":"50,117"},null,{"$f":"VLOOKUP(B8504,'[1]2018.7 '!A:C,3,)","v":"Active"},{"$f":"VLOOKUP(B8504,'[1]2018.7 '!A:M,13,)","v":"Ambient"},{"$f":"VLOOKUP(B8504,'[1]2018.7 '!A:N,14,)","v":"No"}]
[8504,"8134-654","29200745","STANDARD17 40MMx50M 1/PK","025","62","CUSTOM MEMBRANES","466","GF Custom Medical & Clinical Diag",201,{"v":1810.809,"d":"1,811"}]
[8505,"29200812","29200812","Superose 6 Increase, 50 ml","021","42","PURIFICATION MEDIA","086","CDP Chromatography",{"v":4031,"d":"4,031"},{"v":36315.279,"d":"36,315"},null,{"$f":"VLOOKUP(B8506,'[1]2018.7 '!A:C,3,)","v":"Active"},{"$f":"VLOOKUP(B8506,'[1]2018.7 '!A:M,13,)","v":"Ambient"},{"$f":"VLOOKUP(B8506,'[1]2018.7 '!A:N,14,)","v":"No"}]
[8506,"8134-688","29201135","STANDARD17 8MMx50M 1PK","025","62","CUSTOM MEMBRANES","466","GF Custom Medical & Clinical Diag",{"v":44.51,"d":"45"},{"v":400.99059,"d":"401"}]
[8507,"29201281","29201281","Superdex 200 Increase Tricorn 10/600 GL","021","42","PURIFICATION MEDIA","086","CDP Chromatography",{"v":6524,"d":"6,524"},{"v":58774.716,"d":"58,775"},null,{"$f":"VLOOKUP(B8508,'[1]2018.7 '!A:C,3,)","v":"Active"},{"$f":"VLOOKUP(B8508,'[1]2018.7 '!A:M,13,)","v":"Ambient"},{"$f":"VLOOKUP(B8508,'[1]2018.7 '!A:N,14,)","v":"No"}]
[8508,"8124-047","29201330","VF2 47MM 100PK","025","62","CUSTOM MEMBRANES","466","GF Custom Medical & Clinical Diag",{"v":48.65,"d":"49"},{"v":438.28785,"d":"438"}]
[8509,"29203188","29203188","Early Bird Fee - until end of March 2016","021","82","BIACORE CONSUMABLES","929","Training Course",742,{"v":6684.678,"d":"6,685"},null,{"$f":"VLOOKUP(B8510,'[1]2018.7 '!A:C,3,)","v":"Active"},{"$f":"VLOOKUP(B8510,'[1]2018.7 '!A:M,13,)","v":"Reviewing"},{"$f":"VLOOKUP(B8510,'[1]2018.7 '!A:N,14,)","v":"No"}]
[8510,"29203189","29203189","Registration Fee Dipia 2016","021","82","BIACORE CONSUMABLES","929","Training Course",850,{"v":7657.650000000001,"d":"7,658"},null,{"$f":"VLOOKUP(B8511,'[1]2018.7 '!A:C,3,)","v":"Active"},{"$f":"VLOOKUP(B8511,'[1]2018.7 '!A:M,13,)","v":"Reviewing"},{"$f":"VLOOKUP(B8511,'[1]2018.7 '!A:N,14,)","v":"No"}]
[8511,"29203190","29203190","One day pass","021","82","BIACORE CONSUMABLES","929","Training Course",204,{"v":1837.836,"d":"1,838"},null,{"$f":"VLOOKUP(B8512,'[1]2018.7 '!A:C,3,)","v":"Active"},{"$f":"VLOOKUP(B8512,'[1]2018.7 '!A:M,13,)","v":"Reviewing"},{"$f":"VLOOKUP(B8512,'[1]2018.7 '!A:N,14,)","v":"No"}]
[8512,"29203191","29203191","Guest pass","021","82","BIACORE CONSUMABLES","929","Training Course",227,{"v":2045.0430000000001,"d":"2,045"},null,{"$f":"VLOOKUP(B8513,'[1]2018.7 '!A:C,3,)","v":"Active"},{"$f":"VLOOKUP(B8513,'[1]2018.7 '!A:M,13,)","v":"Reviewing"},{"$f":"VLOOKUP(B8513,'[1]2018.7 '!A:N,14,)","v":"No"}]
[8513,"29203192","29203192","Multi-registration deals - until end of March 2016","021","82","BIACORE CONSUMABLES","929","Training Course",{"v":2004,"d":"2,004"},{"v":18054.036,"d":"18,054"},null,{"$f":"VLOOKUP(B8514,'[1]2018.7 '!A:C,3,)","v":"Active"},{"$f":"VLOOKUP(B8514,'[1]2018.7 '!A:M,13,)","v":"Reviewing"},{"$f":"VLOOKUP(B8514,'[1]2018.7 '!A:N,14,)","v":"No"}]
[8514,"29203193","29203193","Hotel Fee Dipia 2016","021","82","BIACORE CONSUMABLES","929","Training Course",{"v":2295,"d":"2,295"},{"v":20675.655000000002,"d":"20,676"},null,{"$f":"VLOOKUP(B8515,'[1]2018.7 '!A:C,3,)","v":"Active"},{"$f":"VLOOKUP(B8515,'[1]2018.7 '!A:M,13,)","v":"Reviewing"},{"$f":"VLOOKUP(B8515,'[1]2018.7 '!A:N,14,)","v":"No"}]
[8515,"WB129331","29203533","KUWAIT BLOOD DNA DATABASE KIT 1/PK","025","22","SAMPLE COLLECTION FORENSICS","562","FTA Custom Products",{"v":4.7,"d":"5"},{"v":42.3423,"d":"42"}]
[8516,"29206214","29206214","HiPrep 16/10 Capto MMC ImpRes","021","42","PURIFICATION MEDIA","086","CDP Chromatography",{"v":2925,"d":"2,925.0"},{"v":26351.325,"d":"26,351"},null,{"$f":"VLOOKUP(B8517,'[1]2018.7 '!A:C,3,)","v":"Active"},{"$f":"VLOOKUP(B8517,'[1]2018.7 '!A:M,13,)","v":"Ambient"},{"$f":"VLOOKUP(B8517,'[1]2018.7 '!A:N,14,)","v":"No"}]
[8517,"90100422",90100422,"HITRAP 1X5 ML,IGM PURIFICATION","021","42","PURIFICATION MEDIA","086","CDP Chromatography",{"v":3200,"d":"3,200"},{"v":28828.800000000003,"d":"28,829"},null,{"$f":"VLOOKUP(B8518,'[1]2018.7 '!A:C,3,)","v":"Active"},{"$f":"VLOOKUP(B8518,'[1]2018.7 '!A:M,13,)","v":"Ambient"},{"$f":"VLOOKUP(B8518,'[1]2018.7 '!A:N,14,)","v":"No"}]
[8518,"29207223","29207223","1 x Series S Sensor Chip Protein G, 1-pack","021","82","BIACORE CONSUMABLES","917","Sensor chips  Series S",272,{"v":2450.4480000000003,"d":"2,450"},null,{"$f":"VLOOKUP(B8519,'[1]2018.7 '!A:C,3,)","v":"Active"},{"$f":"VLOOKUP(B8519,'[1]2018.7 '!A:M,13,)","v":"Reviewing"},{"$f":"VLOOKUP(B8519,'[1]2018.7 '!A:N,14,)","v":"Reviewing"}]
[8519,"29207224","29207224","1 x Sensor Chip Protein G, 1-pack","021","82","BIACORE CONSUMABLES","916","Sensor chips  classic",226,{"v":2036.034,"d":"2,036"},null,{"$f":"VLOOKUP(B8520,'[1]2018.7 '!A:C,3,)","v":"Active"},{"$f":"VLOOKUP(B8520,'[1]2018.7 '!A:M,13,)","v":"Reviewing"},{"$f":"VLOOKUP(B8520,'[1]2018.7 '!A:N,14,)","v":"Reviewing"}]
[8520,"29207225","29207225","1 x Series S Sensor Chip Protein A, 1-pack","021","82","BIACORE CONSUMABLES","917","Sensor chips  Series S",404,{"v":3639.636,"d":"3,640"},null,{"$f":"VLOOKUP(B8521,'[1]2018.7 '!A:C,3,)","v":"Active"},{"$f":"VLOOKUP(B8521,'[1]2018.7 '!A:M,13,)","v":"Reviewing"},{"$f":"VLOOKUP(B8521,'[1]2018.7 '!A:N,14,)","v":"Reviewing"}]
[8521,"29207226","29207226","1 x Series S Sensor Chip Protein A, 3-pack","021","82","BIACORE CONSUMABLES","917","Sensor chips  Series S",{"v":1096,"d":"1,096"},{"v":9873.864,"d":"9,874"},null,{"$f":"VLOOKUP(B8522,'[1]2018.7 '!A:C,3,)","v":"Active"},{"$f":"VLOOKUP(B8522,'[1]2018.7 '!A:M,13,)","v":"Reviewing"},{"$f":"VLOOKUP(B8522,'[1]2018.7 '!A:N,14,)","v":"Reviewing"}]
[8522,"29207227","29207227","1 x Sensor Chip Protein A, 1-pack","021","82","BIACORE CONSUMABLES","916","Sensor chips  classic",{"$f":"K8523/9.009","v":336},{"v":3027.0240000000003,"d":"3,027"},null,{"$f":"VLOOKUP(B8523,'[1]2018.7 '!A:C,3,)","v":"Active"},{"$f":"VLOOKUP(B8523,'[1]2018.7 '!A:M,13,)","v":"Reviewing"},{"$f":"VLOOKUP(B8523,'[1]2018.7 '!A:N,14,)","v":"Reviewing"}]
[8523,"29207228","29207228","1 x Sensor Chip Protein A, 3-pack","021","82","BIACORE CONSUMABLES","916","Sensor chips  classic",914,{"v":8234.226,"d":"8,234"},null,{"$f":"VLOOKUP(B8524,'[1]2018.7 '!A:C,3,)","v":"Active"},{"$f":"VLOOKUP(B8524,'[1]2018.7 '!A:M,13,)","v":"Reviewing"},{"$f":"VLOOKUP(B8524,'[1]2018.7 '!A:N,14,)","v":"Reviewing"}]
[8524,"29207229","29207229","1 x Human Fab Capture Kit","021","82","BIACORE CONSUMABLES","913","Reagents and kits",912,{"v":8216.208,"d":"8,216"},null,{"$f":"VLOOKUP(B8525,'[1]2018.7 '!A:C,3,)","v":"Active"},{"$f":"VLOOKUP(B8525,'[1]2018.7 '!A:M,13,)","v":"Reviewing"},{"$f":"VLOOKUP(B8525,'[1]2018.7 '!A:N,14,)","v":"Reviewing"}]
[8525,"29207230","29207230","1 x Human Antibody Capture Kit","021","82","BIACORE CONSUMABLES","913","Reagents and kits",501,{"v":4513.509,"d":"4,514"},null,{"$f":"VLOOKUP(B8526,'[1]2018.7 '!A:C,3,)","v":"Active"},{"$f":"VLOOKUP(B8526,'[1]2018.7 '!A:M,13,)","v":"Reviewing"},{"$f":"VLOOKUP(B8526,'[1]2018.7 '!A:N,14,)","v":"Reviewing"}]
[8526,"10530137","29207979","NACO 903 HIV SCREEN KIT","025","66","SAMPLE COLLECTION RESEARCH CUSTOM","527","903 Research Custom",283,{"v":2549.547,"d":"2,550"}]
[8527,"WB129332","29209099","JH FTA ELUTE KIT 1/PK","025","66","SAMPLE COLLECTION RESEARCH CUSTOM","563","FTA Elute Custom Products",{"v":2.91,"d":"3"},{"v":26.21619,"d":"26"}]
[8528,"29211343","29211343","Registration Fee Dipia 2016","021","82","BIACORE CONSUMABLES","929","Training Course",850,{"v":7657.650000000001,"d":"7,658"},null,{"$f":"VLOOKUP(B8529,'[1]2018.7 '!A:C,3,)","v":"Active"},{"$f":"VLOOKUP(B8529,'[1]2018.7 '!A:M,13,)","v":"Reviewing"},{"$f":"VLOOKUP(B8529,'[1]2018.7 '!A:N,14,)","v":"Reviewing"}]
[8529,"29211345","29211345","Hotel Fee Dipia 2016","021","82","BIACORE CONSUMABLES","929","Training Course",{"v":2295,"d":"2,295"},{"v":20675.655000000002,"d":"20,676"},null,{"$f":"VLOOKUP(B8530,'[1]2018.7 '!A:C,3,)","v":"Active"},{"$f":"VLOOKUP(B8530,'[1]2018.7 '!A:M,13,)","v":"Reviewing"},{"$f":"VLOOKUP(B8530,'[1]2018.7 '!A:N,14,)","v":"Reviewing"}]
[8530,"29148721","29148721","Superdex 75 Increase 10/300 GL","021","42","PURIFICATION MEDIA","061","Size Exclusion Columns",{"v":2974,"d":"2,974"},{"v":26792.766,"d":"26,793"},null,{"$f":"VLOOKUP(B8531,'[1]2018.7 '!A:C,3,)","v":"Active"},{"$f":"VLOOKUP(B8531,'[1]2018.7 '!A:M,13,)","v":"Ambient"},{"$f":"VLOOKUP(B8531,'[1]2018.7 '!A:N,14,)","v":"No"}]
[8531,"29148722","29148722","Superdex 75 Increase 5/150 GL","021","42","PURIFICATION MEDIA","061","Size Exclusion Columns",{"v":2974,"d":"2,974"},{"v":26792.766,"d":"26,793"},null,{"$f":"VLOOKUP(B8532,'[1]2018.7 '!A:C,3,)","v":"Active"},{"$f":"VLOOKUP(B8532,'[1]2018.7 '!A:M,13,)","v":"Ambient"},{"$f":"VLOOKUP(B8532,'[1]2018.7 '!A:N,14,)","v":"No"}]
[8532,"29148723","29148723","Superdex 75 Increase 3.2/300","021","42","PURIFICATION MEDIA","061","Size Exclusion Columns",{"v":3555,"d":"3,555"},{"v":32026.995000000003,"d":"32,027"},null,{"$f":"VLOOKUP(B8533,'[1]2018.7 '!A:C,3,)","v":"Active"},{"$f":"VLOOKUP(B8533,'[1]2018.7 '!A:M,13,)","v":"Ambient"},{"$f":"VLOOKUP(B8533,'[1]2018.7 '!A:N,14,)","v":"No"}]
[8533,"18001229","18001229","SAMPLE APPLICATOR 6/4","025","41","1D WB OTHER","106","PhastSystem Instruments",{"v":173.55,"d":"174"},{"v":1563.51195,"d":"1,564"},null,{"$f":"VLOOKUP(B8534,'[1]2018.7 '!A:C,3,)","v":"Active"},{"$f":"VLOOKUP(B8534,'[1]2018.7 '!A:M,13,)","v":"Ambient"},{"$f":"VLOOKUP(B8534,'[1]2018.7 '!A:N,14,)","v":"No"}]
[8534,"18008301","18008301","PHASTGEL IEF GEL COVER, PKG OF 2","025","41","1D WB OTHER","106","PhastSystem Instruments",{"v":138.01,"d":"138"},{"v":1243.3320899999999,"d":"1,243"},null,{"$f":"VLOOKUP(B8535,'[1]2018.7 '!A:C,3,)","v":"Phase Out"},{"$f":"VLOOKUP(B8535,'[1]2018.7 '!A:M,13,)","v":"Ambient"},{"$f":"VLOOKUP(B8535,'[1]2018.7 '!A:N,14,)","v":"reviewing"}]
[8535,"18009701","18009701","PHASTGEL SAMPLE-WELL STAMP","025","41","1D WB OTHER","106","PhastSystem Instruments",{"v":56.46,"d":"56"},{"v":508.64814,"d":"509"},null,{"$f":"VLOOKUP(B8536,'[1]2018.7 '!A:C,3,)","v":"Active"},{"$f":"VLOOKUP(B8536,'[1]2018.7 '!A:M,13,)","v":"Ambient"},{"$f":"VLOOKUP(B8536,'[1]2018.7 '!A:N,14,)","v":"No"}]
[8536,"18100318","18100318","PHASTTRANSFER FILTER P (PKG/200)","025","41","1D WB OTHER","106","PhastSystem Instruments",{"v":83.64,"d":"84"},{"v":753.5127600000001,"d":"754"},null,{"$f":"VLOOKUP(B8537,'[1]2018.7 '!A:C,3,)","v":"Active"},{"$f":"VLOOKUP(B8537,'[1]2018.7 '!A:M,13,)","v":"Ambient"},{"$f":"VLOOKUP(B8537,'[1]2018.7 '!A:N,14,)","v":"No"}]
[8537,"18161401","18161401","PHASTGEL SAMPLE APPL.12/0.3","025","41","1D WB OTHER","106","PhastSystem Instruments",{"v":173.55,"d":"174"},{"v":1563.51195,"d":"1,564"},null,{"$f":"VLOOKUP(B8538,'[1]2018.7 '!A:C,3,)","v":"Active"},{"$f":"VLOOKUP(B8538,'[1]2018.7 '!A:M,13,)","v":"Ambient"},{"$f":"VLOOKUP(B8538,'[1]2018.7 '!A:N,14,)","v":"No"}]
[8538,"18161701","18161701","PHASTGEL SAMPLE APPL. 8/0.5","025","41","1D WB OTHER","106","PhastSystem Instruments",{"v":173.55,"d":"174"},{"v":1563.51195,"d":"1,564"},null,{"$f":"VLOOKUP(B8539,'[1]2018.7 '!A:C,3,)","v":"Active"},{"$f":"VLOOKUP(B8539,'[1]2018.7 '!A:M,13,)","v":"Ambient"},{"$f":"VLOOKUP(B8539,'[1]2018.7 '!A:N,14,)","v":"No"}]
[8539,"18161801","18161801","PHASTGEL SAMPLE APPL. 8/1","025","41","1D WB OTHER","106","PhastSystem Instruments",{"v":173.55,"d":"174"},{"v":1563.51195,"d":"1,564"},null,{"$f":"VLOOKUP(B8540,'[1]2018.7 '!A:C,3,)","v":"Active"},{"$f":"VLOOKUP(B8540,'[1]2018.7 '!A:M,13,)","v":"Ambient"},{"$f":"VLOOKUP(B8540,'[1]2018.7 '!A:N,14,)","v":"No"}]
[8540,"18166801","18166801","PHASTGEL BUFFER STRIP HOLDER, PKG/2","025","41","1D WB OTHER","106","PhastSystem Instruments",{"v":106.64,"d":"107"},{"v":960.7197600000001,"d":"961"},null,{"$f":"VLOOKUP(B8541,'[1]2018.7 '!A:C,3,)","v":"Active"},{"$f":"VLOOKUP(B8541,'[1]2018.7 '!A:M,13,)","v":"Ambient"},{"$f":"VLOOKUP(B8541,'[1]2018.7 '!A:N,14,)","v":"No"}]
[8541,"18369001","18369001","ELECTRODE ASSEMBLY","025","41","1D WB OTHER","106","PhastSystem Instruments",368,{"v":3315.312,"d":"3,315"},null,{"$f":"VLOOKUP(B8542,'[1]2018.7 '!A:C,3,)","v":"Active"},{"$f":"VLOOKUP(B8542,'[1]2018.7 '!A:M,13,)","v":"Ambient"},{"$f":"VLOOKUP(B8542,'[1]2018.7 '!A:N,14,)","v":"No"}]
[8542,"19018201","19018201","TUBING PVC","025","41","1D WB OTHER","106","PhastSystem Instruments",{"v":82.59,"d":"83"},{"v":744.05331,"d":"744"},null,{"$f":"VLOOKUP(B8543,'[1]2018.7 '!A:C,3,)","v":"Active"},{"$f":"VLOOKUP(B8543,'[1]2018.7 '!A:M,13,)","v":"Ambient"},{"$f":"VLOOKUP(B8543,'[1]2018.7 '!A:N,14,)","v":"No"}]
[8543,"17051601","17051601","PHASTGEL SDS BUFFER STRIPS","025","41","1D WB OTHER","108","PhastSystem Media",{"v":91.04,"d":"91"},{"v":820.1793600000001,"d":"820"},null,{"$f":"VLOOKUP(B8544,'[1]2018.7 '!A:C,3,)","v":"Active"},{"$f":"VLOOKUP(B8544,'[1]2018.7 '!A:M,13,)","v":"Ambient"},{"$f":"VLOOKUP(B8544,'[1]2018.7 '!A:N,14,)","v":"No"}]
[8544,"17051701","17051701","PHASTGEL NATIVE BUFFER STRIPS","025","41","1D WB OTHER","108","PhastSystem Media",{"v":91.04,"d":"91"},{"v":820.1793600000001,"d":"820"},null,{"$f":"VLOOKUP(B8545,'[1]2018.7 '!A:C,3,)","v":"Active"},{"$f":"VLOOKUP(B8545,'[1]2018.7 '!A:M,13,)","v":"Ambient"},{"$f":"VLOOKUP(B8545,'[1]2018.7 '!A:N,14,)","v":"No"}]
[8545,"17051801","17051801","PHASTGEL BLUE R (40 TABLETS)","025","41","1D WB OTHER","108","PhastSystem Media",{"v":96.9,"d":"97"},{"v":872.9721000000001,"d":"873"}]
[8546,"17054001","17054001","PHASTGEL GRADIENT 10-15","025","41","1D WB OTHER","108","PhastSystem Media",{"v":160.65,"d":"161"},{"v":1447.2958500000002,"d":"1,447"},null,{"$f":"VLOOKUP(B8547,'[1]2018.7 '!A:C,3,)","v":"Active"},{"$f":"VLOOKUP(B8547,'[1]2018.7 '!A:M,13,)","v":"Ambient"},{"$f":"VLOOKUP(B8547,'[1]2018.7 '!A:N,14,)","v":"No"}]
[8547,"17054201","17054201","PHASTGEL GRADIENT 8-25","025","41","1D WB OTHER","108","PhastSystem Media",{"v":160.65,"d":"161"},{"v":1447.2958500000002,"d":"1,447"},null,{"$f":"VLOOKUP(B8548,'[1]2018.7 '!A:C,3,)","v":"Active"},{"$f":"VLOOKUP(B8548,'[1]2018.7 '!A:M,13,)","v":"Ambient"},{"$f":"VLOOKUP(B8548,'[1]2018.7 '!A:N,14,)","v":"No"}]
[8548,"17054301","17054301","PHASTGEL IEF 3-9","025","41","1D WB OTHER","108","PhastSystem Media",{"v":160.65,"d":"161"},{"v":1447.2958500000002,"d":"1,447"},null,{"$f":"VLOOKUP(B8549,'[1]2018.7 '!A:C,3,)","v":"Active"},{"$f":"VLOOKUP(B8549,'[1]2018.7 '!A:M,13,)","v":"Ambient"},{"$f":"VLOOKUP(B8549,'[1]2018.7 '!A:N,14,)","v":"No"}]
[8549,"17054401","17054401","PHASTGEL IEF 4-6.5","025","41","1D WB OTHER","108","PhastSystem Media",{"v":160.65,"d":"161"},{"v":1447.2958500000002,"d":"1,447"},null,{"$f":"VLOOKUP(B8550,'[1]2018.7 '!A:C,3,)","v":"Active"},{"$f":"VLOOKUP(B8550,'[1]2018.7 '!A:M,13,)","v":"Ambient"},{"$f":"VLOOKUP(B8550,'[1]2018.7 '!A:N,14,)","v":"No"}]
[8550,"17054501","17054501","PHASTGEL IEF 5-8","025","41","1D WB OTHER","108","PhastSystem Media",{"v":160.65,"d":"161"},{"v":1447.2958500000002,"d":"1,447"},null,{"$f":"VLOOKUP(B8551,'[1]2018.7 '!A:C,3,)","v":"Active"},{"$f":"VLOOKUP(B8551,'[1]2018.7 '!A:M,13,)","v":"Ambient"},{"$f":"VLOOKUP(B8551,'[1]2018.7 '!A:N,14,)","v":"No"}]
[8551,"17062201","17062201","PHAST GEL HOMOGENEOUS 7.5","025","41","1D WB OTHER","108","PhastSystem Media",194,{"v":1747.746,"d":"1,748"},null,{"$f":"VLOOKUP(B8552,'[1]2018.7 '!A:C,3,)","v":"Active"},{"$f":"VLOOKUP(B8552,'[1]2018.7 '!A:M,13,)","v":"Ambient"},{"$f":"VLOOKUP(B8552,'[1]2018.7 '!A:N,14,)","v":"No"}]
[8552,"17062301","17062301","PHAST GEL HOMOGENEOUS 12.5","025","41","1D WB OTHER","108","PhastSystem Media",{"v":144.59,"d":"145"},{"v":1302.61131,"d":"1,303"},null,{"$f":"VLOOKUP(B8553,'[1]2018.7 '!A:C,3,)","v":"Active"},{"$f":"VLOOKUP(B8553,'[1]2018.7 '!A:M,13,)","v":"Ambient"},{"$f":"VLOOKUP(B8553,'[1]2018.7 '!A:N,14,)","v":"No"}]
[8553,"17062401","17062401","PHAST GEL HOMOGENEOUS 20","025","41","1D WB OTHER","108","PhastSystem Media",{"v":144.59,"d":"145"},{"v":1302.61131,"d":"1,303"},null,{"$f":"VLOOKUP(B8554,'[1]2018.7 '!A:C,3,)","v":"Active"},{"$f":"VLOOKUP(B8554,'[1]2018.7 '!A:M,13,)","v":"Ambient"},{"$f":"VLOOKUP(B8554,'[1]2018.7 '!A:N,14,)","v":"No"}]
[8554,"17067701","17067701","PHASTGEL DRY IEF","025","41","1D WB OTHER","108","PhastSystem Media",{"v":160.65,"d":"161"},{"v":1447.2958500000002,"d":"1,447"},null,{"$f":"VLOOKUP(B8555,'[1]2018.7 '!A:C,3,)","v":"Active"},{"$f":"VLOOKUP(B8555,'[1]2018.7 '!A:M,13,)","v":"Wet Ice"},{"$f":"VLOOKUP(B8555,'[1]2018.7 '!A:N,14,)","v":"No"}]
[8555,"17067801","17067801","PHASTGEL GRADIENT 4-15","025","41","1D WB OTHER","108","PhastSystem Media",{"v":160.65,"d":"161"},{"v":1447.2958500000002,"d":"1,447"},null,{"$f":"VLOOKUP(B8556,'[1]2018.7 '!A:C,3,)","v":"Active"},{"$f":"VLOOKUP(B8556,'[1]2018.7 '!A:M,13,)","v":"Ambient"},{"$f":"VLOOKUP(B8556,'[1]2018.7 '!A:N,14,)","v":"No"}]
[8556,"17067901","17067901","PHASTGEL HIGH DENSITY","025","41","1D WB OTHER","108","PhastSystem Media",268,{"v":2414.4120000000003,"d":"2,414"}]
[8557,"18100101","18100101","PHASTGEL CASSETTE","025","41","1D WB OTHER","108","PhastSystem Media",292,{"v":2630.628,"d":"2,631"},null,{"$f":"VLOOKUP(B8558,'[1]2018.7 '!A:C,3,)","v":"Active"},{"$f":"VLOOKUP(B8558,'[1]2018.7 '!A:M,13,)","v":"Ambient"},{"$f":"VLOOKUP(B8558,'[1]2018.7 '!A:N,14,)","v":"No"}]
[8558,"29219757",29219757,"Superdex 30 Increase 10/300 GL","021","42","PURIFICATION MEDIA","061","Size Exclusion Columns",{"v":2974,"d":"2,974"},{"v":26792.766,"d":"26,793"},null,{"$f":"VLOOKUP(B8559,'[1]2018.7 '!A:C,3,)","v":"Active"},{"$f":"VLOOKUP(B8559,'[1]2018.7 '!A:M,13,)","v":"Ambient"},{"$f":"VLOOKUP(B8559,'[1]2018.7 '!A:N,14,)","v":"No"}]
[8559,"29219758",29219758,"Superdex 30 Increase 3.2/300","021","42","PURIFICATION MEDIA","061","Size Exclusion Columns",{"v":3555,"d":"3,555"},{"v":32026.995000000003,"d":"32,027"},null,{"$f":"VLOOKUP(B8560,'[1]2018.7 '!A:C,3,)","v":"Active"},{"$f":"VLOOKUP(B8560,'[1]2018.7 '!A:M,13,)","v":"Ambient"},{"$f":"VLOOKUP(B8560,'[1]2018.7 '!A:N,14,)","v":"No"}]
[8560,"29185230","29185230","LM- Xuri T Cell Expansion Medium  with rHSA and L-Alanyl-L-Glutamine  500mL","022","03",null,"226",null,{"v":180.22,"d":"180"},{"v":1623.6019800000001,"d":"1,624"},null,{"$f":"VLOOKUP(B8561,'[1]2018.7 '!A:C,3,)","v":"Active"},{"$f":"VLOOKUP(B8561,'[1]2018.7 '!A:M,13,)","v":"Wet Ice"},{"$f":"VLOOKUP(B8561,'[1]2018.7 '!A:N,14,)","v":"No"}]
[8561,"29064332","29064332","Xuri MSC Medium","022","03",null,"226",null,359,{"v":3234.231,"d":"3,234"},null,{"$f":"VLOOKUP(B8562,'[1]2018.7 '!A:C,3,)","v":"Sales Stop"},{"$f":"VLOOKUP(B8562,'[1]2018.7 '!A:M,13,)","v":"reviewing"},{"$f":"VLOOKUP(B8562,'[1]2018.7 '!A:N,14,)","v":"reviewing"}]
[8562,"29062457","29062457","Xuri MSC Attachment Solution","022","03",null,"226",null,327,{"v":2945.943,"d":"2,946"},null,{"$f":"VLOOKUP(B8563,'[1]2018.7 '!A:C,3,)","v":"Sales Stop"},{"$f":"VLOOKUP(B8563,'[1]2018.7 '!A:M,13,)","v":"Wet Ice"},{"$f":"VLOOKUP(B8563,'[1]2018.7 '!A:N,14,)","v":"reviewing"}]
[8563,"29185231","29185231","LM- Xuri T Cell Expansion Medium  with rHSA and L-Alanyl-L-Glutamine  1L","022","03",null,"226",null,{"v":245.99999999999997,"d":"246"},{"v":2216.214,"d":"2,216"},null,{"$f":"VLOOKUP(B8564,'[1]2018.7 '!A:C,3,)","v":"Active"},{"$f":"VLOOKUP(B8564,'[1]2018.7 '!A:M,13,)","v":"Wet Ice"},{"$f":"VLOOKUP(B8564,'[1]2018.7 '!A:N,14,)","v":"No"}]
[8564,"29225156","29225156","LM- Xuri Phosphate Buffered Saline  3L  CELL THERAPY TECHNOLOGIES","022","03",null,"227",null,337,{"v":3036.033,"d":"3,036"},null,{"$f":"VLOOKUP(B8565,'[1]2018.7 '!A:C,3,)","v":"Active"},{"$f":"VLOOKUP(B8565,'[1]2018.7 '!A:M,13,)","v":"Ambient"},{"$f":"VLOOKUP(B8565,'[1]2018.7 '!A:N,14,)","v":"No"}]
[8565,"29134089","29134089","XuriTM IL-2 1MIU","022","03",null,"229",null,{"v":1475,"d":"1,475"},{"v":13288.275,"d":"13,288"},null,{"$f":"VLOOKUP(B8566,'[1]2018.7 '!A:C,3,)","v":"Active"},{"$f":"VLOOKUP(B8566,'[1]2018.7 '!A:M,13,)","v":"Wet Ice"},{"$f":"VLOOKUP(B8566,'[1]2018.7 '!A:N,14,)","v":"No"}]
[8566,"29112116","29112116","Xuri[TM] IL-15  40ug","022","03",null,"229",null,{"v":1229,"d":"1,229"},{"v":11072.061,"d":"11,072"},null,{"$f":"VLOOKUP(B8567,'[1]2018.7 '!A:C,3,)","v":"Active"},{"$f":"VLOOKUP(B8567,'[1]2018.7 '!A:M,13,)","v":"Wet Ice"},{"$f":"VLOOKUP(B8567,'[1]2018.7 '!A:N,14,)","v":"No"}]
[8567,"29062789","29062789","Xuri[TM] IL-2  10ug","022","03",null,"229",null,553,{"v":4981.977,"d":"4,982"},null,{"$f":"VLOOKUP(B8568,'[1]2018.7 '!A:C,3,)","v":"Active"},{"$f":"VLOOKUP(B8568,'[1]2018.7 '!A:M,13,)","v":"Wet Ice"},{"$f":"VLOOKUP(B8568,'[1]2018.7 '!A:N,14,)","v":"No"}]
[8568,"29112119","29112119","Xuri[TM] IL-21  40ug","022","03",null,"229",null,{"v":1475,"d":"1,475"},{"v":13288.275,"d":"13,288"},null,{"$f":"VLOOKUP(B8569,'[1]2018.7 '!A:C,3,)","v":"Active"},{"$f":"VLOOKUP(B8569,'[1]2018.7 '!A:M,13,)","v":"Wet Ice"},{"$f":"VLOOKUP(B8569,'[1]2018.7 '!A:N,14,)","v":"No"}]
[8569,"29264738",null,"CT-49.1 - box x 6","022",56,"BIOSAFE CONSUMABLES",153,"Biosafe Consumables - Cell Therapy","询价","询价",null,{"$f":"VLOOKUP(B8570,'[1]2018.7 '!A:C,3,)","v":"Active"},{"$f":"VLOOKUP(B8570,'[1]2018.7 '!A:M,13,)","v":"Ambient"},{"$f":"VLOOKUP(B8570,'[1]2018.7 '!A:N,14,)","v":"No"}]
[8570,"29264739",null,"CT-60.1 - box x 6","022",56,"BIOSAFE CONSUMABLES",153,"Biosafe Consumables - Cell Therapy","询价","询价",null,{"$f":"VLOOKUP(B8571,'[1]2018.7 '!A:C,3,)","v":"Active"},{"$f":"VLOOKUP(B8571,'[1]2018.7 '!A:M,13,)","v":"Ambient"},{"$f":"VLOOKUP(B8571,'[1]2018.7 '!A:N,14,)","v":"No"}]
[8571,"29264740",null,"CT-90.1 - box x 6","022",56,"BIOSAFE CONSUMABLES",153,"Biosafe Consumables - Cell Therapy","询价","询价",null,{"$f":"VLOOKUP(B8572,'[1]2018.7 '!A:C,3,)","v":"Active"},{"$f":"VLOOKUP(B8572,'[1]2018.7 '!A:M,13,)","v":"Ambient"},{"$f":"VLOOKUP(B8572,'[1]2018.7 '!A:N,14,)","v":"No"}]
[8572,"28937652","28937652","Cellbag, 2L, BC10, Perf, DO","022","02","XURI W BIOREACTORS","038","Xuri W Cellbags",499,{"v":4495.491,"d":"4,495"},null,{"$f":"VLOOKUP(B8573,'[1]2018.7 '!A:C,3,)","v":"Active"},{"$f":"VLOOKUP(B8573,'[1]2018.7 '!A:M,13,)","v":"Ambient"},{"$f":"VLOOKUP(B8573,'[1]2018.7 '!A:N,14,)","v":"Reviewing"}]
[8573,"28937653","28937653","Cellbag, 2L, BC10, Screw, DO","022","02","XURI W BIOREACTORS","038","Xuri W Cellbags",307,{"v":2765.763,"d":"2,766"},null,{"$f":"VLOOKUP(B8574,'[1]2018.7 '!A:C,3,)","v":"Phase Out"},{"$f":"VLOOKUP(B8574,'[1]2018.7 '!A:M,13,)","v":"Ambient"},{"$f":"VLOOKUP(B8574,'[1]2018.7 '!A:N,14,)","v":"reviewing"}]
[8574,"28937662","28937662","Cellbag, 10L, BC10, Perf, DO","022","02","XURI W BIOREACTORS","038","Xuri W Cellbags",645,{"v":5810.805,"d":"5,811"},null,{"$f":"VLOOKUP(B8575,'[1]2018.7 '!A:C,3,)","v":"Active"},{"$f":"VLOOKUP(B8575,'[1]2018.7 '!A:M,13,)","v":"Ambient"},{"$f":"VLOOKUP(B8575,'[1]2018.7 '!A:N,14,)","v":"Reviewing"}]
[8575,"28937663","28937663","Cellbag, 20L, BC10, pH, DO","022","02","XURI W BIOREACTORS","038","Xuri W Cellbags",{"v":973.9999999999999,"d":"974"},{"v":8774.766,"d":"8,775"},null,{"$f":"VLOOKUP(B8576,'[1]2018.7 '!A:C,3,)","v":"Active"},{"$f":"VLOOKUP(B8576,'[1]2018.7 '!A:M,13,)","v":"Ambient"},{"$f":"VLOOKUP(B8576,'[1]2018.7 '!A:N,14,)","v":"Reviewing"}]
[8576,"28937664","28937664","Cellbag, 20L, BC10, Perf, DO","022","02","XURI W BIOREACTORS","038","Xuri W Cellbags",698,{"v":6288.282,"d":"6,288"},null,{"$f":"VLOOKUP(B8577,'[1]2018.7 '!A:C,3,)","v":"Active"},{"$f":"VLOOKUP(B8577,'[1]2018.7 '!A:M,13,)","v":"Ambient"},{"$f":"VLOOKUP(B8577,'[1]2018.7 '!A:N,14,)","v":"Reviewing"}]
[8577,"28937666","28937666","Cellbag, 50L, BC10, Basic","022","02","XURI W BIOREACTORS","038","Xuri W Cellbags",352,{"v":3171.168,"d":"3,171"},null,{"$f":"VLOOKUP(B8578,'[1]2018.7 '!A:C,3,)","v":"Active"},{"$f":"VLOOKUP(B8578,'[1]2018.7 '!A:M,13,)","v":"Ambient"},{"$f":"VLOOKUP(B8578,'[1]2018.7 '!A:N,14,)","v":"Reviewing"}]
[8578,"28937800","28937800","Cellbag, 2L, BC10, Basic","022","02","XURI W BIOREACTORS","038","Xuri W Cellbags",274,{"v":2468.466,"d":"2,468"},null,{"$f":"VLOOKUP(B8579,'[1]2018.7 '!A:C,3,)","v":"Active"},{"$f":"VLOOKUP(B8579,'[1]2018.7 '!A:M,13,)","v":"Ambient"},{"$f":"VLOOKUP(B8579,'[1]2018.7 '!A:N,14,)","v":"Reviewing"}]
[8579,"28937801","28937801","Cellbag, 10L, BC10, Basic","022","02","XURI W BIOREACTORS","038","Xuri W Cellbags",366,{"v":3297.2940000000003,"d":"3,297"},null,{"$f":"VLOOKUP(B8580,'[1]2018.7 '!A:C,3,)","v":"Active"},{"$f":"VLOOKUP(B8580,'[1]2018.7 '!A:M,13,)","v":"Ambient"},{"$f":"VLOOKUP(B8580,'[1]2018.7 '!A:N,14,)","v":"Reviewing"}]
[8580,"28937802","28937802","Cellbag, 20L, BC10, Basic","022","02","XURI W BIOREACTORS","038","Xuri W Cellbags",380,{"v":3423.42,"d":"3,423"},null,{"$f":"VLOOKUP(B8581,'[1]2018.7 '!A:C,3,)","v":"Active"},{"$f":"VLOOKUP(B8581,'[1]2018.7 '!A:M,13,)","v":"Ambient"},{"$f":"VLOOKUP(B8581,'[1]2018.7 '!A:N,14,)","v":"Reviewing"}]
[8581,"28937803","28937803","Zero Oxygen Solution","022","02","XURI W BIOREACTORS","038","Xuri W Cellbags",{"v":91.51,"d":"92"},{"v":824.4135900000001,"d":"824"}]
[8582,"29105492","29105492","Cellbag 2L Basic","022","02","XURI W BIOREACTORS","038","Xuri W Cellbags",334,{"v":3009.0060000000003,"d":"3,009"},null,{"$f":"VLOOKUP(B8583,'[1]2018.7 '!A:C,3,)","v":"Active"},{"$f":"VLOOKUP(B8583,'[1]2018.7 '!A:M,13,)","v":"Ambient"},{"$f":"VLOOKUP(B8583,'[1]2018.7 '!A:N,14,)","v":"No"}]
[8583,"29105493","29105493","Cellbag 10L Basic","022","02","XURI W BIOREACTORS","038","Xuri W Cellbags",359,{"v":3234.231,"d":"3,234"},null,{"$f":"VLOOKUP(B8584,'[1]2018.7 '!A:C,3,)","v":"Active"},{"$f":"VLOOKUP(B8584,'[1]2018.7 '!A:M,13,)","v":"Ambient"},{"$f":"VLOOKUP(B8584,'[1]2018.7 '!A:N,14,)","v":"No"}]
[8584,"29105494","29105494","Cellbag 2L DOOPT II and pHOPT","022","02","XURI W BIOREACTORS","038","Xuri W Cellbags",546,{"v":4918.914,"d":"4,919"},null,{"$f":"VLOOKUP(B8585,'[1]2018.7 '!A:C,3,)","v":"Active"},{"$f":"VLOOKUP(B8585,'[1]2018.7 '!A:M,13,)","v":"Ambient"},{"$f":"VLOOKUP(B8585,'[1]2018.7 '!A:N,14,)","v":"No"}]
[8585,"29105495","29105495","Cellbag 10L DOOPT II and pHOPT","022","02","XURI W BIOREACTORS","038","Xuri W Cellbags",645,{"v":5810.805,"d":"5,811"},null,{"$f":"VLOOKUP(B8586,'[1]2018.7 '!A:C,3,)","v":"Active"},{"$f":"VLOOKUP(B8586,'[1]2018.7 '!A:M,13,)","v":"Ambient"},{"$f":"VLOOKUP(B8586,'[1]2018.7 '!A:N,14,)","v":"No"}]
[8586,"29105496","29105496","Cellbag 20L DOOPT II and pHOPT","022","02","XURI W BIOREACTORS","038","Xuri W Cellbags",{"$f":"K8587/9.009","v":723},{"v":6513.5070000000005,"d":"6,514"},null,{"$f":"VLOOKUP(B8587,'[1]2018.7 '!A:C,3,)","v":"Active"},{"$f":"VLOOKUP(B8587,'[1]2018.7 '!A:M,13,)","v":"Ambient"},{"$f":"VLOOKUP(B8587,'[1]2018.7 '!A:N,14,)","v":"Reviewing"}]
[8587,"29105497","29105497","Cellbag 50L DOOPT II and pHOPT","022","02","XURI W BIOREACTORS","038","Xuri W Cellbags",733,{"v":6603.597000000001,"d":"6,604"},null,{"$f":"VLOOKUP(B8588,'[1]2018.7 '!A:C,3,)","v":"Active"},{"$f":"VLOOKUP(B8588,'[1]2018.7 '!A:M,13,)","v":"Ambient"},{"$f":"VLOOKUP(B8588,'[1]2018.7 '!A:N,14,)","v":"Reviewing"}]
[8588,"29105498","29105498","Cellbag 2L DOOPT II, pHOPT and Perfusion","022","02","XURI W BIOREACTORS","038","Xuri W Cellbags",705,{"v":6351.345,"d":"6,351"},null,{"$f":"VLOOKUP(B8589,'[1]2018.7 '!A:C,3,)","v":"Active"},{"$f":"VLOOKUP(B8589,'[1]2018.7 '!A:M,13,)","v":"Ambient"},{"$f":"VLOOKUP(B8589,'[1]2018.7 '!A:N,14,)","v":"No"}]
[8589,"29105499","29105499","Cellbag 10L DOOPT II, pHOPT and Perfusion","022","02","XURI W BIOREACTORS","038","Xuri W Cellbags",805,{"v":7252.245,"d":"7,252"},null,{"$f":"VLOOKUP(B8590,'[1]2018.7 '!A:C,3,)","v":"Active"},{"$f":"VLOOKUP(B8590,'[1]2018.7 '!A:M,13,)","v":"Ambient"},{"$f":"VLOOKUP(B8590,'[1]2018.7 '!A:N,14,)","v":"No"}]
[8590,"29105500","29105500","Cellbag 20L DOOPT II, pHOPT and Perfusion","022","02","XURI W BIOREACTORS","038","Xuri W Cellbags",859,{"v":7738.731000000001,"d":"7,739"},null,{"$f":"VLOOKUP(B8591,'[1]2018.7 '!A:C,3,)","v":"Active"},{"$f":"VLOOKUP(B8591,'[1]2018.7 '!A:M,13,)","v":"Ambient"},{"$f":"VLOOKUP(B8591,'[1]2018.7 '!A:N,14,)","v":"Reviewing"}]
[8591,"29105501","29105501","Cellbag 50L DOOPT II, pHOPT and Perfusion","022","02","XURI W BIOREACTORS","038","Xuri W Cellbags",870,{"v":7837.83,"d":"7,838"},null,{"$f":"VLOOKUP(B8592,'[1]2018.7 '!A:C,3,)","v":"Phase Out"},{"$f":"VLOOKUP(B8592,'[1]2018.7 '!A:M,13,)","v":"Ambient"},{"$f":"VLOOKUP(B8592,'[1]2018.7 '!A:N,14,)","v":"reviewing"}]
[8592,"29108442","29108442","Cellbag 2L Perfusion","022","02","XURI W BIOREACTORS","038","Xuri W Cellbags",499,{"v":4495.491,"d":"4,495"},null,{"$f":"VLOOKUP(B8593,'[1]2018.7 '!A:C,3,)","v":"Active"},{"$f":"VLOOKUP(B8593,'[1]2018.7 '!A:M,13,)","v":"Ambient"},{"$f":"VLOOKUP(B8593,'[1]2018.7 '!A:N,14,)","v":"No"}]
[8593,"29108443","29108443","Cellbag 10L Perfusion","022","02","XURI W BIOREACTORS","038","Xuri W Cellbags",568,{"v":5117.112,"d":"5,117"},null,{"$f":"VLOOKUP(B8594,'[1]2018.7 '!A:C,3,)","v":"Active"},{"$f":"VLOOKUP(B8594,'[1]2018.7 '!A:M,13,)","v":"Ambient"},{"$f":"VLOOKUP(B8594,'[1]2018.7 '!A:N,14,)","v":"No"}]
[8594,"CB0002L10BBB01-2","29142961","Cellbag, 2L, BC10, Custom","022","02","XURI W BIOREACTORS","038","Xuri W Cellbags",611,{"v":5504.499,"d":"5,504"},null,{"$f":"VLOOKUP(B8595,'[1]2018.7 '!A:C,3,)","v":"Active"},{"$f":"VLOOKUP(B8595,'[1]2018.7 '!A:M,13,)","v":"Ambient"},{"$f":"VLOOKUP(B8595,'[1]2018.7 '!A:N,14,)","v":"Reviewing"}]
[8595,"CB0002L10MSK01-2","28412274","Cellbag, 2L, BC10, Custom","022","02","XURI W BIOREACTORS","038","Xuri W Cellbags",533,{"v":4801.7970000000005,"d":"4,802"},null,{"$f":"VLOOKUP(B8596,'[1]2018.7 '!A:C,3,)","v":"Sales Stop"},{"$f":"VLOOKUP(B8596,'[1]2018.7 '!A:M,13,)","v":"Ambient"},{"$f":"VLOOKUP(B8596,'[1]2018.7 '!A:N,14,)","v":"reviewing"}]
[8596,"CB0002L10NOV10-2","29095529","Cellbag, 2L, BC10, Custom","022","02","XURI W BIOREACTORS","038","Xuri W Cellbags",534,{"v":4810.8060000000005,"d":"4,811"},null,{"$f":"VLOOKUP(B8597,'[1]2018.7 '!A:C,3,)","v":"Active"},{"$f":"VLOOKUP(B8597,'[1]2018.7 '!A:M,13,)","v":"Ambient"},{"$f":"VLOOKUP(B8597,'[1]2018.7 '!A:N,14,)","v":"No"}]
[8597,"CB0010L10BBB01-2","29143010","CELLBAG 10 LITER, BIOCLEAR 10 FILM, CUSTOM","022","02","XURI W BIOREACTORS","038","Xuri W Cellbags",681,{"v":6135.129,"d":"6,135"},null,{"$f":"VLOOKUP(B8598,'[1]2018.7 '!A:C,3,)","v":"Active"},{"$f":"VLOOKUP(B8598,'[1]2018.7 '!A:M,13,)","v":"Ambient"},{"$f":"VLOOKUP(B8598,'[1]2018.7 '!A:N,14,)","v":"No"}]
[8598,"18001229","18001229","SAMPLE APPLICATOR 6/4","025","41","1D WB OTHER","106","PhastSystem Instruments",{"v":173.55,"d":"174"},{"v":1563.51195,"d":"1,564"},null,{"$f":"VLOOKUP(B8599,'[1]2018.7 '!A:C,3,)","v":"Active"},{"$f":"VLOOKUP(B8599,'[1]2018.7 '!A:M,13,)","v":"Ambient"},{"$f":"VLOOKUP(B8599,'[1]2018.7 '!A:N,14,)","v":"No"}]
[8599,"18008301","18008301","PHASTGEL IEF GEL COVER, PKG OF 2","025","41","1D WB OTHER","106","PhastSystem Instruments",{"v":138.01,"d":"138"},{"v":1243.3320899999999,"d":"1,243"},null,{"$f":"VLOOKUP(B8600,'[1]2018.7 '!A:C,3,)","v":"Phase Out"},{"$f":"VLOOKUP(B8600,'[1]2018.7 '!A:M,13,)","v":"Ambient"},{"$f":"VLOOKUP(B8600,'[1]2018.7 '!A:N,14,)","v":"reviewing"}]
[8600,"18009701","18009701","PHASTGEL SAMPLE-WELL STAMP","025","41","1D WB OTHER","106","PhastSystem Instruments",{"v":56.46,"d":"56"},{"v":508.64814,"d":"509"},null,{"$f":"VLOOKUP(B8601,'[1]2018.7 '!A:C,3,)","v":"Active"},{"$f":"VLOOKUP(B8601,'[1]2018.7 '!A:M,13,)","v":"Ambient"},{"$f":"VLOOKUP(B8601,'[1]2018.7 '!A:N,14,)","v":"No"}]
[8601,"18100318","18100318","PHASTTRANSFER FILTER P (PKG/200)","025","41","1D WB OTHER","106","PhastSystem Instruments",{"v":83.64,"d":"84"},{"v":753.5127600000001,"d":"754"},null,{"$f":"VLOOKUP(B8602,'[1]2018.7 '!A:C,3,)","v":"Active"},{"$f":"VLOOKUP(B8602,'[1]2018.7 '!A:M,13,)","v":"Ambient"},{"$f":"VLOOKUP(B8602,'[1]2018.7 '!A:N,14,)","v":"No"}]
[8602,"18161401","18161401","PHASTGEL SAMPLE APPL.12/0.3","025","41","1D WB OTHER","106","PhastSystem Instruments",{"v":173.55,"d":"174"},{"v":1563.51195,"d":"1,564"},null,{"$f":"VLOOKUP(B8603,'[1]2018.7 '!A:C,3,)","v":"Active"},{"$f":"VLOOKUP(B8603,'[1]2018.7 '!A:M,13,)","v":"Ambient"},{"$f":"VLOOKUP(B8603,'[1]2018.7 '!A:N,14,)","v":"No"}]
[8603,"18161701","18161701","PHASTGEL SAMPLE APPL. 8/0.5","025","41","1D WB OTHER","106","PhastSystem Instruments",{"v":173.55,"d":"174"},{"v":1563.51195,"d":"1,564"},null,{"$f":"VLOOKUP(B8604,'[1]2018.7 '!A:C,3,)","v":"Active"},{"$f":"VLOOKUP(B8604,'[1]2018.7 '!A:M,13,)","v":"Ambient"},{"$f":"VLOOKUP(B8604,'[1]2018.7 '!A:N,14,)","v":"No"}]
[8604,"18161801","18161801","PHASTGEL SAMPLE APPL. 8/1","025","41","1D WB OTHER","106","PhastSystem Instruments",{"v":173.55,"d":"174"},{"v":1563.51195,"d":"1,564"},null,{"$f":"VLOOKUP(B8605,'[1]2018.7 '!A:C,3,)","v":"Active"},{"$f":"VLOOKUP(B8605,'[1]2018.7 '!A:M,13,)","v":"Ambient"},{"$f":"VLOOKUP(B8605,'[1]2018.7 '!A:N,14,)","v":"No"}]
[8605,"18166801","18166801","PHASTGEL BUFFER STRIP HOLDER, PKG/2","025","41","1D WB OTHER","106","PhastSystem Instruments",{"v":106.64,"d":"107"},{"v":960.7197600000001,"d":"961"},null,{"$f":"VLOOKUP(B8606,'[1]2018.7 '!A:C,3,)","v":"Active"},{"$f":"VLOOKUP(B8606,'[1]2018.7 '!A:M,13,)","v":"Ambient"},{"$f":"VLOOKUP(B8606,'[1]2018.7 '!A:N,14,)","v":"No"}]
[8606,"18369001","18369001","ELECTRODE ASSEMBLY","025","41","1D WB OTHER","106","PhastSystem Instruments",368,{"v":3315.312,"d":"3,315"},null,{"$f":"VLOOKUP(B8607,'[1]2018.7 '!A:C,3,)","v":"Active"},{"$f":"VLOOKUP(B8607,'[1]2018.7 '!A:M,13,)","v":"Ambient"},{"$f":"VLOOKUP(B8607,'[1]2018.7 '!A:N,14,)","v":"No"}]
[8607,"19018201","19018201","TUBING PVC","025","41","1D WB OTHER","106","PhastSystem Instruments",{"v":82.59,"d":"83"},{"v":744.05331,"d":"744"},null,{"$f":"VLOOKUP(B8608,'[1]2018.7 '!A:C,3,)","v":"Active"},{"$f":"VLOOKUP(B8608,'[1]2018.7 '!A:M,13,)","v":"Ambient"},{"$f":"VLOOKUP(B8608,'[1]2018.7 '!A:N,14,)","v":"No"}]
[8608,"17051601","17051601","PHASTGEL SDS BUFFER STRIPS","025","41","1D WB OTHER","108","PhastSystem Media",{"v":91.04,"d":"91"},{"v":820.1793600000001,"d":"820"},null,{"$f":"VLOOKUP(B8609,'[1]2018.7 '!A:C,3,)","v":"Active"},{"$f":"VLOOKUP(B8609,'[1]2018.7 '!A:M,13,)","v":"Ambient"},{"$f":"VLOOKUP(B8609,'[1]2018.7 '!A:N,14,)","v":"No"}]
[8609,"17051701","17051701","PHASTGEL NATIVE BUFFER STRIPS","025","41","1D WB OTHER","108","PhastSystem Media",{"v":91.04,"d":"91"},{"v":820.1793600000001,"d":"820"},null,{"$f":"VLOOKUP(B8610,'[1]2018.7 '!A:C,3,)","v":"Active"},{"$f":"VLOOKUP(B8610,'[1]2018.7 '!A:M,13,)","v":"Ambient"},{"$f":"VLOOKUP(B8610,'[1]2018.7 '!A:N,14,)","v":"No"}]
[8610,"17054001","17054001","PHASTGEL GRADIENT 10-15","025","41","1D WB OTHER","108","PhastSystem Media",{"v":160.65,"d":"161"},{"v":1447.2958500000002,"d":"1,447"},null,{"$f":"VLOOKUP(B8611,'[1]2018.7 '!A:C,3,)","v":"Active"},{"$f":"VLOOKUP(B8611,'[1]2018.7 '!A:M,13,)","v":"Ambient"},{"$f":"VLOOKUP(B8611,'[1]2018.7 '!A:N,14,)","v":"No"}]
[8611,"17054201","17054201","PHASTGEL GRADIENT 8-25","025","41","1D WB OTHER","108","PhastSystem Media",{"v":160.65,"d":"161"},{"v":1447.2958500000002,"d":"1,447"},null,{"$f":"VLOOKUP(B8612,'[1]2018.7 '!A:C,3,)","v":"Active"},{"$f":"VLOOKUP(B8612,'[1]2018.7 '!A:M,13,)","v":"Ambient"},{"$f":"VLOOKUP(B8612,'[1]2018.7 '!A:N,14,)","v":"No"}]
[8612,"17054301","17054301","PHASTGEL IEF 3-9","025","41","1D WB OTHER","108","PhastSystem Media",{"v":160.65,"d":"161"},{"v":1447.2958500000002,"d":"1,447"},null,{"$f":"VLOOKUP(B8613,'[1]2018.7 '!A:C,3,)","v":"Active"},{"$f":"VLOOKUP(B8613,'[1]2018.7 '!A:M,13,)","v":"Ambient"},{"$f":"VLOOKUP(B8613,'[1]2018.7 '!A:N,14,)","v":"No"}]
[8613,"17054401","17054401","PHASTGEL IEF 4-6.5","025","41","1D WB OTHER","108","PhastSystem Media",{"v":160.65,"d":"161"},{"v":1447.2958500000002,"d":"1,447"},null,{"$f":"VLOOKUP(B8614,'[1]2018.7 '!A:C,3,)","v":"Active"},{"$f":"VLOOKUP(B8614,'[1]2018.7 '!A:M,13,)","v":"Ambient"},{"$f":"VLOOKUP(B8614,'[1]2018.7 '!A:N,14,)","v":"No"}]
[8614,"17054501","17054501","PHASTGEL IEF 5-8","025","41","1D WB OTHER","108","PhastSystem Media",{"v":160.65,"d":"161"},{"v":1447.2958500000002,"d":"1,447"},null,{"$f":"VLOOKUP(B8615,'[1]2018.7 '!A:C,3,)","v":"Active"},{"$f":"VLOOKUP(B8615,'[1]2018.7 '!A:M,13,)","v":"Ambient"},{"$f":"VLOOKUP(B8615,'[1]2018.7 '!A:N,14,)","v":"No"}]
[8615,"17062201","17062201","PHAST GEL HOMOGENEOUS 7.5","025","41","1D WB OTHER","108","PhastSystem Media",194,{"v":1747.746,"d":"1,748"},null,{"$f":"VLOOKUP(B8616,'[1]2018.7 '!A:C,3,)","v":"Active"},{"$f":"VLOOKUP(B8616,'[1]2018.7 '!A:M,13,)","v":"Ambient"},{"$f":"VLOOKUP(B8616,'[1]2018.7 '!A:N,14,)","v":"No"}]
[8616,"17062301","17062301","PHAST GEL HOMOGENEOUS 12.5","025","41","1D WB OTHER","108","PhastSystem Media",{"v":144.59,"d":"145"},{"v":1302.61131,"d":"1,303"},null,{"$f":"VLOOKUP(B8617,'[1]2018.7 '!A:C,3,)","v":"Active"},{"$f":"VLOOKUP(B8617,'[1]2018.7 '!A:M,13,)","v":"Ambient"},{"$f":"VLOOKUP(B8617,'[1]2018.7 '!A:N,14,)","v":"No"}]
[8617,"17062401","17062401","PHAST GEL HOMOGENEOUS 20","025","41","1D WB OTHER","108","PhastSystem Media",{"v":144.59,"d":"145"},{"v":1302.61131,"d":"1,303"},null,{"$f":"VLOOKUP(B8618,'[1]2018.7 '!A:C,3,)","v":"Active"},{"$f":"VLOOKUP(B8618,'[1]2018.7 '!A:M,13,)","v":"Ambient"},{"$f":"VLOOKUP(B8618,'[1]2018.7 '!A:N,14,)","v":"No"}]
[8618,"17067701","17067701","PHASTGEL DRY IEF","025","41","1D WB OTHER","108","PhastSystem Media",{"v":160.65,"d":"161"},{"v":1447.2958500000002,"d":"1,447"},null,{"$f":"VLOOKUP(B8619,'[1]2018.7 '!A:C,3,)","v":"Active"},{"$f":"VLOOKUP(B8619,'[1]2018.7 '!A:M,13,)","v":"Wet Ice"},{"$f":"VLOOKUP(B8619,'[1]2018.7 '!A:N,14,)","v":"No"}]
[8619,"17067801","17067801","PHASTGEL GRADIENT 4-15","025","41","1D WB OTHER","108","PhastSystem Media",{"v":160.65,"d":"161"},{"v":1447.2958500000002,"d":"1,447"},null,{"$f":"VLOOKUP(B8620,'[1]2018.7 '!A:C,3,)","v":"Active"},{"$f":"VLOOKUP(B8620,'[1]2018.7 '!A:M,13,)","v":"Ambient"},{"$f":"VLOOKUP(B8620,'[1]2018.7 '!A:N,14,)","v":"No"}]
[8620,"18100101","18100101","PHASTGEL CASSETTE","025","41","1D WB OTHER","108","PhastSystem Media",292,{"v":2630.628,"d":"2,631"},null,{"$f":"VLOOKUP(B8621,'[1]2018.7 '!A:C,3,)","v":"Active"},{"$f":"VLOOKUP(B8621,'[1]2018.7 '!A:M,13,)","v":"Ambient"},{"$f":"VLOOKUP(B8621,'[1]2018.7 '!A:N,14,)","v":"No"}]
[8621,"18110144",18110144,"PHARMACIA STANDARD CONNECTOR KIT","025","41","1D WB OTHER","114","Power Supplies",{"v":76.5,"d":"77"},{"v":689.1885,"d":"689"},null,{"$f":"VLOOKUP(B8622,'[1]2018.7 '!A:C,3,)","v":"Phase Out"}]
[8622,"18112958",18112958,"ADAPTOR SET 4MM M/2MM F","025","41","1D WB OTHER","114","Power Supplies",{"v":117.29999999999998,"d":"117"},{"v":1056.7557,"d":"1,057"},null,{"$f":"VLOOKUP(B8623,'[1]2018.7 '!A:C,3,)","v":"Active"},{"$f":"VLOOKUP(B8623,'[1]2018.7 '!A:M,13,)","v":"Ambient"},{"$f":"VLOOKUP(B8623,'[1]2018.7 '!A:N,14,)","v":"Reviewing"}]
[8623,"18112959",18112959,"ADAPTOR SET 2MM M/4MM F","025","41","1D WB OTHER","114","Power Supplies",{"v":79.56,"d":"80"},{"v":716.7560400000001,"d":"717"},null,{"$f":"VLOOKUP(B8624,'[1]2018.7 '!A:C,3,)","v":"Active"},{"$f":"VLOOKUP(B8624,'[1]2018.7 '!A:M,13,)","v":"Ambient"},{"$f":"VLOOKUP(B8624,'[1]2018.7 '!A:N,14,)","v":"Reviewing"}]
[8624,"18113001",18113001,"EPS 301 POWER SUPPLY","025","41","1D WB OTHER","114","Power Supplies",838,{"v":7549.542,"d":"7,550"},null,{"$f":"VLOOKUP(B8625,'[1]2018.7 '!A:C,3,)","v":"Active"},{"$f":"VLOOKUP(B8625,'[1]2018.7 '!A:M,13,)","v":"Ambient"},{"$f":"VLOOKUP(B8625,'[1]2018.7 '!A:N,14,)","v":"No"}]
[8625,"PSA410",80610527,"ADAPTER KIT 4MM FIXED SLEEVE","025","41","1D WB OTHER","114","Power Supplies",{"v":24.48,"d":"24"},{"v":220.54032,"d":"221"},null,{"$f":"VLOOKUP(B8626,'[1]2018.7 '!A:C,3,)","v":"Active"},{"$f":"VLOOKUP(B8626,'[1]2018.7 '!A:M,13,)","v":"Ambient"},{"$f":"VLOOKUP(B8626,'[1]2018.7 '!A:N,14,)","v":"Reviewing"}]
[8626,"17055403",17055403,"AGAROSE NA, 1 KG","025","41","1D WB OTHER","126","DNA elpho",{"v":2483,"d":"2,483"},{"v":22369.347,"d":"22,369"},null,{"$f":"VLOOKUP(B8627,'[1]2018.7 '!A:C,3,)","v":"Active"},{"$f":"VLOOKUP(B8627,'[1]2018.7 '!A:M,13,)","v":"Ambient"},{"$f":"VLOOKUP(B8627,'[1]2018.7 '!A:N,14,)","v":"No"}]
[8627,"17119807",17119807,"EXCELGEL DNA ANALYSIS KIT","025","41","1D WB OTHER","126","DNA elpho",797,{"v":7180.173000000001,"d":"7,180"},null,{"$f":"VLOOKUP(B8628,'[1]2018.7 '!A:C,3,)","v":"Active"},{"$f":"VLOOKUP(B8628,'[1]2018.7 '!A:M,13,)","v":"Ambient"},{"$f":"VLOOKUP(B8628,'[1]2018.7 '!A:N,14,)","v":"No"}]
[8628,"80642162",80642162,"SPONGE DACRON,4.03X3.48,3/PK","025","41","1D WB OTHER","136","Blotting Instruments",{"v":30.800000000000004,"d":"31"},{"v":277.47720000000004,"d":"277"},null,{"$f":"VLOOKUP(B8629,'[1]2018.7 '!A:C,3,)","v":"Active"},{"$f":"VLOOKUP(B8629,'[1]2018.7 '!A:M,13,)","v":"Ambient"},{"$f":"VLOOKUP(B8629,'[1]2018.7 '!A:N,14,)","v":"Reviewing"}]
[8629,"TE23",80620445,"ELECTRODE PANEL","025","41","1D WB OTHER","136","Blotting Instruments",402,{"v":3621.618,"d":"3,622"},null,{"$f":"VLOOKUP(B8630,'[1]2018.7 '!A:C,3,)","v":"Phase Out"},{"$f":"VLOOKUP(B8630,'[1]2018.7 '!A:M,13,)","v":"Ambient"},{"$f":"VLOOKUP(B8630,'[1]2018.7 '!A:N,14,)","v":"reviewing"}]
[8630,"TE24",80620464,"GEL CASSETTE W/ FOAM SPONGES","025","41","1D WB OTHER","136","Blotting Instruments",{"v":112.2,"d":"112"},{"v":1010.8098000000001,"d":"1,011"},null,{"$f":"VLOOKUP(B8631,'[1]2018.7 '!A:C,3,)","v":"Active"},{"$f":"VLOOKUP(B8631,'[1]2018.7 '!A:M,13,)","v":"Ambient"},{"$f":"VLOOKUP(B8631,'[1]2018.7 '!A:N,14,)","v":"Reviewing"}]
[8631,"TE25",80620502,"FOAM SPONGES,1/4 THICK (PK4)","025","41","1D WB OTHER","136","Blotting Instruments",44,{"v":396.396,"d":"396"},null,{"$f":"VLOOKUP(B8632,'[1]2018.7 '!A:C,3,)","v":"Active"},{"$f":"VLOOKUP(B8632,'[1]2018.7 '!A:M,13,)","v":"Ambient"},{"$f":"VLOOKUP(B8632,'[1]2018.7 '!A:N,14,)","v":"Reviewing"}]
[8632,"TE25F-1/8",80620521,"FOAM SPONGES, 1/8 THICK (PKG/4)","025","41","1D WB OTHER","136","Blotting Instruments",{"v":34.1,"d":"34"},{"v":307.2069,"d":"307"},null,{"$f":"VLOOKUP(B8633,'[1]2018.7 '!A:C,3,)","v":"Active"},{"$f":"VLOOKUP(B8633,'[1]2018.7 '!A:M,13,)","v":"Ambient"},{"$f":"VLOOKUP(B8633,'[1]2018.7 '!A:N,14,)","v":"Reviewing"}]
[8633,"TE26",80620540,"BLOTTING PAPER, 9X10.5CM (PKG/50)","025","41","1D WB OTHER","136","Blotting Instruments",{"v":74.8,"d":"75"},{"v":673.8732,"d":"674"},null,{"$f":"VLOOKUP(B8634,'[1]2018.7 '!A:C,3,)","v":"Active"},{"$f":"VLOOKUP(B8634,'[1]2018.7 '!A:M,13,)","v":"Ambient"},{"$f":"VLOOKUP(B8634,'[1]2018.7 '!A:N,14,)","v":"Reviewing"}]
[8634,"TE44H",80620654,"TE44H PK HINGED CASSETTE W/SPO","025","41","1D WB OTHER","136","Blotting Instruments",{"v":156.2,"d":"156"},{"v":1407.2058,"d":"1,407"},null,{"$f":"VLOOKUP(B8635,'[1]2018.7 '!A:C,3,)","v":"Active"},{"$f":"VLOOKUP(B8635,'[1]2018.7 '!A:M,13,)","v":"Ambient"},{"$f":"VLOOKUP(B8635,'[1]2018.7 '!A:N,14,)","v":"Reviewing"}]
[8635,"TE45F-1/8",80620711,"FOAM SPONGES, 1/8THICK (PKG/4)","025","41","1D WB OTHER","136","Blotting Instruments",{"v":34.1,"d":"34"},{"v":307.2069,"d":"307"},null,{"$f":"VLOOKUP(B8636,'[1]2018.7 '!A:C,3,)","v":"Active"},{"$f":"VLOOKUP(B8636,'[1]2018.7 '!A:M,13,)","v":"Ambient"},{"$f":"VLOOKUP(B8636,'[1]2018.7 '!A:N,14,)","v":"Reviewing"}]
[8636,"TE46",80620730,"BLOTTER PAPER,14.5x21.5CM (PKG/50)","025","41","1D WB OTHER","136","Blotting Instruments",{"v":84.7,"d":"85"},{"v":763.0623,"d":"763"},null,{"$f":"VLOOKUP(B8637,'[1]2018.7 '!A:C,3,)","v":"Active"},{"$f":"VLOOKUP(B8637,'[1]2018.7 '!A:M,13,)","v":"Ambient"},{"$f":"VLOOKUP(B8637,'[1]2018.7 '!A:N,14,)","v":"Reviewing"}]
[8637,"TE76",80621129,"BLOT.PAPER(TE70)20X25GELS (PKG/25)","025","41","1D WB OTHER","136","Blotting Instruments",{"v":74.8,"d":"75"},{"v":673.8732,"d":"674"},null,{"$f":"VLOOKUP(B8638,'[1]2018.7 '!A:C,3,)","v":"Active"},{"$f":"VLOOKUP(B8638,'[1]2018.7 '!A:M,13,)","v":"Ambient"},{"$f":"VLOOKUP(B8638,'[1]2018.7 '!A:N,14,)","v":"Reviewing"}]
[8638,"TE76-1416",80621167,"BLOTTER PAPER,14X16CM(PKG/25)","025","41","1D WB OTHER","136","Blotting Instruments",{"v":63.79999999999999,"d":"64"},{"v":574.7742,"d":"575"},null,{"$f":"VLOOKUP(B8639,'[1]2018.7 '!A:C,3,)","v":"Active"},{"$f":"VLOOKUP(B8639,'[1]2018.7 '!A:M,13,)","v":"Ambient"},{"$f":"VLOOKUP(B8639,'[1]2018.7 '!A:N,14,)","v":"Reviewing"}]
[8639,"80642143",80642143,"GELSEAL 1/4 OZ. TUBE","025","41","1D WB OTHER","170","Protein Vertical Instruments",{"v":30.6,"d":"31"},{"v":275.6754,"d":"276"},null,{"$f":"VLOOKUP(B8640,'[1]2018.7 '!A:C,3,)","v":"Active"},{"$f":"VLOOKUP(B8640,'[1]2018.7 '!A:M,13,)","v":"Ambient"},{"$f":"VLOOKUP(B8640,'[1]2018.7 '!A:N,14,)","v":"Reviewing"}]
[8640,"80642466",80642466,"RK MINIVE LID ASSY","025","41","1D WB OTHER","170","Protein Vertical Instruments",410,{"v":3693.69,"d":"3,694"},null,{"$f":"VLOOKUP(B8641,'[1]2018.7 '!A:C,3,)","v":"Active"},{"$f":"VLOOKUP(B8641,'[1]2018.7 '!A:M,13,)","v":"Ambient"},{"$f":"VLOOKUP(B8641,'[1]2018.7 '!A:N,14,)","v":"Reviewing"}]
[8641,"80642485",80642485,"RK MINIVE LID HARDWARE","025","41","1D WB OTHER","170","Protein Vertical Instruments",{"v":170.34,"d":"170"},{"v":1534.5930600000002,"d":"1,535"},null,{"$f":"VLOOKUP(B8642,'[1]2018.7 '!A:C,3,)","v":"Phase Out"},{"$f":"VLOOKUP(B8642,'[1]2018.7 '!A:M,13,)","v":"Ambient"},{"$f":"VLOOKUP(B8642,'[1]2018.7 '!A:N,14,)","v":"reviewing"}]
[8642,"80642542",80642542,"RK MINVE CLAMP ASSY (1)","025","41","1D WB OTHER","170","Protein Vertical Instruments",{"v":69.36,"d":"69"},{"v":624.86424,"d":"625"},null,{"$f":"VLOOKUP(B8643,'[1]2018.7 '!A:C,3,)","v":"Active"},{"$f":"VLOOKUP(B8643,'[1]2018.7 '!A:M,13,)","v":"Ambient"},{"$f":"VLOOKUP(B8643,'[1]2018.7 '!A:N,14,)","v":"Reviewing"}]
[8643,"80642580",80642580,"RK MINIVE SEALING PLATE ASSY","025","41","1D WB OTHER","170","Protein Vertical Instruments",{"v":53.04,"d":"53"},{"v":477.83736,"d":"478"},null,{"$f":"VLOOKUP(B8644,'[1]2018.7 '!A:C,3,)","v":"Active"},{"$f":"VLOOKUP(B8644,'[1]2018.7 '!A:M,13,)","v":"Ambient"},{"$f":"VLOOKUP(B8644,'[1]2018.7 '!A:N,14,)","v":"Reviewing"}]
[8644,"80642599",80642599,"RK MINIVE SEALING GASKET","025","41","1D WB OTHER","170","Protein Vertical Instruments",{"v":37.74,"d":"38"},{"v":339.99966,"d":"340"},null,{"$f":"VLOOKUP(B8645,'[1]2018.7 '!A:C,3,)","v":"Phase Out"},{"$f":"VLOOKUP(B8645,'[1]2018.7 '!A:M,13,)","v":"Ambient"},{"$f":"VLOOKUP(B8645,'[1]2018.7 '!A:N,14,)","v":"reviewing"}]
[8645,"80642618",80642618,"RK MINIVE BANANA PLUG KIT (PR)","025","41","1D WB OTHER","170","Protein Vertical Instruments",{"v":45.9,"d":"46"},{"v":413.5131,"d":"414"},null,{"$f":"VLOOKUP(B8646,'[1]2018.7 '!A:C,3,)","v":"Active"},{"$f":"VLOOKUP(B8646,'[1]2018.7 '!A:M,13,)","v":"Ambient"},{"$f":"VLOOKUP(B8646,'[1]2018.7 '!A:N,14,)","v":"Reviewing"}]
[8646,"80642637",80642637,"RK MINIVE UBC WIRING SET","025","41","1D WB OTHER","170","Protein Vertical Instruments",{"v":96.9,"d":"97"},{"v":872.9721000000001,"d":"873"},null,{"$f":"VLOOKUP(B8647,'[1]2018.7 '!A:C,3,)","v":"Active"},{"$f":"VLOOKUP(B8647,'[1]2018.7 '!A:M,13,)","v":"Ambient"},{"$f":"VLOOKUP(B8647,'[1]2018.7 '!A:N,14,)","v":"Reviewing"}]
[8647,"80644214",80644214,"GLASS PLATES,LOFLUOR,18X16CM","025","41","1D WB OTHER","170","Protein Vertical Instruments",255,{"v":2297.295,"d":"2,297"},null,{"$f":"VLOOKUP(B8648,'[1]2018.7 '!A:C,3,)","v":"Active"},{"$f":"VLOOKUP(B8648,'[1]2018.7 '!A:M,13,)","v":"Ambient"},{"$f":"VLOOKUP(B8648,'[1]2018.7 '!A:N,14,)","v":"Reviewing"}]
[8648,"80644252",80644252,"GLASS PLATES,LOWFLUOR,28X23CM","025","41","1D WB OTHER","170","Protein Vertical Instruments",429,{"v":3864.8610000000003,"d":"3,865"},null,{"$f":"VLOOKUP(B8649,'[1]2018.7 '!A:C,3,)","v":"Phase Out"},{"$f":"VLOOKUP(B8649,'[1]2018.7 '!A:M,13,)","v":"Ambient"},{"$f":"VLOOKUP(B8649,'[1]2018.7 '!A:N,14,)","v":"reviewing"}]
[8649,"80647957","80647957","SE 600 RUBY, COMPLETE","025","41","1D WB OTHER","170","Protein Vertical Instruments",{"v":2613,"d":"2,613"},{"v":23540.517,"d":"23,541"},null,{"$f":"VLOOKUP(B8650,'[1]2018.7 '!A:C,3,)","v":"Active"},{"$f":"VLOOKUP(B8650,'[1]2018.7 '!A:M,13,)","v":"Ambient"},{"$f":"VLOOKUP(B8650,'[1]2018.7 '!A:N,14,)","v":"No"}]
[8650,"SE1514","80612788","WONDER WEDGE  PLASTIC WEDGE","025","41","1D WB OTHER","170","Protein Vertical Instruments",{"$f":"K8651/9.009","v":{"v":60.17999999999999,"d":"60"}},{"v":542.16162,"d":"542"},null,{"$f":"VLOOKUP(B8651,'[1]2018.7 '!A:C,3,)","v":"Active"},{"$f":"VLOOKUP(B8651,'[1]2018.7 '!A:M,13,)","v":"Ambient"},{"$f":"VLOOKUP(B8651,'[1]2018.7 '!A:N,14,)","v":"Reviewing"}]
[8651,"SE201","80613567","WAX PAPER FOR SE215/275 (PKG/100)","025","41","1D WB OTHER","170","Protein Vertical Instruments",{"v":37.74,"d":"38"},{"v":339.99966,"d":"340"},null,{"$f":"VLOOKUP(B8652,'[1]2018.7 '!A:C,3,)","v":"Active"},{"$f":"VLOOKUP(B8652,'[1]2018.7 '!A:M,13,)","v":"Ambient"},{"$f":"VLOOKUP(B8652,'[1]2018.7 '!A:N,14,)","v":"Reviewing"}]
[8652,"SE202GN-5","80613605","NOTCHED GLASS PLATE,10X8CM (PKG/5)","025","41","1D WB OTHER","170","Protein Vertical Instruments",{"v":161.16,"d":"161"},{"v":1451.8904400000001,"d":"1,452"},null,{"$f":"VLOOKUP(B8653,'[1]2018.7 '!A:C,3,)","v":"Active"},{"$f":"VLOOKUP(B8653,'[1]2018.7 '!A:M,13,)","v":"Ambient"},{"$f":"VLOOKUP(B8653,'[1]2018.7 '!A:N,14,)","v":"Reviewing"}]
[8653,"SE202N","80613624","ALUMINA PLATE, 10 X 8 CM","025","41","1D WB OTHER","170","Protein Vertical Instruments",{"v":47.94,"d":"48"},{"v":431.89146,"d":"432"},null,{"$f":"VLOOKUP(B8654,'[1]2018.7 '!A:C,3,)","v":"Active"},{"$f":"VLOOKUP(B8654,'[1]2018.7 '!A:M,13,)","v":"Ambient"},{"$f":"VLOOKUP(B8654,'[1]2018.7 '!A:N,14,)","v":"Reviewing"}]
[8654,"SE202N-10","80613643","ALUMINA PLATES, 10 X 8 CM (PKG/10)","025","41","1D WB OTHER","170","Protein Vertical Instruments",251,{"v":2261.259,"d":"2,261"},null,{"$f":"VLOOKUP(B8655,'[1]2018.7 '!A:C,3,)","v":"Active"},{"$f":"VLOOKUP(B8655,'[1]2018.7 '!A:M,13,)","v":"Ambient"},{"$f":"VLOOKUP(B8655,'[1]2018.7 '!A:N,14,)","v":"Reviewing"}]
[8655,"SE202P-10","80613681","RECTGLR.GLASS PLTS 10X8CM (PKG/10)","025","41","1D WB OTHER","170","Protein Vertical Instruments",102,{"v":918.918,"d":"919"},null,{"$f":"VLOOKUP(B8656,'[1]2018.7 '!A:C,3,)","v":"Active"},{"$f":"VLOOKUP(B8656,'[1]2018.7 '!A:M,13,)","v":"Ambient"},{"$f":"VLOOKUP(B8656,'[1]2018.7 '!A:N,14,)","v":"Reviewing"}]
[8656,"SE208","80613719","FOAM GASKET, 61CM X 4.5MM OD","025","41","1D WB OTHER","170","Protein Vertical Instruments",{"v":37.74,"d":"38"},{"v":339.99966,"d":"340"},null,{"$f":"VLOOKUP(B8657,'[1]2018.7 '!A:C,3,)","v":"Active"},{"$f":"VLOOKUP(B8657,'[1]2018.7 '!A:M,13,)","v":"Ambient"},{"$f":"VLOOKUP(B8657,'[1]2018.7 '!A:N,14,)","v":"Reviewing"}]
[8657,"SE2119T-2-.75","80613795","T SPACERS 8CM X .75MM (PKG 2)","025","41","1D WB OTHER","170","Protein Vertical Instruments",{"v":59.16,"d":"59"},{"v":532.97244,"d":"533"},null,{"$f":"VLOOKUP(B8658,'[1]2018.7 '!A:C,3,)","v":"Active"},{"$f":"VLOOKUP(B8658,'[1]2018.7 '!A:M,13,)","v":"Ambient"},{"$f":"VLOOKUP(B8658,'[1]2018.7 '!A:N,14,)","v":"Reviewing"}]
[8658,"SE2119T-2-1.0","80613814","T SPACERS 8CM X 1.0MM (PKG 2)","025","41","1D WB OTHER","170","Protein Vertical Instruments",{"v":59.16,"d":"59"},{"v":532.97244,"d":"533"},null,{"$f":"VLOOKUP(B8659,'[1]2018.7 '!A:C,3,)","v":"Active"},{"$f":"VLOOKUP(B8659,'[1]2018.7 '!A:M,13,)","v":"Ambient"},{"$f":"VLOOKUP(B8659,'[1]2018.7 '!A:N,14,)","v":"Reviewing"}]
[8659,"SE2119T-2-1.5","80613833","T SPACERS 8CM X 1.5MM (PKG 2)","025","41","1D WB OTHER","170","Protein Vertical Instruments",{"v":59.16,"d":"59"},{"v":532.97244,"d":"533"},null,{"$f":"VLOOKUP(B8660,'[1]2018.7 '!A:C,3,)","v":"Active"},{"$f":"VLOOKUP(B8660,'[1]2018.7 '!A:M,13,)","v":"Ambient"},{"$f":"VLOOKUP(B8660,'[1]2018.7 '!A:N,14,)","v":"Reviewing"}]
[8660,"SE211A-10-.75","80613871","COMB, SPINELESS, 10 WELL, .75","025","41","1D WB OTHER","170","Protein Vertical Instruments",{"v":59.16,"d":"59"},{"v":532.97244,"d":"533"},null,{"$f":"VLOOKUP(B8661,'[1]2018.7 '!A:C,3,)","v":"Active"},{"$f":"VLOOKUP(B8661,'[1]2018.7 '!A:M,13,)","v":"Ambient"},{"$f":"VLOOKUP(B8661,'[1]2018.7 '!A:N,14,)","v":"Reviewing"}]
[8661,"SE211A-10-1.0","80613890","COMB, SPINELESS, 10 WELL,1.0MM","025","41","1D WB OTHER","170","Protein Vertical Instruments",{"v":59.16,"d":"59"},{"v":532.97244,"d":"533"},null,{"$f":"VLOOKUP(B8662,'[1]2018.7 '!A:C,3,)","v":"Active"},{"$f":"VLOOKUP(B8662,'[1]2018.7 '!A:M,13,)","v":"Ambient"},{"$f":"VLOOKUP(B8662,'[1]2018.7 '!A:N,14,)","v":"Reviewing"}]
[8662,"SE211A-10-1.5","80613909","COMB, SPINELESS, 10 WELL, 1.5","025","41","1D WB OTHER","170","Protein Vertical Instruments",{"v":59.16,"d":"59"},{"v":532.97244,"d":"533"},null,{"$f":"VLOOKUP(B8663,'[1]2018.7 '!A:C,3,)","v":"Active"},{"$f":"VLOOKUP(B8663,'[1]2018.7 '!A:M,13,)","v":"Ambient"},{"$f":"VLOOKUP(B8663,'[1]2018.7 '!A:N,14,)","v":"Reviewing"}]
[8663,"SE211A-15-.75","80613947","COMB, SPINELESS,15 W,0.75","025","41","1D WB OTHER","170","Protein Vertical Instruments",{"v":59.16,"d":"59"},{"v":532.97244,"d":"533"},null,{"$f":"VLOOKUP(B8664,'[1]2018.7 '!A:C,3,)","v":"Active"},{"$f":"VLOOKUP(B8664,'[1]2018.7 '!A:M,13,)","v":"Ambient"},{"$f":"VLOOKUP(B8664,'[1]2018.7 '!A:N,14,)","v":"Reviewing"}]
[8664,"SE211A-15-1.0","80613966","COMB, SPINELESS, 15 WELL,1.0MM","025","41","1D WB OTHER","170","Protein Vertical Instruments",{"v":59.16,"d":"59"},{"v":532.97244,"d":"533"},null,{"$f":"VLOOKUP(B8665,'[1]2018.7 '!A:C,3,)","v":"Active"},{"$f":"VLOOKUP(B8665,'[1]2018.7 '!A:M,13,)","v":"Ambient"},{"$f":"VLOOKUP(B8665,'[1]2018.7 '!A:N,14,)","v":"Reviewing"}]
[8665,"SE211A-15-1.5","80613985","COMB, SPINELESS, 15 WELL, 1.5","025","41","1D WB OTHER","170","Protein Vertical Instruments",{"v":59.16,"d":"59"},{"v":532.97244,"d":"533"},null,{"$f":"VLOOKUP(B8666,'[1]2018.7 '!A:C,3,)","v":"Active"},{"$f":"VLOOKUP(B8666,'[1]2018.7 '!A:M,13,)","v":"Ambient"},{"$f":"VLOOKUP(B8666,'[1]2018.7 '!A:N,14,)","v":"Reviewing"}]
[8666,"SE212","80614213","WELL-LOCATING DECAL (PKG 2)","025","41","1D WB OTHER","170","Protein Vertical Instruments",{"v":36.72,"d":"37"},{"v":330.81048,"d":"331"},null,{"$f":"VLOOKUP(B8667,'[1]2018.7 '!A:C,3,)","v":"Phase Out"},{"$f":"VLOOKUP(B8667,'[1]2018.7 '!A:M,13,)","v":"Ambient"},{"$f":"VLOOKUP(B8667,'[1]2018.7 '!A:N,14,)","v":"reviewing"}]
[8667,"SE215","80614251","10-PLACE CASTER FOR SE250 GELS","025","41","1D WB OTHER","170","Protein Vertical Instruments",778,{"v":7009.002,"d":"7,009"},null,{"$f":"VLOOKUP(B8668,'[1]2018.7 '!A:C,3,)","v":"Active"},{"$f":"VLOOKUP(B8668,'[1]2018.7 '!A:M,13,)","v":"Ambient"},{"$f":"VLOOKUP(B8668,'[1]2018.7 '!A:N,14,)","v":"Reviewing"}]
[8668,"SE2150","80614270","LWR BUFF CHMBR SE200/280","025","41","1D WB OTHER","170","Protein Vertical Instruments",{"v":481.99999999999994,"d":"482"},{"v":4342.338,"d":"4,342"},null,{"$f":"VLOOKUP(B8669,'[1]2018.7 '!A:C,3,)","v":"Phase Out"},{"$f":"VLOOKUP(B8669,'[1]2018.7 '!A:M,13,)","v":"Ambient"},{"$f":"VLOOKUP(B8669,'[1]2018.7 '!A:N,14,)","v":"reviewing"}]
[8669,"SE231","80614555","WAX PAPER FOR SE235 (PKG/100)","025","41","1D WB OTHER","170","Protein Vertical Instruments",{"v":37.74,"d":"38"},{"v":339.99966,"d":"340"},null,{"$f":"VLOOKUP(B8670,'[1]2018.7 '!A:C,3,)","v":"Active"},{"$f":"VLOOKUP(B8670,'[1]2018.7 '!A:M,13,)","v":"Ambient"},{"$f":"VLOOKUP(B8670,'[1]2018.7 '!A:N,14,)","v":"Reviewing"}]
[8670,"SE233","80614593","FILLER SHEETS FOR SE235 (PKG/5)","025","41","1D WB OTHER","170","Protein Vertical Instruments",{"v":59.16,"d":"59"},{"v":532.97244,"d":"533"},null,{"$f":"VLOOKUP(B8671,'[1]2018.7 '!A:C,3,)","v":"Phase Out"},{"$f":"VLOOKUP(B8671,'[1]2018.7 '!A:M,13,)","v":"Ambient"},{"$f":"VLOOKUP(B8671,'[1]2018.7 '!A:N,14,)","v":"reviewing"}]
[8671,"SE235","80614612","4-PLACE CASTER FOR SE260 GELS","025","41","1D WB OTHER","170","Protein Vertical Instruments",579,{"v":5216.211,"d":"5,216"},null,{"$f":"VLOOKUP(B8672,'[1]2018.7 '!A:C,3,)","v":"Active"},{"$f":"VLOOKUP(B8672,'[1]2018.7 '!A:M,13,)","v":"Ambient"},{"$f":"VLOOKUP(B8672,'[1]2018.7 '!A:N,14,)","v":"Reviewing"}]
[8672,"SE245","80614650","MIGHTY SMALL DUAL GEL CASTER","025","41","1D WB OTHER","170","Protein Vertical Instruments",365,{"v":3288.2850000000003,"d":"3,288"},null,{"$f":"VLOOKUP(B8673,'[1]2018.7 '!A:C,3,)","v":"Active"},{"$f":"VLOOKUP(B8673,'[1]2018.7 '!A:M,13,)","v":"Ambient"},{"$f":"VLOOKUP(B8673,'[1]2018.7 '!A:N,14,)","v":"Reviewing"}]
[8673,"SE249","80614707","CASTING CLAMP ASSEMBLY","025","41","1D WB OTHER","170","Protein Vertical Instruments",{"v":136.68,"d":"137"},{"v":1231.35012,"d":"1,231"},null,{"$f":"VLOOKUP(B8674,'[1]2018.7 '!A:C,3,)","v":"Active"},{"$f":"VLOOKUP(B8674,'[1]2018.7 '!A:M,13,)","v":"Ambient"},{"$f":"VLOOKUP(B8674,'[1]2018.7 '!A:N,14,)","v":"Reviewing"}]
[8674,"SE252","80614783","LONG RED SPRINGCLAMP (PKG/4)","025","41","1D WB OTHER","170","Protein Vertical Instruments",{"v":83.64,"d":"84"},{"v":753.5127600000001,"d":"754"},null,{"$f":"VLOOKUP(B8675,'[1]2018.7 '!A:C,3,)","v":"Active"},{"$f":"VLOOKUP(B8675,'[1]2018.7 '!A:M,13,)","v":"Ambient"},{"$f":"VLOOKUP(B8675,'[1]2018.7 '!A:N,14,)","v":"Reviewing"}]
[8675,"SE254B","80614840","UPR BUFR CHMBR (NEW TYPE)SE250","025","41","1D WB OTHER","170","Protein Vertical Instruments",666,{"v":5999.994000000001,"d":"6,000"},null,{"$f":"VLOOKUP(B8676,'[1]2018.7 '!A:C,3,)","v":"Active"},{"$f":"VLOOKUP(B8676,'[1]2018.7 '!A:M,13,)","v":"Ambient"},{"$f":"VLOOKUP(B8676,'[1]2018.7 '!A:N,14,)","v":"Reviewing"}]
[8676,"SE255D","80614878","DEEP LOWER BUFFER CHAMBER","025","41","1D WB OTHER","170","Protein Vertical Instruments",{"v":156.06,"d":"156"},{"v":1405.94454,"d":"1,406"},null,{"$f":"VLOOKUP(B8677,'[1]2018.7 '!A:C,3,)","v":"Phase Out"},{"$f":"VLOOKUP(B8677,'[1]2018.7 '!A:M,13,)","v":"Ambient"},{"$f":"VLOOKUP(B8677,'[1]2018.7 '!A:N,14,)","v":"reviewing"}]
[8677,"SE2619T-2-.75","80614992","T SPACER PVC GRAY .75x105MM(PKG/2)","025","41","1D WB OTHER","170","Protein Vertical Instruments",{"v":59.16,"d":"59"},{"v":532.97244,"d":"533"},null,{"$f":"VLOOKUP(B8678,'[1]2018.7 '!A:C,3,)","v":"Active"},{"$f":"VLOOKUP(B8678,'[1]2018.7 '!A:M,13,)","v":"Ambient"},{"$f":"VLOOKUP(B8678,'[1]2018.7 '!A:N,14,)","v":"Reviewing"}]
[8678,"SE2619T-2-1.0","80615011","T SPACERS PVC WHITE 1x105MM(PKG/2)","025","41","1D WB OTHER","170","Protein Vertical Instruments",{"v":59.16,"d":"59"},{"v":532.97244,"d":"533"},null,{"$f":"VLOOKUP(B8679,'[1]2018.7 '!A:C,3,)","v":"Active"},{"$f":"VLOOKUP(B8679,'[1]2018.7 '!A:M,13,)","v":"Ambient"},{"$f":"VLOOKUP(B8679,'[1]2018.7 '!A:N,14,)","v":"Reviewing"}]
[8679,"SE2619T-2-1.5","80615030","T SPACER PVC GRAY 1.5x105MM(PKG/2)","025","41","1D WB OTHER","170","Protein Vertical Instruments",{"v":59.16,"d":"59"},{"v":532.97244,"d":"533"},null,{"$f":"VLOOKUP(B8680,'[1]2018.7 '!A:C,3,)","v":"Active"},{"$f":"VLOOKUP(B8680,'[1]2018.7 '!A:M,13,)","v":"Ambient"},{"$f":"VLOOKUP(B8680,'[1]2018.7 '!A:N,14,)","v":"Reviewing"}]
[8680,"SE262GN-5","80615049","NOTCHD GLASS PLATS 10x10CM (PKG/5)","025","41","1D WB OTHER","170","Protein Vertical Instruments",205,{"v":1846.845,"d":"1,847"},null,{"$f":"VLOOKUP(B8681,'[1]2018.7 '!A:C,3,)","v":"Active"},{"$f":"VLOOKUP(B8681,'[1]2018.7 '!A:M,13,)","v":"Ambient"},{"$f":"VLOOKUP(B8681,'[1]2018.7 '!A:N,14,)","v":"Reviewing"}]
[8681,"SE262N-5","80615068","NOTCHD ALUMINA PLT 10X10CM (PKG/5)","025","41","1D WB OTHER","170","Protein Vertical Instruments",{"v":142.8,"d":"143"},{"v":1286.4852,"d":"1,286"},null,{"$f":"VLOOKUP(B8682,'[1]2018.7 '!A:C,3,)","v":"Active"},{"$f":"VLOOKUP(B8682,'[1]2018.7 '!A:M,13,)","v":"Ambient"},{"$f":"VLOOKUP(B8682,'[1]2018.7 '!A:N,14,)","v":"Reviewing"}]
[8682,"SE262P-5","80615087","RECT. GLASS PLATES 10x10CM (5)","025","41","1D WB OTHER","170","Protein Vertical Instruments",{"v":70.38,"d":"70"},{"v":634.05342,"d":"634"},null,{"$f":"VLOOKUP(B8683,'[1]2018.7 '!A:C,3,)","v":"Active"},{"$f":"VLOOKUP(B8683,'[1]2018.7 '!A:M,13,)","v":"Ambient"},{"$f":"VLOOKUP(B8683,'[1]2018.7 '!A:N,14,)","v":"Reviewing"}]
[8683,"SE282N-2","80615315","NTCHD ALUMNA PLATE 10X12CM (PKG/2)","025","41","1D WB OTHER","170","Protein Vertical Instruments",{"v":70.38,"d":"70"},{"v":634.05342,"d":"634"},null,{"$f":"VLOOKUP(B8684,'[1]2018.7 '!A:C,3,)","v":"Active"},{"$f":"VLOOKUP(B8684,'[1]2018.7 '!A:M,13,)","v":"Ambient"},{"$f":"VLOOKUP(B8684,'[1]2018.7 '!A:N,14,)","v":"Reviewing"}]
[8684,"SE282P-5","80615334","RCTNGLR GLSS PLATE,10X12CM (PKG/5)","025","41","1D WB OTHER","170","Protein Vertical Instruments",{"v":70.38,"d":"70"},{"v":634.05342,"d":"634"},null,{"$f":"VLOOKUP(B8685,'[1]2018.7 '!A:C,3,)","v":"Active"},{"$f":"VLOOKUP(B8685,'[1]2018.7 '!A:M,13,)","v":"Ambient"},{"$f":"VLOOKUP(B8685,'[1]2018.7 '!A:N,14,)","v":"Reviewing"}]
[8685,"SE400-15-1.5","80615524","STURDIER,15W 1.5MM CMB,SP,","025","41","1D WB OTHER","170","Protein Vertical Instruments",{"v":1430,"d":"1,430"},{"v":12882.87,"d":"12,883"},null,{"$f":"VLOOKUP(B8686,'[1]2018.7 '!A:C,3,)","v":"Active"},{"$f":"VLOOKUP(B8686,'[1]2018.7 '!A:M,13,)","v":"Ambient"},{"$f":"VLOOKUP(B8686,'[1]2018.7 '!A:N,14,)","v":"No"}]
[8686,"SE4009","80615562","BLANK GASKET FOR CASTING STAND","025","41","1D WB OTHER","170","Protein Vertical Instruments",{"v":59.16,"d":"59"},{"v":532.97244,"d":"533"},null,{"$f":"VLOOKUP(B8687,'[1]2018.7 '!A:C,3,)","v":"Active"},{"$f":"VLOOKUP(B8687,'[1]2018.7 '!A:M,13,)","v":"Ambient"},{"$f":"VLOOKUP(B8687,'[1]2018.7 '!A:N,14,)","v":"Reviewing"}]
[8687,"SE511-10-1.5","80616037","COMB, 10 WELL, 1.5MM","025","41","1D WB OTHER","170","Protein Vertical Instruments",{"v":105.06,"d":"105"},{"v":946.48554,"d":"946"},null,{"$f":"VLOOKUP(B8688,'[1]2018.7 '!A:C,3,)","v":"Active"},{"$f":"VLOOKUP(B8688,'[1]2018.7 '!A:M,13,)","v":"Ambient"},{"$f":"VLOOKUP(B8688,'[1]2018.7 '!A:N,14,)","v":"Reviewing"}]
[8688,"SE511-15-1.0","80616132","COMB, 15WELL, 1.0MM","025","41","1D WB OTHER","170","Protein Vertical Instruments",{"v":108.12,"d":"108"},{"v":974.05308,"d":"974"},null,{"$f":"VLOOKUP(B8689,'[1]2018.7 '!A:C,3,)","v":"Active"},{"$f":"VLOOKUP(B8689,'[1]2018.7 '!A:M,13,)","v":"Ambient"},{"$f":"VLOOKUP(B8689,'[1]2018.7 '!A:N,14,)","v":"Reviewing"}]
[8689,"SE511-20-1.5","80616208","COMB, 20 WELL, 1.5MM","025","41","1D WB OTHER","170","Protein Vertical Instruments",{"v":105.06,"d":"105"},{"v":946.48554,"d":"946"},null,{"$f":"VLOOKUP(B8690,'[1]2018.7 '!A:C,3,)","v":"Phase Out"},{"$f":"VLOOKUP(B8690,'[1]2018.7 '!A:M,13,)","v":"Ambient"},{"$f":"VLOOKUP(B8690,'[1]2018.7 '!A:N,14,)","v":"reviewing"}]
[8690,"SE6003U","80617329","CLAMP ASSY UNIVERSAL 16CM (PKG 2)","025","41","1D WB OTHER","170","Protein Vertical Instruments",{"v":140.76,"d":"141"},{"v":1268.10684,"d":"1,268"},null,{"$f":"VLOOKUP(B8691,'[1]2018.7 '!A:C,3,)","v":"Phase Out"},{"$f":"VLOOKUP(B8691,'[1]2018.7 '!A:M,13,)","v":"Ambient"},{"$f":"VLOOKUP(B8691,'[1]2018.7 '!A:N,14,)","v":"reviewing"}]
[8691,"SE6003U-2","80617348","CLAMP THUMBSCREW UNIVERSAL(PKG/12)","025","41","1D WB OTHER","170","Protein Vertical Instruments",{"v":32.64,"d":"33"},{"v":294.05376,"d":"294"},null,{"$f":"VLOOKUP(B8692,'[1]2018.7 '!A:C,3,)","v":"Active"},{"$f":"VLOOKUP(B8692,'[1]2018.7 '!A:M,13,)","v":"Ambient"},{"$f":"VLOOKUP(B8692,'[1]2018.7 '!A:N,14,)","v":"Reviewing"}]
[8692,"SE6005L","80617424","CAMS,BLACK,LONG (NEW) (PKG/4)","025","41","1D WB OTHER","170","Protein Vertical Instruments",{"v":86.7,"d":"87"},{"v":781.0803000000001,"d":"781"},null,{"$f":"VLOOKUP(B8693,'[1]2018.7 '!A:C,3,)","v":"Active"},{"$f":"VLOOKUP(B8693,'[1]2018.7 '!A:M,13,)","v":"Ambient"},{"$f":"VLOOKUP(B8693,'[1]2018.7 '!A:N,14,)","v":"Reviewing"}]
[8693,"SE6008B","80617443","SLOTTED GASKET GRAY, LONG (PKG 2)","025","41","1D WB OTHER","170","Protein Vertical Instruments",{"v":94.86,"d":"95"},{"v":854.59374,"d":"855"},null,{"$f":"VLOOKUP(B8694,'[1]2018.7 '!A:C,3,)","v":"Active"},{"$f":"VLOOKUP(B8694,'[1]2018.7 '!A:M,13,)","v":"Ambient"},{"$f":"VLOOKUP(B8694,'[1]2018.7 '!A:N,14,)","v":"Reviewing"}]
[8694,"SE6009","80617462","BLANK GASKETS (PKG 2)","025","41","1D WB OTHER","170","Protein Vertical Instruments",{"v":94.86,"d":"95"},{"v":854.59374,"d":"855"},null,{"$f":"VLOOKUP(B8695,'[1]2018.7 '!A:C,3,)","v":"Active"},{"$f":"VLOOKUP(B8695,'[1]2018.7 '!A:M,13,)","v":"Ambient"},{"$f":"VLOOKUP(B8695,'[1]2018.7 '!A:N,14,)","v":"Reviewing"}]
[8695,"SE6015","80617500","GEL CASTING STAND WITH GASKETS","025","41","1D WB OTHER","170","Protein Vertical Instruments",{"v":480.99999999999994,"d":"481"},{"v":4333.329,"d":"4,333"},null,{"$f":"VLOOKUP(B8696,'[1]2018.7 '!A:C,3,)","v":"Phase Out"},{"$f":"VLOOKUP(B8696,'[1]2018.7 '!A:M,13,)","v":"Ambient"},{"$f":"VLOOKUP(B8696,'[1]2018.7 '!A:N,14,)","v":"reviewing"}]
[8696,"SE6067","80617747","BANANA PLUG 4MM GOLD W/WASHERS","025","41","1D WB OTHER","170","Protein Vertical Instruments",51,{"v":459.459,"d":"459"},null,{"$f":"VLOOKUP(B8697,'[1]2018.7 '!A:C,3,)","v":"Active"},{"$f":"VLOOKUP(B8697,'[1]2018.7 '!A:M,13,)","v":"Ambient"},{"$f":"VLOOKUP(B8697,'[1]2018.7 '!A:N,14,)","v":"Reviewing"}]
[8697,"SE6102","80617899","GLASS PLATES 18X16CM (PKG 2)","025","41","1D WB OTHER","170","Protein Vertical Instruments",{"v":64.26,"d":"64"},{"v":578.9183400000001,"d":"579"},null,{"$f":"VLOOKUP(B8698,'[1]2018.7 '!A:C,3,)","v":"Active"},{"$f":"VLOOKUP(B8698,'[1]2018.7 '!A:M,13,)","v":"Ambient"},{"$f":"VLOOKUP(B8698,'[1]2018.7 '!A:N,14,)","v":"Reviewing"}]
[8698,"SE6102D","80617918","DIVIDER GLASS PLATE,18X16CM(1)","025","41","1D WB OTHER","170","Protein Vertical Instruments",{"v":130.56,"d":"131"},{"v":1176.21504,"d":"1,176"},null,{"$f":"VLOOKUP(B8699,'[1]2018.7 '!A:C,3,)","v":"Active"},{"$f":"VLOOKUP(B8699,'[1]2018.7 '!A:M,13,)","v":"Ambient"},{"$f":"VLOOKUP(B8699,'[1]2018.7 '!A:N,14,)","v":"Reviewing"}]
[8699,"SE6118-2-1.0","80617994","SPAC 1CM X 16CM 1.0MM (PKG 2)","025","41","1D WB OTHER","170","Protein Vertical Instruments",{"v":72.42,"d":"72"},{"v":652.43178,"d":"652"},null,{"$f":"VLOOKUP(B8700,'[1]2018.7 '!A:C,3,)","v":"Active"},{"$f":"VLOOKUP(B8700,'[1]2018.7 '!A:M,13,)","v":"Ambient"},{"$f":"VLOOKUP(B8700,'[1]2018.7 '!A:N,14,)","v":"Reviewing"}]
[8700,"SE6118-2-1.5","80618013","SPACERS 1CM X 16CM X 1.5MM (PKG 2)","025","41","1D WB OTHER","170","Protein Vertical Instruments",{"v":72.42,"d":"72"},{"v":652.43178,"d":"652"},null,{"$f":"VLOOKUP(B8701,'[1]2018.7 '!A:C,3,)","v":"Active"},{"$f":"VLOOKUP(B8701,'[1]2018.7 '!A:M,13,)","v":"Ambient"},{"$f":"VLOOKUP(B8701,'[1]2018.7 '!A:N,14,)","v":"Reviewing"}]
[8701,"SE6119-2-.75","80618051","SPAC 2CM X 16CM X .75MM (PKG 2)","025","41","1D WB OTHER","170","Protein Vertical Instruments",{"v":72.42,"d":"72"},{"v":652.43178,"d":"652"},null,{"$f":"VLOOKUP(B8702,'[1]2018.7 '!A:C,3,)","v":"Active"},{"$f":"VLOOKUP(B8702,'[1]2018.7 '!A:M,13,)","v":"Ambient"},{"$f":"VLOOKUP(B8702,'[1]2018.7 '!A:N,14,)","v":"Reviewing"}]
[8702,"SE6119-2-1.0","80618070","SPACERS 2CM X 16CM 1.0MM (PKG 2)","025","41","1D WB OTHER","170","Protein Vertical Instruments",{"v":72.42,"d":"72"},{"v":652.43178,"d":"652"},null,{"$f":"VLOOKUP(B8703,'[1]2018.7 '!A:C,3,)","v":"Active"},{"$f":"VLOOKUP(B8703,'[1]2018.7 '!A:M,13,)","v":"Ambient"},{"$f":"VLOOKUP(B8703,'[1]2018.7 '!A:N,14,)","v":"Reviewing"}]
[8703,"SE6119-2-1.5","80618089","SPACERS 2CM X 16 CM X 1.5MM (PKG 2)","025","41","1D WB OTHER","170","Protein Vertical Instruments",{"v":72.42,"d":"72"},{"v":652.43178,"d":"652"},null,{"$f":"VLOOKUP(B8704,'[1]2018.7 '!A:C,3,)","v":"Active"},{"$f":"VLOOKUP(B8704,'[1]2018.7 '!A:M,13,)","v":"Ambient"},{"$f":"VLOOKUP(B8704,'[1]2018.7 '!A:N,14,)","v":"Reviewing"}]
[8704,"SE6150","80618298","LOWER BUFFER CHAMBER","025","41","1D WB OTHER","170","Protein Vertical Instruments",735,{"v":6621.615000000001,"d":"6,622"},null,{"$f":"VLOOKUP(B8705,'[1]2018.7 '!A:C,3,)","v":"Phase Out"},{"$f":"VLOOKUP(B8705,'[1]2018.7 '!A:M,13,)","v":"Ambient"},{"$f":"VLOOKUP(B8705,'[1]2018.7 '!A:N,14,)","v":"reviewing"}]
[8705,"SE6202","80618469","GLASS PLATES 18 X 32CM (PKG 2)","025","41","1D WB OTHER","170","Protein Vertical Instruments",{"v":193.8,"d":"194"},{"v":1745.9442000000001,"d":"1,746"},null,{"$f":"VLOOKUP(B8706,'[1]2018.7 '!A:C,3,)","v":"Phase Out"},{"$f":"VLOOKUP(B8706,'[1]2018.7 '!A:M,13,)","v":"Ambient"},{"$f":"VLOOKUP(B8706,'[1]2018.7 '!A:N,14,)","v":"reviewing"}]
[8706,"SE6402","80618659","GLASS PLATES, 18X8CM (PKG 2)","025","41","1D WB OTHER","170","Protein Vertical Instruments",{"v":115.25999999999999,"d":"115"},{"v":1038.37734,"d":"1,038"},null,{"$f":"VLOOKUP(B8707,'[1]2018.7 '!A:C,3,)","v":"Active"},{"$f":"VLOOKUP(B8707,'[1]2018.7 '!A:M,13,)","v":"Ambient"},{"$f":"VLOOKUP(B8707,'[1]2018.7 '!A:N,14,)","v":"Reviewing"}]
[8707,"SE6403U","80618735","CLAMP ASSY 8CM UNIVERSAL (PKG 2)","025","41","1D WB OTHER","170","Protein Vertical Instruments",{"v":140.76,"d":"141"},{"v":1268.10684,"d":"1,268"},null,{"$f":"VLOOKUP(B8708,'[1]2018.7 '!A:C,3,)","v":"Phase Out"},{"$f":"VLOOKUP(B8708,'[1]2018.7 '!A:M,13,)","v":"Ambient"},{"$f":"VLOOKUP(B8708,'[1]2018.7 '!A:N,14,)","v":"reviewing"}]
[8708,"SE6419-2-1.0","80618792","SPACERS 2CM X 8CM 1.0MM (PKG 2)","025","41","1D WB OTHER","170","Protein Vertical Instruments",{"v":72.42,"d":"72"},{"v":652.43178,"d":"652"},null,{"$f":"VLOOKUP(B8709,'[1]2018.7 '!A:C,3,)","v":"Phase Out"},{"$f":"VLOOKUP(B8709,'[1]2018.7 '!A:M,13,)","v":"Ambient"},{"$f":"VLOOKUP(B8709,'[1]2018.7 '!A:N,14,)","v":"reviewing"}]
[8709,"SE660","80618982","BASIC SLAB,14X24GEL,NO C&S","025","41","1D WB OTHER","170","Protein Vertical Instruments",{"v":3703.0000000000005,"d":"3,703"},{"v":33360.327000000005,"d":"33,360"},null,{"$f":"VLOOKUP(B8710,'[1]2018.7 '!A:C,3,)","v":"Phase Out"},{"$f":"VLOOKUP(B8710,'[1]2018.7 '!A:M,13,)","v":"Ambient"},{"$f":"VLOOKUP(B8710,'[1]2018.7 '!A:N,14,)","v":"reviewing"}]
[8710,"SE6602","80619001","GLASS PLATES 18 X 24CM (PKG 2)","025","41","1D WB OTHER","170","Protein Vertical Instruments",{"v":177.48,"d":"177"},{"v":1598.91732,"d":"1,599"},null,{"$f":"VLOOKUP(B8711,'[1]2018.7 '!A:C,3,)","v":"Active"},{"$f":"VLOOKUP(B8711,'[1]2018.7 '!A:M,13,)","v":"Ambient"},{"$f":"VLOOKUP(B8711,'[1]2018.7 '!A:N,14,)","v":"Reviewing"}]
[8711,"SER11","80619419","LEVEL","025","41","1D WB OTHER","170","Protein Vertical Instruments",{"v":30.6,"d":"31"},{"v":275.6754,"d":"276"},null,{"$f":"VLOOKUP(B8712,'[1]2018.7 '!A:C,3,)","v":"Phase Out"},{"$f":"VLOOKUP(B8712,'[1]2018.7 '!A:M,13,)","v":"Ambient"},{"$f":"VLOOKUP(B8712,'[1]2018.7 '!A:N,14,)","v":"reviewing"}]
[8712,"SG15","80619761","GRADIENT MAKER, 15 ML","025","41","1D WB OTHER","170","Protein Vertical Instruments",546,{"v":4918.914,"d":"4,919"},null,{"$f":"VLOOKUP(B8713,'[1]2018.7 '!A:C,3,)","v":"Active"},{"$f":"VLOOKUP(B8713,'[1]2018.7 '!A:M,13,)","v":"Ambient"},{"$f":"VLOOKUP(B8713,'[1]2018.7 '!A:N,14,)","v":"Reviewing"}]
[8713,"SG50","80619799","GRADIENT MAKER, 50 ML","025","41","1D WB OTHER","170","Protein Vertical Instruments",586,{"v":5279.274,"d":"5,279"},null,{"$f":"VLOOKUP(B8714,'[1]2018.7 '!A:C,3,)","v":"Active"},{"$f":"VLOOKUP(B8714,'[1]2018.7 '!A:M,13,)","v":"Ambient"},{"$f":"VLOOKUP(B8714,'[1]2018.7 '!A:N,14,)","v":"Reviewing"}]
[8714,"SG500","80619818","GRADIENT MAKER, 500 ML","025","41","1D WB OTHER","170","Protein Vertical Instruments",{"$f":"K8715/9.009","v":767},{"v":6909.903,"d":"6,910"},null,{"$f":"VLOOKUP(B8715,'[1]2018.7 '!A:C,3,)","v":"Phase Out"},{"$f":"VLOOKUP(B8715,'[1]2018.7 '!A:M,13,)","v":"Ambient"},{"$f":"VLOOKUP(B8715,'[1]2018.7 '!A:N,14,)","v":"reviewing"}]
[8715,"SG500-10","80619856","PUSH-PULL VALVE,FOR SALT GRDNT","025","41","1D WB OTHER","170","Protein Vertical Instruments",{"v":99.96,"d":"100"},{"v":900.53964,"d":"901"},null,{"$f":"VLOOKUP(B8716,'[1]2018.7 '!A:C,3,)","v":"Phase Out"},{"$f":"VLOOKUP(B8716,'[1]2018.7 '!A:M,13,)","v":"Ambient"},{"$f":"VLOOKUP(B8716,'[1]2018.7 '!A:N,14,)","v":"reviewing"}]
[8716,"80634163","80634163","GLASS LID 250 ML","025","41","1D WB OTHER","186","Gel Processing",501,{"v":4513.509,"d":"4,514"},null,{"$f":"VLOOKUP(B8717,'[1]2018.7 '!A:C,3,)","v":"Active"},{"$f":"VLOOKUP(B8717,'[1]2018.7 '!A:M,13,)","v":"Ambient"},{"$f":"VLOOKUP(B8717,'[1]2018.7 '!A:N,14,)","v":"Reviewing"}]
[8717,"80634182","80634182","GLASS LID 125 ML","025","41","1D WB OTHER","186","Gel Processing",349,{"v":3144.141,"d":"3,144"},null,{"$f":"VLOOKUP(B8718,'[1]2018.7 '!A:C,3,)","v":"Active"},{"$f":"VLOOKUP(B8718,'[1]2018.7 '!A:M,13,)","v":"Ambient"},{"$f":"VLOOKUP(B8718,'[1]2018.7 '!A:N,14,)","v":"Reviewing"}]
[8718,"80634220","80634220","MAGNETS (PACK OF 4)","025","41","1D WB OTHER","186","Gel Processing",231,{"v":2081.079,"d":"2,081"},null,{"$f":"VLOOKUP(B8719,'[1]2018.7 '!A:C,3,)","v":"Active"},{"$f":"VLOOKUP(B8719,'[1]2018.7 '!A:M,13,)","v":"Ambient"},{"$f":"VLOOKUP(B8719,'[1]2018.7 '!A:N,14,)","v":"Reviewing"}]
[8719,"80634239","80634239","PUMP TUBING","025","41","1D WB OTHER","186","Gel Processing",{"v":95.17,"d":"95"},{"v":857.38653,"d":"857"},null,{"$f":"VLOOKUP(B8720,'[1]2018.7 '!A:C,3,)","v":"Active"},{"$f":"VLOOKUP(B8720,'[1]2018.7 '!A:M,13,)","v":"Ambient"},{"$f":"VLOOKUP(B8720,'[1]2018.7 '!A:N,14,)","v":"Reviewing"}]
[8720,"80634258","80634258","REAGENT TUBING SET(PACK OF 10)","025","41","1D WB OTHER","186","Gel Processing",278,{"v":2504.502,"d":"2,505"},null,{"$f":"VLOOKUP(B8721,'[1]2018.7 '!A:C,3,)","v":"Active"},{"$f":"VLOOKUP(B8721,'[1]2018.7 '!A:M,13,)","v":"Ambient"},{"$f":"VLOOKUP(B8721,'[1]2018.7 '!A:N,14,)","v":"Reviewing"}]
[8721,"80634277","80634277","PROTOCOL KEY","025","41","1D WB OTHER","186","Gel Processing",{"v":163.31,"d":"163"},{"v":1471.25979,"d":"1,471"},null,{"$f":"VLOOKUP(B8722,'[1]2018.7 '!A:C,3,)","v":"Active"},{"$f":"VLOOKUP(B8722,'[1]2018.7 '!A:M,13,)","v":"Ambient"},{"$f":"VLOOKUP(B8722,'[1]2018.7 '!A:N,14,)","v":"Reviewing"}]
[8722,"80634391","80634391","STAINLESS STEEL TRAY 19X29CM","025","41","1D WB OTHER","186","Gel Processing",773,{"v":6963.957,"d":"6,964"},null,{"$f":"VLOOKUP(B8723,'[1]2018.7 '!A:C,3,)","v":"Active"},{"$f":"VLOOKUP(B8723,'[1]2018.7 '!A:M,13,)","v":"Ambient"},{"$f":"VLOOKUP(B8723,'[1]2018.7 '!A:N,14,)","v":"Reviewing"}]
[8723,"80634429","80634429","TRAY SUPPORT 125 ML, 19X29 CM","025","41","1D WB OTHER","186","Gel Processing",411,{"v":3702.699,"d":"3,703"},null,{"$f":"VLOOKUP(B8724,'[1]2018.7 '!A:C,3,)","v":"Active"},{"$f":"VLOOKUP(B8724,'[1]2018.7 '!A:M,13,)","v":"Ambient"},{"$f":"VLOOKUP(B8724,'[1]2018.7 '!A:N,14,)","v":"Reviewing"}]
[8724,"80634505","80634505","TRAY SUPPORT 250 ML","025","41","1D WB OTHER","186","Gel Processing",632,{"v":5693.688,"d":"5,694"},null,{"$f":"VLOOKUP(B8725,'[1]2018.7 '!A:C,3,)","v":"Active"},{"$f":"VLOOKUP(B8725,'[1]2018.7 '!A:M,13,)","v":"Ambient"},{"$f":"VLOOKUP(B8725,'[1]2018.7 '!A:N,14,)","v":"Reviewing"}]
[8725,"80634524","80634524","STAINLESS STEEL TRAY 29X35CM","025","41","1D WB OTHER","186","Gel Processing",876,{"v":7891.884,"d":"7,892"},null,{"$f":"VLOOKUP(B8726,'[1]2018.7 '!A:C,3,)","v":"Active"},{"$f":"VLOOKUP(B8726,'[1]2018.7 '!A:M,13,)","v":"Ambient"},{"$f":"VLOOKUP(B8726,'[1]2018.7 '!A:N,14,)","v":"Reviewing"}]
[8726,"80635588","80635588","GLASS VAPOR TRAP FLASK, VP200","025","41","1D WB OTHER","186","Gel Processing",359,{"v":3234.231,"d":"3,234"},null,{"$f":"VLOOKUP(B8727,'[1]2018.7 '!A:C,3,)","v":"Phase Out"},{"$f":"VLOOKUP(B8727,'[1]2018.7 '!A:M,13,)","v":"Ambient"},{"$f":"VLOOKUP(B8727,'[1]2018.7 '!A:N,14,)","v":"reviewing"}]
[8727,"80635607","80635607","FLANGE O-RING, VP200 GLASS TRAP","025","41","1D WB OTHER","186","Gel Processing",{"v":36.77,"d":"37"},{"v":331.26093000000003,"d":"331"},null,{"$f":"VLOOKUP(B8728,'[1]2018.7 '!A:C,3,)","v":"Active"},{"$f":"VLOOKUP(B8728,'[1]2018.7 '!A:M,13,)","v":"Ambient"},{"$f":"VLOOKUP(B8728,'[1]2018.7 '!A:N,14,)","v":"Reviewing"}]
[8728,"80642922","80642922","GEL DRYER FRAME LARGE ASSY","025","41","1D WB OTHER","186","Gel Processing",453,{"v":4081.077,"d":"4,081"},null,{"$f":"VLOOKUP(B8729,'[1]2018.7 '!A:C,3,)","v":"Active"},{"$f":"VLOOKUP(B8729,'[1]2018.7 '!A:M,13,)","v":"Ambient"},{"$f":"VLOOKUP(B8729,'[1]2018.7 '!A:N,14,)","v":"Reviewing"}]
[8729,"80642941","80642941","GEL LOADING PLATFORM LARGE","025","41","1D WB OTHER","186","Gel Processing",304,{"v":2738.736,"d":"2,739"},null,{"$f":"VLOOKUP(B8730,'[1]2018.7 '!A:C,3,)","v":"Active"},{"$f":"VLOOKUP(B8730,'[1]2018.7 '!A:M,13,)","v":"Ambient"},{"$f":"VLOOKUP(B8730,'[1]2018.7 '!A:N,14,)","v":"Reviewing"}]
[8730,"80644442","80644442","PROC PLUS TRAY MINI 3PK","025","41","1D WB OTHER","186","Gel Processing",255,{"v":2297.295,"d":"2,297"},null,{"$f":"VLOOKUP(B8731,'[1]2018.7 '!A:C,3,)","v":"Active"},{"$f":"VLOOKUP(B8731,'[1]2018.7 '!A:M,13,)","v":"Ambient"},{"$f":"VLOOKUP(B8731,'[1]2018.7 '!A:N,14,)","v":"Reviewing"}]
[8731,"80644461","80644461","PROC PLUS TRAY STANDARD 3PK","025","41","1D WB OTHER","186","Gel Processing",279,{"v":2513.511,"d":"2,514"},null,{"$f":"VLOOKUP(B8732,'[1]2018.7 '!A:C,3,)","v":"Active"},{"$f":"VLOOKUP(B8732,'[1]2018.7 '!A:M,13,)","v":"Ambient"},{"$f":"VLOOKUP(B8732,'[1]2018.7 '!A:N,14,)","v":"Reviewing"}]
[8732,"80644556","80644556","PROC PLUS GEL STAIN TUBING KIT","025","41","1D WB OTHER","186","Gel Processing",192,{"v":1729.728,"d":"1,730"},null,{"$f":"VLOOKUP(B8733,'[1]2018.7 '!A:C,3,)","v":"Active"},{"$f":"VLOOKUP(B8733,'[1]2018.7 '!A:M,13,)","v":"Ambient"},{"$f":"VLOOKUP(B8733,'[1]2018.7 '!A:N,14,)","v":"Reviewing"}]
[8733,"80644765","80644765","RK PROC PLUS HARDWARE","025","41","1D WB OTHER","186","Gel Processing",227,{"v":2045.0430000000001,"d":"2,045"},null,{"$f":"VLOOKUP(B8734,'[1]2018.7 '!A:C,3,)","v":"Active"},{"$f":"VLOOKUP(B8734,'[1]2018.7 '!A:M,13,)","v":"Ambient"},{"$f":"VLOOKUP(B8734,'[1]2018.7 '!A:N,14,)","v":"No"}]
[8734,"80644803","80644803","PROC PLUS PUMP TUBING","025","41","1D WB OTHER","186","Gel Processing",{"v":163.31,"d":"163"},{"v":1471.25979,"d":"1,471"},null,{"$f":"VLOOKUP(B8735,'[1]2018.7 '!A:C,3,)","v":"Active"},{"$f":"VLOOKUP(B8735,'[1]2018.7 '!A:M,13,)","v":"Ambient"},{"$f":"VLOOKUP(B8735,'[1]2018.7 '!A:N,14,)","v":"Reviewing"}]
[8735,"80644822","80644822","PROC PLUS BLOTTING TUBING KIT","025","41","1D WB OTHER","186","Gel Processing",574,{"v":5171.166,"d":"5,171"},null,{"$f":"VLOOKUP(B8736,'[1]2018.7 '!A:C,3,)","v":"Active"},{"$f":"VLOOKUP(B8736,'[1]2018.7 '!A:M,13,)","v":"Ambient"},{"$f":"VLOOKUP(B8736,'[1]2018.7 '!A:N,14,)","v":"Reviewing"}]
[8736,"80645373","80645373","RK PROC PLUS PUMP HEAD","025","41","1D WB OTHER","186","Gel Processing",528,{"v":4756.752,"d":"4,757"},null,{"$f":"VLOOKUP(B8737,'[1]2018.7 '!A:C,3,)","v":"Active"},{"$f":"VLOOKUP(B8737,'[1]2018.7 '!A:M,13,)","v":"Ambient"},{"$f":"VLOOKUP(B8737,'[1]2018.7 '!A:N,14,)","v":"Reviewing"}]
[8737,"SE542","80616987","POROUS CELLOPHANE (PKG/50)","025","41","1D WB OTHER","186","Gel Processing",{"v":95.17,"d":"95"},{"v":857.38653,"d":"857"},null,{"$f":"VLOOKUP(B8738,'[1]2018.7 '!A:C,3,)","v":"Active"},{"$f":"VLOOKUP(B8738,'[1]2018.7 '!A:M,13,)","v":"Ambient"},{"$f":"VLOOKUP(B8738,'[1]2018.7 '!A:N,14,)","v":"Reviewing"}]
[8738,"VT3","80622611","VACUUM TUBING 8mm ID  3 METERS","025","41","1D WB OTHER","186","Gel Processing",{"v":175.2,"d":"175"},{"v":1578.3768,"d":"1,578"},null,{"$f":"VLOOKUP(B8739,'[1]2018.7 '!A:C,3,)","v":"Active"},{"$f":"VLOOKUP(B8739,'[1]2018.7 '!A:M,13,)","v":"Ambient"},{"$f":"VLOOKUP(B8739,'[1]2018.7 '!A:N,14,)","v":"Reviewing"}]
[8739,"PR52-L","80609311","TRAY LINER,29x29CM RPLCMNT","025","41","1D WB OTHER","691","Electrophoresis Other",{"v":101.66,"d":"102"},{"v":915.85494,"d":"916"},null,{"$f":"VLOOKUP(B8740,'[1]2018.7 '!A:C,3,)","v":"Active"},{"$f":"VLOOKUP(B8740,'[1]2018.7 '!A:M,13,)","v":"Ambient"},{"$f":"VLOOKUP(B8740,'[1]2018.7 '!A:N,14,)","v":"Reviewing"}]
[8740,"PR73","80609767","TRAY, RED ROTOR SHAKER, 50X50","025","41","1D WB OTHER","691","Electrophoresis Other",499,{"v":4495.491,"d":"4,495"},null,{"$f":"VLOOKUP(B8741,'[1]2018.7 '!A:C,3,)","v":"Active"},{"$f":"VLOOKUP(B8741,'[1]2018.7 '!A:M,13,)","v":"Ambient"},{"$f":"VLOOKUP(B8741,'[1]2018.7 '!A:N,14,)","v":"Reviewing"}]
[8741,"PA23031",25800673,"CY3 MALEIMIDE MONO DYE PACK","025","44","CATALOGUE CYDYE","727","CyDye Protein Labelling",{"v":699.3006993006993,"d":"699"},{"v":6300,"d":"6,300"},null,{"$f":"VLOOKUP(B8742,'[1]2018.7 '!A:C,3,)","v":"Active"},{"$f":"VLOOKUP(B8742,'[1]2018.7 '!A:M,13,)","v":"Wet Ice"},{"$f":"VLOOKUP(B8742,'[1]2018.7 '!A:N,14,)","v":"Yes"}]
[8742,"25900473",25900473,"CY5 NHS ESTER 150UG","025","44","CATALOGUE CYDYE","727","CyDye Protein Labelling",{"v":99.9000999000999,"d":"100"},900,null,{"$f":"VLOOKUP(B8743,'[1]2018.7 '!A:C,3,)","v":"Active"},{"$f":"VLOOKUP(B8743,'[1]2018.7 '!A:M,13,)","v":"Ambient"},{"$f":"VLOOKUP(B8743,'[1]2018.7 '!A:N,14,)","v":"Reviewing"}]
[8743,"PA23500",25005395,"CY3.5 5-PACK","025","44","CATALOGUE CYDYE","727","CyDye Protein Labelling",{"v":2747.252747252747,"d":"2,747"},{"v":24750,"d":"24,750"},null,{"$f":"VLOOKUP(B8744,'[1]2018.7 '!A:C,3,)","v":"Active"},{"$f":"VLOOKUP(B8744,'[1]2018.7 '!A:M,13,)","v":"Ambient"},{"$f":"VLOOKUP(B8744,'[1]2018.7 '!A:N,14,)","v":"No"}]
[8744,"PA13606",25800273,"CY3.5 MONO NHS ESTER 25MG","025","44","CATALOGUE CYDYE","727","CyDye Protein Labelling",{"v":7792.2077922077915,"d":"7,792"},{"v":70200,"d":"70,200"},null,{"$f":"VLOOKUP(B8745,'[1]2018.7 '!A:C,3,)","v":"Active"},{"$f":"VLOOKUP(B8745,'[1]2018.7 '!A:M,13,)","v":"Ambient"},{"$f":"VLOOKUP(B8745,'[1]2018.7 '!A:N,14,)","v":"No"}]
[8745,"PA13605",25800274,"CY3.5 MONO NHS ESTER 5MG","025","44","CATALOGUE CYDYE","727","CyDye Protein Labelling",{"v":2497.5024975024976,"d":"2,498"},{"v":22500,"d":"22,500"},null,{"$f":"VLOOKUP(B8746,'[1]2018.7 '!A:C,3,)","v":"Active"},{"$f":"VLOOKUP(B8746,'[1]2018.7 '!A:M,13,)","v":"Ambient"},{"$f":"VLOOKUP(B8746,'[1]2018.7 '!A:N,14,)","v":"No"}]
[8746,"PA12004",25005366,"CY2 BIS NHS ESTER(10MG)","025","44","CATALOGUE CYDYE","727","CyDye Protein Labelling",{"v":3196.803196803197,"d":"3,197"},{"v":28800,"d":"28,800"},null,{"$f":"VLOOKUP(B8747,'[1]2018.7 '!A:C,3,)","v":"Active"},{"$f":"VLOOKUP(B8747,'[1]2018.7 '!A:M,13,)","v":"Ambient"},{"$f":"VLOOKUP(B8747,'[1]2018.7 '!A:N,14,)","v":"No"}]
[8747,"PA23501",25005396,"CY3.5 MONO 5-PACK","025","44","CATALOGUE CYDYE","727","CyDye Protein Labelling",{"v":1048.951048951049,"d":"1,049"},{"v":9450,"d":"9,450"},null,{"$f":"VLOOKUP(B8748,'[1]2018.7 '!A:C,3,)","v":"Active"},{"$f":"VLOOKUP(B8748,'[1]2018.7 '!A:M,13,)","v":"Ambient"},{"$f":"VLOOKUP(B8748,'[1]2018.7 '!A:N,14,)","v":"Reviewing"}]
[8748,"PA25500",25005399,"CY5.5 5-PACK","025","44","CATALOGUE CYDYE","727","CyDye Protein Labelling",{"v":799.2007992007992,"d":"799"},{"v":7200,"d":"7,200"},null,{"$f":"VLOOKUP(B8749,'[1]2018.7 '!A:C,3,)","v":"Active"},{"$f":"VLOOKUP(B8749,'[1]2018.7 '!A:M,13,)","v":"Ambient"},{"$f":"VLOOKUP(B8749,'[1]2018.7 '!A:N,14,)","v":"No"}]
[8749,"PA42002",25005416,"CY2 GOAT ANTI-MOUSE IGG","025","44","CATALOGUE CYDYE","727","CyDye Protein Labelling",{"v":479.5204795204795,"d":"480"},{"v":4320,"d":"4,320"},null,{"$f":"VLOOKUP(B8750,'[1]2018.7 '!A:C,3,)","v":"Active"},{"$f":"VLOOKUP(B8750,'[1]2018.7 '!A:M,13,)","v":"Ambient"},{"$f":"VLOOKUP(B8750,'[1]2018.7 '!A:N,14,)","v":"Reviewing"}]
[8750,"PA25000",25005397,"CY5 5-PACK","025","44","CATALOGUE CYDYE","727","CyDye Protein Labelling",{"v":629.3706293706293,"d":"629"},{"v":5670,"d":"5,670"},null,{"$f":"VLOOKUP(B8751,'[1]2018.7 '!A:C,3,)","v":"Active"},{"$f":"VLOOKUP(B8751,'[1]2018.7 '!A:M,13,)","v":"Ambient"},{"$f":"VLOOKUP(B8751,'[1]2018.7 '!A:N,14,)","v":"Reviewing"}]
[8751,"PA15500",25005385,"CY5.5 BIS NHS ESTER (5MG)","025","44","CATALOGUE CYDYE","727","CyDye Protein Labelling",{"v":2397.6023976023976,"d":"2,398"},{"v":21600,"d":"21,600"},null,{"$f":"VLOOKUP(B8752,'[1]2018.7 '!A:C,3,)","v":"Active"},{"$f":"VLOOKUP(B8752,'[1]2018.7 '!A:M,13,)","v":"Ambient"},{"$f":"VLOOKUP(B8752,'[1]2018.7 '!A:N,14,)","v":"No"}]
[8752,"PA22000",25005392,"CY2 5-PACK","025","44","CATALOGUE CYDYE","727","CyDye Protein Labelling",{"v":1068.931068931069,"d":"1,069"},{"v":9630,"d":"9,630"},null,{"$f":"VLOOKUP(B8753,'[1]2018.7 '!A:C,3,)","v":"Active"},{"$f":"VLOOKUP(B8753,'[1]2018.7 '!A:M,13,)","v":"Ambient"},{"$f":"VLOOKUP(B8753,'[1]2018.7 '!A:N,14,)","v":"No"}]
[8753,"PA15621",25800261,"CY 5.5 HYDRAZIDE 1MG","025","44","CATALOGUE CYDYE","727","CyDye Protein Labelling",{"v":683.3166833166833,"d":"683"},{"v":6156,"d":"6,156"},null,{"$f":"VLOOKUP(B8754,'[1]2018.7 '!A:C,3,)","v":"Active"},{"$f":"VLOOKUP(B8754,'[1]2018.7 '!A:M,13,)","v":"Ambient"},{"$f":"VLOOKUP(B8754,'[1]2018.7 '!A:N,14,)","v":"No"}]
[8754,"PA32000",25005402,"CY2 AB KIT","025","44","CATALOGUE CYDYE","727","CyDye Protein Labelling",{"v":699.3006993006993,"d":"699"},{"v":6300,"d":"6,300"},null,{"$f":"VLOOKUP(B8755,'[1]2018.7 '!A:C,3,)","v":"Active"},{"$f":"VLOOKUP(B8755,'[1]2018.7 '!A:M,13,)","v":"Ambient"},{"$f":"VLOOKUP(B8755,'[1]2018.7 '!A:N,14,)","v":"No"}]
[8755,"PA15630",25800258,"CY 5.5 MALEIMIDE 5MG","025","44","CATALOGUE CYDYE","727","CyDye Protein Labelling",{"v":1778.221778221778,"d":"1,778"},{"v":16020,"d":"16,020"},null,{"$f":"VLOOKUP(B8756,'[1]2018.7 '!A:C,3,)","v":"Active"},{"$f":"VLOOKUP(B8756,'[1]2018.7 '!A:M,13,)","v":"Ambient"},{"$f":"VLOOKUP(B8756,'[1]2018.7 '!A:N,14,)","v":"Yes"}]
[8756,"PA13601",25190143,"CY3.5 MONO NHS ESTER  1MG","025","44","CATALOGUE CYDYE","727","CyDye Protein Labelling",{"v":669.3306693306693,"d":"669"},{"v":6030,"d":"6,030"},null,{"$f":"VLOOKUP(B8757,'[1]2018.7 '!A:C,3,)","v":"Active"},{"$f":"VLOOKUP(B8757,'[1]2018.7 '!A:M,13,)","v":"Ambient"},{"$f":"VLOOKUP(B8757,'[1]2018.7 '!A:N,14,)","v":"No"}]
[8757,"PA63101",25190114,"CY3B NHS ESTER  1MG","025","44","CATALOGUE CYDYE","727","CyDye Protein Labelling",{"v":348.1518481518481,"d":"348"},{"v":3136.5,"d":"3,137"},null,{"$f":"VLOOKUP(B8758,'[1]2018.7 '!A:C,3,)","v":"Active"},{"$f":"VLOOKUP(B8758,'[1]2018.7 '!A:M,13,)","v":"Ambient"},{"$f":"VLOOKUP(B8758,'[1]2018.7 '!A:N,14,)","v":"No"}]
[8758,"PA63130",25800249,"CY3B MALEIMIDE 5MG","025","44","CATALOGUE CYDYE","727","CyDye Protein Labelling",{"v":1221.078921078921,"d":"1,221"},{"v":11000.699999999999,"d":"11,001"},null,{"$f":"VLOOKUP(B8759,'[1]2018.7 '!A:C,3,)","v":"Active"},{"$f":"VLOOKUP(B8759,'[1]2018.7 '!A:M,13,)","v":"Ambient"},{"$f":"VLOOKUP(B8759,'[1]2018.7 '!A:N,14,)","v":"Yes"}]
[8759,"PA63100",25190115,"CY3B NHS ESTER  5MG","025","44","CATALOGUE CYDYE","727","CyDye Protein Labelling",{"v":1221.078921078921,"d":"1,221"},{"v":11000.699999999999,"d":"11,001"},null,{"$f":"VLOOKUP(B8760,'[1]2018.7 '!A:C,3,)","v":"Active"},{"$f":"VLOOKUP(B8760,'[1]2018.7 '!A:M,13,)","v":"Ambient"},{"$f":"VLOOKUP(B8760,'[1]2018.7 '!A:N,14,)","v":"No"}]
[8760,"PA63106",25800253,"CY3B NHS ESTER 25MG","025","44","CATALOGUE CYDYE","727","CyDye Protein Labelling",{"v":4332.367632367632,"d":"4,332"},{"v":39030.299999999996,"d":"39,030"},null,{"$f":"VLOOKUP(B8761,'[1]2018.7 '!A:C,3,)","v":"Active"},{"$f":"VLOOKUP(B8761,'[1]2018.7 '!A:M,13,)","v":"Ambient"},{"$f":"VLOOKUP(B8761,'[1]2018.7 '!A:N,14,)","v":"No"}]
[8761,"PA63131",25800211,"CY3B MALEIMIDE","025","44","CATALOGUE CYDYE","727","CyDye Protein Labelling",{"v":348.1518481518481,"d":"348"},{"v":3136.5,"d":"3,137"},null,{"$f":"VLOOKUP(B8762,'[1]2018.7 '!A:C,3,)","v":"Active"},{"$f":"VLOOKUP(B8762,'[1]2018.7 '!A:M,13,)","v":"Ambient"},{"$f":"VLOOKUP(B8762,'[1]2018.7 '!A:N,14,)","v":"Yes"}]
[8762,"RPN5661",25800563,"CYDYE POST-LABELLING REACTIVE","025","44","CATALOGUE CYDYE","727","CyDye Protein Labelling",{"v":699.3006993006993,"d":"699"},{"v":6300,"d":"6,300"},null,{"$f":"VLOOKUP(B8763,'[1]2018.7 '!A:C,3,)","v":"Active"},{"$f":"VLOOKUP(B8763,'[1]2018.7 '!A:M,13,)","v":"Dry Ice"},{"$f":"VLOOKUP(B8763,'[1]2018.7 '!A:N,14,)","v":"No"}]
[8763,"28956475",28956475,"BAS IP MS 2025 E","025","34","IMAGERS&SOFTWARE","365","Screens/Cassettes",{"v":1305.6943056943057,"d":"1,306"},{"v":11763,"d":"11,763"},null,{"$f":"VLOOKUP(B8764,'[1]2018.7 '!A:C,3,)","v":"Active"},{"$f":"VLOOKUP(B8764,'[1]2018.7 '!A:M,13,)","v":"Ambient"},{"$f":"VLOOKUP(B8764,'[1]2018.7 '!A:N,14,)","v":"Reviewing"}]
[8764,"63003544",63003544,"EXPSR.CASS.UNMTD.SCRN 20X25","025","34","IMAGERS&SOFTWARE","365","Screens/Cassettes",{"v":351.64835164835165,"d":"352"},{"v":3168,"d":"3,168"},null,{"$f":"VLOOKUP(B8765,'[1]2018.7 '!A:C,3,)","v":"Phase Out"},{"$f":"VLOOKUP(B8765,'[1]2018.7 '!A:M,13,)","v":"Ambient"},{"$f":"VLOOKUP(B8765,'[1]2018.7 '!A:N,14,)","v":"reviewing"}]
[8765,"28956478",28956478,"BAS IP SR 2025 E","025","34","IMAGERS&SOFTWARE","365","Screens/Cassettes",{"v":1679.3206793206793,"d":"1,679"},{"v":15129,"d":"15,129"},null,{"$f":"VLOOKUP(B8766,'[1]2018.7 '!A:C,3,)","v":"Active"},{"$f":"VLOOKUP(B8766,'[1]2018.7 '!A:M,13,)","v":"Ambient"},{"$f":"VLOOKUP(B8766,'[1]2018.7 '!A:N,14,)","v":"Reviewing"}]
[8766,"63003545",63003545,"EXPSR.CASS.UNMTD.SCRN 35X43","025","34","IMAGERS&SOFTWARE","365","Screens/Cassettes",{"v":523.4765234765234,"d":"523"},{"v":4716,"d":"4,716"},null,{"$f":"VLOOKUP(B8767,'[1]2018.7 '!A:C,3,)","v":"Phase Out"},{"$f":"VLOOKUP(B8767,'[1]2018.7 '!A:M,13,)","v":"Ambient"},{"$f":"VLOOKUP(B8767,'[1]2018.7 '!A:N,14,)","v":"reviewing"}]
[8767,"28956481",28956481,"BAS IP TR 2040 E","025","34","IMAGERS&SOFTWARE","365","Screens/Cassettes",{"v":1305.6943056943057,"d":"1,306"},{"v":11763,"d":"11,763"},null,{"$f":"VLOOKUP(B8768,'[1]2018.7 '!A:C,3,)","v":"Active"},{"$f":"VLOOKUP(B8768,'[1]2018.7 '!A:M,13,)","v":"Ambient"},{"$f":"VLOOKUP(B8768,'[1]2018.7 '!A:N,14,)","v":"Reviewing"}]
[8768,"63003548",63003548,"BACKING.PLATE TRITIUM 19X24","025","34","IMAGERS&SOFTWARE","365","Screens/Cassettes",{"v":170.71928071928068,"d":"171"},{"v":1538.0099999999998,"d":"1,538"}]
[8769,"29017133",29017133,"BAS-IP ND 2040 E","025","34","IMAGERS&SOFTWARE","365","Screens/Cassettes",{"v":3419.5804195804194,"d":"3,420"},{"v":30807,"d":"30,807"},null,{"$f":"VLOOKUP(B8770,'[1]2018.7 '!A:C,3,)","v":"Active"},{"$f":"VLOOKUP(B8770,'[1]2018.7 '!A:M,13,)","v":"Ambient"},{"$f":"VLOOKUP(B8770,'[1]2018.7 '!A:N,14,)","v":"Reviewing"}]
[8770,"28956477",28956477,"BAS IP SR 2040 E","025","34","IMAGERS&SOFTWARE","365","Screens/Cassettes",{"v":2609.3906093906094,"d":"2,609"},{"v":23508,"d":"23,508"},null,{"$f":"VLOOKUP(B8771,'[1]2018.7 '!A:C,3,)","v":"Active"},{"$f":"VLOOKUP(B8771,'[1]2018.7 '!A:M,13,)","v":"Ambient"},{"$f":"VLOOKUP(B8771,'[1]2018.7 '!A:N,14,)","v":"Reviewing"}]
[8771,"29175524",29175524,"Exposure Cassette 35X43","025","34","IMAGERS&SOFTWARE","365","Screens/Cassettes",{"v":503.49650349650346,"d":"503"},{"v":4536,"d":"4,536"},null,{"$f":"VLOOKUP(B8772,'[1]2018.7 '!A:C,3,)","v":"Active"},{"$f":"VLOOKUP(B8772,'[1]2018.7 '!A:M,13,)","v":"Ambient"},{"$f":"VLOOKUP(B8772,'[1]2018.7 '!A:N,14,)","v":"No"}]
[8772,"28956476",28956476,"BAS IP MS 3543 E","025","34","IMAGERS&SOFTWARE","365","Screens/Cassettes",{"v":4097.902097902098,"d":"4,098"},{"v":36918,"d":"36,918"},null,{"$f":"VLOOKUP(B8773,'[1]2018.7 '!A:C,3,)","v":"Active"},{"$f":"VLOOKUP(B8773,'[1]2018.7 '!A:M,13,)","v":"Ambient"},{"$f":"VLOOKUP(B8773,'[1]2018.7 '!A:N,14,)","v":"Reviewing"}]
[8773,"29017139",29017139,"BAS-IP ND 2025 E","025","34","IMAGERS&SOFTWARE","365","Screens/Cassettes",{"v":2136.863136863137,"d":"2,137"},{"v":19251,"d":"19,251"},null,{"$f":"VLOOKUP(B8774,'[1]2018.7 '!A:C,3,)","v":"Active"},{"$f":"VLOOKUP(B8774,'[1]2018.7 '!A:M,13,)","v":"Ambient"},{"$f":"VLOOKUP(B8774,'[1]2018.7 '!A:N,14,)","v":"Reviewing"}]
[8774,"63003547",63003547,"EXPSR.CASS.MTD.SCRN 35X43","025","34","IMAGERS&SOFTWARE","365","Screens/Cassettes",{"v":1120.8791208791208,"d":"1,121"},{"v":10098,"d":"10,098"}]
[8775,"28956482",28956482,"BAS IP TR 2025 E","025","34","IMAGERS&SOFTWARE","365","Screens/Cassettes",{"v":932.067932067932,"d":"932"},{"v":8397,"d":"8,397"},null,{"$f":"VLOOKUP(B8776,'[1]2018.7 '!A:C,3,)","v":"Active"},{"$f":"VLOOKUP(B8776,'[1]2018.7 '!A:M,13,)","v":"Ambient"},{"$f":"VLOOKUP(B8776,'[1]2018.7 '!A:N,14,)","v":"Reviewing"}]
[8776,"28956474",28956474,"BAS IP MS 2040 E","025","34","IMAGERS&SOFTWARE","365","Screens/Cassettes",{"v":2049.95004995005,"d":"2,050"},{"v":18468,"d":"18,468"},null,{"$f":"VLOOKUP(B8777,'[1]2018.7 '!A:C,3,)","v":"Active"},{"$f":"VLOOKUP(B8777,'[1]2018.7 '!A:M,13,)","v":"Ambient"},{"$f":"VLOOKUP(B8777,'[1]2018.7 '!A:N,14,)","v":"Reviewing"}]
[8777,"29175523",29175523,"Exposure Cassette 20X25","025","34","IMAGERS&SOFTWARE","365","Screens/Cassettes",{"v":335.6643356643356,"d":"336"},{"v":3024,"d":"3,024"},null,{"$f":"VLOOKUP(B8778,'[1]2018.7 '!A:C,3,)","v":"Active"},{"$f":"VLOOKUP(B8778,'[1]2018.7 '!A:M,13,)","v":"Ambient"},{"$f":"VLOOKUP(B8778,'[1]2018.7 '!A:N,14,)","v":"No"}]
[8778,"28956479",28956479,"BAS IP SR 12.7x12.7 E","025","34","IMAGERS&SOFTWARE","365","Screens/Cassettes",{"$f":"K8779/9.009","v":{"v":3166.8331668331666,"d":"3,167"}},{"v":28530,"d":"28,530"},null,{"$f":"VLOOKUP(B8779,'[1]2018.7 '!A:C,3,)","v":"Active"},{"$f":"VLOOKUP(B8779,'[1]2018.7 '!A:M,13,)","v":"Ambient"},{"$f":"VLOOKUP(B8779,'[1]2018.7 '!A:N,14,)","v":"Reviewing"}]
[8779,"28956480",28956480,"BAS IP SR 0813 E","025","34","IMAGERS&SOFTWARE","365","Screens/Cassettes",{"v":747.2527472527472,"d":"747"},{"v":6732,"d":"6,732"},null,{"$f":"VLOOKUP(B8780,'[1]2018.7 '!A:C,3,)","v":"Active"},{"$f":"VLOOKUP(B8780,'[1]2018.7 '!A:M,13,)","v":"Ambient"},{"$f":"VLOOKUP(B8780,'[1]2018.7 '!A:N,14,)","v":"Reviewing"}]
[8780,"29279169",29279169,"Xuri SP Cellbag 2L Perf","022","02","XURI W BIOREACTORS","038","Xuri W Cellbags",675,{"v":6081.075,"d":"6,081"},null,{"$f":"VLOOKUP(B8781,'[1]2018.7 '!A:C,3,)","v":"Active"},{"$f":"VLOOKUP(B8781,'[1]2018.7 '!A:M,13,)","v":"Ambient"},{"$f":"VLOOKUP(B8781,'[1]2018.7 '!A:N,14,)","v":"No"}]
[8781,"29279162",29279162,"Xuri SP Cellbag 2L Perf pH DO","022","02","XURI W BIOREACTORS","038","Xuri W Cellbags",875,{"v":7882.875,"d":"7,883"},null,{"$f":"VLOOKUP(B8782,'[1]2018.7 '!A:C,3,)","v":"Active"},{"$f":"VLOOKUP(B8782,'[1]2018.7 '!A:M,13,)","v":"Ambient"},{"$f":"VLOOKUP(B8782,'[1]2018.7 '!A:N,14,)","v":"No"}]
[8782,"29279170",29279170,"Xuri CP Cellbag 2L Perf","022","02","XURI W BIOREACTORS","038","Xuri W Cellbags",675,{"v":6081.075,"d":"6,081"},null,{"$f":"VLOOKUP(B8783,'[1]2018.7 '!A:C,3,)","v":"Active"},{"$f":"VLOOKUP(B8783,'[1]2018.7 '!A:M,13,)","v":"Ambient"},{"$f":"VLOOKUP(B8783,'[1]2018.7 '!A:N,14,)","v":"No"}]
[8783,"29279164",29279164,"Xuri CP Cellbag 2L Perf pH DO","022","02","XURI W BIOREACTORS","038","Xuri W Cellbags",875,{"v":7882.875,"d":"7,883"},null,{"$f":"VLOOKUP(B8784,'[1]2018.7 '!A:C,3,)","v":"Active"},{"$f":"VLOOKUP(B8784,'[1]2018.7 '!A:M,13,)","v":"Ambient"},{"$f":"VLOOKUP(B8784,'[1]2018.7 '!A:N,14,)","v":"No"}]
[8784,"29279171",29279171,"Xuri CP Cellbag 10L Perf","022","02","XURI W BIOREACTORS","038","Xuri W Cellbags",775,{"v":6981.975,"d":"6,982"},null,{"$f":"VLOOKUP(B8785,'[1]2018.7 '!A:C,3,)","v":"Active"},{"$f":"VLOOKUP(B8785,'[1]2018.7 '!A:M,13,)","v":"Ambient"},{"$f":"VLOOKUP(B8785,'[1]2018.7 '!A:N,14,)","v":"No"}]
[8785,"29279165",29279165,"Xuri CP Cellbag 2L Perf pH DO","022","02","XURI W BIOREACTORS","038","Xuri W Cellbags",{"v":974.9999999999999,"d":"975"},{"v":8783.775,"d":"8,784"},null,{"$f":"VLOOKUP(B8786,'[1]2018.7 '!A:C,3,)","v":"Active"},{"$f":"VLOOKUP(B8786,'[1]2018.7 '!A:M,13,)","v":"Ambient"},{"$f":"VLOOKUP(B8786,'[1]2018.7 '!A:N,14,)","v":"No"}]